{"text_format":"3","workbook":"xlsx","n_sheets":27,"sheets":["Deckblatt","Meine_Tipps","Overview","Tagesplan","FairPlay","Direkte Vergleiche Tipps","Zuordnung Dritte","Zeitzone","Sprache_Tipps","FIFA Rangliste","Groups_Tipps","Matches_Tipps","Factors","ThirdPlaced_Tipps","Distinctness_Tipps","GrpA_Tipps","GrpB_Tipps","GrpC_Tipps","GrpD_Tipps","GrpE_Tipps","GrpF_Tipps","GrpG_Tipps","GrpH_Tipps","GrpI_Tipps","GrpJ_Tipps","GrpK_Tipps","GrpL_Tipps"],"not_rendered":{"images":3,"defined_names":20},"read":"whole","date_system":"1900"}

{"sheet":"Deckblatt","index":0,"n_rows":25,"n_cols":9,"rows_kept":25,"merged":[[0,0,0,18],[1,0,1,18],[2,0,2,18],[3,0,3,18],[4,0,4,18],[6,0,6,6],[7,0,7,6],[7,7,7,13],[8,0,8,6],[8,7,8,9],[8,10,8,13],[9,0,9,6],[9,7,9,9],[9,10,9,13],[10,0,10,5],[10,7,10,9],[10,10,10,13],[11,0,11,5],[12,0,12,5],[12,8,12,12],[13,0,13,6],[14,0,14,6],[15,0,15,6]]}
["Herzlich willkommen beim Wagner-Cup 2026."]
["Mit der Aufstockung auf 48 teilnehmende Nationen hat uns die FIFA vor einige Probleme gestellt. Der neue Modus brachte nicht nur eine zusätzliche KO-Runde, sondern mit den 8 besten Gruppendritten genau 495 Möglichkeiten, wie sich diese 8 Aufsteiger zusammensetzen können, und wie sie sich auf die jeweiligen Gegner verteilen. \nEine ziemliche Herausforderung für einen Hobby-Programmierer, weshalb die Durchführung des diesjährigen Tippspiels auf Messers Schneide stand."]
["Aber wir haben es geschafft!"]
["Abgesehen vom neu gestalteten Tippformular, sind die Teilnahmebedingungen („AGB“) und das Punktesystem nicht mehr hier, sondern auf der Homepage zu finden. \nDer intensiven Programmierarbeit ist auch das Forum zum Opfer gefallen. Die Diskussionen werden sich wohl auf WhattsApp verlagern..."]
["Sonst ist alles, wie gehabt:"]
[]
["1.      Name, Mailadresse und Alter eintragen"]
["2.      Tippformular vollständig (!) ausfüllen",{"$nulls":6},"Good Luck!!!"]
["3.      Im Format  Nachname_Vorname.xlsx  speichern",{"$nulls":6},"Nachname"]
["4.      An eine der nachstehenden Adressen senden:",{"$nulls":6},"Vorname"]
["alexander@wagner-cup.eu",{"$nulls":6},"Mail-Adresse"]
["clemens@wagner-cup.eu"]
["gerhard@wagner-cup.eu",{"$nulls":7},"WEITER ZUM TIPPFORMULAR"]
["5.    Wetteinsatz € 10,-- einzahlen auf "]
["AT26 2011 1000 3771 4848 "]
["lautend auf Dr.Gerhard Wagner"]
{"$rows_empty":8}
["PS.: Arnautovic for President!"]

{"sheet":"Meine_Tipps","index":1,"n_rows":108,"n_cols":49,"rows_kept":108,"merged":[[0,2,0,3],[0,4,0,20],[6,1,6,23],[6,25,6,35],[7,1,7,2],[7,4,7,5],[7,7,7,8],[7,10,7,11],[7,13,7,14],[7,16,7,17],[7,19,7,20],[7,22,7,23],[7,25,7,26],[7,28,7,29],[7,31,7,32],[7,34,7,35],[8,1,8,2],[8,4,8,5],[8,7,8,8],[8,10,8,11],[8,13,8,14],[8,16,8,17],[8,19,8,20],[8,22,8,23],[8,25,8,26],[8,28,8,29],[8,31,8,32],[8,34,8,35],[10,1,10,2],[10,4,10,5],[10,7,10,8],[10,10,10,11],[10,13,10,14],[10,16,10,17],[10,19,10,20],[10,22,10,23],[10,25,10,26],[10,28,10,29],[10,31,10,32],[10,34,10,35],[11,1,11,2],[11,4,11,5],[11,7,11,8],[11,10,11,11],[11,13,11,14],[11,16,11,17],[11,19,11,20],[11,22,11,23],[11,25,11,26],[11,28,11,29],[11,31,11,32],[11,34,11,35],[15,1,15,2],[15,4,15,5],[15,7,15,8],[15,10,15,11],[15,13,15,14],[15,16,15,17],[15,19,15,20],[15,22,15,23],[15,25,15,26],[15,28,15,29],[15,31,15,32],[15,34,15,35],[16,1,16,2],[16,4,16,5],[16,7,16,8],[16,10,16,11],[16,13,16,14],[16,16,16,17],[16,19,16,20],[16,22,16,23],[16,25,16,26],[16,28,16,29],[16,31,16,32],[16,34,16,35],[20,1,20,2],[20,4,20,5],[20,7,20,8],[20,10,20,11],[20,13,20,14],[20,16,20,17],[20,19,20,20],[20,22,20,23],[20,25,20,26],[20,28,20,29],[20,31,20,32],[20,34,20,35],[21,1,21,2],[21,4,21,5],[21,7,21,8],[21,10,21,11],[21,13,21,14],[21,16,21,17],[21,19,21,20],[21,22,21,23],[21,25,21,26],[21,28,21,29],[21,31,21,32],[21,34,21,35],[25,1,25,2],[25,4,25,5],[25,7,25,8],[25,10,25,11],[25,13,25,14],[25,16,25,17],[25,19,25,20],[25,22,25,23],[25,25,25,26],[25,28,25,29],[25,31,25,32],[25,34,25,35],[26,1,26,2],[26,4,26,5],[26,7,26,8],[26,10,26,11],[26,13,26,14],[26,16,26,17],[26,19,26,20],[26,22,26,23],[26,25,26,26],[26,28,26,29],[26,31,26,32],[26,34,26,35],[29,37,29,38],[30,1,30,2],[30,4,30,5],[30,7,30,8],[30,10,30,11],[30,13,30,14],[30,16,30,17],[30,19,30,20],[30,22,30,23],[30,25,30,26],[30,28,30,29],[30,31,30,32],[30,34,30,35],[30,37,30,38],[31,1,31,2],[31,4,31,5],[31,7,31,8],[31,10,31,11],[31,13,31,14],[31,16,31,17],[31,19,31,20],[31,22,31,23],[31,25,31,26],[31,28,31,29],[31,31,31,32],[31,34,31,35],[35,1,35,2],[35,4,35,5],[35,7,35,8],[35,10,35,11],[35,13,35,14],[35,16,35,17],[35,19,35,20],[35,22,35,23],[35,25,35,26],[35,28,35,29],[35,31,35,32],[35,34,35,35],[36,1,36,2],[36,4,36,5],[36,7,36,8],[36,10,36,11],[36,13,36,14],[36,16,36,17],[36,19,36,20],[36,22,36,23],[36,25,36,26],[36,28,36,29],[36,31,36,32],[36,34,36,35],[38,40,38,41],[40,1,40,2],[40,4,40,5],[40,7,40,8],[40,10,40,11],[40,13,40,14],[40,16,40,17],[40,19,40,20],[40,22,40,23],[40,25,40,26],[40,28,40,29],[40,31,40,32],[40,34,40,35],[43,37,43,39],[44,37,44,39],[46,1,46,2],[46,4,46,5],[46,7,46,8],[46,10,46,11],[46,13,46,14],[46,16,46,17],[46,19,46,20],[46,22,46,23],[46,25,46,26],[46,28,46,29],[46,31,46,32],[46,34,46,35],[46,37,46,38],[46,40,46,41],[46,43,46,44],[46,46,46,47],[47,1,47,2],[47,4,47,5],[47,7,47,8],[47,10,47,11],[47,13,47,14],[47,16,47,17],[47,19,47,20],[47,22,47,23],[47,25,47,26],[47,28,47,29],[47,31,47,32],[47,34,47,35],[47,37,47,38],[47,40,47,41],[47,43,47,44],[47,46,47,47],[48,1,48,2],[48,4,48,5],[48,7,48,8],[48,10,48,11],[48,13,48,14],[48,16,48,17],[48,19,48,20],[48,22,48,23],[48,25,48,26],[48,28,48,29],[48,31,48,32],[48,34,48,35],[48,37,48,38],[48,40,48,41],[48,43,48,44],[48,46,48,47],[51,1,51,2],[51,4,51,5],[51,7,51,8],[51,10,51,11],[51,13,51,14],[51,16,51,17],[51,19,51,20],[51,22,51,23],[51,25,51,26],[51,28,51,29],[51,31,51,32],[51,34,51,35],[51,37,51,38],[51,40,51,41],[51,43,51,44],[51,46,51,47],[54,1,54,2],[54,4,54,5],[54,7,54,8],[54,10,54,11],[54,13,54,14],[54,16,54,17],[54,19,54,20],[54,22,54,23],[54,25,54,26],[54,28,54,29],[54,31,54,32],[54,34,54,35],[54,37,54,38],[54,40,54,41],[54,43,54,44],[54,46,54,47],[56,1,56,2],[56,4,56,5],[56,7,56,8],[56,10,56,11],[56,13,56,14],[56,16,56,17],[56,19,56,20],[56,22,56,23],[57,1,57,2],[57,4,57,5],[57,7,57,8],[57,10,57,11],[57,13,57,14],[57,16,57,17],[57,19,57,20],[57,22,57,23],[58,1,58,2],[58,4,58,5],[58,7,58,8],[58,10,58,11],[58,13,58,14],[58,16,58,17],[58,19,58,20],[58,22,58,23],[61,1,61,2],[61,4,61,5],[61,7,61,8],[61,10,61,11],[61,13,61,14],[61,16,61,17],[61,19,61,20],[61,22,61,23],[64,1,64,2],[64,4,64,5],[64,7,64,8],[64,10,64,11],[64,13,64,14],[64,16,64,17],[64,19,64,20],[64,22,64,23],[66,2,66,4],[66,8,66,10],[66,14,66,16],[66,20,66,22],[67,2,67,4],[67,8,67,10],[67,14,67,16],[67,20,67,22],[68,2,68,4],[68,8,68,10],[68,14,68,16],[68,20,68,22],[71,2,71,4],[71,8,71,10],[71,14,71,16],[71,20,71,22],[74,2,74,4],[74,8,74,10],[74,14,74,16],[74,20,74,22],[76,5,76,7],[76,17,76,19],[77,5,77,7],[77,17,77,19],[78,5,78,7],[78,17,78,19],[81,5,81,7],[81,17,81,19],[84,5,84,7],[84,11,84,13],[84,17,84,19],[85,11,85,13],[86,11,86,13],[89,11,89,13],[92,11,92,13],[93,1,93,7],[94,1,94,7],[94,11,94,13],[95,1,95,7],[95,11,95,13],[95,17,96,22],[96,1,96,6],[96,11,96,13],[97,1,97,6],[97,17,98,22],[98,1,98,6],[99,11,99,13],[100,1,100,7],[100,17,101,22],[101,1,101,7],[102,1,102,7],[102,11,102,13],[102,17,103,22],[105,17,106,22],[107,17,108,22]]}
[{"$nulls":4},{"$f":"Sprache_Tipps!$E$115","v":"WM 2026 in Kanada/Mexiko/USA"},{"$nulls":42},{"$f":"X1","v":0}]
[null,null,{"$f":"Sprache_Tipps!$E$128","v":"  Pkt.     Tore"},null,null,{"$f":"Sprache_Tipps!$E$128","v":"  Pkt.     Tore"},null,null,{"$f":"Sprache_Tipps!$E$128","v":"  Pkt.     Tore"},null,null,{"$f":"Sprache_Tipps!$E$128","v":"  Pkt.     Tore"},null,null,{"$f":"Sprache_Tipps!$E$128","v":"  Pkt.     Tore"},null,null,{"$f":"Sprache_Tipps!$E$128","v":"  Pkt.     Tore"},null,null,{"$f":"Sprache_Tipps!$E$128","v":"  Pkt.     Tore"},null,null,{"$f":"Sprache_Tipps!$E$128","v":"  Pkt.     Tore"},null,null,{"$f":"Sprache_Tipps!$E$128","v":"  Pkt.     Tore"},null,null,{"$f":"Sprache_Tipps!$E$128","v":"  Pkt.     Tore"},null,null,{"$f":"Sprache_Tipps!$E$128","v":"  Pkt.     Tore"},null,null,{"$f":"Sprache_Tipps!$E$128","v":"  Pkt.     Tore"}]
[null,{"$f":"GrpA_Tipps!P11","v":"Mexiko"},{"$f":"\"   \"&GrpA_Tipps!$Q11&\"        \"&GrpA_Tipps!$S11&Sprache_Tipps!$E$191&GrpA_Tipps!$T11","v":"   0        0 : 0"},null,{"$f":"GrpB_Tipps!P11","v":"Kanada"},{"$f":"\"   \"&GrpB_Tipps!$Q11&\"        \"&GrpB_Tipps!$S11&Sprache_Tipps!$E$191&GrpB_Tipps!$T11","v":"   0        0 : 0"},null,{"$f":"GrpC_Tipps!$P11","v":"Brasilien"},{"$f":"\"   \"&GrpC_Tipps!$Q11&\"        \"&GrpC_Tipps!$S11&Sprache_Tipps!$E$191&GrpC_Tipps!$T11","v":"   0        0 : 0"},null,{"$f":"GrpD_Tipps!$P11","v":"USA"},{"$f":"\"   \"&GrpD_Tipps!$Q11&\"        \"&GrpD_Tipps!$S11&Sprache_Tipps!$E$191&GrpD_Tipps!$T11","v":"   0        0 : 0"},null,{"$f":"GrpE_Tipps!$P11","v":"Deutschland"},{"$f":"\"   \"&GrpE_Tipps!$Q11&\"        \"&GrpE_Tipps!$S11&Sprache_Tipps!$E$191&GrpE_Tipps!$T11","v":"   0        0 : 0"},null,{"$f":"GrpF_Tipps!$P11","v":"Niederlande"},{"$f":"\"   \"&GrpF_Tipps!$Q11&\"        \"&GrpF_Tipps!$S11&Sprache_Tipps!$E$191&GrpF_Tipps!$T11","v":"   0        0 : 0"},null,{"$f":"GrpG_Tipps!$P11","v":"Belgien"},{"$f":"\"   \"&GrpG_Tipps!$Q11&\"        \"&GrpG_Tipps!$S11&Sprache_Tipps!$E$191&GrpG_Tipps!$T11","v":"   0        0 : 0"},null,{"$f":"GrpH_Tipps!$P11","v":"Spanien"},{"$f":"\"   \"&GrpH_Tipps!$Q11&\"        \"&GrpH_Tipps!$S11&Sprache_Tipps!$E$191&GrpH_Tipps!$T11","v":"   0        0 : 0"},null,{"$f":"GrpI_Tipps!$P11","v":"Frankreich"},{"$f":"\"   \"&GrpI_Tipps!$Q11&\"        \"&GrpI_Tipps!$S11&Sprache_Tipps!$E$191&GrpI_Tipps!$T11","v":"   0        0 : 0"},null,{"$f":"GrpJ_Tipps!$P11","v":"Argentinien"},{"$f":"\"   \"&GrpJ_Tipps!$Q11&\"        \"&GrpJ_Tipps!$S11&Sprache_Tipps!$E$191&GrpJ_Tipps!$T11","v":"   0        0 : 0"},null,{"$f":"GrpK_Tipps!$P11","v":"Portugal"},{"$f":"\"   \"&GrpK_Tipps!$Q11&\"        \"&GrpK_Tipps!$S11&Sprache_Tipps!$E$191&GrpK_Tipps!$T11","v":"   0        0 : 0"},null,{"$f":"GrpL_Tipps!$P11","v":"England"},{"$f":"\"   \"&GrpL_Tipps!$Q11&\"        \"&GrpL_Tipps!$S11&Sprache_Tipps!$E$191&GrpL_Tipps!$T11","v":"   0        0 : 0"}]
[null,{"$f":"GrpA_Tipps!P12","v":"Südafrika"},{"$f":"\"   \"&GrpA_Tipps!$Q12&\"        \"&GrpA_Tipps!$S12&Sprache_Tipps!$E$191&GrpA_Tipps!$T12","v":"   0        0 : 0"},null,{"$f":"GrpB_Tipps!P12","v":"Bosnien-Herzeg."},{"$f":"\"   \"&GrpB_Tipps!$Q12&\"        \"&GrpB_Tipps!$S12&Sprache_Tipps!$E$191&GrpB_Tipps!$T12","v":"   0        0 : 0"},null,{"$f":"GrpC_Tipps!P12","v":"Marokko"},{"$f":"\"   \"&GrpC_Tipps!$Q12&\"        \"&GrpC_Tipps!$S12&Sprache_Tipps!$E$191&GrpC_Tipps!$T12","v":"   0        0 : 0"},null,{"$f":"GrpD_Tipps!$P12","v":"Paraguay"},{"$f":"\"   \"&GrpD_Tipps!$Q12&\"        \"&GrpD_Tipps!$S12&Sprache_Tipps!$E$191&GrpD_Tipps!$T12","v":"   0        0 : 0"},null,{"$f":"GrpE_Tipps!$P12","v":"Curacao"},{"$f":"\"   \"&GrpE_Tipps!$Q12&\"        \"&GrpE_Tipps!$S12&Sprache_Tipps!$E$191&GrpE_Tipps!$T12","v":"   0        0 : 0"},null,{"$f":"GrpF_Tipps!$P12","v":"Japan"},{"$f":"\"   \"&GrpF_Tipps!$Q12&\"        \"&GrpF_Tipps!$S12&Sprache_Tipps!$E$191&GrpF_Tipps!$T12","v":"   0        0 : 0"},null,{"$f":"GrpG_Tipps!$P12","v":"Ägypten"},{"$f":"\"   \"&GrpG_Tipps!$Q12&\"        \"&GrpG_Tipps!$S12&Sprache_Tipps!$E$191&GrpG_Tipps!$T12","v":"   0        0 : 0"},null,{"$f":"GrpH_Tipps!$P12","v":"Kapverde"},{"$f":"\"   \"&GrpH_Tipps!$Q12&\"        \"&GrpH_Tipps!$S12&Sprache_Tipps!$E$191&GrpH_Tipps!$T12","v":"   0        0 : 0"},null,{"$f":"GrpI_Tipps!$P12","v":"Senegal"},{"$f":"\"   \"&GrpI_Tipps!$Q12&\"        \"&GrpI_Tipps!$S12&Sprache_Tipps!$E$191&GrpI_Tipps!$T12","v":"   0        0 : 0"},null,{"$f":"GrpJ_Tipps!$P12","v":"Algerien"},{"$f":"\"   \"&GrpJ_Tipps!$Q12&\"        \"&GrpJ_Tipps!$S12&Sprache_Tipps!$E$191&GrpJ_Tipps!$T12","v":"   0        0 : 0"},null,{"$f":"GrpK_Tipps!$P12","v":"DR Kongo"},{"$f":"\"   \"&GrpK_Tipps!$Q12&\"        \"&GrpK_Tipps!$S12&Sprache_Tipps!$E$191&GrpK_Tipps!$T12","v":"   0        0 : 0"},null,{"$f":"GrpL_Tipps!$P12","v":"Kroatien"},{"$f":"\"   \"&GrpL_Tipps!$Q12&\"        \"&GrpL_Tipps!$S12&Sprache_Tipps!$E$191&GrpL_Tipps!$T12","v":"   0        0 : 0"}]
[null,{"$f":"GrpA_Tipps!P13","v":"Südkorea"},{"$f":"\"   \"&GrpA_Tipps!$Q13&\"        \"&GrpA_Tipps!$S13&Sprache_Tipps!$E$191&GrpA_Tipps!$T13","v":"   0        0 : 0"},null,{"$f":"GrpB_Tipps!P13","v":"Katar"},{"$f":"\"   \"&GrpB_Tipps!$Q13&\"        \"&GrpB_Tipps!$S13&Sprache_Tipps!$E$191&GrpB_Tipps!$T13","v":"   0        0 : 0"},null,{"$f":"GrpC_Tipps!P13","v":"Haiti"},{"$f":"\"   \"&GrpC_Tipps!$Q13&\"        \"&GrpC_Tipps!$S13&Sprache_Tipps!$E$191&GrpC_Tipps!$T13","v":"   0        0 : 0"},null,{"$f":"GrpD_Tipps!$P13","v":"Australien"},{"$f":"\"   \"&GrpD_Tipps!$Q13&\"        \"&GrpD_Tipps!$S13&Sprache_Tipps!$E$191&GrpD_Tipps!$T13","v":"   0        0 : 0"},null,{"$f":"GrpE_Tipps!$P13","v":"Elfenbeinküste"},{"$f":"\"   \"&GrpE_Tipps!$Q13&\"        \"&GrpE_Tipps!$S13&Sprache_Tipps!$E$191&GrpE_Tipps!$T13","v":"   0        0 : 0"},null,{"$f":"GrpF_Tipps!$P13","v":"Schweden"},{"$f":"\"   \"&GrpF_Tipps!$Q13&\"        \"&GrpF_Tipps!$S13&Sprache_Tipps!$E$191&GrpF_Tipps!$T13","v":"   0        0 : 0"},null,{"$f":"GrpG_Tipps!$P13","v":"Iran"},{"$f":"\"   \"&GrpG_Tipps!$Q13&\"        \"&GrpG_Tipps!$S13&Sprache_Tipps!$E$191&GrpG_Tipps!$T13","v":"   0        0 : 0"},null,{"$f":"GrpH_Tipps!$P13","v":"Saudiarabien"},{"$f":"\"   \"&GrpH_Tipps!$Q13&\"        \"&GrpH_Tipps!$S13&Sprache_Tipps!$E$191&GrpH_Tipps!$T13","v":"   0        0 : 0"},null,{"$f":"GrpI_Tipps!$P13","v":"Irak"},{"$f":"\"   \"&GrpI_Tipps!$Q13&\"        \"&GrpI_Tipps!$S13&Sprache_Tipps!$E$191&GrpI_Tipps!$T13","v":"   0        0 : 0"},null,{"$f":"GrpJ_Tipps!$P13","v":"Österreich"},{"$f":"\"   \"&GrpJ_Tipps!$Q13&\"        \"&GrpJ_Tipps!$S13&Sprache_Tipps!$E$191&GrpJ_Tipps!$T13","v":"   0        0 : 0"},null,{"$f":"GrpK_Tipps!$P13","v":"Usbekistan"},{"$f":"\"   \"&GrpK_Tipps!$Q13&\"        \"&GrpK_Tipps!$S13&Sprache_Tipps!$E$191&GrpK_Tipps!$T13","v":"   0        0 : 0"},null,{"$f":"GrpL_Tipps!$P13","v":"Ghana"},{"$f":"\"   \"&GrpL_Tipps!$Q13&\"        \"&GrpL_Tipps!$S13&Sprache_Tipps!$E$191&GrpL_Tipps!$T13","v":"   0        0 : 0"}]
[null,{"$f":"GrpA_Tipps!P14","v":"Tschechien"},{"$f":"\"   \"&GrpA_Tipps!$Q14&\"        \"&GrpA_Tipps!$S14&Sprache_Tipps!$E$191&GrpA_Tipps!$T14","v":"   0        0 : 0"},null,{"$f":"GrpB_Tipps!P14","v":"Schweiz"},{"$f":"\"   \"&GrpB_Tipps!$Q14&\"        \"&GrpB_Tipps!$S14&Sprache_Tipps!$E$191&GrpB_Tipps!$T14","v":"   0        0 : 0"},null,{"$f":"GrpC_Tipps!P14","v":"Schottland"},{"$f":"\"   \"&GrpC_Tipps!$Q14&\"        \"&GrpC_Tipps!$S14&Sprache_Tipps!$E$191&GrpC_Tipps!$T14","v":"   0        0 : 0"},null,{"$f":"GrpD_Tipps!$P14","v":"Türkei"},{"$f":"\"   \"&GrpD_Tipps!$Q14&\"        \"&GrpD_Tipps!$S14&Sprache_Tipps!$E$191&GrpD_Tipps!$T14","v":"   0        0 : 0"},null,{"$f":"GrpE_Tipps!$P14","v":"Ecuador"},{"$f":"\"   \"&GrpE_Tipps!$Q14&\"        \"&GrpE_Tipps!$S14&Sprache_Tipps!$E$191&GrpE_Tipps!$T14","v":"   0        0 : 0"},null,{"$f":"GrpF_Tipps!$P14","v":"Tunesien"},{"$f":"\"   \"&GrpF_Tipps!$Q14&\"        \"&GrpF_Tipps!$S14&Sprache_Tipps!$E$191&GrpF_Tipps!$T14","v":"   0        0 : 0"},null,{"$f":"GrpG_Tipps!$P14","v":"Neuseeland"},{"$f":"\"   \"&GrpG_Tipps!$Q14&\"        \"&GrpG_Tipps!$S14&Sprache_Tipps!$E$191&GrpG_Tipps!$T14","v":"   0        0 : 0"},null,{"$f":"GrpH_Tipps!$P14","v":"Uruguay"},{"$f":"\"   \"&GrpH_Tipps!$Q14&\"        \"&GrpH_Tipps!$S14&Sprache_Tipps!$E$191&GrpH_Tipps!$T14","v":"   0        0 : 0"},null,{"$f":"GrpI_Tipps!$P14","v":"Norwegen"},{"$f":"\"   \"&GrpI_Tipps!$Q14&\"        \"&GrpI_Tipps!$S14&Sprache_Tipps!$E$191&GrpI_Tipps!$T14","v":"   0        0 : 0"},null,{"$f":"GrpJ_Tipps!$P14","v":"Jordanien"},{"$f":"\"   \"&GrpJ_Tipps!$Q14&\"        \"&GrpJ_Tipps!$S14&Sprache_Tipps!$E$191&GrpJ_Tipps!$T14","v":"   0        0 : 0"},null,{"$f":"GrpK_Tipps!$P14","v":"Kolumbien"},{"$f":"\"   \"&GrpK_Tipps!$Q14&\"        \"&GrpK_Tipps!$S14&Sprache_Tipps!$E$191&GrpK_Tipps!$T14","v":"   0        0 : 0"},null,{"$f":"GrpL_Tipps!$P14","v":"Panama"},{"$f":"\"   \"&GrpL_Tipps!$Q14&\"        \"&GrpL_Tipps!$S14&Sprache_Tipps!$E$191&GrpL_Tipps!$T14","v":"   0        0 : 0"}]
[null,{"$f":"IF(Distinctness_Tipps!$G$17=0,\"\",IF(Distinctness_Tipps!$D$4>0,Distinctness_Tipps!$J$4,Distinctness_Tipps!$J$5))","v":""},{"$nulls":23},{"$f":"B7","v":""}]
[null,{"$f":"IF(GrpA_Tipps!$X$11>0,\"•\",\"\")","v":""},null,null,{"$f":"IF(GrpB_Tipps!$X$11>0,\"•\",\"\")","v":""},null,null,{"$f":"IF(GrpC_Tipps!$X$11>0,\"•\",\"\")","v":""},null,null,{"$f":"IF(GrpD_Tipps!$X$11>0,\"•\",\"\")","v":""},null,null,{"$f":"IF(GrpE_Tipps!$X$11>0,\"•\",\"\")","v":""},null,null,{"$f":"IF(GrpF_Tipps!$X$11>0,\"•\",\"\")","v":""},null,null,{"$f":"IF(GrpG_Tipps!$X$11>0,\"•\",\"\")","v":""},null,null,{"$f":"IF(GrpH_Tipps!$X$11>0,\"•\",\"\")","v":""},null,null,{"$f":"IF(GrpI_Tipps!$X$11>0,\"•\",\"\")","v":""},null,null,{"$f":"IF(GrpJ_Tipps!$X$11>0,\"•\",\"\")","v":""},null,null,{"$f":"IF(GrpK_Tipps!$X$11>0,\"•\",\"\")","v":""},null,null,{"$f":"IF(GrpL_Tipps!$X$11>0,\"•\",\"\")","v":""}]
[null,{"$f":"Sprache_Tipps!$E$124&\" A\"","v":"Gruppe A"},null,null,{"$f":"Sprache_Tipps!$E$124&\" B\"","v":"Gruppe B"},null,null,{"$f":"Sprache_Tipps!$E$124&\" C\"","v":"Gruppe C"},null,null,{"$f":"Sprache_Tipps!$E$124&\" D\"","v":"Gruppe D"},null,null,{"$f":"Sprache_Tipps!$E$124&\" E\"","v":"Gruppe E"},null,null,{"$f":"Sprache_Tipps!$E$124&\" F\"","v":"Gruppe F"},null,null,{"$f":"Sprache_Tipps!$E$124&\" G\"","v":"Gruppe G"},null,null,{"$f":"Sprache_Tipps!$E$124&\" H\"","v":"Gruppe H"},null,null,{"$f":"Sprache_Tipps!$E$124&\" I\"","v":"Gruppe I"},null,null,{"$f":"Sprache_Tipps!$E$124&\" J\"","v":"Gruppe J"},null,null,{"$f":"Sprache_Tipps!$E$124&\" K\"","v":"Gruppe K"},null,null,{"$f":"Sprache_Tipps!$E$124&\" L\"","v":"Gruppe L"}]
[]
[1,{"$f":"VLOOKUP(A11,Matches_Tipps!$B$4:$K$113,7,0)","v":"Mexico City"},null,3,{"$f":"VLOOKUP(D11,Matches_Tipps!$B$4:$K$113,7,0)","v":"Toronto"},null,5,{"$f":"VLOOKUP(G11,Matches_Tipps!$B$4:$K$113,7,0)","v":"Boston"},null,4,{"$f":"VLOOKUP(J11,Matches_Tipps!$B$4:$K$113,7,0)","v":"Los Angeles"},null,9,{"$f":"VLOOKUP(M11,Matches_Tipps!$B$4:$K$113,7,0)","v":"Philadelphia"},null,11,{"$f":"VLOOKUP(P11,Matches_Tipps!$B$4:$K$113,7,0)","v":"Dallas"},null,15,{"$f":"VLOOKUP(S11,Matches_Tipps!$B$4:$K$113,7,0)","v":"Los Angeles"},null,13,{"$f":"VLOOKUP(V11,Matches_Tipps!$B$4:$K$113,7,0)","v":"Miami"},null,17,{"$f":"VLOOKUP(Y11,Matches_Tipps!$B$4:$K$113,7,0)","v":"New York/New Jersey"},null,19,{"$f":"VLOOKUP(AB11,Matches_Tipps!$B$4:$K$113,7,0)","v":"Kansas City"},null,23,{"$f":"VLOOKUP(AE11,Matches_Tipps!$B$4:$K$113,7,0)","v":"Houston"},null,21,{"$f":"VLOOKUP(AH11,Matches_Tipps!$B$4:$K$113,7,0)","v":"Toronto"}]
[null,{"$f":"VLOOKUP(A11,Matches_Tipps!$B$4:$K$113,5,0)","v":"2026-06-11T21:00:00"},null,null,{"$f":"VLOOKUP(D11,Matches_Tipps!$B$4:$K$113,5,0)","v":"2026-06-12T21:00:00"},null,null,{"$f":"VLOOKUP(G11,Matches_Tipps!$B$4:$K$113,5,0)","v":"2026-06-14T03:00:00"},null,null,{"$f":"VLOOKUP(J11,Matches_Tipps!$B$4:$K$113,5,0)","v":"2026-06-13T03:00:00"},null,null,{"$f":"VLOOKUP(M11,Matches_Tipps!$B$4:$K$113,5,0)","v":"2026-06-15T01:00:00"},null,null,{"$f":"VLOOKUP(P11,Matches_Tipps!$B$4:$K$113,5,0)","v":"2026-06-14T22:00:00"},null,null,{"$f":"VLOOKUP(S11,Matches_Tipps!$B$4:$K$113,5,0)","v":"2026-06-16T03:00:00"},null,null,{"$f":"VLOOKUP(V11,Matches_Tipps!$B$4:$K$113,5,0)","v":"2026-06-16"},null,null,{"$f":"VLOOKUP(Y11,Matches_Tipps!$B$4:$K$113,5,0)","v":"2026-06-16T21:00:00"},null,null,{"$f":"VLOOKUP(AB11,Matches_Tipps!$B$4:$K$113,5,0)","v":"2026-06-17T03:00:00"},null,null,{"$f":"VLOOKUP(AE11,Matches_Tipps!$B$4:$K$113,5,0)","v":"2026-06-17T19:00:00"},null,null,{"$f":"VLOOKUP(AH11,Matches_Tipps!$B$4:$K$113,5,0)","v":"2026-06-18T01:00:00"}]
[null,{"$f":"VLOOKUP(A11,Matches_Tipps!$B$4:$K$113,8,0)","v":"Mexiko"},{"$f":"VLOOKUP(A11,Matches_Tipps!$B$4:$K$113,9,0)","v":"Südafrika"},null,{"$f":"VLOOKUP(D11,Matches_Tipps!$B$4:$K$113,8,0)","v":"Kanada"},{"$f":"VLOOKUP(D11,Matches_Tipps!$B$4:$K$113,9,0)","v":"Bosnien-Herzeg."},null,{"$f":"VLOOKUP(G11,Matches_Tipps!$B$4:$K$113,8,0)","v":"Haiti"},{"$f":"VLOOKUP(G11,Matches_Tipps!$B$4:$K$113,9,0)","v":"Schottland"},null,{"$f":"VLOOKUP(J11,Matches_Tipps!$B$4:$K$113,8,0)","v":"USA"},{"$f":"VLOOKUP(J11,Matches_Tipps!$B$4:$K$113,9,0)","v":"Paraguay"},null,{"$f":"VLOOKUP(M11,Matches_Tipps!$B$4:$K$113,8,0)","v":"Elfenbeinküste"},{"$f":"VLOOKUP(M11,Matches_Tipps!$B$4:$K$113,9,0)","v":"Ecuador"},null,{"$f":"VLOOKUP(P11,Matches_Tipps!$B$4:$K$113,8,0)","v":"Niederlande"},{"$f":"VLOOKUP(P11,Matches_Tipps!$B$4:$K$113,9,0)","v":"Japan"},null,{"$f":"VLOOKUP(S11,Matches_Tipps!$B$4:$K$113,8,0)","v":"Iran"},{"$f":"VLOOKUP(S11,Matches_Tipps!$B$4:$K$113,9,0)","v":"Neuseeland"},null,{"$f":"VLOOKUP(V11,Matches_Tipps!$B$4:$K$113,8,0)","v":"Saudiarabien"},{"$f":"VLOOKUP(V11,Matches_Tipps!$B$4:$K$113,9,0)","v":"Uruguay"},null,{"$f":"VLOOKUP(Y11,Matches_Tipps!$B$4:$K$113,8,0)","v":"Frankreich"},{"$f":"VLOOKUP(Y11,Matches_Tipps!$B$4:$K$113,9,0)","v":"Senegal"},null,{"$f":"VLOOKUP(AB11,Matches_Tipps!$B$4:$K$113,8,0)","v":"Argentinien"},{"$f":"VLOOKUP(AB11,Matches_Tipps!$B$4:$K$113,9,0)","v":"Algerien"},null,{"$f":"VLOOKUP(AE11,Matches_Tipps!$B$4:$K$113,8,0)","v":"Portugal"},{"$f":"VLOOKUP(AE11,Matches_Tipps!$B$4:$K$113,9,0)","v":"DR Kongo"},null,{"$f":"VLOOKUP(AH11,Matches_Tipps!$B$4:$K$113,8,0)","v":"Ghana"},{"$f":"VLOOKUP(AH11,Matches_Tipps!$B$4:$K$113,9,0)","v":"Panama"}]
[{"$nulls":3},{"$f":"COUNTA(B14:C14)","v":0},null,null,{"$f":"COUNTA(E14:F14)","v":0},null,null,{"$f":"COUNTA(H14:I14)","v":0},null,null,{"$f":"COUNTA(K14:L14)","v":0},null,null,{"$f":"COUNTA(N14:O14)","v":0},null,null,{"$f":"COUNTA(Q14:R14)","v":0},null,null,{"$f":"COUNTA(T14:U14)","v":0},null,null,{"$f":"COUNTA(W14:X14)","v":0},null,null,{"$f":"COUNTA(Z14:AA14)","v":0},null,null,{"$f":"COUNTA(AC14:AD14)","v":0},null,null,{"$f":"COUNTA(AF14:AG14)","v":0},null,null,{"$f":"COUNTA(AI14:AJ14)","v":0}]
[]
[2,{"$f":"VLOOKUP(A16,Matches_Tipps!$B$4:$K$113,7,0)","v":"Guadalajara"},null,8,{"$f":"VLOOKUP(D16,Matches_Tipps!$B$4:$K$113,7,0)","v":"San Francisco Bay Area"},null,7,{"$f":"VLOOKUP(G16,Matches_Tipps!$B$4:$K$113,7,0)","v":"New York/New Jersey"},null,6,{"$f":"VLOOKUP(J16,Matches_Tipps!$B$4:$K$113,7,0)","v":"Vancouver"},null,10,{"$f":"VLOOKUP(M16,Matches_Tipps!$B$4:$K$113,7,0)","v":"Houston"},null,12,{"$f":"VLOOKUP(P16,Matches_Tipps!$B$4:$K$113,7,0)","v":"Monterrey"},null,16,{"$f":"VLOOKUP(S16,Matches_Tipps!$B$4:$K$113,7,0)","v":"Seattle"},null,14,{"$f":"VLOOKUP(V16,Matches_Tipps!$B$4:$K$113,7,0)","v":"Atlanta"},null,18,{"$f":"VLOOKUP(Y16,Matches_Tipps!$B$4:$K$113,7,0)","v":"Boston"},null,20,{"$f":"VLOOKUP(AB16,Matches_Tipps!$B$4:$K$113,7,0)","v":"San Francisco Bay Area"},null,24,{"$f":"VLOOKUP(AE16,Matches_Tipps!$B$4:$K$113,7,0)","v":"Mexico City"},null,22,{"$f":"VLOOKUP(AH16,Matches_Tipps!$B$4:$K$113,7,0)","v":"Dallas"}]
[null,{"$f":"VLOOKUP(A16,Matches_Tipps!$B$4:$K$113,5,0)","v":"2026-06-12T04:00:00"},null,null,{"$f":"VLOOKUP(D16,Matches_Tipps!$B$4:$K$113,5,0)","v":"2026-06-13T21:00:00"},null,null,{"$f":"VLOOKUP(G16,Matches_Tipps!$B$4:$K$113,5,0)","v":"2026-06-14"},null,null,{"$f":"VLOOKUP(J16,Matches_Tipps!$B$4:$K$113,5,0)","v":"2026-06-14T06:00:00"},null,null,{"$f":"VLOOKUP(M16,Matches_Tipps!$B$4:$K$113,5,0)","v":"2026-06-14T19:00:00"},null,null,{"$f":"VLOOKUP(P16,Matches_Tipps!$B$4:$K$113,5,0)","v":"2026-06-15T04:00:00"},null,null,{"$f":"VLOOKUP(S16,Matches_Tipps!$B$4:$K$113,5,0)","v":"2026-06-15T21:00:00"},null,null,{"$f":"VLOOKUP(V16,Matches_Tipps!$B$4:$K$113,5,0)","v":"2026-06-15T18:00:00"},null,null,{"$f":"VLOOKUP(Y16,Matches_Tipps!$B$4:$K$113,5,0)","v":"2026-06-17"},null,null,{"$f":"VLOOKUP(AB16,Matches_Tipps!$B$4:$K$113,5,0)","v":"2026-06-17T06:00:00"},null,null,{"$f":"VLOOKUP(AE16,Matches_Tipps!$B$4:$K$113,5,0)","v":"2026-06-18T04:00:00"},null,null,{"$f":"VLOOKUP(AH16,Matches_Tipps!$B$4:$K$113,5,0)","v":"2026-06-17T22:00:00"}]
[null,{"$f":"VLOOKUP(A16,Matches_Tipps!$B$4:$K$113,8,0)","v":"Südkorea"},{"$f":"VLOOKUP(A16,Matches_Tipps!$B$4:$K$113,9,0)","v":"Tschechien"},null,{"$f":"VLOOKUP(D16,Matches_Tipps!$B$4:$K$113,8,0)","v":"Katar"},{"$f":"VLOOKUP(D16,Matches_Tipps!$B$4:$K$113,9,0)","v":"Schweiz"},null,{"$f":"VLOOKUP(G16,Matches_Tipps!$B$4:$K$113,8,0)","v":"Brasilien"},{"$f":"VLOOKUP(G16,Matches_Tipps!$B$4:$K$113,9,0)","v":"Marokko"},null,{"$f":"VLOOKUP(J16,Matches_Tipps!$B$4:$K$113,8,0)","v":"Australien"},{"$f":"VLOOKUP(J16,Matches_Tipps!$B$4:$K$113,9,0)","v":"Türkei"},null,{"$f":"VLOOKUP(M16,Matches_Tipps!$B$4:$K$113,8,0)","v":"Deutschland"},{"$f":"VLOOKUP(M16,Matches_Tipps!$B$4:$K$113,9,0)","v":"Curacao"},null,{"$f":"VLOOKUP(P16,Matches_Tipps!$B$4:$K$113,8,0)","v":"Schweden"},{"$f":"VLOOKUP(P16,Matches_Tipps!$B$4:$K$113,9,0)","v":"Tunesien"},null,{"$f":"VLOOKUP(S16,Matches_Tipps!$B$4:$K$113,8,0)","v":"Belgien"},{"$f":"VLOOKUP(S16,Matches_Tipps!$B$4:$K$113,9,0)","v":"Ägypten"},null,{"$f":"VLOOKUP(V16,Matches_Tipps!$B$4:$K$113,8,0)","v":"Spanien"},{"$f":"VLOOKUP(V16,Matches_Tipps!$B$4:$K$113,9,0)","v":"Kapverde"},null,{"$f":"VLOOKUP(Y16,Matches_Tipps!$B$4:$K$113,8,0)","v":"Irak"},{"$f":"VLOOKUP(Y16,Matches_Tipps!$B$4:$K$113,9,0)","v":"Norwegen"},null,{"$f":"VLOOKUP(AB16,Matches_Tipps!$B$4:$K$113,8,0)","v":"Österreich"},{"$f":"VLOOKUP(AB16,Matches_Tipps!$B$4:$K$113,9,0)","v":"Jordanien"},null,{"$f":"VLOOKUP(AE16,Matches_Tipps!$B$4:$K$113,8,0)","v":"Usbekistan"},{"$f":"VLOOKUP(AE16,Matches_Tipps!$B$4:$K$113,9,0)","v":"Kolumbien"},null,{"$f":"VLOOKUP(AH16,Matches_Tipps!$B$4:$K$113,8,0)","v":"England"},{"$f":"VLOOKUP(AH16,Matches_Tipps!$B$4:$K$113,9,0)","v":"Kroatien"}]
[{"$nulls":3},{"$f":"COUNTA(B19:C19)","v":0},null,null,{"$f":"COUNTA(E19:F19)","v":0},null,null,{"$f":"COUNTA(H19:I19)","v":0},null,null,{"$f":"COUNTA(K19:L19)","v":0},null,null,{"$f":"COUNTA(N19:O19)","v":0},null,null,{"$f":"COUNTA(Q19:R19)","v":0},null,null,{"$f":"COUNTA(T19:U19)","v":0},null,null,{"$f":"COUNTA(W19:X19)","v":0},null,null,{"$f":"COUNTA(Z19:AA19)","v":0},null,null,{"$f":"COUNTA(AC19:AD19)","v":0},null,null,{"$f":"COUNTA(AF19:AG19)","v":0},null,null,{"$f":"COUNTA(AI19:AJ19)","v":0}]
[]
[25,{"$f":"VLOOKUP(A21,Matches_Tipps!$B$4:$K$113,7,0)","v":"Atlanta"},null,26,{"$f":"VLOOKUP(D21,Matches_Tipps!$B$4:$K$113,7,0)","v":"Los Angeles"},null,29,{"$f":"VLOOKUP(G21,Matches_Tipps!$B$4:$K$113,7,0)","v":"Philadelphia"},null,31,{"$f":"VLOOKUP(J21,Matches_Tipps!$B$4:$K$113,7,0)","v":"San Francisco Bay Area"},null,33,{"$f":"VLOOKUP(M21,Matches_Tipps!$B$4:$K$113,7,0)","v":"Toronto"},null,35,{"$f":"VLOOKUP(P21,Matches_Tipps!$B$4:$K$113,7,0)","v":"Houston"},null,39,{"$f":"VLOOKUP(S21,Matches_Tipps!$B$4:$K$113,7,0)","v":"Los Angeles"},null,37,{"$f":"VLOOKUP(V21,Matches_Tipps!$B$4:$K$113,7,0)","v":"Miami"},null,41,{"$f":"VLOOKUP(Y21,Matches_Tipps!$B$4:$K$113,7,0)","v":"New York/New Jersey"},null,43,{"$f":"VLOOKUP(AB21,Matches_Tipps!$B$4:$K$113,7,0)","v":"Dallas"},null,47,{"$f":"VLOOKUP(AE21,Matches_Tipps!$B$4:$K$113,7,0)","v":"Houston"},null,45,{"$f":"VLOOKUP(AH21,Matches_Tipps!$B$4:$K$113,7,0)","v":"Boston"}]
[null,{"$f":"VLOOKUP(A21,Matches_Tipps!$B$4:$K$113,5,0)","v":"2026-06-18T18:00:00"},null,null,{"$f":"VLOOKUP(D21,Matches_Tipps!$B$4:$K$113,5,0)","v":"2026-06-18T21:00:00"},null,null,{"$f":"VLOOKUP(G21,Matches_Tipps!$B$4:$K$113,5,0)","v":"2026-06-20T02:30:00"},null,null,{"$f":"VLOOKUP(J21,Matches_Tipps!$B$4:$K$113,5,0)","v":"2026-06-20T05:00:00"},null,null,{"$f":"VLOOKUP(M21,Matches_Tipps!$B$4:$K$113,5,0)","v":"2026-06-20T22:00:00"},null,null,{"$f":"VLOOKUP(P21,Matches_Tipps!$B$4:$K$113,5,0)","v":"2026-06-20T19:00:00"},null,null,{"$f":"VLOOKUP(S21,Matches_Tipps!$B$4:$K$113,5,0)","v":"2026-06-21T21:00:00"},null,null,{"$f":"VLOOKUP(V21,Matches_Tipps!$B$4:$K$113,5,0)","v":"2026-06-22"},null,null,{"$f":"VLOOKUP(Y21,Matches_Tipps!$B$4:$K$113,5,0)","v":"2026-06-23T02:00:00"},null,null,{"$f":"VLOOKUP(AB21,Matches_Tipps!$B$4:$K$113,5,0)","v":"2026-06-22T19:00:00"},null,null,{"$f":"VLOOKUP(AE21,Matches_Tipps!$B$4:$K$113,5,0)","v":"2026-06-23T19:00:00"},null,null,{"$f":"VLOOKUP(AH21,Matches_Tipps!$B$4:$K$113,5,0)","v":"2026-06-23T22:00:00"}]
[null,{"$f":"VLOOKUP(A21,Matches_Tipps!$B$4:$K$113,8,0)","v":"Tschechien"},{"$f":"VLOOKUP(A21,Matches_Tipps!$B$4:$K$113,9,0)","v":"Südafrika"},null,{"$f":"VLOOKUP(D21,Matches_Tipps!$B$4:$K$113,8,0)","v":"Schweiz"},{"$f":"VLOOKUP(D21,Matches_Tipps!$B$4:$K$113,9,0)","v":"Bosnien-Herzeg."},null,{"$f":"VLOOKUP(G21,Matches_Tipps!$B$4:$K$113,8,0)","v":"Brasilien"},{"$f":"VLOOKUP(G21,Matches_Tipps!$B$4:$K$113,9,0)","v":"Haiti"},null,{"$f":"VLOOKUP(J21,Matches_Tipps!$B$4:$K$113,8,0)","v":"Türkei"},{"$f":"VLOOKUP(J21,Matches_Tipps!$B$4:$K$113,9,0)","v":"Paraguay"},null,{"$f":"VLOOKUP(M21,Matches_Tipps!$B$4:$K$113,8,0)","v":"Deutschland"},{"$f":"VLOOKUP(M21,Matches_Tipps!$B$4:$K$113,9,0)","v":"Elfenbeinküste"},null,{"$f":"VLOOKUP(P21,Matches_Tipps!$B$4:$K$113,8,0)","v":"Niederlande"},{"$f":"VLOOKUP(P21,Matches_Tipps!$B$4:$K$113,9,0)","v":"Schweden"},null,{"$f":"VLOOKUP(S21,Matches_Tipps!$B$4:$K$113,8,0)","v":"Belgien"},{"$f":"VLOOKUP(S21,Matches_Tipps!$B$4:$K$113,9,0)","v":"Iran"},null,{"$f":"VLOOKUP(V21,Matches_Tipps!$B$4:$K$113,8,0)","v":"Uruguay"},{"$f":"VLOOKUP(V21,Matches_Tipps!$B$4:$K$113,9,0)","v":"Kapverde"},null,{"$f":"VLOOKUP(Y21,Matches_Tipps!$B$4:$K$113,8,0)","v":"Norwegen"},{"$f":"VLOOKUP(Y21,Matches_Tipps!$B$4:$K$113,9,0)","v":"Senegal"},null,{"$f":"VLOOKUP(AB21,Matches_Tipps!$B$4:$K$113,8,0)","v":"Argentinien"},{"$f":"VLOOKUP(AB21,Matches_Tipps!$B$4:$K$113,9,0)","v":"Österreich"},null,{"$f":"VLOOKUP(AE21,Matches_Tipps!$B$4:$K$113,8,0)","v":"Portugal"},{"$f":"VLOOKUP(AE21,Matches_Tipps!$B$4:$K$113,9,0)","v":"Usbekistan"},null,{"$f":"VLOOKUP(AH21,Matches_Tipps!$B$4:$K$113,8,0)","v":"England"},{"$f":"VLOOKUP(AH21,Matches_Tipps!$B$4:$K$113,9,0)","v":"Ghana"}]
[{"$nulls":3},{"$f":"COUNTA(B24:C24)","v":0},null,null,{"$f":"COUNTA(E24:F24)","v":0},null,null,{"$f":"COUNTA(H24:I24)","v":0},null,null,{"$f":"COUNTA(K24:L24)","v":0},null,null,{"$f":"COUNTA(N24:O24)","v":0},null,null,{"$f":"COUNTA(Q24:R24)","v":0},null,null,{"$f":"COUNTA(T24:U24)","v":0},null,null,{"$f":"COUNTA(W24:X24)","v":0},null,null,{"$f":"COUNTA(Z24:AA24)","v":0},null,null,{"$f":"COUNTA(AC24:AD24)","v":0},null,null,{"$f":"COUNTA(AF24:AG24)","v":0},null,null,{"$f":"COUNTA(AI24:AJ24)","v":0}]
[]
[28,{"$f":"VLOOKUP(A26,Matches_Tipps!$B$4:$K$113,7,0)","v":"Guadalajara"},null,27,{"$f":"VLOOKUP(D26,Matches_Tipps!$B$4:$K$113,7,0)","v":"Vancouver"},null,30,{"$f":"VLOOKUP(G26,Matches_Tipps!$B$4:$K$113,7,0)","v":"Boston"},null,32,{"$f":"VLOOKUP(J26,Matches_Tipps!$B$4:$K$113,7,0)","v":"Seattle"},null,34,{"$f":"VLOOKUP(M26,Matches_Tipps!$B$4:$K$113,7,0)","v":"Kansas City"},null,36,{"$f":"VLOOKUP(P26,Matches_Tipps!$B$4:$K$113,7,0)","v":"Monterrey"},null,40,{"$f":"VLOOKUP(S26,Matches_Tipps!$B$4:$K$113,7,0)","v":"Vancouver"},null,38,{"$f":"VLOOKUP(V26,Matches_Tipps!$B$4:$K$113,7,0)","v":"Atlanta"},null,42,{"$f":"VLOOKUP(Y26,Matches_Tipps!$B$4:$K$113,7,0)","v":"Philadelphia"},null,44,{"$f":"VLOOKUP(AB26,Matches_Tipps!$B$4:$K$113,7,0)","v":"San Francisco Bay Area"},null,48,{"$f":"VLOOKUP(AE26,Matches_Tipps!$B$4:$K$113,7,0)","v":"Guadalajara"},null,46,{"$f":"VLOOKUP(AH26,Matches_Tipps!$B$4:$K$113,7,0)","v":"Toronto"}]
[null,{"$f":"VLOOKUP(A26,Matches_Tipps!$B$4:$K$113,5,0)","v":"2026-06-19T03:00:00"},null,null,{"$f":"VLOOKUP(D26,Matches_Tipps!$B$4:$K$113,5,0)","v":"2026-06-19"},null,null,{"$f":"VLOOKUP(G26,Matches_Tipps!$B$4:$K$113,5,0)","v":"2026-06-20"},null,null,{"$f":"VLOOKUP(J26,Matches_Tipps!$B$4:$K$113,5,0)","v":"2026-06-19T21:00:00"},null,null,{"$f":"VLOOKUP(M26,Matches_Tipps!$B$4:$K$113,5,0)","v":"2026-06-21T02:00:00"},null,null,{"$f":"VLOOKUP(P26,Matches_Tipps!$B$4:$K$113,5,0)","v":"2026-06-21T06:00:00"},null,null,{"$f":"VLOOKUP(S26,Matches_Tipps!$B$4:$K$113,5,0)","v":"2026-06-22T03:00:00"},null,null,{"$f":"VLOOKUP(V26,Matches_Tipps!$B$4:$K$113,5,0)","v":"2026-06-21T18:00:00"},null,null,{"$f":"VLOOKUP(Y26,Matches_Tipps!$B$4:$K$113,5,0)","v":"2026-06-22T23:00:00"},null,null,{"$f":"VLOOKUP(AB26,Matches_Tipps!$B$4:$K$113,5,0)","v":"2026-06-23T05:00:00"},null,null,{"$f":"VLOOKUP(AE26,Matches_Tipps!$B$4:$K$113,5,0)","v":"2026-06-24T04:00:00"},null,null,{"$f":"VLOOKUP(AH26,Matches_Tipps!$B$4:$K$113,5,0)","v":"2026-06-24T01:00:00"}]
[null,{"$f":"VLOOKUP(A26,Matches_Tipps!$B$4:$K$113,8,0)","v":"Mexiko"},{"$f":"VLOOKUP(A26,Matches_Tipps!$B$4:$K$113,9,0)","v":"Südkorea"},null,{"$f":"VLOOKUP(D26,Matches_Tipps!$B$4:$K$113,8,0)","v":"Kanada"},{"$f":"VLOOKUP(D26,Matches_Tipps!$B$4:$K$113,9,0)","v":"Katar"},null,{"$f":"VLOOKUP(G26,Matches_Tipps!$B$4:$K$113,8,0)","v":"Schottland"},{"$f":"VLOOKUP(G26,Matches_Tipps!$B$4:$K$113,9,0)","v":"Marokko"},null,{"$f":"VLOOKUP(J26,Matches_Tipps!$B$4:$K$113,8,0)","v":"USA"},{"$f":"VLOOKUP(J26,Matches_Tipps!$B$4:$K$113,9,0)","v":"Australien"},null,{"$f":"VLOOKUP(M26,Matches_Tipps!$B$4:$K$113,8,0)","v":"Ecuador"},{"$f":"VLOOKUP(M26,Matches_Tipps!$B$4:$K$113,9,0)","v":"Curacao"},null,{"$f":"VLOOKUP(P26,Matches_Tipps!$B$4:$K$113,8,0)","v":"Tunesien"},{"$f":"VLOOKUP(P26,Matches_Tipps!$B$4:$K$113,9,0)","v":"Japan"},null,{"$f":"VLOOKUP(S26,Matches_Tipps!$B$4:$K$113,8,0)","v":"Neuseeland"},{"$f":"VLOOKUP(S26,Matches_Tipps!$B$4:$K$113,9,0)","v":"Ägypten"},null,{"$f":"VLOOKUP(V26,Matches_Tipps!$B$4:$K$113,8,0)","v":"Spanien"},{"$f":"VLOOKUP(V26,Matches_Tipps!$B$4:$K$113,9,0)","v":"Saudiarabien"},null,{"$f":"VLOOKUP(Y26,Matches_Tipps!$B$4:$K$113,8,0)","v":"Frankreich"},{"$f":"VLOOKUP(Y26,Matches_Tipps!$B$4:$K$113,9,0)","v":"Irak"},null,{"$f":"VLOOKUP(AB26,Matches_Tipps!$B$4:$K$113,8,0)","v":"Jordanien"},{"$f":"VLOOKUP(AB26,Matches_Tipps!$B$4:$K$113,9,0)","v":"Algerien"},null,{"$f":"VLOOKUP(AE26,Matches_Tipps!$B$4:$K$113,8,0)","v":"Kolumbien"},{"$f":"VLOOKUP(AE26,Matches_Tipps!$B$4:$K$113,9,0)","v":"DR Kongo"},null,{"$f":"VLOOKUP(AH26,Matches_Tipps!$B$4:$K$113,8,0)","v":"Panama"},{"$f":"VLOOKUP(AH26,Matches_Tipps!$B$4:$K$113,9,0)","v":"Kroatien"}]
[{"$nulls":3},{"$f":"COUNTA(B29:C29)","v":0},null,null,{"$f":"COUNTA(E29:F29)","v":0},null,null,{"$f":"COUNTA(H29:I29)","v":0},null,null,{"$f":"COUNTA(K29:L29)","v":0},null,null,{"$f":"COUNTA(N29:O29)","v":0},null,null,{"$f":"COUNTA(Q29:R29)","v":0},null,null,{"$f":"COUNTA(T29:U29)","v":0},null,null,{"$f":"COUNTA(W29:X29)","v":0},null,null,{"$f":"COUNTA(Z29:AA29)","v":0},null,null,{"$f":"COUNTA(AC29:AD29)","v":0},null,null,{"$f":"COUNTA(AF29:AG29)","v":0},null,null,{"$f":"COUNTA(AI29:AJ29)","v":0}]
[{"$nulls":37},{"$f":"IF(ThirdPlaced_Tipps!$I$33>0,\"•\",\"\")","v":""}]
[53,{"$f":"VLOOKUP(A31,Matches_Tipps!$B$4:$K$113,7,0)","v":"Mexico City"},null,51,{"$f":"VLOOKUP(D31,Matches_Tipps!$B$4:$K$113,7,0)","v":"Vancouver"},null,49,{"$f":"VLOOKUP(G31,Matches_Tipps!$B$4:$K$113,7,0)","v":"Miami"},null,59,{"$f":"VLOOKUP(J31,Matches_Tipps!$B$4:$K$113,7,0)","v":"Los Angeles"},null,55,{"$f":"VLOOKUP(M31,Matches_Tipps!$B$4:$K$113,7,0)","v":"Philadelphia"},null,57,{"$f":"VLOOKUP(P31,Matches_Tipps!$B$4:$K$113,7,0)","v":"Dallas"},null,63,{"$f":"VLOOKUP(S31,Matches_Tipps!$B$4:$K$113,7,0)","v":"Seattle"},null,65,{"$f":"VLOOKUP(V31,Matches_Tipps!$B$4:$K$113,7,0)","v":"Houston"},null,61,{"$f":"VLOOKUP(Y31,Matches_Tipps!$B$4:$K$113,7,0)","v":"Boston"},null,69,{"$f":"VLOOKUP(AB31,Matches_Tipps!$B$4:$K$113,7,0)","v":"Kansas City"},null,71,{"$f":"VLOOKUP(AE31,Matches_Tipps!$B$4:$K$113,7,0)","v":"Miami"},null,67,{"$f":"VLOOKUP(AH31,Matches_Tipps!$B$4:$K$113,7,0)","v":"New York/New Jersey"},null,null,{"$f":"Sprache_Tipps!$E$174","v":"Gruppendritte"},null,{"$f":"Sprache_Tipps!$E$175","v":"Grp"}]
[null,{"$f":"VLOOKUP(A31,Matches_Tipps!$B$4:$K$113,5,0)","v":"2026-06-25T03:00:00"},null,null,{"$f":"VLOOKUP(D31,Matches_Tipps!$B$4:$K$113,5,0)","v":"2026-06-24T21:00:00"},null,null,{"$f":"VLOOKUP(G31,Matches_Tipps!$B$4:$K$113,5,0)","v":"2026-06-25"},null,null,{"$f":"VLOOKUP(J31,Matches_Tipps!$B$4:$K$113,5,0)","v":"2026-06-26T04:00:00"},null,null,{"$f":"VLOOKUP(M31,Matches_Tipps!$B$4:$K$113,5,0)","v":"2026-06-25T22:00:00"},null,null,{"$f":"VLOOKUP(P31,Matches_Tipps!$B$4:$K$113,5,0)","v":"2026-06-26T01:00:00"},null,null,{"$f":"VLOOKUP(S31,Matches_Tipps!$B$4:$K$113,5,0)","v":"2026-06-27T05:00:00"},null,null,{"$f":"VLOOKUP(V31,Matches_Tipps!$B$4:$K$113,5,0)","v":"2026-06-27T02:00:00"},null,null,{"$f":"VLOOKUP(Y31,Matches_Tipps!$B$4:$K$113,5,0)","v":"2026-06-26T21:00:00"},null,null,{"$f":"VLOOKUP(AB31,Matches_Tipps!$B$4:$K$113,5,0)","v":"2026-06-28T04:00:00"},null,null,{"$f":"VLOOKUP(AE31,Matches_Tipps!$B$4:$K$113,5,0)","v":"2026-06-28T01:30:00"},null,null,{"$f":"VLOOKUP(AH31,Matches_Tipps!$B$4:$K$113,5,0)","v":"2026-06-27T23:00:00"},null,null,{"$f":"IF(OR(ThirdPlaced_Tipps!$D17>0,ThirdPlaced_Tipps!$G17>0),ThirdPlaced_Tipps!$C17,\"\")","v":""},{"$f":"IF(AL32<>\"\",\"   \"&ThirdPlaced_Tipps!$D17&\"        \"&ThirdPlaced_Tipps!$F17&Sprache_Tipps!$E$191&ThirdPlaced_Tipps!$G17,\"\")","v":""},{"$f":"IF(AL32<>\"\",ThirdPlaced_Tipps!$I17,\"\")","v":""}]
[null,{"$f":"VLOOKUP(A31,Matches_Tipps!$B$4:$K$113,8,0)","v":"Tschechien"},{"$f":"VLOOKUP(A31,Matches_Tipps!$B$4:$K$113,9,0)","v":"Mexiko"},null,{"$f":"VLOOKUP(D31,Matches_Tipps!$B$4:$K$113,8,0)","v":"Schweiz"},{"$f":"VLOOKUP(D31,Matches_Tipps!$B$4:$K$113,9,0)","v":"Kanada"},null,{"$f":"VLOOKUP(G31,Matches_Tipps!$B$4:$K$113,8,0)","v":"Schottland"},{"$f":"VLOOKUP(G31,Matches_Tipps!$B$4:$K$113,9,0)","v":"Brasilien"},null,{"$f":"VLOOKUP(J31,Matches_Tipps!$B$4:$K$113,8,0)","v":"Türkei"},{"$f":"VLOOKUP(J31,Matches_Tipps!$B$4:$K$113,9,0)","v":"USA"},null,{"$f":"VLOOKUP(M31,Matches_Tipps!$B$4:$K$113,8,0)","v":"Curacao"},{"$f":"VLOOKUP(M31,Matches_Tipps!$B$4:$K$113,9,0)","v":"Elfenbeinküste"},null,{"$f":"VLOOKUP(P31,Matches_Tipps!$B$4:$K$113,8,0)","v":"Japan"},{"$f":"VLOOKUP(P31,Matches_Tipps!$B$4:$K$113,9,0)","v":"Schweden"},null,{"$f":"VLOOKUP(S31,Matches_Tipps!$B$4:$K$113,8,0)","v":"Ägypten"},{"$f":"VLOOKUP(S31,Matches_Tipps!$B$4:$K$113,9,0)","v":"Iran"},null,{"$f":"VLOOKUP(V31,Matches_Tipps!$B$4:$K$113,8,0)","v":"Kapverde"},{"$f":"VLOOKUP(V31,Matches_Tipps!$B$4:$K$113,9,0)","v":"Saudiarabien"},null,{"$f":"VLOOKUP(Y31,Matches_Tipps!$B$4:$K$113,8,0)","v":"Norwegen"},{"$f":"VLOOKUP(Y31,Matches_Tipps!$B$4:$K$113,9,0)","v":"Frankreich"},null,{"$f":"VLOOKUP(AB31,Matches_Tipps!$B$4:$K$113,8,0)","v":"Algerien"},{"$f":"VLOOKUP(AB31,Matches_Tipps!$B$4:$K$113,9,0)","v":"Österreich"},null,{"$f":"VLOOKUP(AE31,Matches_Tipps!$B$4:$K$113,8,0)","v":"Kolumbien"},{"$f":"VLOOKUP(AE31,Matches_Tipps!$B$4:$K$113,9,0)","v":"Portugal"},null,{"$f":"VLOOKUP(AH31,Matches_Tipps!$B$4:$K$113,8,0)","v":"Panama"},{"$f":"VLOOKUP(AH31,Matches_Tipps!$B$4:$K$113,9,0)","v":"England"},null,{"$f":"IF(OR(ThirdPlaced_Tipps!$D18>0,ThirdPlaced_Tipps!$G18>0),ThirdPlaced_Tipps!$C18,\"\")","v":""},{"$f":"IF(AL33<>\"\",\"   \"&ThirdPlaced_Tipps!$D18&\"        \"&ThirdPlaced_Tipps!$F18&Sprache_Tipps!$E$191&ThirdPlaced_Tipps!$G18,\"\")","v":""},{"$f":"IF(AL33<>\"\",ThirdPlaced_Tipps!$I18,\"\")","v":""}]
[{"$nulls":3},{"$f":"COUNTA(B34:C34)","v":0},null,null,{"$f":"COUNTA(E34:F34)","v":0},null,null,{"$f":"COUNTA(H34:I34)","v":0},null,null,{"$f":"COUNTA(K34:L34)","v":0},null,null,{"$f":"COUNTA(N34:O34)","v":0},null,null,{"$f":"COUNTA(Q34:R34)","v":0},null,null,{"$f":"COUNTA(T34:U34)","v":0},null,null,{"$f":"COUNTA(W34:X34)","v":0},null,null,{"$f":"COUNTA(Z34:AA34)","v":0},null,null,{"$f":"COUNTA(AC34:AD34)","v":0},null,null,{"$f":"COUNTA(AF34:AG34)","v":0},null,null,{"$f":"COUNTA(AI34:AJ34)","v":0},{"$f":"IF(OR(ThirdPlaced_Tipps!$D19>0,ThirdPlaced_Tipps!$G19>0),ThirdPlaced_Tipps!$C19,\"\")","v":""},{"$f":"IF(AL34<>\"\",\"   \"&ThirdPlaced_Tipps!$D19&\"        \"&ThirdPlaced_Tipps!$F19&Sprache_Tipps!$E$191&ThirdPlaced_Tipps!$G19,\"\")","v":""},{"$f":"IF(AL34<>\"\",ThirdPlaced_Tipps!$I19,\"\")","v":""}]
[{"$nulls":37},{"$f":"IF(OR(ThirdPlaced_Tipps!$D20>0,ThirdPlaced_Tipps!$G20>0),ThirdPlaced_Tipps!$C20,\"\")","v":""},{"$f":"IF(AL35<>\"\",\"   \"&ThirdPlaced_Tipps!$D20&\"        \"&ThirdPlaced_Tipps!$F20&Sprache_Tipps!$E$191&ThirdPlaced_Tipps!$G20,\"\")","v":""},{"$f":"IF(AL35<>\"\",ThirdPlaced_Tipps!$I20,\"\")","v":""}]
[54,{"$f":"VLOOKUP(A36,Matches_Tipps!$B$4:$K$113,7,0)","v":"Monterrey"},null,52,{"$f":"VLOOKUP(D36,Matches_Tipps!$B$4:$K$113,7,0)","v":"Seattle"},null,50,{"$f":"VLOOKUP(G36,Matches_Tipps!$B$4:$K$113,7,0)","v":"Atlanta"},null,60,{"$f":"VLOOKUP(J36,Matches_Tipps!$B$4:$K$113,7,0)","v":"San Francisco Bay Area"},null,56,{"$f":"VLOOKUP(M36,Matches_Tipps!$B$4:$K$113,7,0)","v":"New York/New Jersey"},null,58,{"$f":"VLOOKUP(P36,Matches_Tipps!$B$4:$K$113,7,0)","v":"Kansas City"},null,64,{"$f":"VLOOKUP(S36,Matches_Tipps!$B$4:$K$113,7,0)","v":"Vancouver"},null,66,{"$f":"VLOOKUP(V36,Matches_Tipps!$B$4:$K$113,7,0)","v":"Guadalajara"},null,62,{"$f":"VLOOKUP(Y36,Matches_Tipps!$B$4:$K$113,7,0)","v":"Toronto"},null,70,{"$f":"VLOOKUP(AB36,Matches_Tipps!$B$4:$K$113,7,0)","v":"Dallas"},null,72,{"$f":"VLOOKUP(AE36,Matches_Tipps!$B$4:$K$113,7,0)","v":"Atlanta"},null,68,{"$f":"VLOOKUP(AH36,Matches_Tipps!$B$4:$K$113,7,0)","v":"Philadelphia"},null,null,{"$f":"IF(OR(ThirdPlaced_Tipps!$D21>0,ThirdPlaced_Tipps!$G21>0),ThirdPlaced_Tipps!$C21,\"\")","v":""},{"$f":"IF(AL36<>\"\",\"   \"&ThirdPlaced_Tipps!$D21&\"        \"&ThirdPlaced_Tipps!$F21&Sprache_Tipps!$E$191&ThirdPlaced_Tipps!$G21,\"\")","v":""},{"$f":"IF(AL36<>\"\",ThirdPlaced_Tipps!$I21,\"\")","v":""}]
[null,{"$f":"VLOOKUP(A36,Matches_Tipps!$B$4:$K$113,5,0)","v":"2026-06-25T03:00:00"},null,null,{"$f":"VLOOKUP(D36,Matches_Tipps!$B$4:$K$113,5,0)","v":"2026-06-24T21:00:00"},null,null,{"$f":"VLOOKUP(G36,Matches_Tipps!$B$4:$K$113,5,0)","v":"2026-06-25"},null,null,{"$f":"VLOOKUP(J36,Matches_Tipps!$B$4:$K$113,5,0)","v":"2026-06-26T04:00:00"},null,null,{"$f":"VLOOKUP(M36,Matches_Tipps!$B$4:$K$113,5,0)","v":"2026-06-25T22:00:00"},null,null,{"$f":"VLOOKUP(P36,Matches_Tipps!$B$4:$K$113,5,0)","v":"2026-06-26T01:00:00"},null,null,{"$f":"VLOOKUP(S36,Matches_Tipps!$B$4:$K$113,5,0)","v":"2026-06-27T05:00:00"},null,null,{"$f":"VLOOKUP(V36,Matches_Tipps!$B$4:$K$113,5,0)","v":"2026-06-27T02:00:00"},null,null,{"$f":"VLOOKUP(Y36,Matches_Tipps!$B$4:$K$113,5,0)","v":"2026-06-26T21:00:00"},null,null,{"$f":"VLOOKUP(AB36,Matches_Tipps!$B$4:$K$113,5,0)","v":"2026-06-28T04:00:00"},null,null,{"$f":"VLOOKUP(AE36,Matches_Tipps!$B$4:$K$113,5,0)","v":"2026-06-28T01:30:00"},null,null,{"$f":"VLOOKUP(AH36,Matches_Tipps!$B$4:$K$113,5,0)","v":"2026-06-27T23:00:00"},null,null,{"$f":"IF(OR(ThirdPlaced_Tipps!$D22>0,ThirdPlaced_Tipps!$G22>0),ThirdPlaced_Tipps!$C22,\"\")","v":""},{"$f":"IF(AL37<>\"\",\"   \"&ThirdPlaced_Tipps!$D22&\"        \"&ThirdPlaced_Tipps!$F22&Sprache_Tipps!$E$191&ThirdPlaced_Tipps!$G22,\"\")","v":""},{"$f":"IF(AL37<>\"\",ThirdPlaced_Tipps!$I22,\"\")","v":""}]
[null,{"$f":"VLOOKUP(A36,Matches_Tipps!$B$4:$K$113,8,0)","v":"Südafrika"},{"$f":"VLOOKUP(A36,Matches_Tipps!$B$4:$K$113,9,0)","v":"Südkorea"},null,{"$f":"VLOOKUP(D36,Matches_Tipps!$B$4:$K$113,8,0)","v":"Bosnien-Herzeg."},{"$f":"VLOOKUP(D36,Matches_Tipps!$B$4:$K$113,9,0)","v":"Katar"},null,{"$f":"VLOOKUP(G36,Matches_Tipps!$B$4:$K$113,8,0)","v":"Marokko"},{"$f":"VLOOKUP(G36,Matches_Tipps!$B$4:$K$113,9,0)","v":"Haiti"},null,{"$f":"VLOOKUP(J36,Matches_Tipps!$B$4:$K$113,8,0)","v":"Paraguay"},{"$f":"VLOOKUP(J36,Matches_Tipps!$B$4:$K$113,9,0)","v":"Australien"},null,{"$f":"VLOOKUP(M36,Matches_Tipps!$B$4:$K$113,8,0)","v":"Ecuador"},{"$f":"VLOOKUP(M36,Matches_Tipps!$B$4:$K$113,9,0)","v":"Deutschland"},null,{"$f":"VLOOKUP(P36,Matches_Tipps!$B$4:$K$113,8,0)","v":"Tunesien"},{"$f":"VLOOKUP(P36,Matches_Tipps!$B$4:$K$113,9,0)","v":"Niederlande"},null,{"$f":"VLOOKUP(S36,Matches_Tipps!$B$4:$K$113,8,0)","v":"Neuseeland"},{"$f":"VLOOKUP(S36,Matches_Tipps!$B$4:$K$113,9,0)","v":"Belgien"},null,{"$f":"VLOOKUP(V36,Matches_Tipps!$B$4:$K$113,8,0)","v":"Uruguay"},{"$f":"VLOOKUP(V36,Matches_Tipps!$B$4:$K$113,9,0)","v":"Spanien"},null,{"$f":"VLOOKUP(Y36,Matches_Tipps!$B$4:$K$113,8,0)","v":"Senegal"},{"$f":"VLOOKUP(Y36,Matches_Tipps!$B$4:$K$113,9,0)","v":"Irak"},null,{"$f":"VLOOKUP(AB36,Matches_Tipps!$B$4:$K$113,8,0)","v":"Jordanien"},{"$f":"VLOOKUP(AB36,Matches_Tipps!$B$4:$K$113,9,0)","v":"Argentinien"},null,{"$f":"VLOOKUP(AE36,Matches_Tipps!$B$4:$K$113,8,0)","v":"DR Kongo"},{"$f":"VLOOKUP(AE36,Matches_Tipps!$B$4:$K$113,9,0)","v":"Usbekistan"},null,{"$f":"VLOOKUP(AH36,Matches_Tipps!$B$4:$K$113,8,0)","v":"Kroatien"},{"$f":"VLOOKUP(AH36,Matches_Tipps!$B$4:$K$113,9,0)","v":"Ghana"},null,{"$f":"IF(OR(ThirdPlaced_Tipps!$D23>0,ThirdPlaced_Tipps!$G23>0),ThirdPlaced_Tipps!$C23,\"\")","v":""},{"$f":"IF(AL38<>\"\",\"   \"&ThirdPlaced_Tipps!$D23&\"        \"&ThirdPlaced_Tipps!$F23&Sprache_Tipps!$E$191&ThirdPlaced_Tipps!$G23,\"\")","v":""},{"$f":"IF(AL38<>\"\",ThirdPlaced_Tipps!$I23,\"\")","v":""}]
[{"$nulls":3},{"$f":"COUNTA(B39:C39)","v":0},null,null,{"$f":"COUNTA(E39:F39)","v":0},null,null,{"$f":"COUNTA(H39:I39)","v":0},null,null,{"$f":"COUNTA(K39:L39)","v":0},null,null,{"$f":"COUNTA(N39:O39)","v":0},null,null,{"$f":"COUNTA(Q39:R39)","v":0},null,null,{"$f":"COUNTA(T39:U39)","v":0},null,null,{"$f":"COUNTA(W39:X39)","v":0},null,null,{"$f":"COUNTA(Z39:AA39)","v":0},null,null,{"$f":"COUNTA(AC39:AD39)","v":0},null,null,{"$f":"COUNTA(AF39:AG39)","v":0},null,null,{"$f":"COUNTA(AI39:AJ39)","v":0},{"$f":"IF(OR(ThirdPlaced_Tipps!$D24>0,ThirdPlaced_Tipps!$G24>0),ThirdPlaced_Tipps!$C24,\"\")","v":""},{"$f":"IF(AL39<>\"\",\"   \"&ThirdPlaced_Tipps!$D24&\"        \"&ThirdPlaced_Tipps!$F24&Sprache_Tipps!$E$191&ThirdPlaced_Tipps!$G24,\"\")","v":""},{"$f":"IF(AL39<>\"\",ThirdPlaced_Tipps!$I24,\"\")","v":""}]
[{"$nulls":3},{"$f":"D14+D19+D24+D29+D34+D39","v":0},null,null,{"$f":"G14+G19+G24+G29+G34+G39","v":0},null,null,{"$f":"J14+J19+J24+J29+J34+J39","v":0},null,null,{"$f":"M14+M19+M24+M29+M34+M39","v":0},null,null,{"$f":"P14+P19+P24+P29+P34+P39","v":0},null,null,{"$f":"S14+S19+S24+S29+S34+S39","v":0},null,null,{"$f":"V14+V19+V24+V29+V34+V39","v":0},null,null,{"$f":"Y14+Y19+Y24+Y29+Y34+Y39","v":0},null,null,{"$f":"AB14+AB19+AB24+AB29+AB34+AB39","v":0},null,null,{"$f":"AE14+AE19+AE24+AE29+AE34+AE39","v":0},null,null,{"$f":"AH14+AH19+AH24+AH29+AH34+AH39","v":0},null,null,{"$f":"AK14+AK19+AK24+AK29+AK34+AK39","v":0},{"$f":"IF(OR(ThirdPlaced_Tipps!$D25>0,ThirdPlaced_Tipps!$G25>0),ThirdPlaced_Tipps!$C25,\"\")","v":""},{"$f":"IF(AL40<>\"\",\"   \"&ThirdPlaced_Tipps!$D25&\"        \"&ThirdPlaced_Tipps!$F25&Sprache_Tipps!$E$191&ThirdPlaced_Tipps!$G25,\"\")","v":""},{"$f":"IF(AL40<>\"\",ThirdPlaced_Tipps!$I25,\"\")","v":""}]
[null,{"$f":"B9","v":"Gruppe A"},null,null,{"$f":"E9","v":"Gruppe B"},null,null,{"$f":"H9","v":"Gruppe C"},null,null,{"$f":"K9","v":"Gruppe D"},null,null,{"$f":"N9","v":"Gruppe E"},null,null,{"$f":"Q9","v":"Gruppe F"},null,null,{"$f":"T9","v":"Gruppe G"},null,null,{"$f":"W9","v":"Gruppe H"},null,null,{"$f":"Z9","v":"Gruppe I"},null,null,{"$f":"AC9","v":"Gruppe J"},null,null,{"$f":"AF9","v":"Gruppe K"},null,null,{"$f":"AI9","v":"Gruppe L"},null,null,{"$f":"IF(OR(ThirdPlaced_Tipps!$D26>0,ThirdPlaced_Tipps!$G26>0),ThirdPlaced_Tipps!$C26,\"\")","v":""},{"$f":"IF(AL41<>\"\",\"   \"&ThirdPlaced_Tipps!$D26&\"        \"&ThirdPlaced_Tipps!$F26&Sprache_Tipps!$E$191&ThirdPlaced_Tipps!$G26,\"\")","v":""},{"$f":"IF(AL41<>\"\",ThirdPlaced_Tipps!$I26,\"\")","v":""}]
["1A",{"$f":"IF(GrpA_Tipps!$W11,B3,\"\")","v":""},{"$f":"IF(GrpA_Tipps!$W11,C3,\"\")","v":""},"1B",{"$f":"IF(GrpB_Tipps!$W11,E3,\"\")","v":""},{"$f":"IF(GrpB_Tipps!$W11,F3,\"\")","v":""},"1C",{"$f":"IF(GrpC_Tipps!$W11,H3,\"\")","v":""},{"$f":"IF(GrpC_Tipps!$W11,I3,\"\")","v":""},"1D",{"$f":"IF(GrpD_Tipps!$W11,K3,\"\")","v":""},{"$f":"IF(GrpD_Tipps!$W11,L3,\"\")","v":""},"1E",{"$f":"IF(GrpE_Tipps!$W11,N3,\"\")","v":""},{"$f":"IF(GrpE_Tipps!$W11,O3,\"\")","v":""},"1F",{"$f":"IF(GrpF_Tipps!$W11,Q3,\"\")","v":""},{"$f":"IF(GrpF_Tipps!$W11,R3,\"\")","v":""},"1G",{"$f":"IF(GrpG_Tipps!$W11,T3,\"\")","v":""},{"$f":"IF(GrpG_Tipps!$W11,U3,\"\")","v":""},"1H",{"$f":"IF(GrpH_Tipps!$W11,W3,\"\")","v":""},{"$f":"IF(GrpH_Tipps!$W11,X3,\"\")","v":""},"1I",{"$f":"IF(GrpI_Tipps!$W11,Z3,\"\")","v":""},{"$f":"IF(GrpI_Tipps!$W11,AA3,\"\")","v":""},"1J",{"$f":"IF(GrpJ_Tipps!$W11,AC3,\"\")","v":""},{"$f":"IF(GrpJ_Tipps!$W11,AD3,\"\")","v":""},"1K",{"$f":"IF(GrpK_Tipps!$W11,AF3,\"\")","v":""},{"$f":"IF(GrpK_Tipps!$W11,AG3,\"\")","v":""},"1L",{"$f":"IF(GrpL_Tipps!$W11,AI3,\"\")","v":""},{"$f":"IF(GrpL_Tipps!$W11,AJ3,\"\")","v":""},null,{"$f":"IF(OR(ThirdPlaced_Tipps!$D27>0,ThirdPlaced_Tipps!$G27>0),ThirdPlaced_Tipps!$C27,\"\")","v":""},{"$f":"IF(AL42<>\"\",\"   \"&ThirdPlaced_Tipps!$D27&\"        \"&ThirdPlaced_Tipps!$F27&Sprache_Tipps!$E$191&ThirdPlaced_Tipps!$G27,\"\")","v":""},{"$f":"IF(AL42<>\"\",ThirdPlaced_Tipps!$I27,\"\")","v":""}]
["2A",{"$f":"IF(GrpA_Tipps!$W12,B4,\"\")","v":""},{"$f":"IF(GrpA_Tipps!$W12,C4,\"\")","v":""},"2B",{"$f":"IF(GrpB_Tipps!$W12,E4,\"\")","v":""},{"$f":"IF(GrpB_Tipps!$W12,F4,\"\")","v":""},"2C",{"$f":"IF(GrpC_Tipps!$W12,H4,\"\")","v":""},{"$f":"IF(GrpC_Tipps!$W12,I4,\"\")","v":""},"2D",{"$f":"IF(GrpD_Tipps!$W12,K4,\"\")","v":""},{"$f":"IF(GrpD_Tipps!$W12,L4,\"\")","v":""},"2E",{"$f":"IF(GrpE_Tipps!$W12,N4,\"\")","v":""},{"$f":"IF(GrpE_Tipps!$W12,O4,\"\")","v":""},"2F",{"$f":"IF(GrpF_Tipps!$W12,Q4,\"\")","v":""},{"$f":"IF(GrpF_Tipps!$W12,R4,\"\")","v":""},"2G",{"$f":"IF(GrpG_Tipps!$W12,T4,\"\")","v":""},{"$f":"IF(GrpG_Tipps!$W12,U4,\"\")","v":""},"2H",{"$f":"IF(GrpH_Tipps!$W12,W4,\"\")","v":""},{"$f":"IF(GrpH_Tipps!$W12,X4,\"\")","v":""},"2I",{"$f":"IF(GrpI_Tipps!$W12,Z4,\"\")","v":""},{"$f":"IF(GrpI_Tipps!$W12,AA4,\"\")","v":""},"2J",{"$f":"IF(GrpJ_Tipps!$W12,AC4,\"\")","v":""},{"$f":"IF(GrpJ_Tipps!$W12,AD4,\"\")","v":""},"2K",{"$f":"IF(GrpK_Tipps!$W12,AF4,\"\")","v":""},{"$f":"IF(GrpK_Tipps!$W12,AG4,\"\")","v":""},"2L",{"$f":"IF(GrpL_Tipps!$W12,AI4,\"\")","v":""},{"$f":"IF(GrpL_Tipps!$W12,AJ4,\"\")","v":""},null,{"$f":"IF(OR(ThirdPlaced_Tipps!$D28>0,ThirdPlaced_Tipps!$G28>0),ThirdPlaced_Tipps!$C28,\"\")","v":""},{"$f":"IF(AL43<>\"\",\"   \"&ThirdPlaced_Tipps!$D28&\"        \"&ThirdPlaced_Tipps!$F28&Sprache_Tipps!$E$191&ThirdPlaced_Tipps!$G28,\"\")","v":""},{"$f":"IF(AL43<>\"\",ThirdPlaced_Tipps!$I28,\"\")","v":""}]
["3A",{"$f":"IF(GrpA_Tipps!$W13,B5,\"\")","v":""},{"$f":"IF(GrpA_Tipps!$W13,C5,\"\")","v":""},"3B",{"$f":"IF(GrpB_Tipps!$W13,E5,\"\")","v":""},{"$f":"IF(GrpB_Tipps!$W13,F5,\"\")","v":""},"3C",{"$f":"IF(GrpC_Tipps!$W13,H5,\"\")","v":""},{"$f":"IF(GrpC_Tipps!$W13,I5,\"\")","v":""},"3D",{"$f":"IF(GrpD_Tipps!$W13,K5,\"\")","v":""},{"$f":"IF(GrpD_Tipps!$W13,L5,\"\")","v":""},"3E",{"$f":"IF(GrpE_Tipps!$W13,N5,\"\")","v":""},{"$f":"IF(GrpE_Tipps!$W13,O5,\"\")","v":""},"3F",{"$f":"IF(GrpF_Tipps!$W13,Q5,\"\")","v":""},{"$f":"IF(GrpF_Tipps!$W13,R5,\"\")","v":""},"3G",{"$f":"IF(GrpG_Tipps!$W13,T5,\"\")","v":""},{"$f":"IF(GrpG_Tipps!$W13,U5,\"\")","v":""},"3H",{"$f":"IF(GrpH_Tipps!$W13,W5,\"\")","v":""},{"$f":"IF(GrpH_Tipps!$W13,X5,\"\")","v":""},"3I",{"$f":"IF(GrpI_Tipps!$W13,Z5,\"\")","v":""},{"$f":"IF(GrpI_Tipps!$W13,AA5,\"\")","v":""},"3J",{"$f":"IF(GrpJ_Tipps!$W13,AC5,\"\")","v":""},{"$f":"IF(GrpJ_Tipps!$W13,AD5,\"\")","v":""},"3K",{"$f":"IF(GrpK_Tipps!$W13,AF5,\"\")","v":""},{"$f":"IF(GrpK_Tipps!$W13,AG5,\"\")","v":""},"3L",{"$f":"IF(GrpL_Tipps!$W13,AI5,\"\")","v":""},{"$f":"IF(GrpL_Tipps!$W13,AJ5,\"\")","v":""},null,{"$f":"Sprache_Tipps!$E$176","v":"Gruppenkombination:"}]
["4A",{"$f":"IF(GrpA_Tipps!$W14,B6,\"\")","v":""},{"$f":"IF(GrpA_Tipps!$W14,C6,\"\")","v":""},"4B",{"$f":"IF(GrpB_Tipps!$W14,E6,\"\")","v":""},{"$f":"IF(GrpB_Tipps!$W14,F6,\"\")","v":""},"4C",{"$f":"IF(GrpC_Tipps!$W14,H6,\"\")","v":""},{"$f":"IF(GrpC_Tipps!$W14,I6,\"\")","v":""},"4D",{"$f":"IF(GrpD_Tipps!$W14,K6,\"\")","v":""},{"$f":"IF(GrpD_Tipps!$W14,L6,\"\")","v":""},"4E",{"$f":"IF(GrpE_Tipps!$W14,N6,\"\")","v":""},{"$f":"IF(GrpE_Tipps!$W14,O6,\"\")","v":""},"4F",{"$f":"IF(GrpF_Tipps!$W14,Q6,\"\")","v":""},{"$f":"IF(GrpF_Tipps!$W14,R6,\"\")","v":""},"4G",{"$f":"IF(GrpG_Tipps!$W14,T6,\"\")","v":""},{"$f":"IF(GrpG_Tipps!$W14,U6,\"\")","v":""},"4H",{"$f":"IF(GrpH_Tipps!$W14,W6,\"\")","v":""},{"$f":"IF(GrpH_Tipps!$W14,X6,\"\")","v":""},"4I",{"$f":"IF(GrpI_Tipps!$W14,Z6,\"\")","v":""},{"$f":"IF(GrpI_Tipps!$W14,AA6,\"\")","v":""},"4J",{"$f":"IF(GrpJ_Tipps!$W14,AC6,\"\")","v":""},{"$f":"IF(GrpJ_Tipps!$W14,AD6,\"\")","v":""},"4K",{"$f":"IF(GrpK_Tipps!$W14,AF6,\"\")","v":""},{"$f":"IF(GrpK_Tipps!$W14,AG6,\"\")","v":""},"4L",{"$f":"IF(GrpL_Tipps!$W14,AI6,\"\")","v":""},{"$f":"IF(GrpL_Tipps!$W14,AJ6,\"\")","v":""},null,{"$f":"IF(Distinctness_Tipps!$G$17>0,ThirdPlaced_Tipps!$I30,\"\")","v":""}]
[]
[null,{"$f":"VLOOKUP(VLOOKUP(A48,Matches_Tipps!$B$77:$K$92,10,0),Sprache_Tipps!$D$136:$E$151,2,0)","v":"Sechzehntelfinale 2"},null,null,{"$f":"VLOOKUP(VLOOKUP(D48,Matches_Tipps!$B$77:$K$92,10,0),Sprache_Tipps!$D$136:$E$151,2,0)","v":"Sechzehntelfinale 5"},null,null,{"$f":"VLOOKUP(VLOOKUP(G48,Matches_Tipps!$B$77:$K$92,10,0),Sprache_Tipps!$D$136:$E$151,2,0)","v":"Sechzehntelfinale 1"},null,null,{"$f":"VLOOKUP(VLOOKUP(J48,Matches_Tipps!$B$77:$K$92,10,0),Sprache_Tipps!$D$136:$E$151,2,0)","v":"Sechzehntelfinale 3"},null,null,{"$f":"VLOOKUP(VLOOKUP(M48,Matches_Tipps!$B$77:$K$92,10,0),Sprache_Tipps!$D$136:$E$151,2,0)","v":"Sechzehntelfinale 11"},null,null,{"$f":"VLOOKUP(VLOOKUP(P48,Matches_Tipps!$B$77:$K$92,10,0),Sprache_Tipps!$D$136:$E$151,2,0)","v":"Sechzehntelfinale 12"},null,null,{"$f":"VLOOKUP(VLOOKUP(S48,Matches_Tipps!$B$77:$K$92,10,0),Sprache_Tipps!$D$136:$E$151,2,0)","v":"Sechzehntelfinale 9"},null,null,{"$f":"VLOOKUP(VLOOKUP(V48,Matches_Tipps!$B$77:$K$92,10,0),Sprache_Tipps!$D$136:$E$151,2,0)","v":"Sechzehntelfinale 10"},null,null,{"$f":"VLOOKUP(VLOOKUP(Y48,Matches_Tipps!$B$77:$K$92,10,0),Sprache_Tipps!$D$136:$E$151,2,0)","v":"Sechzehntelfinale 4"},null,null,{"$f":"VLOOKUP(VLOOKUP(AB48,Matches_Tipps!$B$77:$K$92,10,0),Sprache_Tipps!$D$136:$E$151,2,0)","v":"Sechzehntelfinale 6"},null,null,{"$f":"VLOOKUP(VLOOKUP(AE48,Matches_Tipps!$B$77:$K$92,10,0),Sprache_Tipps!$D$136:$E$151,2,0)","v":"Sechzehntelfinale 7"},null,null,{"$f":"VLOOKUP(VLOOKUP(AH48,Matches_Tipps!$B$77:$K$92,10,0),Sprache_Tipps!$D$136:$E$151,2,0)","v":"Sechzehntelfinale 8"},null,null,{"$f":"VLOOKUP(VLOOKUP(AK48,Matches_Tipps!$B$77:$K$92,10,0),Sprache_Tipps!$D$136:$E$151,2,0)","v":"Sechzehntelfinale 14"},null,null,{"$f":"VLOOKUP(VLOOKUP(AN48,Matches_Tipps!$B$77:$K$92,10,0),Sprache_Tipps!$D$136:$E$151,2,0)","v":"Sechzehntelfinale 16"},null,null,{"$f":"VLOOKUP(VLOOKUP(AQ48,Matches_Tipps!$B$77:$K$92,10,0),Sprache_Tipps!$D$136:$E$151,2,0)","v":"Sechzehntelfinale 13"},null,null,{"$f":"VLOOKUP(VLOOKUP(AT48,Matches_Tipps!$B$77:$K$92,10,0),Sprache_Tipps!$D$136:$E$151,2,0)","v":"Sechzehntelfinale 15"}]
[{"$f":"RIGHT($B$64,2)*1","v":74},{"$f":"VLOOKUP(A48,Matches_Tipps!$B$4:$K$113,7,0)","v":"Boston"},null,{"$f":"RIGHT($C$64,2)*1","v":77},{"$f":"VLOOKUP(D48,Matches_Tipps!$B$4:$K$113,7,0)","v":"New York/New Jersey"},null,{"$f":"RIGHT($E$64,2)*1","v":73},{"$f":"VLOOKUP(G48,Matches_Tipps!$B$4:$K$113,7,0)","v":"Los Angeles"},null,{"$f":"RIGHT($F$64,2)*1","v":75},{"$f":"VLOOKUP(J48,Matches_Tipps!$B$4:$K$113,7,0)","v":"Monterrey"},null,{"$f":"RIGHT($H$64,2)*1","v":83},{"$f":"VLOOKUP(M48,Matches_Tipps!$B$4:$K$113,7,0)","v":"Toronto"},null,{"$f":"RIGHT($I$64,2)*1","v":84},{"$f":"VLOOKUP(P48,Matches_Tipps!$B$4:$K$113,7,0)","v":"Los Angeles"},null,{"$f":"RIGHT($K$64,2)*1","v":81},{"$f":"VLOOKUP(S48,Matches_Tipps!$B$4:$K$113,7,0)","v":"San Francisco Bay Area"},null,{"$f":"RIGHT($L$64,2)*1","v":82},{"$f":"VLOOKUP(V48,Matches_Tipps!$B$4:$K$113,7,0)","v":"Seattle"},null,{"$f":"RIGHT($N$64,2)*1","v":76},{"$f":"VLOOKUP(Y48,Matches_Tipps!$B$4:$K$113,7,0)","v":"Houston"},null,{"$f":"RIGHT($O$64,2)*1","v":78},{"$f":"VLOOKUP(AB48,Matches_Tipps!$B$4:$K$113,7,0)","v":"Dallas"},null,{"$f":"RIGHT($Q$64,2)*1","v":79},{"$f":"VLOOKUP(AE48,Matches_Tipps!$B$4:$K$113,7,0)","v":"Mexico City"},null,{"$f":"RIGHT($R$64,2)*1","v":80},{"$f":"VLOOKUP(AH48,Matches_Tipps!$B$4:$K$113,7,0)","v":"Atlanta"},null,{"$f":"RIGHT($T$64,2)*1","v":86},{"$f":"VLOOKUP(AK48,Matches_Tipps!$B$4:$K$113,7,0)","v":"Miami"},null,{"$f":"RIGHT($U$64,2)*1","v":88},{"$f":"VLOOKUP(AN48,Matches_Tipps!$B$4:$K$113,7,0)","v":"Dallas"},null,{"$f":"RIGHT($W$64,2)*1","v":85},{"$f":"VLOOKUP(AQ48,Matches_Tipps!$B$4:$K$113,7,0)","v":"Vancouver"},null,{"$f":"RIGHT($X$64,2)*1","v":87},{"$f":"VLOOKUP(AT48,Matches_Tipps!$B$4:$K$113,7,0)","v":"Kansas City"}]
[null,{"$f":"VLOOKUP(A48,Matches_Tipps!$B$4:$K$113,5,0)","v":"2026-06-29T22:30:00"},null,null,{"$f":"VLOOKUP(D48,Matches_Tipps!$B$4:$K$113,5,0)","v":"2026-06-30T23:00:00"},null,null,{"$f":"VLOOKUP(G48,Matches_Tipps!$B$4:$K$113,5,0)","v":"2026-06-28T21:00:00"},null,null,{"$f":"VLOOKUP(J48,Matches_Tipps!$B$4:$K$113,5,0)","v":"2026-06-30T03:00:00"},null,null,{"$f":"VLOOKUP(M48,Matches_Tipps!$B$4:$K$113,5,0)","v":"2026-07-03T01:00:00"},null,null,{"$f":"VLOOKUP(P48,Matches_Tipps!$B$4:$K$113,5,0)","v":"2026-07-02T21:00:00"},null,null,{"$f":"VLOOKUP(S48,Matches_Tipps!$B$4:$K$113,5,0)","v":"2026-07-02T02:00:00"},null,null,{"$f":"VLOOKUP(V48,Matches_Tipps!$B$4:$K$113,5,0)","v":"2026-07-01T22:00:00"},null,null,{"$f":"VLOOKUP(Y48,Matches_Tipps!$B$4:$K$113,5,0)","v":"2026-06-29T19:00:00"},null,null,{"$f":"VLOOKUP(AB48,Matches_Tipps!$B$4:$K$113,5,0)","v":"2026-06-30T19:00:00"},null,null,{"$f":"VLOOKUP(AE48,Matches_Tipps!$B$4:$K$113,5,0)","v":"2026-07-01T03:00:00"},null,null,{"$f":"VLOOKUP(AH48,Matches_Tipps!$B$4:$K$113,5,0)","v":"2026-07-01T18:00:00"},null,null,{"$f":"VLOOKUP(AK48,Matches_Tipps!$B$4:$K$113,5,0)","v":"2026-07-04"},null,null,{"$f":"VLOOKUP(AN48,Matches_Tipps!$B$4:$K$113,5,0)","v":"2026-07-03T20:00:00"},null,null,{"$f":"VLOOKUP(AQ48,Matches_Tipps!$B$4:$K$113,5,0)","v":"2026-07-03T05:00:00"},null,null,{"$f":"VLOOKUP(AT48,Matches_Tipps!$B$4:$K$113,5,0)","v":"2026-07-04T03:30:00"}]
[null,{"$f":"VLOOKUP(A48,Matches_Tipps!$B$4:$K$113,8,0)","v":""},{"$f":"VLOOKUP(A48,Matches_Tipps!$B$4:$K$113,9,0)","v":""},null,{"$f":"VLOOKUP(D48,Matches_Tipps!$B$4:$K$113,8,0)","v":""},{"$f":"VLOOKUP(D48,Matches_Tipps!$B$4:$K$113,9,0)","v":""},null,{"$f":"VLOOKUP(G48,Matches_Tipps!$B$4:$K$113,8,0)","v":""},{"$f":"VLOOKUP(G48,Matches_Tipps!$B$4:$K$113,9,0)","v":""},null,{"$f":"VLOOKUP(J48,Matches_Tipps!$B$4:$K$113,8,0)","v":""},{"$f":"VLOOKUP(J48,Matches_Tipps!$B$4:$K$113,9,0)","v":""},null,{"$f":"VLOOKUP(M48,Matches_Tipps!$B$4:$K$113,8,0)","v":""},{"$f":"VLOOKUP(M48,Matches_Tipps!$B$4:$K$113,9,0)","v":""},null,{"$f":"VLOOKUP(P48,Matches_Tipps!$B$4:$K$113,8,0)","v":""},{"$f":"VLOOKUP(P48,Matches_Tipps!$B$4:$K$113,9,0)","v":""},null,{"$f":"VLOOKUP(S48,Matches_Tipps!$B$4:$K$113,8,0)","v":""},{"$f":"VLOOKUP(S48,Matches_Tipps!$B$4:$K$113,9,0)","v":""},null,{"$f":"VLOOKUP(V48,Matches_Tipps!$B$4:$K$113,8,0)","v":""},{"$f":"VLOOKUP(V48,Matches_Tipps!$B$4:$K$113,9,0)","v":""},null,{"$f":"VLOOKUP(Y48,Matches_Tipps!$B$4:$K$113,8,0)","v":""},{"$f":"VLOOKUP(Y48,Matches_Tipps!$B$4:$K$113,9,0)","v":""},null,{"$f":"VLOOKUP(AB48,Matches_Tipps!$B$4:$K$113,8,0)","v":""},{"$f":"VLOOKUP(AB48,Matches_Tipps!$B$4:$K$113,9,0)","v":""},null,{"$f":"VLOOKUP(AE48,Matches_Tipps!$B$4:$K$113,8,0)","v":""},{"$f":"VLOOKUP(AE48,Matches_Tipps!$B$4:$K$113,9,0)","v":""},null,{"$f":"VLOOKUP(AH48,Matches_Tipps!$B$4:$K$113,8,0)","v":""},{"$f":"VLOOKUP(AH48,Matches_Tipps!$B$4:$K$113,9,0)","v":""},null,{"$f":"VLOOKUP(AK48,Matches_Tipps!$B$4:$K$113,8,0)","v":""},{"$f":"VLOOKUP(AK48,Matches_Tipps!$B$4:$K$113,9,0)","v":""},null,{"$f":"VLOOKUP(AN48,Matches_Tipps!$B$4:$K$113,8,0)","v":""},{"$f":"VLOOKUP(AN48,Matches_Tipps!$B$4:$K$113,9,0)","v":""},null,{"$f":"VLOOKUP(AQ48,Matches_Tipps!$B$4:$K$113,8,0)","v":""},{"$f":"VLOOKUP(AQ48,Matches_Tipps!$B$4:$K$113,9,0)","v":""},null,{"$f":"VLOOKUP(AT48,Matches_Tipps!$B$4:$K$113,8,0)","v":""},{"$f":"VLOOKUP(AT48,Matches_Tipps!$B$4:$K$113,9,0)","v":""}]
[]
[null,{"$f":"Sprache_Tipps!$E$169","v":"Elfmeterschießen:"},null,null,{"$f":"Sprache_Tipps!$E$169","v":"Elfmeterschießen:"},null,null,{"$f":"Sprache_Tipps!$E$169","v":"Elfmeterschießen:"},null,null,{"$f":"Sprache_Tipps!$E$169","v":"Elfmeterschießen:"},null,null,{"$f":"Sprache_Tipps!$E$169","v":"Elfmeterschießen:"},null,null,{"$f":"Sprache_Tipps!$E$169","v":"Elfmeterschießen:"},null,null,{"$f":"Sprache_Tipps!$E$169","v":"Elfmeterschießen:"},null,null,{"$f":"Sprache_Tipps!$E$169","v":"Elfmeterschießen:"},null,null,{"$f":"Sprache_Tipps!$E$169","v":"Elfmeterschießen:"},null,null,{"$f":"Sprache_Tipps!$E$169","v":"Elfmeterschießen:"},null,null,{"$f":"Sprache_Tipps!$E$169","v":"Elfmeterschießen:"},null,null,{"$f":"Sprache_Tipps!$E$169","v":"Elfmeterschießen:"},null,null,{"$f":"Sprache_Tipps!$E$169","v":"Elfmeterschießen:"},null,null,{"$f":"Sprache_Tipps!$E$169","v":"Elfmeterschießen:"},null,null,{"$f":"Sprache_Tipps!$E$169","v":"Elfmeterschießen:"},null,null,{"$f":"Sprache_Tipps!$E$169","v":"Elfmeterschießen:"}]
[{"$nulls":3},{"$f":"IF(B53>C53,1,IF(C53>B53,2,\"\"))","v":""},null,null,{"$f":"IF(E53>F53,1,IF(F53>E53,2,\"\"))","v":""},null,null,{"$f":"IF(H53>I53,1,IF(I53>H53,2,\"\"))","v":""},null,null,{"$f":"IF(K53>L53,1,IF(L53>K53,2,\"\"))","v":""},null,null,{"$f":"IF(N53>O53,1,IF(O53>N53,2,\"\"))","v":""},null,null,{"$f":"IF(Q53>R53,1,IF(R53>Q53,2,\"\"))","v":""},null,null,{"$f":"IF(T53>U53,1,IF(U53>T53,2,\"\"))","v":""},null,null,{"$f":"IF(W53>X53,1,IF(X53>W53,2,\"\"))","v":""},null,null,{"$f":"IF(Z53>AA53,1,IF(AA53>Z53,2,\"\"))","v":""},null,null,{"$f":"IF(AC53>AD53,1,IF(AD53>AC53,2,\"\"))","v":""},null,null,{"$f":"IF(AF53>AG53,1,IF(AG53>AF53,2,\"\"))","v":""},null,null,{"$f":"IF(AI53>AJ53,1,IF(AJ53>AI53,2,\"\"))","v":""},null,null,{"$f":"IF(AL53>AM53,1,IF(AM53>AL53,2,\"\"))","v":""},null,null,{"$f":"IF(AO53>AP53,1,IF(AP53>AO53,2,\"\"))","v":""},null,null,{"$f":"IF(AR53>AS53,1,IF(AS53>AR53,2,\"\"))","v":""},null,null,{"$f":"IF(AU53>AV53,1,IF(AV53>AU53,2,\"\"))","v":""}]
[null,{"$f":"VLOOKUP(A48,Matches_Tipps!$B$4:$K$113,2,0)","v":"1E"},{"$f":"VLOOKUP(A48,Matches_Tipps!$B$4:$K$113,3,0)","v":"3-ABCDF"},null,{"$f":"VLOOKUP(D48,Matches_Tipps!$B$4:$K$113,2,0)","v":"1I"},{"$f":"VLOOKUP(D48,Matches_Tipps!$B$4:$K$113,3,0)","v":"3-CDFGH"},null,{"$f":"VLOOKUP(G48,Matches_Tipps!$B$4:$K$113,2,0)","v":"2A"},{"$f":"VLOOKUP(G48,Matches_Tipps!$B$4:$K$113,3,0)","v":"2B"},null,{"$f":"VLOOKUP(J48,Matches_Tipps!$B$4:$K$113,2,0)","v":"1F"},{"$f":"VLOOKUP(J48,Matches_Tipps!$B$4:$K$113,3,0)","v":"2C"},null,{"$f":"VLOOKUP(M48,Matches_Tipps!$B$4:$K$113,2,0)","v":"2K"},{"$f":"VLOOKUP(M48,Matches_Tipps!$B$4:$K$113,3,0)","v":"2L"},null,{"$f":"VLOOKUP(P48,Matches_Tipps!$B$4:$K$113,2,0)","v":"1H"},{"$f":"VLOOKUP(P48,Matches_Tipps!$B$4:$K$113,3,0)","v":"2J"},null,{"$f":"VLOOKUP(S48,Matches_Tipps!$B$4:$K$113,2,0)","v":"1D"},{"$f":"VLOOKUP(S48,Matches_Tipps!$B$4:$K$113,3,0)","v":"3-BEFIJ"},null,{"$f":"VLOOKUP(V48,Matches_Tipps!$B$4:$K$113,2,0)","v":"1G"},{"$f":"VLOOKUP(V48,Matches_Tipps!$B$4:$K$113,3,0)","v":"3-AEHIJ"},null,{"$f":"VLOOKUP(Y48,Matches_Tipps!$B$4:$K$113,2,0)","v":"1C"},{"$f":"VLOOKUP(Y48,Matches_Tipps!$B$4:$K$113,3,0)","v":"2F"},null,{"$f":"VLOOKUP(AB48,Matches_Tipps!$B$4:$K$113,2,0)","v":"2E"},{"$f":"VLOOKUP(AB48,Matches_Tipps!$B$4:$K$113,3,0)","v":"2I"},null,{"$f":"VLOOKUP(AE48,Matches_Tipps!$B$4:$K$113,2,0)","v":"1A"},{"$f":"VLOOKUP(AE48,Matches_Tipps!$B$4:$K$113,3,0)","v":"3-CEFHI"},null,{"$f":"VLOOKUP(AH48,Matches_Tipps!$B$4:$K$113,2,0)","v":"1L"},{"$f":"VLOOKUP(AH48,Matches_Tipps!$B$4:$K$113,3,0)","v":"3-EHIJK"},null,{"$f":"VLOOKUP(AK48,Matches_Tipps!$B$4:$K$113,2,0)","v":"1J"},{"$f":"VLOOKUP(AK48,Matches_Tipps!$B$4:$K$113,3,0)","v":"2H"},null,{"$f":"VLOOKUP(AN48,Matches_Tipps!$B$4:$K$113,2,0)","v":"2D"},{"$f":"VLOOKUP(AN48,Matches_Tipps!$B$4:$K$113,3,0)","v":"2G"},null,{"$f":"VLOOKUP(AQ48,Matches_Tipps!$B$4:$K$113,2,0)","v":"1B"},{"$f":"VLOOKUP(AQ48,Matches_Tipps!$B$4:$K$113,3,0)","v":"3-EFGIJ"},null,{"$f":"VLOOKUP(AT48,Matches_Tipps!$B$4:$K$113,2,0)","v":"1K"},{"$f":"VLOOKUP(AT48,Matches_Tipps!$B$4:$K$113,3,0)","v":"3-DEIJL"}]
[null,{"$f":"IF(AND(B51<>\"\",C51<>\"\",B51=C51,B53<>\"\",C53<>\"\",B53=C53),Sprache_Tipps!$E$186,\"\")","v":""},null,null,{"$f":"IF(AND(E51<>\"\",F51<>\"\",E51=F51,E53<>\"\",F53<>\"\",E53=F53),Sprache_Tipps!$E$186,\"\")","v":""},null,null,{"$f":"IF(AND(H51<>\"\",I51<>\"\",H51=I51,H53<>\"\",I53<>\"\",H53=I53),Sprache_Tipps!$E$186,\"\")","v":""},null,null,{"$f":"IF(AND(K51<>\"\",L51<>\"\",K51=L51,K53<>\"\",L53<>\"\",K53=L53),Sprache_Tipps!$E$186,\"\")","v":""},null,null,{"$f":"IF(AND(N51<>\"\",O51<>\"\",N51=O51,N53<>\"\",O53<>\"\",N53=O53),Sprache_Tipps!$E$186,\"\")","v":""},null,null,{"$f":"IF(AND(Q51<>\"\",R51<>\"\",Q51=R51,Q53<>\"\",R53<>\"\",Q53=R53),Sprache_Tipps!$E$186,\"\")","v":""},null,null,{"$f":"IF(AND(T51<>\"\",U51<>\"\",T51=U51,T53<>\"\",U53<>\"\",T53=U53),Sprache_Tipps!$E$186,\"\")","v":""},null,null,{"$f":"IF(AND(W51<>\"\",X51<>\"\",W51=X51,W53<>\"\",X53<>\"\",W53=X53),Sprache_Tipps!$E$186,\"\")","v":""},null,null,{"$f":"IF(AND(Z51<>\"\",AA51<>\"\",Z51=AA51,Z53<>\"\",AA53<>\"\",Z53=AA53),Sprache_Tipps!$E$186,\"\")","v":""},null,null,{"$f":"IF(AND(AC51<>\"\",AD51<>\"\",AC51=AD51,AC53<>\"\",AD53<>\"\",AC53=AD53),Sprache_Tipps!$E$186,\"\")","v":""},null,null,{"$f":"IF(AND(AF51<>\"\",AG51<>\"\",AF51=AG51,AF53<>\"\",AG53<>\"\",AF53=AG53),Sprache_Tipps!$E$186,\"\")","v":""},null,null,{"$f":"IF(AND(AI51<>\"\",AJ51<>\"\",AI51=AJ51,AI53<>\"\",AJ53<>\"\",AI53=AJ53),Sprache_Tipps!$E$186,\"\")","v":""},null,null,{"$f":"IF(AND(AL51<>\"\",AM51<>\"\",AL51=AM51,AL53<>\"\",AM53<>\"\",AL53=AM53),Sprache_Tipps!$E$186,\"\")","v":""},null,null,{"$f":"IF(AND(AO51<>\"\",AP51<>\"\",AO51=AP51,AO53<>\"\",AP53<>\"\",AO53=AP53),Sprache_Tipps!$E$186,\"\")","v":""},null,null,{"$f":"IF(AND(AR51<>\"\",AS51<>\"\",AR51=AS51,AR53<>\"\",AS53<>\"\",AR53=AS53),Sprache_Tipps!$E$186,\"\")","v":""},null,null,{"$f":"IF(AND(AU51<>\"\",AV51<>\"\",AU51=AV51,AU53<>\"\",AV53<>\"\",AU53=AV53),Sprache_Tipps!$E$186,\"\")","v":""}]
[]
[null,{"$f":"VLOOKUP(VLOOKUP(A58,Matches_Tipps!$B$94:$K$101,10,0),Sprache_Tipps!$D$152:$E$159,2,0)","v":"Achtelfinale 1"},null,null,{"$f":"VLOOKUP(VLOOKUP(D58,Matches_Tipps!$B$94:$K$101,10,0),Sprache_Tipps!$D$152:$E$159,2,0)","v":"Achtelfinale 2"},null,null,{"$f":"VLOOKUP(VLOOKUP(G58,Matches_Tipps!$B$94:$K$101,10,0),Sprache_Tipps!$D$152:$E$159,2,0)","v":"Achtelfinale 5"},null,null,{"$f":"VLOOKUP(VLOOKUP(J58,Matches_Tipps!$B$94:$K$101,10,0),Sprache_Tipps!$D$152:$E$159,2,0)","v":"Achtelfinale 6"},null,null,{"$f":"VLOOKUP(VLOOKUP(M58,Matches_Tipps!$B$94:$K$101,10,0),Sprache_Tipps!$D$152:$E$159,2,0)","v":"Achtelfinale 3"},null,null,{"$f":"VLOOKUP(VLOOKUP(P58,Matches_Tipps!$B$94:$K$101,10,0),Sprache_Tipps!$D$152:$E$159,2,0)","v":"Achtelfinale 4"},null,null,{"$f":"VLOOKUP(VLOOKUP(S58,Matches_Tipps!$B$94:$K$101,10,0),Sprache_Tipps!$D$152:$E$159,2,0)","v":"Achtelfinale 7"},null,null,{"$f":"VLOOKUP(VLOOKUP(V58,Matches_Tipps!$B$94:$K$101,10,0),Sprache_Tipps!$D$152:$E$159,2,0)","v":"Achtelfinale 8"}]
[{"$f":"RIGHT($C$74,2)*1","v":89},{"$f":"VLOOKUP(A58,Matches_Tipps!$B$4:$K$113,7,0)","v":"Philadelphia"},null,{"$f":"RIGHT($E$74,2)*1","v":90},{"$f":"VLOOKUP(D58,Matches_Tipps!$B$4:$K$113,7,0)","v":"Houston"},null,{"$f":"RIGHT($I$74,2)*1","v":93},{"$f":"VLOOKUP(G58,Matches_Tipps!$B$4:$K$113,7,0)","v":"Dallas"},null,{"$f":"RIGHT($K$74,2)*1","v":94},{"$f":"VLOOKUP(J58,Matches_Tipps!$B$4:$K$113,7,0)","v":"Seattle"},null,{"$f":"RIGHT($O$74,2)*1","v":91},{"$f":"VLOOKUP(M58,Matches_Tipps!$B$4:$K$113,7,0)","v":"New York/New Jersey"},null,{"$f":"RIGHT($Q$74,2)*1","v":92},{"$f":"VLOOKUP(P58,Matches_Tipps!$B$4:$K$113,7,0)","v":"Mexico City"},null,{"$f":"RIGHT($U$74,2)*1","v":95},{"$f":"VLOOKUP(S58,Matches_Tipps!$B$4:$K$113,7,0)","v":"Atlanta"},null,{"$f":"RIGHT($W$74,2)*1","v":96},{"$f":"VLOOKUP(V58,Matches_Tipps!$B$4:$K$113,7,0)","v":"Vancouver"}]
[null,{"$f":"VLOOKUP(A58,Matches_Tipps!$B$4:$K$113,5,0)","v":"2026-07-04T23:00:00"},null,null,{"$f":"VLOOKUP(D58,Matches_Tipps!$B$4:$K$113,5,0)","v":"2026-07-04T19:00:00"},null,null,{"$f":"VLOOKUP(G58,Matches_Tipps!$B$4:$K$113,5,0)","v":"2026-07-06T21:00:00"},null,null,{"$f":"VLOOKUP(J58,Matches_Tipps!$B$4:$K$113,5,0)","v":"2026-07-07T02:00:00"},null,null,{"$f":"VLOOKUP(M58,Matches_Tipps!$B$4:$K$113,5,0)","v":"2026-07-05T22:00:00"},null,null,{"$f":"VLOOKUP(P58,Matches_Tipps!$B$4:$K$113,5,0)","v":"2026-07-06T02:00:00"},null,null,{"$f":"VLOOKUP(S58,Matches_Tipps!$B$4:$K$113,5,0)","v":"2026-07-07T18:00:00"},null,null,{"$f":"VLOOKUP(V58,Matches_Tipps!$B$4:$K$113,5,0)","v":"2026-07-07T22:00:00"}]
[null,{"$f":"IF(AND(B51<>\"\",C51<>\"\"),IF(B51>C51,B50,IF(B51<C51,C50,IF(AND(B53<>\"\",C53<>\"\"),IF(B53>C53,B50,IF(B53<C53,C50,\"\")),\"\"))),\"\")","v":""},{"$f":"IF(AND(E51<>\"\",F51<>\"\"),IF(E51>F51,E50,IF(E51<F51,F50,IF(AND(E53<>\"\",F53<>\"\"),IF(E53>F53,E50,IF(E53<F53,F50,\"\")),\"\"))),\"\")","v":""},null,{"$f":"IF(AND(H51<>\"\",I51<>\"\"),IF(H51>I51,H50,IF(H51<I51,I50,IF(AND(H53<>\"\",I53<>\"\"),IF(H53>I53,H50,IF(H53<I53,I50,\"\")),\"\"))),\"\")","v":""},{"$f":"IF(AND(K51<>\"\",L51<>\"\"),IF(K51>L51,K50,IF(K51<L51,L50,IF(AND(K53<>\"\",L53<>\"\"),IF(K53>L53,K50,IF(K53<L53,L50,\"\")),\"\"))),\"\")","v":""},null,{"$f":"IF(AND(N51<>\"\",O51<>\"\"),IF(N51>O51,N50,IF(N51<O51,O50,IF(AND(N53<>\"\",O53<>\"\"),IF(N53>O53,N50,IF(N53<O53,O50,\"\")),\"\"))),\"\")","v":""},{"$f":"IF(AND(Q51<>\"\",R51<>\"\"),IF(Q51>R51,Q50,IF(Q51<R51,R50,IF(AND(Q53<>\"\",R53<>\"\"),IF(Q53>R53,Q50,IF(Q53<R53,R50,\"\")),\"\"))),\"\")","v":""},null,{"$f":"IF(AND(T51<>\"\",U51<>\"\"),IF(T51>U51,T50,IF(T51<U51,U50,IF(AND(T53<>\"\",U53<>\"\"),IF(T53>U53,T50,IF(T53<U53,U50,\"\")),\"\"))),\"\")","v":""},{"$f":"IF(AND(W51<>\"\",X51<>\"\"),IF(W51>X51,W50,IF(W51<X51,X50,IF(AND(W53<>\"\",X53<>\"\"),IF(W53>X53,W50,IF(W53<X53,X50,\"\")),\"\"))),\"\")","v":""},null,{"$f":"IF(AND(Z51<>\"\",AA51<>\"\"),IF(Z51>AA51,Z50,IF(Z51<AA51,AA50,IF(AND(Z53<>\"\",AA53<>\"\"),IF(Z53>AA53,Z50,IF(Z53<AA53,AA50,\"\")),\"\"))),\"\")","v":""},{"$f":"IF(AND(AC51<>\"\",AD51<>\"\"),IF(AC51>AD51,AC50,IF(AC51<AD51,AD50,IF(AND(AC53<>\"\",AD53<>\"\"),IF(AC53>AD53,AC50,IF(AC53<AD53,AD50,\"\")),\"\"))),\"\")","v":""},null,{"$f":"IF(AND(AF51<>\"\",AG51<>\"\"),IF(AF51>AG51,AF50,IF(AF51<AG51,AG50,IF(AND(AF53<>\"\",AG53<>\"\"),IF(AF53>AG53,AF50,IF(AF53<AG53,AG50,\"\")),\"\"))),\"\")","v":""},{"$f":"IF(AND(AI51<>\"\",AJ51<>\"\"),IF(AI51>AJ51,AI50,IF(AI51<AJ51,AJ50,IF(AND(AI53<>\"\",AJ53<>\"\"),IF(AI53>AJ53,AI50,IF(AI53<AJ53,AJ50,\"\")),\"\"))),\"\")","v":""},null,{"$f":"IF(AND(AL51<>\"\",AM51<>\"\"),IF(AL51>AM51,AL50,IF(AL51<AM51,AM50,IF(AND(AL53<>\"\",AM53<>\"\"),IF(AL53>AM53,AL50,IF(AL53<AM53,AM50,\"\")),\"\"))),\"\")","v":""},{"$f":"IF(AND(AO51<>\"\",AP51<>\"\"),IF(AO51>AP51,AO50,IF(AO51<AP51,AP50,IF(AND(AO53<>\"\",AP53<>\"\"),IF(AO53>AP53,AO50,IF(AO53<AP53,AP50,\"\")),\"\"))),\"\")","v":""},null,{"$f":"IF(AND(AR51<>\"\",AS51<>\"\"),IF(AR51>AS51,AR50,IF(AR51<AS51,AS50,IF(AND(AR53<>\"\",AS53<>\"\"),IF(AR53>AS53,AR50,IF(AR53<AS53,AS50,\"\")),\"\"))),\"\")","v":""},{"$f":"IF(AND(AU51<>\"\",AV51<>\"\"),IF(AU51>AV51,AU50,IF(AU51<AV51,AV50,IF(AND(AU53<>\"\",AV53<>\"\"),IF(AU53>AV53,AU50,IF(AU53<AV53,AV50,\"\")),\"\"))),\"\")","v":""}]
[]
[null,{"$f":"Sprache_Tipps!$E$169","v":"Elfmeterschießen:"},null,null,{"$f":"Sprache_Tipps!$E$169","v":"Elfmeterschießen:"},null,null,{"$f":"Sprache_Tipps!$E$169","v":"Elfmeterschießen:"},null,null,{"$f":"Sprache_Tipps!$E$169","v":"Elfmeterschießen:"},null,null,{"$f":"Sprache_Tipps!$E$169","v":"Elfmeterschießen:"},null,null,{"$f":"Sprache_Tipps!$E$169","v":"Elfmeterschießen:"},null,null,{"$f":"Sprache_Tipps!$E$169","v":"Elfmeterschießen:"},null,null,{"$f":"Sprache_Tipps!$E$169","v":"Elfmeterschießen:"}]
[{"$nulls":3},{"$f":"IF(B63>C63,1,IF(C63>B63,2,\"\"))","v":""},null,null,{"$f":"IF(E63>F63,1,IF(F63>E63,2,\"\"))","v":""},null,null,{"$f":"IF(H63>I63,1,IF(I63>H63,2,\"\"))","v":""},null,null,{"$f":"IF(K63>L63,1,IF(L63>K63,2,\"\"))","v":""},null,null,{"$f":"IF(N63>O63,1,IF(O63>N63,2,\"\"))","v":""},null,null,{"$f":"IF(Q63>R63,1,IF(R63>Q63,2,\"\"))","v":""},null,null,{"$f":"IF(T63>U63,1,IF(U63>T63,2,\"\"))","v":""},null,null,{"$f":"IF(W63>X63,1,IF(X63>W63,2,\"\"))","v":""}]
[null,{"$f":"VLOOKUP(A58,Matches_Tipps!$B$4:$K$113,2,0)","v":"W74"},{"$f":"VLOOKUP(A58,Matches_Tipps!$B$4:$K$113,3,0)","v":"W77"},null,{"$f":"VLOOKUP(D58,Matches_Tipps!$B$4:$K$113,2,0)","v":"W73"},{"$f":"VLOOKUP(D58,Matches_Tipps!$B$4:$K$113,3,0)","v":"W75"},null,{"$f":"VLOOKUP(G58,Matches_Tipps!$B$4:$K$113,2,0)","v":"W83"},{"$f":"VLOOKUP(G58,Matches_Tipps!$B$4:$K$113,3,0)","v":"W84"},null,{"$f":"VLOOKUP(J58,Matches_Tipps!$B$4:$K$113,2,0)","v":"W81"},{"$f":"VLOOKUP(J58,Matches_Tipps!$B$4:$K$113,3,0)","v":"W82"},null,{"$f":"VLOOKUP(M58,Matches_Tipps!$B$4:$K$113,2,0)","v":"W76"},{"$f":"VLOOKUP(M58,Matches_Tipps!$B$4:$K$113,3,0)","v":"W78"},null,{"$f":"VLOOKUP(P58,Matches_Tipps!$B$4:$K$113,2,0)","v":"W79"},{"$f":"VLOOKUP(P58,Matches_Tipps!$B$4:$K$113,3,0)","v":"W80"},null,{"$f":"VLOOKUP(S58,Matches_Tipps!$B$4:$K$113,2,0)","v":"W86"},{"$f":"VLOOKUP(S58,Matches_Tipps!$B$4:$K$113,3,0)","v":"W88"},null,{"$f":"VLOOKUP(V58,Matches_Tipps!$B$4:$K$113,2,0)","v":"W85"},{"$f":"VLOOKUP(V58,Matches_Tipps!$B$4:$K$113,3,0)","v":"W87"}]
[null,{"$f":"IF(AND(B61<>\"\",C61<>\"\",B61=C61,B63<>\"\",C63<>\"\",B63=C63),Sprache_Tipps!$E$186,\"\")","v":""},null,null,{"$f":"IF(AND(E61<>\"\",F61<>\"\",E61=F61,E63<>\"\",F63<>\"\",E63=F63),Sprache_Tipps!$E$186,\"\")","v":""},null,null,{"$f":"IF(AND(H61<>\"\",I61<>\"\",H61=I61,H63<>\"\",I63<>\"\",H63=I63),Sprache_Tipps!$E$186,\"\")","v":""},null,null,{"$f":"IF(AND(K61<>\"\",L61<>\"\",K61=L61,K63<>\"\",L63<>\"\",K63=L63),Sprache_Tipps!$E$186,\"\")","v":""},null,null,{"$f":"IF(AND(N61<>\"\",O61<>\"\",N61=O61,N63<>\"\",O63<>\"\",N63=O63),Sprache_Tipps!$E$186,\"\")","v":""},null,null,{"$f":"IF(AND(Q61<>\"\",R61<>\"\",Q61=R61,Q63<>\"\",R63<>\"\",Q63=R63),Sprache_Tipps!$E$186,\"\")","v":""},null,null,{"$f":"IF(AND(T61<>\"\",U61<>\"\",T61=U61,T63<>\"\",U63<>\"\",T63=U63),Sprache_Tipps!$E$186,\"\")","v":""},null,null,{"$f":"IF(AND(W61<>\"\",X61<>\"\",W61=X61,W63<>\"\",X63<>\"\",W63=X63),Sprache_Tipps!$E$186,\"\")","v":""}]
[]
[null,null,{"$f":"VLOOKUP(VLOOKUP(B68,Matches_Tipps!$B$103:$K$106,10,0),Sprache_Tipps!$D$160:$E$163,2,0)","v":"Viertelfinale 1"},{"$nulls":5},{"$f":"VLOOKUP(VLOOKUP(H68,Matches_Tipps!$B$103:$K$106,10,0),Sprache_Tipps!$D$160:$E$163,2,0)","v":"Viertelfinale 2"},{"$nulls":5},{"$f":"VLOOKUP(VLOOKUP(N68,Matches_Tipps!$B$103:$K$106,10,0),Sprache_Tipps!$D$160:$E$163,2,0)","v":"Viertelfinale 3"},{"$nulls":5},{"$f":"VLOOKUP(VLOOKUP(T68,Matches_Tipps!$B$103:$K$106,10,0),Sprache_Tipps!$D$160:$E$163,2,0)","v":"Viertelfinale 4"}]
[null,{"$f":"RIGHT($F$84,LEN($F$84)-1)*1","v":97},{"$f":"VLOOKUP(B68,Matches_Tipps!$B$4:$K$113,7,0)","v":"Boston"},{"$nulls":4},{"$f":"RIGHT($H$84,LEN($H$84)-1)*1","v":98},{"$f":"VLOOKUP(H68,Matches_Tipps!$B$4:$K$113,7,0)","v":"Los Angeles"},{"$nulls":4},{"$f":"RIGHT($R$84,LEN($R$84)-1)*1","v":99},{"$f":"VLOOKUP(N68,Matches_Tipps!$B$4:$K$113,7,0)","v":"Miami"},{"$nulls":4},{"$f":"RIGHT($T$84,LEN($T$84)-1)*1","v":100},{"$f":"VLOOKUP(T68,Matches_Tipps!$B$4:$K$113,7,0)","v":"Kansas City"}]
[null,null,{"$f":"VLOOKUP(B68,Matches_Tipps!$B$4:$K$113,5,0)","v":"2026-07-09T22:00:00"},{"$nulls":5},{"$f":"VLOOKUP(H68,Matches_Tipps!$B$4:$K$113,5,0)","v":"2026-07-10T21:00:00"},{"$nulls":5},{"$f":"VLOOKUP(N68,Matches_Tipps!$B$4:$K$113,5,0)","v":"2026-07-11T23:00:00"},{"$nulls":5},{"$f":"VLOOKUP(T68,Matches_Tipps!$B$4:$K$113,5,0)","v":"2026-07-12T03:00:00"}]
[null,null,{"$f":"IF(AND(B61<>\"\",C61<>\"\"),IF(B61>C61,B60,IF(B61<C61,C60,IF(AND(B63<>\"\",C63<>\"\"),IF(B63>C63,B60,IF(B63<C63,C60,\"\")),\"\"))),\"\")","v":""},null,{"$f":"IF(AND(E61<>\"\",F61<>\"\"),IF(E61>F61,E60,IF(E61<F61,F60,IF(AND(E63<>\"\",F63<>\"\"),IF(E63>F63,E60,IF(E63<F63,F60,\"\")),\"\"))),\"\")","v":""},{"$nulls":3},{"$f":"IF(AND(H61<>\"\",I61<>\"\"),IF(H61>I61,H60,IF(H61<I61,I60,IF(AND(H63<>\"\",I63<>\"\"),IF(H63>I63,H60,IF(H63<I63,I60,\"\")),\"\"))),\"\")","v":""},null,{"$f":"IF(AND(K61<>\"\",L61<>\"\"),IF(K61>L61,K60,IF(K61<L61,L60,IF(AND(K63<>\"\",L63<>\"\"),IF(K63>L63,K60,IF(K63<L63,L60,\"\")),\"\"))),\"\")","v":""},{"$nulls":3},{"$f":"IF(AND(N61<>\"\",O61<>\"\"),IF(N61>O61,N60,IF(N61<O61,O60,IF(AND(N63<>\"\",O63<>\"\"),IF(N63>O63,N60,IF(N63<O63,O60,\"\")),\"\"))),\"\")","v":""},null,{"$f":"IF(AND(Q61<>\"\",R61<>\"\"),IF(Q61>R61,Q60,IF(Q61<R61,R60,IF(AND(Q63<>\"\",R63<>\"\"),IF(Q63>R63,Q60,IF(Q63<R63,R60,\"\")),\"\"))),\"\")","v":""},{"$nulls":3},{"$f":"IF(AND(T61<>\"\",U61<>\"\"),IF(T61>U61,T60,IF(T61<U61,U60,IF(AND(T63<>\"\",U63<>\"\"),IF(T63>U63,T60,IF(T63<U63,U60,\"\")),\"\"))),\"\")","v":""},null,{"$f":"IF(AND(W61<>\"\",X61<>\"\"),IF(W61>X61,W60,IF(W61<X61,X60,IF(AND(W63<>\"\",X63<>\"\"),IF(W63>X63,W60,IF(W63<X63,X60,\"\")),\"\"))),\"\")","v":""}]
[]
[null,null,{"$f":"Sprache_Tipps!$E$169","v":"Elfmeterschießen:"},{"$nulls":5},{"$f":"Sprache_Tipps!$E$169","v":"Elfmeterschießen:"},{"$nulls":5},{"$f":"Sprache_Tipps!$E$169","v":"Elfmeterschießen:"},{"$nulls":5},{"$f":"Sprache_Tipps!$E$169","v":"Elfmeterschießen:"}]
[{"$nulls":5},{"$f":"IF(C73>E73,1,IF(E73>C73,2,\"\"))","v":""},{"$nulls":5},{"$f":"IF(I73>K73,1,IF(K73>I73,2,\"\"))","v":""},{"$nulls":5},{"$f":"IF(O73>Q73,1,IF(Q73>O73,2,\"\"))","v":""},{"$nulls":5},{"$f":"IF(U73>W73,1,IF(W73>U73,2,\"\"))","v":""}]
[null,null,{"$f":"VLOOKUP(B68,Matches_Tipps!$B$103:$K$113,2,0)","v":"W89"},null,{"$f":"VLOOKUP(B68,Matches_Tipps!$B$103:$K$113,3,0)","v":"W90"},{"$nulls":3},{"$f":"VLOOKUP(H68,Matches_Tipps!$B$103:$K$113,2,0)","v":"W93"},null,{"$f":"VLOOKUP(H68,Matches_Tipps!$B$103:$K$113,3,0)","v":"W94"},{"$nulls":3},{"$f":"VLOOKUP(N68,Matches_Tipps!$B$103:$K$113,2,0)","v":"W91"},null,{"$f":"VLOOKUP(N68,Matches_Tipps!$B$103:$K$113,3,0)","v":"W92"},{"$nulls":3},{"$f":"VLOOKUP(T68,Matches_Tipps!$B$103:$K$113,2,0)","v":"W95"},null,{"$f":"VLOOKUP(T68,Matches_Tipps!$B$103:$K$113,3,0)","v":"W96"}]
[null,null,{"$f":"IF(AND(C71<>\"\",E71<>\"\",C71=E71,C73<>\"\",E73<>\"\",C73=E73),Sprache_Tipps!$E$186,\"\")","v":""},{"$nulls":5},{"$f":"IF(AND(I71<>\"\",K71<>\"\",I71=K71,I73<>\"\",K73<>\"\",I73=K73),Sprache_Tipps!$E$186,\"\")","v":""},{"$nulls":5},{"$f":"IF(AND(O71<>\"\",Q71<>\"\",O71=Q71,O73<>\"\",Q73<>\"\",O73=Q73),Sprache_Tipps!$E$186,\"\")","v":""},{"$nulls":5},{"$f":"IF(AND(U71<>\"\",W71<>\"\",U71=W71,U73<>\"\",W73<>\"\",U73=W73),Sprache_Tipps!$E$186,\"\")","v":""}]
[]
[{"$nulls":5},{"$f":"VLOOKUP(E78,Matches_Tipps!$B$103:$K$113,10,0)","v":"Halbfinale 1"},{"$nulls":11},{"$f":"VLOOKUP(Q78,Matches_Tipps!$B$103:$K$113,10,0)","v":"Halbfinale 2"}]
[{"$nulls":4},101,{"$f":"VLOOKUP(E78,Matches_Tipps!$B$4:$K$113,7,0)","v":"Dallas"},{"$nulls":10},102,{"$f":"VLOOKUP(Q78,Matches_Tipps!$B$4:$K$113,7,0)","v":"Atlanta"}]
[{"$nulls":5},{"$f":"VLOOKUP(E78,Matches_Tipps!$B$4:$K$113,5,0)","v":"2026-07-14T21:00:00"},{"$nulls":11},{"$f":"VLOOKUP(Q78,Matches_Tipps!$B$4:$K$113,5,0)","v":"2026-07-15T21:00:00"}]
[{"$nulls":5},{"$f":"IF(AND(C71<>\"\",E71<>\"\"),IF(C71>E71,C70,IF(C71<E71,E70,IF(AND(C73<>\"\",E73<>\"\"),IF(C73>E73,C70,IF(C73<E73,E70,\"\")),\"\"))),\"\")","v":""},null,{"$f":"IF(AND(I71<>\"\",K71<>\"\"),IF(I71>K71,I70,IF(I71<K71,K70,IF(AND(I73<>\"\",K73<>\"\"),IF(I73>K73,I70,IF(I73<K73,K70,\"\")),\"\"))),\"\")","v":""},{"$nulls":9},{"$f":"IF(AND(O71<>\"\",Q71<>\"\"),IF(O71>Q71,O70,IF(O71<Q71,Q70,IF(AND(O73<>\"\",Q73<>\"\"),IF(O73>Q73,O70,IF(O73<Q73,Q70,\"\")),\"\"))),\"\")","v":""},null,{"$f":"IF(AND(U71<>\"\",W71<>\"\"),IF(U71>W71,U70,IF(U71<W71,W70,IF(AND(U73<>\"\",W73<>\"\"),IF(U73>W73,U70,IF(U73<W73,W70,\"\")),\"\"))),\"\")","v":""}]
[]
[{"$nulls":5},{"$f":"Sprache_Tipps!$E$169","v":"Elfmeterschießen:"},{"$nulls":11},{"$f":"Sprache_Tipps!$E$169","v":"Elfmeterschießen:"}]
[{"$nulls":8},{"$f":"IF(F83>H83,1,IF(H83>F83,2,\"\"))","v":""},{"$nulls":11},{"$f":"IF(R83>T83,1,IF(T83>R83,2,\"\"))","v":""}]
[{"$nulls":5},{"$f":"VLOOKUP(E78,Matches_Tipps!$B$103:$K$113,2,0)","v":"W97"},null,{"$f":"VLOOKUP(E78,Matches_Tipps!$B$103:$K$113,3,0)","v":"W98"},{"$nulls":9},{"$f":"VLOOKUP(Q78,Matches_Tipps!$B$103:$K$113,2,0)","v":"W99"},null,{"$f":"VLOOKUP(Q78,Matches_Tipps!$B$103:$K$113,3,0)","v":"W100"}]
[{"$nulls":5},{"$f":"IF(AND(F81<>\"\",H81<>\"\",F81=H81,F83<>\"\",H83<>\"\",F83=H83),Sprache_Tipps!$E$186,\"\")","v":""},{"$nulls":5},{"$f":"VLOOKUP(K86,Matches_Tipps!$B$103:$K$113,10,0)","v":"Dritter Platz"},{"$nulls":5},{"$f":"IF(AND(R81<>\"\",T81<>\"\",R81=T81,R83<>\"\",T83<>\"\",R83=T83),Sprache_Tipps!$E$186,\"\")","v":""}]
[{"$nulls":10},103,{"$f":"VLOOKUP(K86,Matches_Tipps!$B$4:$K$113,7,0)","v":"Miami"}]
[{"$nulls":11},{"$f":"VLOOKUP(K86,Matches_Tipps!$B$4:$K$113,5,0)","v":"2026-07-18T23:00:00"}]
[{"$nulls":11},{"$f":"IF(AND(F81<>\"\",H81<>\"\"),IF(F81<H81,F80,IF(F81>H81,H80,IF(AND(F83<>\"\",H83<>\"\"),IF(F83<H83,F80,IF(F83>H83,H80,\"\")),\"\"))),\"\")","v":""},null,{"$f":"IF(AND(R81<>\"\",T81<>\"\"),IF(R81<T81,R80,IF(R81>T81,T80,IF(AND(R83<>\"\",T83<>\"\"),IF(R83<T83,R80,IF(R83>T83,T80,\"\")),\"\"))),\"\")","v":""}]
[]
[{"$nulls":11},{"$f":"Sprache_Tipps!$E$169","v":"Elfmeterschießen:"}]
[{"$nulls":14},{"$f":"IF(L91>N91,1,IF(N91>L91,2,\"\"))","v":""}]
[{"$nulls":11},{"$f":"VLOOKUP(K86,Matches_Tipps!$B$103:$K$113,2,0)","v":"RU101"},null,{"$f":"VLOOKUP(K86,Matches_Tipps!$B$103:$K$113,3,0)","v":"RU102"}]
[{"$nulls":11},{"$f":"IF(AND(L89<>\"\",N89<>\"\",L89=N89,L91<>\"\",N91<>\"\",L91=N91),Sprache_Tipps!$E$186,\"\")","v":""}]
[null,"Alle Tipps gemacht? Dann bitte:"]
[null,"      File im Format  Nachname_Vorname.xlsx  speichern",{"$nulls":9},{"$f":"VLOOKUP(K96,Matches_Tipps!$B$103:$K$113,10,0)","v":"Finale"}]
[null,"      An eine der nachstehenden Adressen senden:",{"$nulls":8},104,{"$f":"VLOOKUP(K96,Matches_Tipps!$B$4:$K$113,7,0)","v":"New York/New Jersey"},{"$nulls":5},{"$f":"Sprache_Tipps!$E$135","v":"Weltmeister 2026:"}]
[null,"alexander@wagner-cup.eu",{"$nulls":9},{"$f":"VLOOKUP(K96,Matches_Tipps!$B$4:$K$113,5,0)","v":"2026-07-19T21:00:00"}]
[null,"clemens@wagner-cup.eu",{"$nulls":9},{"$f":"IF(AND(F81<>\"\",H81<>\"\"),IF(F81>H81,F80,IF(F81<H81,H80,IF(AND(F83<>\"\",H83<>\"\"),IF(F83>H83,F80,IF(F83<H83,H80,\"\")),\"\"))),\"\")","v":""},null,{"$f":"IF(AND(R81<>\"\",T81<>\"\"),IF(R81>T81,R80,IF(R81<T81,T80,IF(AND(R83<>\"\",T83<>\"\"),IF(R83>T83,R80,IF(R83<T83,T80,\"\")),\"\"))),\"\")","v":""},{"$nulls":3},{"$f":"IF(AND(L99<>\"\",N99<>\"\"),IF(L99>N99,L98,IF(L99<N99,N98,IF(AND(L101<>\"\",N101<>\"\"),IF(L101>N101,L98,IF(L101<N101,N98,\"\")),\"\"))),\"\")","v":""}]
[null,"gerhard@wagner-cup.eu"]
[{"$nulls":11},{"$f":"Sprache_Tipps!$E$169","v":"Elfmeterschießen:"}]
[null,"    Wetteinsatz € 10,-- einzahlen auf ",{"$nulls":12},{"$f":"IF(L101>N101,1,IF(N101>L101,2,\"\"))","v":""},null,null,{"$f":"Sprache_Tipps!$E$213","v":"Vize-Weltmeister"}]
[null,"AT26 2011 1000 3771 4848 ",{"$nulls":9},{"$f":"VLOOKUP(K96,Matches_Tipps!$B$103:$K$113,2,0)","v":"W101"},null,{"$f":"VLOOKUP(K96,Matches_Tipps!$B$103:$K$113,3,0)","v":"W102"}]
[null,"lautend auf Dr.Gerhard Wagner",{"$nulls":9},{"$f":"IF(AND(L99<>\"\",N99<>\"\",L99=N99,L101<>\"\",N101<>\"\",L101=N101),Sprache_Tipps!$E$186,\"\")","v":""},{"$nulls":5},{"$f":"IF(R98=L98,N98,L98)","v":""}]
[]
[]
[{"$nulls":17},{"$f":"Sprache_Tipps!$E$214","v":"Platz 3"}]
[]
[{"$nulls":17},{"$f":"IF(AND(L89<>\"\",N89<>\"\"),IF(L89>N89,L88,IF(L89<N89,N88,IF(AND(L91<>\"\",N91<>\"\"),IF(L91>N91,L88,IF(L91<N91,N88,\"\")),\"\"))),\"\")","v":""}]

{"sheet":"Overview","index":2,"n_rows":156,"n_cols":10,"rows_kept":156,"hidden":true}
["NAME","Spiel","Text","Runde_Wertung","Team 1","Team 2","Tore 1","Tore 2","Tendenz","Pens"]
[{"$f":"_xlfn.TEXTJOIN(\" \",TRUE, Deckblatt!$K$10,Deckblatt!$K$9)","v":""},1,"Gruppe A","Gruppe","Mexiko","Südafrika",{"$f":"Meine_Tipps!B14","v":0},{"$f":"Meine_Tipps!C14","v":0},{"$f":"IF(G2>H2,1,IF(G2<H2,2,\"X\"))","v":"X"}]
[{"$f":"_xlfn.TEXTJOIN(\" \",TRUE, Deckblatt!$K$10,Deckblatt!$K$9)","v":""},2,"Gruppe A","Gruppe","Südkorea","Tschechien",{"$f":"Meine_Tipps!B19","v":0},{"$f":"Meine_Tipps!C19","v":0},"X"]
[{"$f":"_xlfn.TEXTJOIN(\" \",TRUE, Deckblatt!$K$10,Deckblatt!$K$9)","v":""},3,"Gruppe B","Gruppe","Kanada","Bosnien-Herzeg.",{"$f":"Meine_Tipps!E14","v":0},{"$f":"Meine_Tipps!F14","v":0},"X"]
[{"$f":"_xlfn.TEXTJOIN(\" \",TRUE, Deckblatt!$K$10,Deckblatt!$K$9)","v":""},4,"Gruppe D","Gruppe","USA","Paraguay",{"$f":"Meine_Tipps!K14","v":0},{"$f":"Meine_Tipps!L14","v":0},"X"]
[{"$f":"_xlfn.TEXTJOIN(\" \",TRUE, Deckblatt!$K$10,Deckblatt!$K$9)","v":""},5,"Gruppe C","Gruppe","Haiti","Schottland",{"$f":"Meine_Tipps!H14","v":0},{"$f":"Meine_Tipps!I14","v":0},"X"]
[{"$f":"_xlfn.TEXTJOIN(\" \",TRUE, Deckblatt!$K$10,Deckblatt!$K$9)","v":""},6,"Gruppe D","Gruppe","Australien","Türkei",{"$f":"Meine_Tipps!K19","v":0},{"$f":"Meine_Tipps!L19","v":0},"X"]
[{"$f":"_xlfn.TEXTJOIN(\" \",TRUE, Deckblatt!$K$10,Deckblatt!$K$9)","v":""},7,"Gruppe C","Gruppe","Brasilien","Marokko",{"$f":"Meine_Tipps!H19","v":0},{"$f":"Meine_Tipps!I19","v":0},"X"]
[{"$f":"_xlfn.TEXTJOIN(\" \",TRUE, Deckblatt!$K$10,Deckblatt!$K$9)","v":""},8,"Gruppe B","Gruppe","Katar","Schweiz",{"$f":"Meine_Tipps!E19","v":0},{"$f":"Meine_Tipps!F19","v":0},"X"]
[{"$f":"_xlfn.TEXTJOIN(\" \",TRUE, Deckblatt!$K$10,Deckblatt!$K$9)","v":""},9,"Gruppe E","Gruppe","Elfenbeinküste","Ecuador",{"$f":"Meine_Tipps!N14","v":0},{"$f":"Meine_Tipps!O14","v":0},"X"]
[{"$f":"_xlfn.TEXTJOIN(\" \",TRUE, Deckblatt!$K$10,Deckblatt!$K$9)","v":""},10,"Gruppe E","Gruppe","Deutschland","Curacao",{"$f":"Meine_Tipps!N19","v":0},{"$f":"Meine_Tipps!O19","v":0},"X"]
[{"$f":"_xlfn.TEXTJOIN(\" \",TRUE, Deckblatt!$K$10,Deckblatt!$K$9)","v":""},11,"Gruppe F","Gruppe","Niederlande","Japan",{"$f":"Meine_Tipps!Q14","v":0},{"$f":"Meine_Tipps!R14","v":0},"X"]
[{"$f":"_xlfn.TEXTJOIN(\" \",TRUE, Deckblatt!$K$10,Deckblatt!$K$9)","v":""},12,"Gruppe F","Gruppe","Schweden","Tunesien",{"$f":"Meine_Tipps!Q19","v":0},{"$f":"Meine_Tipps!R19","v":0},"X"]
[{"$f":"_xlfn.TEXTJOIN(\" \",TRUE, Deckblatt!$K$10,Deckblatt!$K$9)","v":""},13,"Gruppe H","Gruppe","Saudiarabien","Uruguay",{"$f":"Meine_Tipps!W14","v":0},{"$f":"Meine_Tipps!X14","v":0},"X"]
[{"$f":"_xlfn.TEXTJOIN(\" \",TRUE, Deckblatt!$K$10,Deckblatt!$K$9)","v":""},14,"Gruppe H","Gruppe","Spanien","Kapverde",{"$f":"Meine_Tipps!W19","v":0},{"$f":"Meine_Tipps!X19","v":0},"X"]
[{"$f":"_xlfn.TEXTJOIN(\" \",TRUE, Deckblatt!$K$10,Deckblatt!$K$9)","v":""},15,"Gruppe G","Gruppe","Iran","Neuseeland",{"$f":"Meine_Tipps!T14","v":0},{"$f":"Meine_Tipps!U14","v":0},"X"]
[{"$f":"_xlfn.TEXTJOIN(\" \",TRUE, Deckblatt!$K$10,Deckblatt!$K$9)","v":""},16,"Gruppe G","Gruppe","Belgien","Ägypten",{"$f":"Meine_Tipps!T19","v":0},{"$f":"Meine_Tipps!U19","v":0},"X"]
[{"$f":"_xlfn.TEXTJOIN(\" \",TRUE, Deckblatt!$K$10,Deckblatt!$K$9)","v":""},17,"Gruppe I","Gruppe","Frankreich","Senegal",{"$f":"Meine_Tipps!Z14","v":0},{"$f":"Meine_Tipps!AA14","v":0},"X"]
[{"$f":"_xlfn.TEXTJOIN(\" \",TRUE, Deckblatt!$K$10,Deckblatt!$K$9)","v":""},18,"Gruppe I","Gruppe","Irak","Norwegen",{"$f":"Meine_Tipps!Z19","v":0},{"$f":"Meine_Tipps!AA19","v":0},"X"]
[{"$f":"_xlfn.TEXTJOIN(\" \",TRUE, Deckblatt!$K$10,Deckblatt!$K$9)","v":""},19,"Gruppe J","Gruppe","Argentinien","Algerien",{"$f":"Meine_Tipps!AC14","v":0},{"$f":"Meine_Tipps!AD14","v":0},"X"]
[{"$f":"_xlfn.TEXTJOIN(\" \",TRUE, Deckblatt!$K$10,Deckblatt!$K$9)","v":""},20,"Gruppe J","Gruppe","Österreich","Jordanien",{"$f":"Meine_Tipps!AC19","v":0},{"$f":"Meine_Tipps!AD19","v":0},"X"]
[{"$f":"_xlfn.TEXTJOIN(\" \",TRUE, Deckblatt!$K$10,Deckblatt!$K$9)","v":""},21,"Gruppe L","Gruppe","Ghana","Panama",{"$f":"Meine_Tipps!AI14","v":0},{"$f":"Meine_Tipps!AJ14","v":0},"X"]
[{"$f":"_xlfn.TEXTJOIN(\" \",TRUE, Deckblatt!$K$10,Deckblatt!$K$9)","v":""},22,"Gruppe L","Gruppe","England","Kroatien",{"$f":"Meine_Tipps!AI19","v":0},{"$f":"Meine_Tipps!AJ19","v":0},"X"]
[{"$f":"_xlfn.TEXTJOIN(\" \",TRUE, Deckblatt!$K$10,Deckblatt!$K$9)","v":""},23,"Gruppe K","Gruppe","Portugal","DR Kongo",{"$f":"Meine_Tipps!AF14","v":0},{"$f":"Meine_Tipps!AG14","v":0},"X"]
[{"$f":"_xlfn.TEXTJOIN(\" \",TRUE, Deckblatt!$K$10,Deckblatt!$K$9)","v":""},24,"Gruppe K","Gruppe","Usbekistan","Kolumbien",{"$f":"Meine_Tipps!AF19","v":0},{"$f":"Meine_Tipps!AG19","v":0},"X"]
[{"$f":"_xlfn.TEXTJOIN(\" \",TRUE, Deckblatt!$K$10,Deckblatt!$K$9)","v":""},25,"Gruppe A","Gruppe","Tschechien","Südafrika",{"$f":"Meine_Tipps!B24","v":0},{"$f":"Meine_Tipps!C24","v":0},"X"]
[{"$f":"_xlfn.TEXTJOIN(\" \",TRUE, Deckblatt!$K$10,Deckblatt!$K$9)","v":""},26,"Gruppe B","Gruppe","Schweiz","Bosnien-Herzeg.",{"$f":"Meine_Tipps!E24","v":0},{"$f":"Meine_Tipps!F24","v":0},"X"]
[{"$f":"_xlfn.TEXTJOIN(\" \",TRUE, Deckblatt!$K$10,Deckblatt!$K$9)","v":""},27,"Gruppe B","Gruppe","Kanada","Katar",{"$f":"Meine_Tipps!E29","v":0},{"$f":"Meine_Tipps!F29","v":0},"X"]
[{"$f":"_xlfn.TEXTJOIN(\" \",TRUE, Deckblatt!$K$10,Deckblatt!$K$9)","v":""},28,"Gruppe A","Gruppe","Mexiko","Südkorea",{"$f":"Meine_Tipps!B29","v":0},{"$f":"Meine_Tipps!C29","v":0},"X"]
[{"$f":"_xlfn.TEXTJOIN(\" \",TRUE, Deckblatt!$K$10,Deckblatt!$K$9)","v":""},29,"Gruppe C","Gruppe","Brasilien","Haiti",{"$f":"Meine_Tipps!H24","v":0},{"$f":"Meine_Tipps!I24","v":0},"X"]
[{"$f":"_xlfn.TEXTJOIN(\" \",TRUE, Deckblatt!$K$10,Deckblatt!$K$9)","v":""},30,"Gruppe C","Gruppe","Schottland","Marokko",{"$f":"Meine_Tipps!H29","v":0},{"$f":"Meine_Tipps!I29","v":0},"X"]
[{"$f":"_xlfn.TEXTJOIN(\" \",TRUE, Deckblatt!$K$10,Deckblatt!$K$9)","v":""},31,"Gruppe D","Gruppe","Türkei","Paraguay",{"$f":"Meine_Tipps!K24","v":0},{"$f":"Meine_Tipps!L24","v":0},"X"]
[{"$f":"_xlfn.TEXTJOIN(\" \",TRUE, Deckblatt!$K$10,Deckblatt!$K$9)","v":""},32,"Gruppe D","Gruppe","USA","Australien",{"$f":"Meine_Tipps!K29","v":0},{"$f":"Meine_Tipps!L29","v":0},"X"]
[{"$f":"_xlfn.TEXTJOIN(\" \",TRUE, Deckblatt!$K$10,Deckblatt!$K$9)","v":""},33,"Gruppe E","Gruppe","Deutschland","Elfenbeinküste",{"$f":"Meine_Tipps!N24","v":0},{"$f":"Meine_Tipps!O24","v":0},"X"]
[{"$f":"_xlfn.TEXTJOIN(\" \",TRUE, Deckblatt!$K$10,Deckblatt!$K$9)","v":""},34,"Gruppe E","Gruppe","Ecuador","Curacao",{"$f":"Meine_Tipps!N29","v":0},{"$f":"Meine_Tipps!O29","v":0},"X"]
[{"$f":"_xlfn.TEXTJOIN(\" \",TRUE, Deckblatt!$K$10,Deckblatt!$K$9)","v":""},35,"Gruppe F","Gruppe","Niederlande","Schweden",{"$f":"Meine_Tipps!Q24","v":0},{"$f":"Meine_Tipps!R24","v":0},"X"]
[{"$f":"_xlfn.TEXTJOIN(\" \",TRUE, Deckblatt!$K$10,Deckblatt!$K$9)","v":""},36,"Gruppe F","Gruppe","Tunesien","Japan",{"$f":"Meine_Tipps!Q29","v":0},{"$f":"Meine_Tipps!R29","v":0},"X"]
[{"$f":"_xlfn.TEXTJOIN(\" \",TRUE, Deckblatt!$K$10,Deckblatt!$K$9)","v":""},37,"Gruppe H","Gruppe","Uruguay","Kapverde",{"$f":"Meine_Tipps!W24","v":0},{"$f":"Meine_Tipps!X24","v":0},"X"]
[{"$f":"_xlfn.TEXTJOIN(\" \",TRUE, Deckblatt!$K$10,Deckblatt!$K$9)","v":""},38,"Gruppe H","Gruppe","Spanien","Saudiarabien",{"$f":"Meine_Tipps!W29","v":0},{"$f":"Meine_Tipps!X29","v":0},"X"]
[{"$f":"_xlfn.TEXTJOIN(\" \",TRUE, Deckblatt!$K$10,Deckblatt!$K$9)","v":""},39,"Gruppe G","Gruppe","Belgien","Iran",{"$f":"Meine_Tipps!T24","v":0},{"$f":"Meine_Tipps!U24","v":0},"X"]
[{"$f":"_xlfn.TEXTJOIN(\" \",TRUE, Deckblatt!$K$10,Deckblatt!$K$9)","v":""},40,"Gruppe G","Gruppe","Neuseeland","Ägypten",{"$f":"Meine_Tipps!T29","v":0},{"$f":"Meine_Tipps!U29","v":0},"X"]
[{"$f":"_xlfn.TEXTJOIN(\" \",TRUE, Deckblatt!$K$10,Deckblatt!$K$9)","v":""},41,"Gruppe I","Gruppe","Norwegen","Senegal",{"$f":"Meine_Tipps!Z24","v":0},{"$f":"Meine_Tipps!AA24","v":0},"X"]
[{"$f":"_xlfn.TEXTJOIN(\" \",TRUE, Deckblatt!$K$10,Deckblatt!$K$9)","v":""},42,"Gruppe I","Gruppe","Frankreich","Irak",{"$f":"Meine_Tipps!Z29","v":0},{"$f":"Meine_Tipps!AA29","v":0},"X"]
[{"$f":"_xlfn.TEXTJOIN(\" \",TRUE, Deckblatt!$K$10,Deckblatt!$K$9)","v":""},43,"Gruppe J","Gruppe","Argentinien","Österreich",{"$f":"Meine_Tipps!AC24","v":0},{"$f":"Meine_Tipps!AD24","v":0},"X"]
[{"$f":"_xlfn.TEXTJOIN(\" \",TRUE, Deckblatt!$K$10,Deckblatt!$K$9)","v":""},44,"Gruppe J","Gruppe","Jordanien","Algerien",{"$f":"Meine_Tipps!AC29","v":0},{"$f":"Meine_Tipps!AD29","v":0},"X"]
[{"$f":"_xlfn.TEXTJOIN(\" \",TRUE, Deckblatt!$K$10,Deckblatt!$K$9)","v":""},45,"Gruppe L","Gruppe","England","Ghana",{"$f":"Meine_Tipps!AI24","v":0},{"$f":"Meine_Tipps!AJ24","v":0},"X"]
[{"$f":"_xlfn.TEXTJOIN(\" \",TRUE, Deckblatt!$K$10,Deckblatt!$K$9)","v":""},46,"Gruppe L","Gruppe","Panama","Kroatien",{"$f":"Meine_Tipps!AI29","v":0},{"$f":"Meine_Tipps!AJ29","v":0},"X"]
[{"$f":"_xlfn.TEXTJOIN(\" \",TRUE, Deckblatt!$K$10,Deckblatt!$K$9)","v":""},47,"Gruppe K","Gruppe","Portugal","Usbekistan",{"$f":"Meine_Tipps!AF24","v":0},{"$f":"Meine_Tipps!AG24","v":0},"X"]
[{"$f":"_xlfn.TEXTJOIN(\" \",TRUE, Deckblatt!$K$10,Deckblatt!$K$9)","v":""},48,"Gruppe K","Gruppe","Kolumbien","DR Kongo",{"$f":"Meine_Tipps!AF29","v":0},{"$f":"Meine_Tipps!AG29","v":0},"X"]
[{"$f":"_xlfn.TEXTJOIN(\" \",TRUE, Deckblatt!$K$10,Deckblatt!$K$9)","v":""},49,"Gruppe C","Gruppe","Schottland","Brasilien",{"$f":"Meine_Tipps!H34","v":0},{"$f":"Meine_Tipps!I34","v":0},"X"]
[{"$f":"_xlfn.TEXTJOIN(\" \",TRUE, Deckblatt!$K$10,Deckblatt!$K$9)","v":""},50,"Gruppe C","Gruppe","Marokko","Haiti",{"$f":"Meine_Tipps!H39","v":0},{"$f":"Meine_Tipps!I39","v":0},"X"]
[{"$f":"_xlfn.TEXTJOIN(\" \",TRUE, Deckblatt!$K$10,Deckblatt!$K$9)","v":""},51,"Gruppe B","Gruppe","Schweiz","Kanada",{"$f":"Meine_Tipps!E34","v":0},{"$f":"Meine_Tipps!F34","v":0},"X"]
[{"$f":"_xlfn.TEXTJOIN(\" \",TRUE, Deckblatt!$K$10,Deckblatt!$K$9)","v":""},52,"Gruppe B","Gruppe","Bosnien-Herzeg.","Katar",{"$f":"Meine_Tipps!E39","v":0},{"$f":"Meine_Tipps!F39","v":0},"X"]
[{"$f":"_xlfn.TEXTJOIN(\" \",TRUE, Deckblatt!$K$10,Deckblatt!$K$9)","v":""},53,"Gruppe A","Gruppe","Tschechien","Mexiko",{"$f":"Meine_Tipps!B34","v":0},{"$f":"Meine_Tipps!C34","v":0},"X"]
[{"$f":"_xlfn.TEXTJOIN(\" \",TRUE, Deckblatt!$K$10,Deckblatt!$K$9)","v":""},54,"Gruppe A","Gruppe","Südafrika","Südkorea",{"$f":"Meine_Tipps!B39","v":0},{"$f":"Meine_Tipps!C39","v":0},"X"]
[{"$f":"_xlfn.TEXTJOIN(\" \",TRUE, Deckblatt!$K$10,Deckblatt!$K$9)","v":""},55,"Gruppe E","Gruppe","Curacao","Elfenbeinküste",{"$f":"Meine_Tipps!N34","v":0},{"$f":"Meine_Tipps!O34","v":0},"X"]
[{"$f":"_xlfn.TEXTJOIN(\" \",TRUE, Deckblatt!$K$10,Deckblatt!$K$9)","v":""},56,"Gruppe E","Gruppe","Ecuador","Deutschland",{"$f":"Meine_Tipps!N39","v":0},{"$f":"Meine_Tipps!O39","v":0},"X"]
[{"$f":"_xlfn.TEXTJOIN(\" \",TRUE, Deckblatt!$K$10,Deckblatt!$K$9)","v":""},57,"Gruppe F","Gruppe","Japan","Schweden",{"$f":"Meine_Tipps!Q34","v":0},{"$f":"Meine_Tipps!R34","v":0},"X"]
[{"$f":"_xlfn.TEXTJOIN(\" \",TRUE, Deckblatt!$K$10,Deckblatt!$K$9)","v":""},58,"Gruppe F","Gruppe","Tunesien","Niederlande",{"$f":"Meine_Tipps!Q39","v":0},{"$f":"Meine_Tipps!R39","v":0},"X"]
[{"$f":"_xlfn.TEXTJOIN(\" \",TRUE, Deckblatt!$K$10,Deckblatt!$K$9)","v":""},59,"Gruppe D","Gruppe","Türkei","USA",{"$f":"Meine_Tipps!K34","v":0},{"$f":"Meine_Tipps!L34","v":0},"X"]
[{"$f":"_xlfn.TEXTJOIN(\" \",TRUE, Deckblatt!$K$10,Deckblatt!$K$9)","v":""},60,"Gruppe D","Gruppe","Paraguay","Australien",{"$f":"Meine_Tipps!K39","v":0},{"$f":"Meine_Tipps!L39","v":0},"X"]
[{"$f":"_xlfn.TEXTJOIN(\" \",TRUE, Deckblatt!$K$10,Deckblatt!$K$9)","v":""},61,"Gruppe I","Gruppe","Norwegen","Frankreich",{"$f":"Meine_Tipps!Z34","v":0},{"$f":"Meine_Tipps!AA34","v":0},"X"]
[{"$f":"_xlfn.TEXTJOIN(\" \",TRUE, Deckblatt!$K$10,Deckblatt!$K$9)","v":""},62,"Gruppe I","Gruppe","Senegal","Irak",{"$f":"Meine_Tipps!Z39","v":0},{"$f":"Meine_Tipps!AA39","v":0},"X"]
[{"$f":"_xlfn.TEXTJOIN(\" \",TRUE, Deckblatt!$K$10,Deckblatt!$K$9)","v":""},63,"Gruppe G","Gruppe","Ägypten","Iran",{"$f":"Meine_Tipps!T34","v":0},{"$f":"Meine_Tipps!U34","v":0},"X"]
[{"$f":"_xlfn.TEXTJOIN(\" \",TRUE, Deckblatt!$K$10,Deckblatt!$K$9)","v":""},64,"Gruppe G","Gruppe","Neuseeland","Belgien",{"$f":"Meine_Tipps!T39","v":0},{"$f":"Meine_Tipps!U39","v":0},"X"]
[{"$f":"_xlfn.TEXTJOIN(\" \",TRUE, Deckblatt!$K$10,Deckblatt!$K$9)","v":""},65,"Gruppe H","Gruppe","Kapverde","Saudiarabien",{"$f":"Meine_Tipps!W34","v":0},{"$f":"Meine_Tipps!X34","v":0},{"$f":"IF(G66>H66,1,IF(G66<H66,2,\"X\"))","v":"X"}]
[{"$f":"_xlfn.TEXTJOIN(\" \",TRUE, Deckblatt!$K$10,Deckblatt!$K$9)","v":""},66,"Gruppe H","Gruppe","Uruguay","Spanien",{"$f":"Meine_Tipps!W39","v":0},{"$f":"Meine_Tipps!X39","v":0},"X"]
[{"$f":"_xlfn.TEXTJOIN(\" \",TRUE, Deckblatt!$K$10,Deckblatt!$K$9)","v":""},67,"Gruppe L","Gruppe","Panama","England",{"$f":"Meine_Tipps!AI34","v":0},{"$f":"Meine_Tipps!AJ34","v":0},"X"]
[{"$f":"_xlfn.TEXTJOIN(\" \",TRUE, Deckblatt!$K$10,Deckblatt!$K$9)","v":""},68,"Gruppe L","Gruppe","Kroatien","Ghana",{"$f":"Meine_Tipps!AI39","v":0},{"$f":"Meine_Tipps!AJ39","v":0},"X"]
[{"$f":"_xlfn.TEXTJOIN(\" \",TRUE, Deckblatt!$K$10,Deckblatt!$K$9)","v":""},69,"Gruppe J","Gruppe","Algerien","Österreich",{"$f":"Meine_Tipps!AC34","v":0},{"$f":"Meine_Tipps!AD34","v":0},"X"]
[{"$f":"_xlfn.TEXTJOIN(\" \",TRUE, Deckblatt!$K$10,Deckblatt!$K$9)","v":""},70,"Gruppe J","Gruppe","Jordanien","Argentinien",{"$f":"Meine_Tipps!AC39","v":0},{"$f":"Meine_Tipps!AD39","v":0},"X"]
[{"$f":"_xlfn.TEXTJOIN(\" \",TRUE, Deckblatt!$K$10,Deckblatt!$K$9)","v":""},71,"Gruppe K","Gruppe","Kolumbien","Portugal",{"$f":"Meine_Tipps!AF34","v":0},{"$f":"Meine_Tipps!AG34","v":0},"X"]
[{"$f":"_xlfn.TEXTJOIN(\" \",TRUE, Deckblatt!$K$10,Deckblatt!$K$9)","v":""},72,"Gruppe K","Gruppe","DR Kongo","Usbekistan",{"$f":"Meine_Tipps!AF39","v":0},{"$f":"Meine_Tipps!AG39","v":0},"X"]
[{"$f":"_xlfn.TEXTJOIN(\" \",TRUE, Deckblatt!$K$10,Deckblatt!$K$9)","v":""},"1A","Gruppe A","Gruppenplatz",{"$f":"Meine_Tipps!B42","v":""}]
[{"$f":"_xlfn.TEXTJOIN(\" \",TRUE, Deckblatt!$K$10,Deckblatt!$K$9)","v":""},"2A","Gruppe A","Gruppenplatz",{"$f":"Meine_Tipps!B43","v":""}]
[{"$f":"_xlfn.TEXTJOIN(\" \",TRUE, Deckblatt!$K$10,Deckblatt!$K$9)","v":""},"3A","Gruppe A","Gruppenplatz",{"$f":"Meine_Tipps!B44","v":""}]
[{"$f":"_xlfn.TEXTJOIN(\" \",TRUE, Deckblatt!$K$10,Deckblatt!$K$9)","v":""},"4A","Gruppe A","Gruppenplatz",{"$f":"Meine_Tipps!B45","v":""}]
[{"$f":"_xlfn.TEXTJOIN(\" \",TRUE, Deckblatt!$K$10,Deckblatt!$K$9)","v":""},"1B","Gruppe B","Gruppenplatz",{"$f":"Meine_Tipps!E42","v":""}]
[{"$f":"_xlfn.TEXTJOIN(\" \",TRUE, Deckblatt!$K$10,Deckblatt!$K$9)","v":""},"2B","Gruppe B","Gruppenplatz",{"$f":"Meine_Tipps!E43","v":""}]
[{"$f":"_xlfn.TEXTJOIN(\" \",TRUE, Deckblatt!$K$10,Deckblatt!$K$9)","v":""},"3B","Gruppe B","Gruppenplatz",{"$f":"Meine_Tipps!E44","v":""}]
[{"$f":"_xlfn.TEXTJOIN(\" \",TRUE, Deckblatt!$K$10,Deckblatt!$K$9)","v":""},"4B","Gruppe B","Gruppenplatz",{"$f":"Meine_Tipps!E45","v":""}]
[{"$f":"_xlfn.TEXTJOIN(\" \",TRUE, Deckblatt!$K$10,Deckblatt!$K$9)","v":""},"1C","Gruppe C","Gruppenplatz",{"$f":"Meine_Tipps!H42","v":""}]
[{"$f":"_xlfn.TEXTJOIN(\" \",TRUE, Deckblatt!$K$10,Deckblatt!$K$9)","v":""},"2C","Gruppe C","Gruppenplatz",{"$f":"Meine_Tipps!H43","v":""}]
[{"$f":"_xlfn.TEXTJOIN(\" \",TRUE, Deckblatt!$K$10,Deckblatt!$K$9)","v":""},"3C","Gruppe C","Gruppenplatz",{"$f":"Meine_Tipps!H44","v":""}]
[{"$f":"_xlfn.TEXTJOIN(\" \",TRUE, Deckblatt!$K$10,Deckblatt!$K$9)","v":""},"4C","Gruppe C","Gruppenplatz",{"$f":"Meine_Tipps!H45","v":""}]
[{"$f":"_xlfn.TEXTJOIN(\" \",TRUE, Deckblatt!$K$10,Deckblatt!$K$9)","v":""},"1D","Gruppe D","Gruppenplatz",{"$f":"Meine_Tipps!K42","v":""}]
[{"$f":"_xlfn.TEXTJOIN(\" \",TRUE, Deckblatt!$K$10,Deckblatt!$K$9)","v":""},"2D","Gruppe D","Gruppenplatz",{"$f":"Meine_Tipps!K43","v":""}]
[{"$f":"_xlfn.TEXTJOIN(\" \",TRUE, Deckblatt!$K$10,Deckblatt!$K$9)","v":""},"3D","Gruppe D","Gruppenplatz",{"$f":"Meine_Tipps!K44","v":""}]
[{"$f":"_xlfn.TEXTJOIN(\" \",TRUE, Deckblatt!$K$10,Deckblatt!$K$9)","v":""},"4D","Gruppe D","Gruppenplatz",{"$f":"Meine_Tipps!K45","v":""}]
[{"$f":"_xlfn.TEXTJOIN(\" \",TRUE, Deckblatt!$K$10,Deckblatt!$K$9)","v":""},"1E","Gruppe E","Gruppenplatz",{"$f":"Meine_Tipps!N42","v":""}]
[{"$f":"_xlfn.TEXTJOIN(\" \",TRUE, Deckblatt!$K$10,Deckblatt!$K$9)","v":""},"2E","Gruppe E","Gruppenplatz",{"$f":"Meine_Tipps!N43","v":""}]
[{"$f":"_xlfn.TEXTJOIN(\" \",TRUE, Deckblatt!$K$10,Deckblatt!$K$9)","v":""},"3E","Gruppe E","Gruppenplatz",{"$f":"Meine_Tipps!N44","v":""}]
[{"$f":"_xlfn.TEXTJOIN(\" \",TRUE, Deckblatt!$K$10,Deckblatt!$K$9)","v":""},"4E","Gruppe E","Gruppenplatz",{"$f":"Meine_Tipps!N45","v":""}]
[{"$f":"_xlfn.TEXTJOIN(\" \",TRUE, Deckblatt!$K$10,Deckblatt!$K$9)","v":""},"1F","Gruppe F","Gruppenplatz",{"$f":"Meine_Tipps!Q42","v":""}]
[{"$f":"_xlfn.TEXTJOIN(\" \",TRUE, Deckblatt!$K$10,Deckblatt!$K$9)","v":""},"2F","Gruppe F","Gruppenplatz",{"$f":"Meine_Tipps!Q43","v":""}]
[{"$f":"_xlfn.TEXTJOIN(\" \",TRUE, Deckblatt!$K$10,Deckblatt!$K$9)","v":""},"3F","Gruppe F","Gruppenplatz",{"$f":"Meine_Tipps!Q44","v":""}]
[{"$f":"_xlfn.TEXTJOIN(\" \",TRUE, Deckblatt!$K$10,Deckblatt!$K$9)","v":""},"4F","Gruppe F","Gruppenplatz",{"$f":"Meine_Tipps!Q45","v":""}]
[{"$f":"_xlfn.TEXTJOIN(\" \",TRUE, Deckblatt!$K$10,Deckblatt!$K$9)","v":""},"1G","Gruppe G","Gruppenplatz",{"$f":"Meine_Tipps!T42","v":""}]
[{"$f":"_xlfn.TEXTJOIN(\" \",TRUE, Deckblatt!$K$10,Deckblatt!$K$9)","v":""},"2G","Gruppe G","Gruppenplatz",{"$f":"Meine_Tipps!T43","v":""}]
[{"$f":"_xlfn.TEXTJOIN(\" \",TRUE, Deckblatt!$K$10,Deckblatt!$K$9)","v":""},"3G","Gruppe G","Gruppenplatz",{"$f":"Meine_Tipps!T44","v":""}]
[{"$f":"_xlfn.TEXTJOIN(\" \",TRUE, Deckblatt!$K$10,Deckblatt!$K$9)","v":""},"4G","Gruppe G","Gruppenplatz",{"$f":"Meine_Tipps!T45","v":""}]
[{"$f":"_xlfn.TEXTJOIN(\" \",TRUE, Deckblatt!$K$10,Deckblatt!$K$9)","v":""},"1H","Gruppe H","Gruppenplatz",{"$f":"Meine_Tipps!W42","v":""}]
[{"$f":"_xlfn.TEXTJOIN(\" \",TRUE, Deckblatt!$K$10,Deckblatt!$K$9)","v":""},"2H","Gruppe H","Gruppenplatz",{"$f":"Meine_Tipps!W43","v":""}]
[{"$f":"_xlfn.TEXTJOIN(\" \",TRUE, Deckblatt!$K$10,Deckblatt!$K$9)","v":""},"3H","Gruppe H","Gruppenplatz",{"$f":"Meine_Tipps!W44","v":""}]
[{"$f":"_xlfn.TEXTJOIN(\" \",TRUE, Deckblatt!$K$10,Deckblatt!$K$9)","v":""},"4H","Gruppe H","Gruppenplatz",{"$f":"Meine_Tipps!W45","v":""}]
[{"$f":"_xlfn.TEXTJOIN(\" \",TRUE, Deckblatt!$K$10,Deckblatt!$K$9)","v":""},"1I","Gruppe I","Gruppenplatz",{"$f":"Meine_Tipps!Z42","v":""}]
[{"$f":"_xlfn.TEXTJOIN(\" \",TRUE, Deckblatt!$K$10,Deckblatt!$K$9)","v":""},"2I","Gruppe I","Gruppenplatz",{"$f":"Meine_Tipps!Z43","v":""}]
[{"$f":"_xlfn.TEXTJOIN(\" \",TRUE, Deckblatt!$K$10,Deckblatt!$K$9)","v":""},"3I","Gruppe I","Gruppenplatz",{"$f":"Meine_Tipps!Z44","v":""}]
[{"$f":"_xlfn.TEXTJOIN(\" \",TRUE, Deckblatt!$K$10,Deckblatt!$K$9)","v":""},"4I","Gruppe I","Gruppenplatz",{"$f":"Meine_Tipps!Z45","v":""}]
[{"$f":"_xlfn.TEXTJOIN(\" \",TRUE, Deckblatt!$K$10,Deckblatt!$K$9)","v":""},"1J","Gruppe J","Gruppenplatz",{"$f":"Meine_Tipps!AC42","v":""}]
[{"$f":"_xlfn.TEXTJOIN(\" \",TRUE, Deckblatt!$K$10,Deckblatt!$K$9)","v":""},"2J","Gruppe J","Gruppenplatz",{"$f":"Meine_Tipps!AC43","v":""}]
[{"$f":"_xlfn.TEXTJOIN(\" \",TRUE, Deckblatt!$K$10,Deckblatt!$K$9)","v":""},"3J","Gruppe J","Gruppenplatz",{"$f":"Meine_Tipps!AC44","v":""}]
[{"$f":"_xlfn.TEXTJOIN(\" \",TRUE, Deckblatt!$K$10,Deckblatt!$K$9)","v":""},"4J","Gruppe J","Gruppenplatz",{"$f":"Meine_Tipps!AC45","v":""}]
[{"$f":"_xlfn.TEXTJOIN(\" \",TRUE, Deckblatt!$K$10,Deckblatt!$K$9)","v":""},"1K","Gruppe K","Gruppenplatz",{"$f":"Meine_Tipps!AF42","v":""}]
[{"$f":"_xlfn.TEXTJOIN(\" \",TRUE, Deckblatt!$K$10,Deckblatt!$K$9)","v":""},"2K","Gruppe K","Gruppenplatz",{"$f":"Meine_Tipps!AF43","v":""}]
[{"$f":"_xlfn.TEXTJOIN(\" \",TRUE, Deckblatt!$K$10,Deckblatt!$K$9)","v":""},"3K","Gruppe K","Gruppenplatz",{"$f":"Meine_Tipps!AF44","v":""}]
[{"$f":"_xlfn.TEXTJOIN(\" \",TRUE, Deckblatt!$K$10,Deckblatt!$K$9)","v":""},"4K","Gruppe K","Gruppenplatz",{"$f":"Meine_Tipps!AF45","v":""}]
[{"$f":"_xlfn.TEXTJOIN(\" \",TRUE, Deckblatt!$K$10,Deckblatt!$K$9)","v":""},"1L","Gruppe L","Gruppenplatz",{"$f":"Meine_Tipps!AI42","v":""}]
[{"$f":"_xlfn.TEXTJOIN(\" \",TRUE, Deckblatt!$K$10,Deckblatt!$K$9)","v":""},"2L","Gruppe L","Gruppenplatz",{"$f":"Meine_Tipps!AI43","v":""}]
[{"$f":"_xlfn.TEXTJOIN(\" \",TRUE, Deckblatt!$K$10,Deckblatt!$K$9)","v":""},"3L","Gruppe L","Gruppenplatz",{"$f":"Meine_Tipps!AI44","v":""}]
[{"$f":"_xlfn.TEXTJOIN(\" \",TRUE, Deckblatt!$K$10,Deckblatt!$K$9)","v":""},"4L","Gruppe L","Gruppenplatz",{"$f":"Meine_Tipps!AI45","v":""}]
[{"$f":"_xlfn.TEXTJOIN(\" \",TRUE, Deckblatt!$K$10,Deckblatt!$K$9)","v":""},73,"1/16 Finale","1/16 Finale",{"$f":"Meine_Tipps!H50","v":""},{"$f":"Meine_Tipps!I50","v":""},{"$f":"Meine_Tipps!H51","v":0},{"$f":"Meine_Tipps!I51","v":0},"X",{"$f":"IF(I122=\"X\",Meine_Tipps!J53,\"\")","v":""}]
[{"$f":"_xlfn.TEXTJOIN(\" \",TRUE, Deckblatt!$K$10,Deckblatt!$K$9)","v":""},74,"1/16 Finale","1/16 Finale",{"$f":"Meine_Tipps!B50","v":""},{"$f":"Meine_Tipps!C50","v":""},{"$f":"Meine_Tipps!B51","v":0},{"$f":"Meine_Tipps!C51","v":0},"X",{"$f":"IF(I123=\"X\",Meine_Tipps!D53,\"\")","v":""}]
[{"$f":"_xlfn.TEXTJOIN(\" \",TRUE, Deckblatt!$K$10,Deckblatt!$K$9)","v":""},75,"1/16 Finale","1/16 Finale",{"$f":"Meine_Tipps!K50","v":""},{"$f":"Meine_Tipps!L50","v":""},{"$f":"Meine_Tipps!K51","v":0},{"$f":"Meine_Tipps!L51","v":0},"X",{"$f":"IF(I124=\"X\",Meine_Tipps!M53,\"\")","v":""}]
[{"$f":"_xlfn.TEXTJOIN(\" \",TRUE, Deckblatt!$K$10,Deckblatt!$K$9)","v":""},76,"1/16 Finale","1/16 Finale",{"$f":"Meine_Tipps!Z50","v":""},{"$f":"Meine_Tipps!AA50","v":""},{"$f":"Meine_Tipps!Z51","v":0},{"$f":"Meine_Tipps!AA51","v":0},"X",{"$f":"IF(I125=\"X\",Meine_Tipps!AB53,\"\")","v":""}]
[{"$f":"_xlfn.TEXTJOIN(\" \",TRUE, Deckblatt!$K$10,Deckblatt!$K$9)","v":""},77,"1/16 Finale","1/16 Finale",{"$f":"Meine_Tipps!E50","v":""},{"$f":"Meine_Tipps!F50","v":""},{"$f":"Meine_Tipps!E51","v":0},{"$f":"Meine_Tipps!F51","v":0},"X",{"$f":"IF(I126=\"X\",Meine_Tipps!G53,\"\")","v":""}]
[{"$f":"_xlfn.TEXTJOIN(\" \",TRUE, Deckblatt!$K$10,Deckblatt!$K$9)","v":""},78,"1/16 Finale","1/16 Finale",{"$f":"Meine_Tipps!AC50","v":""},{"$f":"Meine_Tipps!AD50","v":""},{"$f":"Meine_Tipps!AC51","v":0},{"$f":"Meine_Tipps!AD51","v":0},"X",{"$f":"IF(I127=\"X\",Meine_Tipps!AE53,\"\")","v":""}]
[{"$f":"_xlfn.TEXTJOIN(\" \",TRUE, Deckblatt!$K$10,Deckblatt!$K$9)","v":""},79,"1/16 Finale","1/16 Finale",{"$f":"Meine_Tipps!AF50","v":""},{"$f":"Meine_Tipps!AG50","v":""},{"$f":"Meine_Tipps!AF51","v":0},{"$f":"Meine_Tipps!AG51","v":0},"X",{"$f":"IF(I128=\"X\",Meine_Tipps!AH53,\"\")","v":""}]
[{"$f":"_xlfn.TEXTJOIN(\" \",TRUE, Deckblatt!$K$10,Deckblatt!$K$9)","v":""},80,"1/16 Finale","1/16 Finale",{"$f":"Meine_Tipps!AI50","v":""},{"$f":"Meine_Tipps!AJ50","v":""},{"$f":"Meine_Tipps!AI51","v":0},{"$f":"Meine_Tipps!AJ51","v":0},"X",{"$f":"IF(I129=\"X\",Meine_Tipps!AK53,\"\")","v":""}]
[{"$f":"_xlfn.TEXTJOIN(\" \",TRUE, Deckblatt!$K$10,Deckblatt!$K$9)","v":""},81,"1/16 Finale","1/16 Finale",{"$f":"Meine_Tipps!T50","v":""},{"$f":"Meine_Tipps!U50","v":""},{"$f":"Meine_Tipps!T51","v":0},{"$f":"Meine_Tipps!U51","v":0},"X",{"$f":"IF(I130=\"X\",Meine_Tipps!V53,\"\")","v":""}]
[{"$f":"_xlfn.TEXTJOIN(\" \",TRUE, Deckblatt!$K$10,Deckblatt!$K$9)","v":""},82,"1/16 Finale","1/16 Finale",{"$f":"Meine_Tipps!W50","v":""},{"$f":"Meine_Tipps!X50","v":""},{"$f":"Meine_Tipps!W51","v":0},{"$f":"Meine_Tipps!X51","v":0},"X",{"$f":"IF(I131=\"X\",Meine_Tipps!Y53,\"\")","v":""}]
[{"$f":"_xlfn.TEXTJOIN(\" \",TRUE, Deckblatt!$K$10,Deckblatt!$K$9)","v":""},83,"1/16 Finale","1/16 Finale",{"$f":"Meine_Tipps!N50","v":""},{"$f":"Meine_Tipps!O50","v":""},{"$f":"Meine_Tipps!N51","v":0},{"$f":"Meine_Tipps!O51","v":0},"X",{"$f":"IF(I132=\"X\",Meine_Tipps!P53,\"\")","v":""}]
[{"$f":"_xlfn.TEXTJOIN(\" \",TRUE, Deckblatt!$K$10,Deckblatt!$K$9)","v":""},84,"1/16 Finale","1/16 Finale",{"$f":"Meine_Tipps!Q50","v":""},{"$f":"Meine_Tipps!R50","v":""},{"$f":"Meine_Tipps!Q51","v":0},{"$f":"Meine_Tipps!R51","v":0},"X",{"$f":"IF(I133=\"X\",Meine_Tipps!S53,\"\")","v":""}]
[{"$f":"_xlfn.TEXTJOIN(\" \",TRUE, Deckblatt!$K$10,Deckblatt!$K$9)","v":""},85,"1/16 Finale","1/16 Finale",{"$f":"Meine_Tipps!AR50","v":""},{"$f":"Meine_Tipps!AS50","v":""},{"$f":"Meine_Tipps!AR51","v":0},{"$f":"Meine_Tipps!AS51","v":0},"X",{"$f":"IF(I134=\"X\",Meine_Tipps!AT53,\"\")","v":""}]
[{"$f":"_xlfn.TEXTJOIN(\" \",TRUE, Deckblatt!$K$10,Deckblatt!$K$9)","v":""},86,"1/16 Finale","1/16 Finale",{"$f":"Meine_Tipps!AL50","v":""},{"$f":"Meine_Tipps!AM50","v":""},{"$f":"Meine_Tipps!AL51","v":0},{"$f":"Meine_Tipps!AM51","v":0},"X",{"$f":"IF(I135=\"X\",Meine_Tipps!AN53,\"\")","v":""}]
[{"$f":"_xlfn.TEXTJOIN(\" \",TRUE, Deckblatt!$K$10,Deckblatt!$K$9)","v":""},87,"1/16 Finale","1/16 Finale",{"$f":"Meine_Tipps!AU50","v":""},{"$f":"Meine_Tipps!AV50","v":""},{"$f":"Meine_Tipps!AU51","v":0},{"$f":"Meine_Tipps!AV51","v":0},"X",{"$f":"IF(I136=\"X\",Meine_Tipps!AW53,\"\")","v":""}]
[{"$f":"_xlfn.TEXTJOIN(\" \",TRUE, Deckblatt!$K$10,Deckblatt!$K$9)","v":""},88,"1/16 Finale","1/16 Finale",{"$f":"Meine_Tipps!AO50","v":""},{"$f":"Meine_Tipps!AP50","v":""},{"$f":"Meine_Tipps!AO51","v":0},{"$f":"Meine_Tipps!AP51","v":0},"X",{"$f":"IF(I137=\"X\",Meine_Tipps!AQ53,\"\")","v":""}]
[{"$f":"_xlfn.TEXTJOIN(\" \",TRUE, Deckblatt!$K$10,Deckblatt!$K$9)","v":""},89,"1/8 Finale","1/8 Finale",{"$f":"Meine_Tipps!B60","v":""},{"$f":"Meine_Tipps!C60","v":""},{"$f":"Meine_Tipps!B61","v":0},{"$f":"Meine_Tipps!C61","v":0},"X",{"$f":"IF(I138=\"X\",Meine_Tipps!D63,\"\")","v":""}]
[{"$f":"_xlfn.TEXTJOIN(\" \",TRUE, Deckblatt!$K$10,Deckblatt!$K$9)","v":""},90,"1/8 Finale","1/8 Finale",{"$f":"Meine_Tipps!E60","v":""},{"$f":"Meine_Tipps!F60","v":""},{"$f":"Meine_Tipps!E61","v":0},{"$f":"Meine_Tipps!F61","v":0},"X",{"$f":"IF(I139=\"X\",Meine_Tipps!G63,\"\")","v":""}]
[{"$f":"_xlfn.TEXTJOIN(\" \",TRUE, Deckblatt!$K$10,Deckblatt!$K$9)","v":""},91,"1/8 Finale","1/8 Finale",{"$f":"Meine_Tipps!H60","v":""},{"$f":"Meine_Tipps!I60","v":""},{"$f":"Meine_Tipps!H61","v":0},{"$f":"Meine_Tipps!I61","v":0},"X",{"$f":"IF(I140=\"X\",Meine_Tipps!J63,\"\")","v":""}]
[{"$f":"_xlfn.TEXTJOIN(\" \",TRUE, Deckblatt!$K$10,Deckblatt!$K$9)","v":""},92,"1/8 Finale","1/8 Finale",{"$f":"Meine_Tipps!K60","v":""},{"$f":"Meine_Tipps!L60","v":""},{"$f":"Meine_Tipps!K61","v":0},{"$f":"Meine_Tipps!L61","v":0},"X",{"$f":"IF(I141=\"X\",Meine_Tipps!M63,\"\")","v":""}]
[{"$f":"_xlfn.TEXTJOIN(\" \",TRUE, Deckblatt!$K$10,Deckblatt!$K$9)","v":""},93,"1/8 Finale","1/8 Finale",{"$f":"Meine_Tipps!N60","v":""},{"$f":"Meine_Tipps!O60","v":""},{"$f":"Meine_Tipps!N61","v":0},{"$f":"Meine_Tipps!O61","v":0},"X",{"$f":"IF(I142=\"X\",Meine_Tipps!P63,\"\")","v":""}]
[{"$f":"_xlfn.TEXTJOIN(\" \",TRUE, Deckblatt!$K$10,Deckblatt!$K$9)","v":""},94,"1/8 Finale","1/8 Finale",{"$f":"Meine_Tipps!Q60","v":""},{"$f":"Meine_Tipps!R60","v":""},{"$f":"Meine_Tipps!Q61","v":0},{"$f":"Meine_Tipps!R61","v":0},"X",{"$f":"IF(I143=\"X\",Meine_Tipps!S63,\"\")","v":""}]
[{"$f":"_xlfn.TEXTJOIN(\" \",TRUE, Deckblatt!$K$10,Deckblatt!$K$9)","v":""},95,"1/8 Finale","1/8 Finale",{"$f":"Meine_Tipps!T60","v":""},{"$f":"Meine_Tipps!U60","v":""},{"$f":"Meine_Tipps!T61","v":0},{"$f":"Meine_Tipps!U61","v":0},"X",{"$f":"IF(I144=\"X\",Meine_Tipps!V63,\"\")","v":""}]
[{"$f":"_xlfn.TEXTJOIN(\" \",TRUE, Deckblatt!$K$10,Deckblatt!$K$9)","v":""},96,"1/8 Finale","1/8 Finale",{"$f":"Meine_Tipps!W60","v":""},{"$f":"Meine_Tipps!X60","v":""},{"$f":"Meine_Tipps!W61","v":0},{"$f":"Meine_Tipps!X61","v":0},"X",{"$f":"IF(I145=\"X\",Meine_Tipps!Y63,\"\")","v":""}]
[{"$f":"_xlfn.TEXTJOIN(\" \",TRUE, Deckblatt!$K$10,Deckblatt!$K$9)","v":""},97,"1/4 Finale","1/4 Finale",{"$f":"Meine_Tipps!C70","v":""},{"$f":"Meine_Tipps!E70","v":""},{"$f":"Meine_Tipps!C71","v":0},{"$f":"Meine_Tipps!E71","v":0},"X",{"$f":"IF(I146=\"X\",Meine_Tipps!F73,\"\")","v":""}]
[{"$f":"_xlfn.TEXTJOIN(\" \",TRUE, Deckblatt!$K$10,Deckblatt!$K$9)","v":""},98,"1/4 Finale","1/4 Finale",{"$f":"Meine_Tipps!I70","v":""},{"$f":"Meine_Tipps!K70","v":""},{"$f":"Meine_Tipps!I71","v":0},{"$f":"Meine_Tipps!K71","v":0},"X",{"$f":"IF(I147=\"X\",Meine_Tipps!L73,\"\")","v":""}]
[{"$f":"_xlfn.TEXTJOIN(\" \",TRUE, Deckblatt!$K$10,Deckblatt!$K$9)","v":""},99,"1/4 Finale","1/4 Finale",{"$f":"Meine_Tipps!O70","v":""},{"$f":"Meine_Tipps!Q70","v":""},{"$f":"Meine_Tipps!O71","v":0},{"$f":"Meine_Tipps!Q71","v":0},"X",{"$f":"IF(I148=\"X\",Meine_Tipps!R73,\"\")","v":""}]
[{"$f":"_xlfn.TEXTJOIN(\" \",TRUE, Deckblatt!$K$10,Deckblatt!$K$9)","v":""},100,"1/4 Finale","1/4 Finale",{"$f":"Meine_Tipps!U70","v":""},{"$f":"Meine_Tipps!W70","v":""},{"$f":"Meine_Tipps!U71","v":0},{"$f":"Meine_Tipps!W71","v":0},"X",{"$f":"IF(I149=\"X\",Meine_Tipps!X73,\"\")","v":""}]
[{"$f":"_xlfn.TEXTJOIN(\" \",TRUE, Deckblatt!$K$10,Deckblatt!$K$9)","v":""},101,"1/2 Finale","1/2 Finale",{"$f":"Meine_Tipps!F80","v":""},{"$f":"Meine_Tipps!H80","v":""},{"$f":"Meine_Tipps!F81","v":0},{"$f":"Meine_Tipps!H81","v":0},"X",{"$f":"IF(I150=\"X\",Meine_Tipps!I83,\"\")","v":""}]
[{"$f":"_xlfn.TEXTJOIN(\" \",TRUE, Deckblatt!$K$10,Deckblatt!$K$9)","v":""},102,"1/2 Finale","1/2 Finale",{"$f":"Meine_Tipps!R80","v":""},{"$f":"Meine_Tipps!T80","v":""},{"$f":"Meine_Tipps!R81","v":0},{"$f":"Meine_Tipps!T81","v":0},"X",{"$f":"IF(I151=\"X\",Meine_Tipps!U83,\"\")","v":""}]
[{"$f":"_xlfn.TEXTJOIN(\" \",TRUE, Deckblatt!$K$10,Deckblatt!$K$9)","v":""},103,"Spiel um Platz 3","Spiel um Platz 3",{"$f":"Meine_Tipps!L88","v":""},{"$f":"Meine_Tipps!N88","v":""},{"$f":"Meine_Tipps!L89","v":0},{"$f":"Meine_Tipps!N89","v":0},"X",{"$f":"IF(I152=\"X\",Meine_Tipps!O91,\"\")","v":""}]
[{"$f":"_xlfn.TEXTJOIN(\" \",TRUE, Deckblatt!$K$10,Deckblatt!$K$9)","v":""},104,"Finale","Finale",{"$f":"Meine_Tipps!L98","v":""},{"$f":"Meine_Tipps!N98","v":""},{"$f":"Meine_Tipps!L99","v":0},{"$f":"Meine_Tipps!N99","v":0},"X",{"$f":"IF(I153=\"X\",Meine_Tipps!O101,\"\")","v":""}]
[{"$f":"_xlfn.TEXTJOIN(\" \",TRUE, Deckblatt!$K$10,Deckblatt!$K$9)","v":""},105,"Weltmeister","Weltmeister",{"$f":"Meine_Tipps!R98","v":""}]
[{"$f":"_xlfn.TEXTJOIN(\" \",TRUE, Deckblatt!$K$10,Deckblatt!$K$9)","v":""},106,"2. Platz","2. Platz",{"$f":"Meine_Tipps!R103","v":""}]
[{"$f":"_xlfn.TEXTJOIN(\" \",TRUE, Deckblatt!$K$10,Deckblatt!$K$9)","v":""},107,"3. Platz","3. Platz",{"$f":"Meine_Tipps!R108","v":""}]

{"sheet":"Tagesplan","index":3,"n_rows":153,"n_cols":14,"rows_kept":153,"hidden":true,"merged":[[0,1,0,7],[1,12,1,13],[2,6,2,7],[2,12,4,13]]}
[null,{"$f":"Sprache_Tipps!$E$244","v":"Täglicher Spielplan"}]
[{"$nulls":12},{"$f":"Sprache_Tipps!$E$255","v":"Favoriten einfärben"}]
[null,{"$f":"Sprache_Tipps!$E$254","v":"Datum"},{"$f":"Sprache_Tipps!$E$247","v":"Zeit"},{"$f":"Sprache_Tipps!$E$248","v":"Team 1"},{"$f":"Sprache_Tipps!$E$249","v":"Team 2"},{"$f":"Sprache_Tipps!$E$245","v":"Spiel Nr."},{"$f":"Sprache_Tipps!$E$246","v":"Teams"},null,{"$f":"Sprache_Tipps!$E$179","v":"Austragungsort"},{"$f":"Sprache_Tipps!$E$178","v":"Fernsehsender"},null,null,{"$f":"Sprache_Tipps!$E$256","v":"Hier den Gruppencode eingeben"}]
[null,{"$f":"INDEX(Matches_Tipps!$B$4:$J$113,MATCH($F4,Matches_Tipps!$B$4:$B$113,0),5)","v":"2026-06-11T21:00:00"},{"$f":"INDEX(Matches_Tipps!$B$4:$J$113,MATCH($F4,Matches_Tipps!$B$4:$B$113,0),5)","v":46184.875},{"$f":"INDEX(Matches_Tipps!$B$4:$J$113,MATCH($F4,Matches_Tipps!$B$4:$B$113,0),8)","v":"Mexiko"},{"$f":"INDEX(Matches_Tipps!$B$4:$J$113,MATCH($F4,Matches_Tipps!$B$4:$B$113,0),9)","v":"Südafrika"},1,{"$f":"INDEX(Matches_Tipps!$B$4:$J$113,MATCH($F4,Matches_Tipps!$B$4:$B$113,0),2)","v":"A1"},{"$f":"INDEX(Matches_Tipps!$B$4:$J$113,MATCH($F4,Matches_Tipps!$B$4:$B$113,0),3)","v":"A2"},{"$f":"IFERROR(VLOOKUP($F4,Matches_Tipps!$B$4:$H$113,7,0),\"\")","v":"Mexico City"}]
[null,{"$f":"INDEX(Matches_Tipps!$B$4:$J$113,MATCH($F5,Matches_Tipps!$B$4:$B$113,0),5)","v":"2026-06-12T04:00:00"},{"$f":"INDEX(Matches_Tipps!$B$4:$J$113,MATCH($F5,Matches_Tipps!$B$4:$B$113,0),5)","v":46185.166666666664},{"$f":"INDEX(Matches_Tipps!$B$4:$J$113,MATCH($F5,Matches_Tipps!$B$4:$B$113,0),8)","v":"Südkorea"},{"$f":"INDEX(Matches_Tipps!$B$4:$J$113,MATCH($F5,Matches_Tipps!$B$4:$B$113,0),9)","v":"Tschechien"},2,{"$f":"INDEX(Matches_Tipps!$B$4:$J$113,MATCH($F5,Matches_Tipps!$B$4:$B$113,0),2)","v":"A3"},{"$f":"INDEX(Matches_Tipps!$B$4:$J$113,MATCH($F5,Matches_Tipps!$B$4:$B$113,0),3)","v":"A4"},{"$f":"IFERROR(VLOOKUP($F5,Matches_Tipps!$B$4:$H$113,7,0),\"\")","v":"Guadalajara"}]
[{"$nulls":12},"¤"]
[null,{"$f":"INDEX(Matches_Tipps!$B$4:$J$113,MATCH($F7,Matches_Tipps!$B$4:$B$113,0),5)","v":"2026-06-13T03:00:00"},{"$f":"INDEX(Matches_Tipps!$B$4:$J$113,MATCH($F7,Matches_Tipps!$B$4:$B$113,0),5)","v":46186.125},{"$f":"INDEX(Matches_Tipps!$B$4:$J$113,MATCH($F7,Matches_Tipps!$B$4:$B$113,0),8)","v":"USA"},{"$f":"INDEX(Matches_Tipps!$B$4:$J$113,MATCH($F7,Matches_Tipps!$B$4:$B$113,0),9)","v":"Paraguay"},4,{"$f":"INDEX(Matches_Tipps!$B$4:$J$113,MATCH($F7,Matches_Tipps!$B$4:$B$113,0),2)","v":"D1"},{"$f":"INDEX(Matches_Tipps!$B$4:$J$113,MATCH($F7,Matches_Tipps!$B$4:$B$113,0),3)","v":"D2"},{"$f":"IFERROR(VLOOKUP($F7,Matches_Tipps!$B$4:$H$113,7,0),\"\")","v":"Los Angeles"},{"$nulls":4},{"$f":"IFERROR(VLOOKUP(M7,Matches_Tipps!$B$7:$D$65,3,0),\"\")","v":""}]
[null,{"$f":"INDEX(Matches_Tipps!$B$4:$J$113,MATCH($F8,Matches_Tipps!$B$4:$B$113,0),5)","v":"2026-06-12T21:00:00"},{"$f":"INDEX(Matches_Tipps!$B$4:$J$113,MATCH($F8,Matches_Tipps!$B$4:$B$113,0),5)","v":46185.875},{"$f":"INDEX(Matches_Tipps!$B$4:$J$113,MATCH($F8,Matches_Tipps!$B$4:$B$113,0),8)","v":"Kanada"},{"$f":"INDEX(Matches_Tipps!$B$4:$J$113,MATCH($F8,Matches_Tipps!$B$4:$B$113,0),9)","v":"Bosnien-Herzeg."},3,{"$f":"INDEX(Matches_Tipps!$B$4:$J$113,MATCH($F8,Matches_Tipps!$B$4:$B$113,0),2)","v":"B1"},{"$f":"INDEX(Matches_Tipps!$B$4:$J$113,MATCH($F8,Matches_Tipps!$B$4:$B$113,0),3)","v":"B2"},{"$f":"IFERROR(VLOOKUP($F8,Matches_Tipps!$B$4:$H$113,7,0),\"\")","v":"Toronto"},{"$nulls":3},"A1",{"$f":"IFERROR(VLOOKUP(M8,Matches_Tipps!$B$7:$D$65,3,0),\"\")","v":""}]
[null,{"$f":"INDEX(Matches_Tipps!$B$4:$J$113,MATCH($F9,Matches_Tipps!$B$4:$B$113,0),5)","v":"2026-06-14T03:00:00"},{"$f":"INDEX(Matches_Tipps!$B$4:$J$113,MATCH($F9,Matches_Tipps!$B$4:$B$113,0),5)","v":46187.125},{"$f":"INDEX(Matches_Tipps!$B$4:$J$113,MATCH($F9,Matches_Tipps!$B$4:$B$113,0),8)","v":"Haiti"},{"$f":"INDEX(Matches_Tipps!$B$4:$J$113,MATCH($F9,Matches_Tipps!$B$4:$B$113,0),9)","v":"Schottland"},5,{"$f":"INDEX(Matches_Tipps!$B$4:$J$113,MATCH($F9,Matches_Tipps!$B$4:$B$113,0),2)","v":"C3"},{"$f":"INDEX(Matches_Tipps!$B$4:$J$113,MATCH($F9,Matches_Tipps!$B$4:$B$113,0),3)","v":"C4"},{"$f":"IFERROR(VLOOKUP($F9,Matches_Tipps!$B$4:$H$113,7,0),\"\")","v":"Boston"},{"$nulls":3},"B1",{"$f":"IFERROR(VLOOKUP(M9,Matches_Tipps!$B$7:$D$65,3,0),\"\")","v":""}]
[{"$nulls":12},"D1",{"$f":"IFERROR(VLOOKUP(M10,Matches_Tipps!$B$7:$D$65,3,0),\"\")","v":""}]
[null,{"$f":"INDEX(Matches_Tipps!$B$4:$J$113,MATCH($F11,Matches_Tipps!$B$4:$B$113,0),5)","v":"2026-06-15T01:00:00"},{"$f":"INDEX(Matches_Tipps!$B$4:$J$113,MATCH($F11,Matches_Tipps!$B$4:$B$113,0),5)","v":46188.041666666664},{"$f":"INDEX(Matches_Tipps!$B$4:$J$113,MATCH($F11,Matches_Tipps!$B$4:$B$113,0),8)","v":"Elfenbeinküste"},{"$f":"INDEX(Matches_Tipps!$B$4:$J$113,MATCH($F11,Matches_Tipps!$B$4:$B$113,0),9)","v":"Ecuador"},9,{"$f":"INDEX(Matches_Tipps!$B$4:$J$113,MATCH($F11,Matches_Tipps!$B$4:$B$113,0),2)","v":"E3"},{"$f":"INDEX(Matches_Tipps!$B$4:$J$113,MATCH($F11,Matches_Tipps!$B$4:$B$113,0),3)","v":"E4"},{"$f":"IFERROR(VLOOKUP($F11,Matches_Tipps!$B$4:$H$113,7,0),\"\")","v":"Philadelphia"}]
[null,{"$f":"INDEX(Matches_Tipps!$B$4:$J$113,MATCH($F12,Matches_Tipps!$B$4:$B$113,0),5)","v":"2026-06-14T06:00:00"},{"$f":"INDEX(Matches_Tipps!$B$4:$J$113,MATCH($F12,Matches_Tipps!$B$4:$B$113,0),5)","v":46187.25},{"$f":"INDEX(Matches_Tipps!$B$4:$J$113,MATCH($F12,Matches_Tipps!$B$4:$B$113,0),8)","v":"Australien"},{"$f":"INDEX(Matches_Tipps!$B$4:$J$113,MATCH($F12,Matches_Tipps!$B$4:$B$113,0),9)","v":"Türkei"},6,{"$f":"INDEX(Matches_Tipps!$B$4:$J$113,MATCH($F12,Matches_Tipps!$B$4:$B$113,0),2)","v":"D3"},{"$f":"INDEX(Matches_Tipps!$B$4:$J$113,MATCH($F12,Matches_Tipps!$B$4:$B$113,0),3)","v":"D4"},{"$f":"IFERROR(VLOOKUP($F12,Matches_Tipps!$B$4:$H$113,7,0),\"\")","v":"Vancouver"}]
[null,{"$f":"INDEX(Matches_Tipps!$B$4:$J$113,MATCH($F13,Matches_Tipps!$B$4:$B$113,0),5)","v":"2026-06-14"},{"$f":"INDEX(Matches_Tipps!$B$4:$J$113,MATCH($F13,Matches_Tipps!$B$4:$B$113,0),5)","v":46187},{"$f":"INDEX(Matches_Tipps!$B$4:$J$113,MATCH($F13,Matches_Tipps!$B$4:$B$113,0),8)","v":"Brasilien"},{"$f":"INDEX(Matches_Tipps!$B$4:$J$113,MATCH($F13,Matches_Tipps!$B$4:$B$113,0),9)","v":"Marokko"},7,{"$f":"INDEX(Matches_Tipps!$B$4:$J$113,MATCH($F13,Matches_Tipps!$B$4:$B$113,0),2)","v":"C1"},{"$f":"INDEX(Matches_Tipps!$B$4:$J$113,MATCH($F13,Matches_Tipps!$B$4:$B$113,0),3)","v":"C2"},{"$f":"IFERROR(VLOOKUP($F13,Matches_Tipps!$B$4:$H$113,7,0),\"\")","v":"New York/New Jersey"}]
[null,{"$f":"INDEX(Matches_Tipps!$B$4:$J$113,MATCH($F14,Matches_Tipps!$B$4:$B$113,0),5)","v":"2026-06-13T21:00:00"},{"$f":"INDEX(Matches_Tipps!$B$4:$J$113,MATCH($F14,Matches_Tipps!$B$4:$B$113,0),5)","v":46186.875},{"$f":"INDEX(Matches_Tipps!$B$4:$J$113,MATCH($F14,Matches_Tipps!$B$4:$B$113,0),8)","v":"Katar"},{"$f":"INDEX(Matches_Tipps!$B$4:$J$113,MATCH($F14,Matches_Tipps!$B$4:$B$113,0),9)","v":"Schweiz"},8,{"$f":"INDEX(Matches_Tipps!$B$4:$J$113,MATCH($F14,Matches_Tipps!$B$4:$B$113,0),2)","v":"B3"},{"$f":"INDEX(Matches_Tipps!$B$4:$J$113,MATCH($F14,Matches_Tipps!$B$4:$B$113,0),3)","v":"B4"},{"$f":"IFERROR(VLOOKUP($F14,Matches_Tipps!$B$4:$H$113,7,0),\"\")","v":"San Francisco Bay Area"}]
[]
[null,{"$f":"INDEX(Matches_Tipps!$B$4:$J$113,MATCH($F16,Matches_Tipps!$B$4:$B$113,0),5)","v":"2026-06-15T04:00:00"},{"$f":"INDEX(Matches_Tipps!$B$4:$J$113,MATCH($F16,Matches_Tipps!$B$4:$B$113,0),5)","v":46188.166666666664},{"$f":"INDEX(Matches_Tipps!$B$4:$J$113,MATCH($F16,Matches_Tipps!$B$4:$B$113,0),8)","v":"Schweden"},{"$f":"INDEX(Matches_Tipps!$B$4:$J$113,MATCH($F16,Matches_Tipps!$B$4:$B$113,0),9)","v":"Tunesien"},12,{"$f":"INDEX(Matches_Tipps!$B$4:$J$113,MATCH($F16,Matches_Tipps!$B$4:$B$113,0),2)","v":"F3"},{"$f":"INDEX(Matches_Tipps!$B$4:$J$113,MATCH($F16,Matches_Tipps!$B$4:$B$113,0),3)","v":"F4"},{"$f":"IFERROR(VLOOKUP($F16,Matches_Tipps!$B$4:$H$113,7,0),\"\")","v":"Monterrey"}]
[null,{"$f":"INDEX(Matches_Tipps!$B$4:$J$113,MATCH($F17,Matches_Tipps!$B$4:$B$113,0),5)","v":"2026-06-14T19:00:00"},{"$f":"INDEX(Matches_Tipps!$B$4:$J$113,MATCH($F17,Matches_Tipps!$B$4:$B$113,0),5)","v":46187.791666666664},{"$f":"INDEX(Matches_Tipps!$B$4:$J$113,MATCH($F17,Matches_Tipps!$B$4:$B$113,0),8)","v":"Deutschland"},{"$f":"INDEX(Matches_Tipps!$B$4:$J$113,MATCH($F17,Matches_Tipps!$B$4:$B$113,0),9)","v":"Curacao"},10,{"$f":"INDEX(Matches_Tipps!$B$4:$J$113,MATCH($F17,Matches_Tipps!$B$4:$B$113,0),2)","v":"E1"},{"$f":"INDEX(Matches_Tipps!$B$4:$J$113,MATCH($F17,Matches_Tipps!$B$4:$B$113,0),3)","v":"E2"},{"$f":"IFERROR(VLOOKUP($F17,Matches_Tipps!$B$4:$H$113,7,0),\"\")","v":"Houston"}]
[null,{"$f":"INDEX(Matches_Tipps!$B$4:$J$113,MATCH($F18,Matches_Tipps!$B$4:$B$113,0),5)","v":"2026-06-14T22:00:00"},{"$f":"INDEX(Matches_Tipps!$B$4:$J$113,MATCH($F18,Matches_Tipps!$B$4:$B$113,0),5)","v":46187.916666666664},{"$f":"INDEX(Matches_Tipps!$B$4:$J$113,MATCH($F18,Matches_Tipps!$B$4:$B$113,0),8)","v":"Niederlande"},{"$f":"INDEX(Matches_Tipps!$B$4:$J$113,MATCH($F18,Matches_Tipps!$B$4:$B$113,0),9)","v":"Japan"},11,{"$f":"INDEX(Matches_Tipps!$B$4:$J$113,MATCH($F18,Matches_Tipps!$B$4:$B$113,0),2)","v":"F1"},{"$f":"INDEX(Matches_Tipps!$B$4:$J$113,MATCH($F18,Matches_Tipps!$B$4:$B$113,0),3)","v":"F2"},{"$f":"IFERROR(VLOOKUP($F18,Matches_Tipps!$B$4:$H$113,7,0),\"\")","v":"Dallas"}]
[]
[null,{"$f":"INDEX(Matches_Tipps!$B$4:$J$113,MATCH($F20,Matches_Tipps!$B$4:$B$113,0),5)","v":"2026-06-15T18:00:00"},{"$f":"INDEX(Matches_Tipps!$B$4:$J$113,MATCH($F20,Matches_Tipps!$B$4:$B$113,0),5)","v":46188.75},{"$f":"INDEX(Matches_Tipps!$B$4:$J$113,MATCH($F20,Matches_Tipps!$B$4:$B$113,0),8)","v":"Spanien"},{"$f":"INDEX(Matches_Tipps!$B$4:$J$113,MATCH($F20,Matches_Tipps!$B$4:$B$113,0),9)","v":"Kapverde"},14,{"$f":"INDEX(Matches_Tipps!$B$4:$J$113,MATCH($F20,Matches_Tipps!$B$4:$B$113,0),2)","v":"H1"},{"$f":"INDEX(Matches_Tipps!$B$4:$J$113,MATCH($F20,Matches_Tipps!$B$4:$B$113,0),3)","v":"H2"},{"$f":"IFERROR(VLOOKUP($F20,Matches_Tipps!$B$4:$H$113,7,0),\"\")","v":"Atlanta"}]
[null,{"$f":"INDEX(Matches_Tipps!$B$4:$J$113,MATCH($F21,Matches_Tipps!$B$4:$B$113,0),5)","v":"2026-06-16T03:00:00"},{"$f":"INDEX(Matches_Tipps!$B$4:$J$113,MATCH($F21,Matches_Tipps!$B$4:$B$113,0),5)","v":46189.125},{"$f":"INDEX(Matches_Tipps!$B$4:$J$113,MATCH($F21,Matches_Tipps!$B$4:$B$113,0),8)","v":"Iran"},{"$f":"INDEX(Matches_Tipps!$B$4:$J$113,MATCH($F21,Matches_Tipps!$B$4:$B$113,0),9)","v":"Neuseeland"},15,{"$f":"INDEX(Matches_Tipps!$B$4:$J$113,MATCH($F21,Matches_Tipps!$B$4:$B$113,0),2)","v":"G3"},{"$f":"INDEX(Matches_Tipps!$B$4:$J$113,MATCH($F21,Matches_Tipps!$B$4:$B$113,0),3)","v":"G4"},{"$f":"IFERROR(VLOOKUP($F21,Matches_Tipps!$B$4:$H$113,7,0),\"\")","v":"Los Angeles"}]
[null,{"$f":"INDEX(Matches_Tipps!$B$4:$J$113,MATCH($F22,Matches_Tipps!$B$4:$B$113,0),5)","v":"2026-06-16"},{"$f":"INDEX(Matches_Tipps!$B$4:$J$113,MATCH($F22,Matches_Tipps!$B$4:$B$113,0),5)","v":46189},{"$f":"INDEX(Matches_Tipps!$B$4:$J$113,MATCH($F22,Matches_Tipps!$B$4:$B$113,0),8)","v":"Saudiarabien"},{"$f":"INDEX(Matches_Tipps!$B$4:$J$113,MATCH($F22,Matches_Tipps!$B$4:$B$113,0),9)","v":"Uruguay"},13,{"$f":"INDEX(Matches_Tipps!$B$4:$J$113,MATCH($F22,Matches_Tipps!$B$4:$B$113,0),2)","v":"H3"},{"$f":"INDEX(Matches_Tipps!$B$4:$J$113,MATCH($F22,Matches_Tipps!$B$4:$B$113,0),3)","v":"H4"},{"$f":"IFERROR(VLOOKUP($F22,Matches_Tipps!$B$4:$H$113,7,0),\"\")","v":"Miami"}]
[]
[null,{"$f":"INDEX(Matches_Tipps!$B$4:$J$113,MATCH($F24,Matches_Tipps!$B$4:$B$113,0),5)","v":"2026-06-15T21:00:00"},{"$f":"INDEX(Matches_Tipps!$B$4:$J$113,MATCH($F24,Matches_Tipps!$B$4:$B$113,0),5)","v":46188.875},{"$f":"INDEX(Matches_Tipps!$B$4:$J$113,MATCH($F24,Matches_Tipps!$B$4:$B$113,0),8)","v":"Belgien"},{"$f":"INDEX(Matches_Tipps!$B$4:$J$113,MATCH($F24,Matches_Tipps!$B$4:$B$113,0),9)","v":"Ägypten"},16,{"$f":"INDEX(Matches_Tipps!$B$4:$J$113,MATCH($F24,Matches_Tipps!$B$4:$B$113,0),2)","v":"G1"},{"$f":"INDEX(Matches_Tipps!$B$4:$J$113,MATCH($F24,Matches_Tipps!$B$4:$B$113,0),3)","v":"G2"},{"$f":"IFERROR(VLOOKUP($F24,Matches_Tipps!$B$4:$H$113,7,0),\"\")","v":"Seattle"}]
[null,{"$f":"INDEX(Matches_Tipps!$B$4:$J$113,MATCH($F25,Matches_Tipps!$B$4:$B$113,0),5)","v":"2026-06-16T21:00:00"},{"$f":"INDEX(Matches_Tipps!$B$4:$J$113,MATCH($F25,Matches_Tipps!$B$4:$B$113,0),5)","v":46189.875},{"$f":"INDEX(Matches_Tipps!$B$4:$J$113,MATCH($F25,Matches_Tipps!$B$4:$B$113,0),8)","v":"Frankreich"},{"$f":"INDEX(Matches_Tipps!$B$4:$J$113,MATCH($F25,Matches_Tipps!$B$4:$B$113,0),9)","v":"Senegal"},17,{"$f":"INDEX(Matches_Tipps!$B$4:$J$113,MATCH($F25,Matches_Tipps!$B$4:$B$113,0),2)","v":"I1"},{"$f":"INDEX(Matches_Tipps!$B$4:$J$113,MATCH($F25,Matches_Tipps!$B$4:$B$113,0),3)","v":"I2"},{"$f":"IFERROR(VLOOKUP($F25,Matches_Tipps!$B$4:$H$113,7,0),\"\")","v":"New York/New Jersey"}]
[null,{"$f":"INDEX(Matches_Tipps!$B$4:$J$113,MATCH($F26,Matches_Tipps!$B$4:$B$113,0),5)","v":"2026-06-17"},{"$f":"INDEX(Matches_Tipps!$B$4:$J$113,MATCH($F26,Matches_Tipps!$B$4:$B$113,0),5)","v":46190},{"$f":"INDEX(Matches_Tipps!$B$4:$J$113,MATCH($F26,Matches_Tipps!$B$4:$B$113,0),8)","v":"Irak"},{"$f":"INDEX(Matches_Tipps!$B$4:$J$113,MATCH($F26,Matches_Tipps!$B$4:$B$113,0),9)","v":"Norwegen"},18,{"$f":"INDEX(Matches_Tipps!$B$4:$J$113,MATCH($F26,Matches_Tipps!$B$4:$B$113,0),2)","v":"I3"},{"$f":"INDEX(Matches_Tipps!$B$4:$J$113,MATCH($F26,Matches_Tipps!$B$4:$B$113,0),3)","v":"I4"},{"$f":"IFERROR(VLOOKUP($F26,Matches_Tipps!$B$4:$H$113,7,0),\"\")","v":"Boston"}]
[]
[null,{"$f":"INDEX(Matches_Tipps!$B$4:$J$113,MATCH($F28,Matches_Tipps!$B$4:$B$113,0),5)","v":"2026-06-18T01:00:00"},{"$f":"INDEX(Matches_Tipps!$B$4:$J$113,MATCH($F28,Matches_Tipps!$B$4:$B$113,0),5)","v":46191.041666666664},{"$f":"INDEX(Matches_Tipps!$B$4:$J$113,MATCH($F28,Matches_Tipps!$B$4:$B$113,0),8)","v":"Ghana"},{"$f":"INDEX(Matches_Tipps!$B$4:$J$113,MATCH($F28,Matches_Tipps!$B$4:$B$113,0),9)","v":"Panama"},21,{"$f":"INDEX(Matches_Tipps!$B$4:$J$113,MATCH($F28,Matches_Tipps!$B$4:$B$113,0),2)","v":"L3"},{"$f":"INDEX(Matches_Tipps!$B$4:$J$113,MATCH($F28,Matches_Tipps!$B$4:$B$113,0),3)","v":"L4"},{"$f":"IFERROR(VLOOKUP($F28,Matches_Tipps!$B$4:$H$113,7,0),\"\")","v":"Toronto"}]
[null,{"$f":"INDEX(Matches_Tipps!$B$4:$J$113,MATCH($F29,Matches_Tipps!$B$4:$B$113,0),5)","v":"2026-06-17T06:00:00"},{"$f":"INDEX(Matches_Tipps!$B$4:$J$113,MATCH($F29,Matches_Tipps!$B$4:$B$113,0),5)","v":46190.25},{"$f":"INDEX(Matches_Tipps!$B$4:$J$113,MATCH($F29,Matches_Tipps!$B$4:$B$113,0),8)","v":"Österreich"},{"$f":"INDEX(Matches_Tipps!$B$4:$J$113,MATCH($F29,Matches_Tipps!$B$4:$B$113,0),9)","v":"Jordanien"},20,{"$f":"INDEX(Matches_Tipps!$B$4:$J$113,MATCH($F29,Matches_Tipps!$B$4:$B$113,0),2)","v":"J3"},{"$f":"INDEX(Matches_Tipps!$B$4:$J$113,MATCH($F29,Matches_Tipps!$B$4:$B$113,0),3)","v":"J4"},{"$f":"IFERROR(VLOOKUP($F29,Matches_Tipps!$B$4:$H$113,7,0),\"\")","v":"San Francisco Bay Area"}]
[null,{"$f":"INDEX(Matches_Tipps!$B$4:$J$113,MATCH($F30,Matches_Tipps!$B$4:$B$113,0),5)","v":"2026-06-17T03:00:00"},{"$f":"INDEX(Matches_Tipps!$B$4:$J$113,MATCH($F30,Matches_Tipps!$B$4:$B$113,0),5)","v":46190.125},{"$f":"INDEX(Matches_Tipps!$B$4:$J$113,MATCH($F30,Matches_Tipps!$B$4:$B$113,0),8)","v":"Argentinien"},{"$f":"INDEX(Matches_Tipps!$B$4:$J$113,MATCH($F30,Matches_Tipps!$B$4:$B$113,0),9)","v":"Algerien"},19,{"$f":"INDEX(Matches_Tipps!$B$4:$J$113,MATCH($F30,Matches_Tipps!$B$4:$B$113,0),2)","v":"J1"},{"$f":"INDEX(Matches_Tipps!$B$4:$J$113,MATCH($F30,Matches_Tipps!$B$4:$B$113,0),3)","v":"J2"},{"$f":"IFERROR(VLOOKUP($F30,Matches_Tipps!$B$4:$H$113,7,0),\"\")","v":"Kansas City"}]
[]
[null,{"$f":"INDEX(Matches_Tipps!$B$4:$J$113,MATCH($F32,Matches_Tipps!$B$4:$B$113,0),5)","v":"2026-06-17T19:00:00"},{"$f":"INDEX(Matches_Tipps!$B$4:$J$113,MATCH($F32,Matches_Tipps!$B$4:$B$113,0),5)","v":46190.791666666664},{"$f":"INDEX(Matches_Tipps!$B$4:$J$113,MATCH($F32,Matches_Tipps!$B$4:$B$113,0),8)","v":"Portugal"},{"$f":"INDEX(Matches_Tipps!$B$4:$J$113,MATCH($F32,Matches_Tipps!$B$4:$B$113,0),9)","v":"DR Kongo"},23,{"$f":"INDEX(Matches_Tipps!$B$4:$J$113,MATCH($F32,Matches_Tipps!$B$4:$B$113,0),2)","v":"K1"},{"$f":"INDEX(Matches_Tipps!$B$4:$J$113,MATCH($F32,Matches_Tipps!$B$4:$B$113,0),3)","v":"K2"},{"$f":"IFERROR(VLOOKUP($F32,Matches_Tipps!$B$4:$H$113,7,0),\"\")","v":"Houston"}]
[null,{"$f":"INDEX(Matches_Tipps!$B$4:$J$113,MATCH($F33,Matches_Tipps!$B$4:$B$113,0),5)","v":"2026-06-18T04:00:00"},{"$f":"INDEX(Matches_Tipps!$B$4:$J$113,MATCH($F33,Matches_Tipps!$B$4:$B$113,0),5)","v":46191.166666666664},{"$f":"INDEX(Matches_Tipps!$B$4:$J$113,MATCH($F33,Matches_Tipps!$B$4:$B$113,0),8)","v":"Usbekistan"},{"$f":"INDEX(Matches_Tipps!$B$4:$J$113,MATCH($F33,Matches_Tipps!$B$4:$B$113,0),9)","v":"Kolumbien"},24,{"$f":"INDEX(Matches_Tipps!$B$4:$J$113,MATCH($F33,Matches_Tipps!$B$4:$B$113,0),2)","v":"K3"},{"$f":"INDEX(Matches_Tipps!$B$4:$J$113,MATCH($F33,Matches_Tipps!$B$4:$B$113,0),3)","v":"K4"},{"$f":"IFERROR(VLOOKUP($F33,Matches_Tipps!$B$4:$H$113,7,0),\"\")","v":"Mexico City"}]
[null,{"$f":"INDEX(Matches_Tipps!$B$4:$J$113,MATCH($F34,Matches_Tipps!$B$4:$B$113,0),5)","v":"2026-06-17T22:00:00"},{"$f":"INDEX(Matches_Tipps!$B$4:$J$113,MATCH($F34,Matches_Tipps!$B$4:$B$113,0),5)","v":46190.916666666664},{"$f":"INDEX(Matches_Tipps!$B$4:$J$113,MATCH($F34,Matches_Tipps!$B$4:$B$113,0),8)","v":"England"},{"$f":"INDEX(Matches_Tipps!$B$4:$J$113,MATCH($F34,Matches_Tipps!$B$4:$B$113,0),9)","v":"Kroatien"},22,{"$f":"INDEX(Matches_Tipps!$B$4:$J$113,MATCH($F34,Matches_Tipps!$B$4:$B$113,0),2)","v":"L1"},{"$f":"INDEX(Matches_Tipps!$B$4:$J$113,MATCH($F34,Matches_Tipps!$B$4:$B$113,0),3)","v":"L2"},{"$f":"IFERROR(VLOOKUP($F34,Matches_Tipps!$B$4:$H$113,7,0),\"\")","v":"Dallas"}]
[]
[null,{"$f":"INDEX(Matches_Tipps!$B$4:$J$113,MATCH($F36,Matches_Tipps!$B$4:$B$113,0),5)","v":"2026-06-19"},{"$f":"INDEX(Matches_Tipps!$B$4:$J$113,MATCH($F36,Matches_Tipps!$B$4:$B$113,0),5)","v":46192},{"$f":"INDEX(Matches_Tipps!$B$4:$J$113,MATCH($F36,Matches_Tipps!$B$4:$B$113,0),8)","v":"Kanada"},{"$f":"INDEX(Matches_Tipps!$B$4:$J$113,MATCH($F36,Matches_Tipps!$B$4:$B$113,0),9)","v":"Katar"},27,{"$f":"INDEX(Matches_Tipps!$B$4:$J$113,MATCH($F36,Matches_Tipps!$B$4:$B$113,0),2)","v":"B1"},{"$f":"INDEX(Matches_Tipps!$B$4:$J$113,MATCH($F36,Matches_Tipps!$B$4:$B$113,0),3)","v":"B3"},{"$f":"IFERROR(VLOOKUP($F36,Matches_Tipps!$B$4:$H$113,7,0),\"\")","v":"Vancouver"}]
[null,{"$f":"INDEX(Matches_Tipps!$B$4:$J$113,MATCH($F37,Matches_Tipps!$B$4:$B$113,0),5)","v":"2026-06-18T18:00:00"},{"$f":"INDEX(Matches_Tipps!$B$4:$J$113,MATCH($F37,Matches_Tipps!$B$4:$B$113,0),5)","v":46191.75},{"$f":"INDEX(Matches_Tipps!$B$4:$J$113,MATCH($F37,Matches_Tipps!$B$4:$B$113,0),8)","v":"Tschechien"},{"$f":"INDEX(Matches_Tipps!$B$4:$J$113,MATCH($F37,Matches_Tipps!$B$4:$B$113,0),9)","v":"Südafrika"},25,{"$f":"INDEX(Matches_Tipps!$B$4:$J$113,MATCH($F37,Matches_Tipps!$B$4:$B$113,0),2)","v":"A4"},{"$f":"INDEX(Matches_Tipps!$B$4:$J$113,MATCH($F37,Matches_Tipps!$B$4:$B$113,0),3)","v":"A2"},{"$f":"IFERROR(VLOOKUP($F37,Matches_Tipps!$B$4:$H$113,7,0),\"\")","v":"Atlanta"}]
[null,{"$f":"INDEX(Matches_Tipps!$B$4:$J$113,MATCH($F38,Matches_Tipps!$B$4:$B$113,0),5)","v":"2026-06-18T21:00:00"},{"$f":"INDEX(Matches_Tipps!$B$4:$J$113,MATCH($F38,Matches_Tipps!$B$4:$B$113,0),5)","v":46191.875},{"$f":"INDEX(Matches_Tipps!$B$4:$J$113,MATCH($F38,Matches_Tipps!$B$4:$B$113,0),8)","v":"Schweiz"},{"$f":"INDEX(Matches_Tipps!$B$4:$J$113,MATCH($F38,Matches_Tipps!$B$4:$B$113,0),9)","v":"Bosnien-Herzeg."},26,{"$f":"INDEX(Matches_Tipps!$B$4:$J$113,MATCH($F38,Matches_Tipps!$B$4:$B$113,0),2)","v":"B4"},{"$f":"INDEX(Matches_Tipps!$B$4:$J$113,MATCH($F38,Matches_Tipps!$B$4:$B$113,0),3)","v":"B2"},{"$f":"IFERROR(VLOOKUP($F38,Matches_Tipps!$B$4:$H$113,7,0),\"\")","v":"Los Angeles"}]
[]
[null,{"$f":"INDEX(Matches_Tipps!$B$4:$J$113,MATCH($F40,Matches_Tipps!$B$4:$B$113,0),5)","v":"2026-06-20"},{"$f":"INDEX(Matches_Tipps!$B$4:$J$113,MATCH($F40,Matches_Tipps!$B$4:$B$113,0),5)","v":46193},{"$f":"INDEX(Matches_Tipps!$B$4:$J$113,MATCH($F40,Matches_Tipps!$B$4:$B$113,0),8)","v":"Schottland"},{"$f":"INDEX(Matches_Tipps!$B$4:$J$113,MATCH($F40,Matches_Tipps!$B$4:$B$113,0),9)","v":"Marokko"},30,{"$f":"INDEX(Matches_Tipps!$B$4:$J$113,MATCH($F40,Matches_Tipps!$B$4:$B$113,0),2)","v":"C4"},{"$f":"INDEX(Matches_Tipps!$B$4:$J$113,MATCH($F40,Matches_Tipps!$B$4:$B$113,0),3)","v":"C2"},{"$f":"IFERROR(VLOOKUP($F40,Matches_Tipps!$B$4:$H$113,7,0),\"\")","v":"Boston"}]
[null,{"$f":"INDEX(Matches_Tipps!$B$4:$J$113,MATCH($F41,Matches_Tipps!$B$4:$B$113,0),5)","v":"2026-06-19T03:00:00"},{"$f":"INDEX(Matches_Tipps!$B$4:$J$113,MATCH($F41,Matches_Tipps!$B$4:$B$113,0),5)","v":46192.125},{"$f":"INDEX(Matches_Tipps!$B$4:$J$113,MATCH($F41,Matches_Tipps!$B$4:$B$113,0),8)","v":"Mexiko"},{"$f":"INDEX(Matches_Tipps!$B$4:$J$113,MATCH($F41,Matches_Tipps!$B$4:$B$113,0),9)","v":"Südkorea"},28,{"$f":"INDEX(Matches_Tipps!$B$4:$J$113,MATCH($F41,Matches_Tipps!$B$4:$B$113,0),2)","v":"A1"},{"$f":"INDEX(Matches_Tipps!$B$4:$J$113,MATCH($F41,Matches_Tipps!$B$4:$B$113,0),3)","v":"A3"},{"$f":"IFERROR(VLOOKUP($F41,Matches_Tipps!$B$4:$H$113,7,0),\"\")","v":"Guadalajara"}]
[null,{"$f":"INDEX(Matches_Tipps!$B$4:$J$113,MATCH($F42,Matches_Tipps!$B$4:$B$113,0),5)","v":"2026-06-20T02:30:00"},{"$f":"INDEX(Matches_Tipps!$B$4:$J$113,MATCH($F42,Matches_Tipps!$B$4:$B$113,0),5)","v":46193.104166666664},{"$f":"INDEX(Matches_Tipps!$B$4:$J$113,MATCH($F42,Matches_Tipps!$B$4:$B$113,0),8)","v":"Brasilien"},{"$f":"INDEX(Matches_Tipps!$B$4:$J$113,MATCH($F42,Matches_Tipps!$B$4:$B$113,0),9)","v":"Haiti"},29,{"$f":"INDEX(Matches_Tipps!$B$4:$J$113,MATCH($F42,Matches_Tipps!$B$4:$B$113,0),2)","v":"C1"},{"$f":"INDEX(Matches_Tipps!$B$4:$J$113,MATCH($F42,Matches_Tipps!$B$4:$B$113,0),3)","v":"C3"},{"$f":"IFERROR(VLOOKUP($F42,Matches_Tipps!$B$4:$H$113,7,0),\"\")","v":"Philadelphia"}]
[]
[null,{"$f":"INDEX(Matches_Tipps!$B$4:$J$113,MATCH($F44,Matches_Tipps!$B$4:$B$113,0),5)","v":"2026-06-19T21:00:00"},{"$f":"INDEX(Matches_Tipps!$B$4:$J$113,MATCH($F44,Matches_Tipps!$B$4:$B$113,0),5)","v":46192.875},{"$f":"INDEX(Matches_Tipps!$B$4:$J$113,MATCH($F44,Matches_Tipps!$B$4:$B$113,0),8)","v":"USA"},{"$f":"INDEX(Matches_Tipps!$B$4:$J$113,MATCH($F44,Matches_Tipps!$B$4:$B$113,0),9)","v":"Australien"},32,{"$f":"INDEX(Matches_Tipps!$B$4:$J$113,MATCH($F44,Matches_Tipps!$B$4:$B$113,0),2)","v":"D1"},{"$f":"INDEX(Matches_Tipps!$B$4:$J$113,MATCH($F44,Matches_Tipps!$B$4:$B$113,0),3)","v":"D3"},{"$f":"IFERROR(VLOOKUP($F44,Matches_Tipps!$B$4:$H$113,7,0),\"\")","v":"Seattle"}]
[null,{"$f":"INDEX(Matches_Tipps!$B$4:$J$113,MATCH($F45,Matches_Tipps!$B$4:$B$113,0),5)","v":"2026-06-20T22:00:00"},{"$f":"INDEX(Matches_Tipps!$B$4:$J$113,MATCH($F45,Matches_Tipps!$B$4:$B$113,0),5)","v":46193.916666666664},{"$f":"INDEX(Matches_Tipps!$B$4:$J$113,MATCH($F45,Matches_Tipps!$B$4:$B$113,0),8)","v":"Deutschland"},{"$f":"INDEX(Matches_Tipps!$B$4:$J$113,MATCH($F45,Matches_Tipps!$B$4:$B$113,0),9)","v":"Elfenbeinküste"},33,{"$f":"INDEX(Matches_Tipps!$B$4:$J$113,MATCH($F45,Matches_Tipps!$B$4:$B$113,0),2)","v":"E1"},{"$f":"INDEX(Matches_Tipps!$B$4:$J$113,MATCH($F45,Matches_Tipps!$B$4:$B$113,0),3)","v":"E3"},{"$f":"IFERROR(VLOOKUP($F45,Matches_Tipps!$B$4:$H$113,7,0),\"\")","v":"Toronto"}]
[null,{"$f":"INDEX(Matches_Tipps!$B$4:$J$113,MATCH($F46,Matches_Tipps!$B$4:$B$113,0),5)","v":"2026-06-21T02:00:00"},{"$f":"INDEX(Matches_Tipps!$B$4:$J$113,MATCH($F46,Matches_Tipps!$B$4:$B$113,0),5)","v":46194.083333333336},{"$f":"INDEX(Matches_Tipps!$B$4:$J$113,MATCH($F46,Matches_Tipps!$B$4:$B$113,0),8)","v":"Ecuador"},{"$f":"INDEX(Matches_Tipps!$B$4:$J$113,MATCH($F46,Matches_Tipps!$B$4:$B$113,0),9)","v":"Curacao"},34,{"$f":"INDEX(Matches_Tipps!$B$4:$J$113,MATCH($F46,Matches_Tipps!$B$4:$B$113,0),2)","v":"E4"},{"$f":"INDEX(Matches_Tipps!$B$4:$J$113,MATCH($F46,Matches_Tipps!$B$4:$B$113,0),3)","v":"E2"},{"$f":"IFERROR(VLOOKUP($F46,Matches_Tipps!$B$4:$H$113,7,0),\"\")","v":"Kansas City"}]
[null,{"$f":"INDEX(Matches_Tipps!$B$4:$J$113,MATCH($F47,Matches_Tipps!$B$4:$B$113,0),5)","v":"2026-06-20T05:00:00"},{"$f":"INDEX(Matches_Tipps!$B$4:$J$113,MATCH($F47,Matches_Tipps!$B$4:$B$113,0),5)","v":46193.208333333336},{"$f":"INDEX(Matches_Tipps!$B$4:$J$113,MATCH($F47,Matches_Tipps!$B$4:$B$113,0),8)","v":"Türkei"},{"$f":"INDEX(Matches_Tipps!$B$4:$J$113,MATCH($F47,Matches_Tipps!$B$4:$B$113,0),9)","v":"Paraguay"},31,{"$f":"INDEX(Matches_Tipps!$B$4:$J$113,MATCH($F47,Matches_Tipps!$B$4:$B$113,0),2)","v":"D4"},{"$f":"INDEX(Matches_Tipps!$B$4:$J$113,MATCH($F47,Matches_Tipps!$B$4:$B$113,0),3)","v":"D2"},{"$f":"IFERROR(VLOOKUP($F47,Matches_Tipps!$B$4:$H$113,7,0),\"\")","v":"San Francisco Bay Area"}]
[]
[null,{"$f":"INDEX(Matches_Tipps!$B$4:$J$113,MATCH($F49,Matches_Tipps!$B$4:$B$113,0),5)","v":"2026-06-22"},{"$f":"INDEX(Matches_Tipps!$B$4:$J$113,MATCH($F49,Matches_Tipps!$B$4:$B$113,0),5)","v":46195},{"$f":"INDEX(Matches_Tipps!$B$4:$J$113,MATCH($F49,Matches_Tipps!$B$4:$B$113,0),8)","v":"Uruguay"},{"$f":"INDEX(Matches_Tipps!$B$4:$J$113,MATCH($F49,Matches_Tipps!$B$4:$B$113,0),9)","v":"Kapverde"},37,{"$f":"INDEX(Matches_Tipps!$B$4:$J$113,MATCH($F49,Matches_Tipps!$B$4:$B$113,0),2)","v":"H4"},{"$f":"INDEX(Matches_Tipps!$B$4:$J$113,MATCH($F49,Matches_Tipps!$B$4:$B$113,0),3)","v":"H2"},{"$f":"IFERROR(VLOOKUP($F49,Matches_Tipps!$B$4:$H$113,7,0),\"\")","v":"Miami"}]
[null,{"$f":"INDEX(Matches_Tipps!$B$4:$J$113,MATCH($F50,Matches_Tipps!$B$4:$B$113,0),5)","v":"2026-06-21T18:00:00"},{"$f":"INDEX(Matches_Tipps!$B$4:$J$113,MATCH($F50,Matches_Tipps!$B$4:$B$113,0),5)","v":46194.75},{"$f":"INDEX(Matches_Tipps!$B$4:$J$113,MATCH($F50,Matches_Tipps!$B$4:$B$113,0),8)","v":"Spanien"},{"$f":"INDEX(Matches_Tipps!$B$4:$J$113,MATCH($F50,Matches_Tipps!$B$4:$B$113,0),9)","v":"Saudiarabien"},38,{"$f":"INDEX(Matches_Tipps!$B$4:$J$113,MATCH($F50,Matches_Tipps!$B$4:$B$113,0),2)","v":"H1"},{"$f":"INDEX(Matches_Tipps!$B$4:$J$113,MATCH($F50,Matches_Tipps!$B$4:$B$113,0),3)","v":"H3"},{"$f":"IFERROR(VLOOKUP($F50,Matches_Tipps!$B$4:$H$113,7,0),\"\")","v":"Atlanta"}]
[null,{"$f":"INDEX(Matches_Tipps!$B$4:$J$113,MATCH($F51,Matches_Tipps!$B$4:$B$113,0),5)","v":"2026-06-20T19:00:00"},{"$f":"INDEX(Matches_Tipps!$B$4:$J$113,MATCH($F51,Matches_Tipps!$B$4:$B$113,0),5)","v":46193.791666666664},{"$f":"INDEX(Matches_Tipps!$B$4:$J$113,MATCH($F51,Matches_Tipps!$B$4:$B$113,0),8)","v":"Niederlande"},{"$f":"INDEX(Matches_Tipps!$B$4:$J$113,MATCH($F51,Matches_Tipps!$B$4:$B$113,0),9)","v":"Schweden"},35,{"$f":"INDEX(Matches_Tipps!$B$4:$J$113,MATCH($F51,Matches_Tipps!$B$4:$B$113,0),2)","v":"F1"},{"$f":"INDEX(Matches_Tipps!$B$4:$J$113,MATCH($F51,Matches_Tipps!$B$4:$B$113,0),3)","v":"F3"},{"$f":"IFERROR(VLOOKUP($F51,Matches_Tipps!$B$4:$H$113,7,0),\"\")","v":"Houston"}]
[null,{"$f":"INDEX(Matches_Tipps!$B$4:$J$113,MATCH($F52,Matches_Tipps!$B$4:$B$113,0),5)","v":"2026-06-21T06:00:00"},{"$f":"INDEX(Matches_Tipps!$B$4:$J$113,MATCH($F52,Matches_Tipps!$B$4:$B$113,0),5)","v":46194.25},{"$f":"INDEX(Matches_Tipps!$B$4:$J$113,MATCH($F52,Matches_Tipps!$B$4:$B$113,0),8)","v":"Tunesien"},{"$f":"INDEX(Matches_Tipps!$B$4:$J$113,MATCH($F52,Matches_Tipps!$B$4:$B$113,0),9)","v":"Japan"},36,{"$f":"INDEX(Matches_Tipps!$B$4:$J$113,MATCH($F52,Matches_Tipps!$B$4:$B$113,0),2)","v":"F4"},{"$f":"INDEX(Matches_Tipps!$B$4:$J$113,MATCH($F52,Matches_Tipps!$B$4:$B$113,0),3)","v":"F2"},{"$f":"IFERROR(VLOOKUP($F52,Matches_Tipps!$B$4:$H$113,7,0),\"\")","v":"Monterrey"}]
[]
[null,{"$f":"INDEX(Matches_Tipps!$B$4:$J$113,MATCH($F54,Matches_Tipps!$B$4:$B$113,0),5)","v":"2026-06-23T02:00:00"},{"$f":"INDEX(Matches_Tipps!$B$4:$J$113,MATCH($F54,Matches_Tipps!$B$4:$B$113,0),5)","v":46196.083333333336},{"$f":"INDEX(Matches_Tipps!$B$4:$J$113,MATCH($F54,Matches_Tipps!$B$4:$B$113,0),8)","v":"Norwegen"},{"$f":"INDEX(Matches_Tipps!$B$4:$J$113,MATCH($F54,Matches_Tipps!$B$4:$B$113,0),9)","v":"Senegal"},41,{"$f":"INDEX(Matches_Tipps!$B$4:$J$113,MATCH($F54,Matches_Tipps!$B$4:$B$113,0),2)","v":"I4"},{"$f":"INDEX(Matches_Tipps!$B$4:$J$113,MATCH($F54,Matches_Tipps!$B$4:$B$113,0),3)","v":"I2"},{"$f":"IFERROR(VLOOKUP($F54,Matches_Tipps!$B$4:$H$113,7,0),\"\")","v":"New York/New Jersey"}]
[null,{"$f":"INDEX(Matches_Tipps!$B$4:$J$113,MATCH($F55,Matches_Tipps!$B$4:$B$113,0),5)","v":"2026-06-22T23:00:00"},{"$f":"INDEX(Matches_Tipps!$B$4:$J$113,MATCH($F55,Matches_Tipps!$B$4:$B$113,0),5)","v":46195.958333333336},{"$f":"INDEX(Matches_Tipps!$B$4:$J$113,MATCH($F55,Matches_Tipps!$B$4:$B$113,0),8)","v":"Frankreich"},{"$f":"INDEX(Matches_Tipps!$B$4:$J$113,MATCH($F55,Matches_Tipps!$B$4:$B$113,0),9)","v":"Irak"},42,{"$f":"INDEX(Matches_Tipps!$B$4:$J$113,MATCH($F55,Matches_Tipps!$B$4:$B$113,0),2)","v":"I1"},{"$f":"INDEX(Matches_Tipps!$B$4:$J$113,MATCH($F55,Matches_Tipps!$B$4:$B$113,0),3)","v":"I3"},{"$f":"IFERROR(VLOOKUP($F55,Matches_Tipps!$B$4:$H$113,7,0),\"\")","v":"Philadelphia"}]
[null,{"$f":"INDEX(Matches_Tipps!$B$4:$J$113,MATCH($F56,Matches_Tipps!$B$4:$B$113,0),5)","v":"2026-06-21T21:00:00"},{"$f":"INDEX(Matches_Tipps!$B$4:$J$113,MATCH($F56,Matches_Tipps!$B$4:$B$113,0),5)","v":46194.875},{"$f":"INDEX(Matches_Tipps!$B$4:$J$113,MATCH($F56,Matches_Tipps!$B$4:$B$113,0),8)","v":"Belgien"},{"$f":"INDEX(Matches_Tipps!$B$4:$J$113,MATCH($F56,Matches_Tipps!$B$4:$B$113,0),9)","v":"Iran"},39,{"$f":"INDEX(Matches_Tipps!$B$4:$J$113,MATCH($F56,Matches_Tipps!$B$4:$B$113,0),2)","v":"G1"},{"$f":"INDEX(Matches_Tipps!$B$4:$J$113,MATCH($F56,Matches_Tipps!$B$4:$B$113,0),3)","v":"G3"},{"$f":"IFERROR(VLOOKUP($F56,Matches_Tipps!$B$4:$H$113,7,0),\"\")","v":"Los Angeles"}]
[null,{"$f":"INDEX(Matches_Tipps!$B$4:$J$113,MATCH($F57,Matches_Tipps!$B$4:$B$113,0),5)","v":"2026-06-22T03:00:00"},{"$f":"INDEX(Matches_Tipps!$B$4:$J$113,MATCH($F57,Matches_Tipps!$B$4:$B$113,0),5)","v":46195.125},{"$f":"INDEX(Matches_Tipps!$B$4:$J$113,MATCH($F57,Matches_Tipps!$B$4:$B$113,0),8)","v":"Neuseeland"},{"$f":"INDEX(Matches_Tipps!$B$4:$J$113,MATCH($F57,Matches_Tipps!$B$4:$B$113,0),9)","v":"Ägypten"},40,{"$f":"INDEX(Matches_Tipps!$B$4:$J$113,MATCH($F57,Matches_Tipps!$B$4:$B$113,0),2)","v":"G4"},{"$f":"INDEX(Matches_Tipps!$B$4:$J$113,MATCH($F57,Matches_Tipps!$B$4:$B$113,0),3)","v":"G2"},{"$f":"IFERROR(VLOOKUP($F57,Matches_Tipps!$B$4:$H$113,7,0),\"\")","v":"Vancouver"}]
[]
[null,{"$f":"INDEX(Matches_Tipps!$B$4:$J$113,MATCH($F59,Matches_Tipps!$B$4:$B$113,0),5)","v":"2026-06-23T22:00:00"},{"$f":"INDEX(Matches_Tipps!$B$4:$J$113,MATCH($F59,Matches_Tipps!$B$4:$B$113,0),5)","v":46196.916666666664},{"$f":"INDEX(Matches_Tipps!$B$4:$J$113,MATCH($F59,Matches_Tipps!$B$4:$B$113,0),8)","v":"England"},{"$f":"INDEX(Matches_Tipps!$B$4:$J$113,MATCH($F59,Matches_Tipps!$B$4:$B$113,0),9)","v":"Ghana"},45,{"$f":"INDEX(Matches_Tipps!$B$4:$J$113,MATCH($F59,Matches_Tipps!$B$4:$B$113,0),2)","v":"L1"},{"$f":"INDEX(Matches_Tipps!$B$4:$J$113,MATCH($F59,Matches_Tipps!$B$4:$B$113,0),3)","v":"L3"},{"$f":"IFERROR(VLOOKUP($F59,Matches_Tipps!$B$4:$H$113,7,0),\"\")","v":"Boston"}]
[null,{"$f":"INDEX(Matches_Tipps!$B$4:$J$113,MATCH($F60,Matches_Tipps!$B$4:$B$113,0),5)","v":"2026-06-24T01:00:00"},{"$f":"INDEX(Matches_Tipps!$B$4:$J$113,MATCH($F60,Matches_Tipps!$B$4:$B$113,0),5)","v":46197.041666666664},{"$f":"INDEX(Matches_Tipps!$B$4:$J$113,MATCH($F60,Matches_Tipps!$B$4:$B$113,0),8)","v":"Panama"},{"$f":"INDEX(Matches_Tipps!$B$4:$J$113,MATCH($F60,Matches_Tipps!$B$4:$B$113,0),9)","v":"Kroatien"},46,{"$f":"INDEX(Matches_Tipps!$B$4:$J$113,MATCH($F60,Matches_Tipps!$B$4:$B$113,0),2)","v":"L4"},{"$f":"INDEX(Matches_Tipps!$B$4:$J$113,MATCH($F60,Matches_Tipps!$B$4:$B$113,0),3)","v":"L2"},{"$f":"IFERROR(VLOOKUP($F60,Matches_Tipps!$B$4:$H$113,7,0),\"\")","v":"Toronto"}]
[null,{"$f":"INDEX(Matches_Tipps!$B$4:$J$113,MATCH($F61,Matches_Tipps!$B$4:$B$113,0),5)","v":"2026-06-22T19:00:00"},{"$f":"INDEX(Matches_Tipps!$B$4:$J$113,MATCH($F61,Matches_Tipps!$B$4:$B$113,0),5)","v":46195.791666666664},{"$f":"INDEX(Matches_Tipps!$B$4:$J$113,MATCH($F61,Matches_Tipps!$B$4:$B$113,0),8)","v":"Argentinien"},{"$f":"INDEX(Matches_Tipps!$B$4:$J$113,MATCH($F61,Matches_Tipps!$B$4:$B$113,0),9)","v":"Österreich"},43,{"$f":"INDEX(Matches_Tipps!$B$4:$J$113,MATCH($F61,Matches_Tipps!$B$4:$B$113,0),2)","v":"J1"},{"$f":"INDEX(Matches_Tipps!$B$4:$J$113,MATCH($F61,Matches_Tipps!$B$4:$B$113,0),3)","v":"J3"},{"$f":"IFERROR(VLOOKUP($F61,Matches_Tipps!$B$4:$H$113,7,0),\"\")","v":"Dallas"}]
[null,{"$f":"INDEX(Matches_Tipps!$B$4:$J$113,MATCH($F62,Matches_Tipps!$B$4:$B$113,0),5)","v":"2026-06-23T05:00:00"},{"$f":"INDEX(Matches_Tipps!$B$4:$J$113,MATCH($F62,Matches_Tipps!$B$4:$B$113,0),5)","v":46196.208333333336},{"$f":"INDEX(Matches_Tipps!$B$4:$J$113,MATCH($F62,Matches_Tipps!$B$4:$B$113,0),8)","v":"Jordanien"},{"$f":"INDEX(Matches_Tipps!$B$4:$J$113,MATCH($F62,Matches_Tipps!$B$4:$B$113,0),9)","v":"Algerien"},44,{"$f":"INDEX(Matches_Tipps!$B$4:$J$113,MATCH($F62,Matches_Tipps!$B$4:$B$113,0),2)","v":"J4"},{"$f":"INDEX(Matches_Tipps!$B$4:$J$113,MATCH($F62,Matches_Tipps!$B$4:$B$113,0),3)","v":"J2"},{"$f":"IFERROR(VLOOKUP($F62,Matches_Tipps!$B$4:$H$113,7,0),\"\")","v":"San Francisco Bay Area"}]
[]
[null,{"$f":"INDEX(Matches_Tipps!$B$4:$J$113,MATCH($F64,Matches_Tipps!$B$4:$B$113,0),5)","v":"2026-06-23T19:00:00"},{"$f":"INDEX(Matches_Tipps!$B$4:$J$113,MATCH($F64,Matches_Tipps!$B$4:$B$113,0),5)","v":46196.791666666664},{"$f":"INDEX(Matches_Tipps!$B$4:$J$113,MATCH($F64,Matches_Tipps!$B$4:$B$113,0),8)","v":"Portugal"},{"$f":"INDEX(Matches_Tipps!$B$4:$J$113,MATCH($F64,Matches_Tipps!$B$4:$B$113,0),9)","v":"Usbekistan"},47,{"$f":"INDEX(Matches_Tipps!$B$4:$J$113,MATCH($F64,Matches_Tipps!$B$4:$B$113,0),2)","v":"K1"},{"$f":"INDEX(Matches_Tipps!$B$4:$J$113,MATCH($F64,Matches_Tipps!$B$4:$B$113,0),3)","v":"K3"},{"$f":"IFERROR(VLOOKUP($F64,Matches_Tipps!$B$4:$H$113,7,0),\"\")","v":"Houston"}]
[null,{"$f":"INDEX(Matches_Tipps!$B$4:$J$113,MATCH($F65,Matches_Tipps!$B$4:$B$113,0),5)","v":"2026-06-24T04:00:00"},{"$f":"INDEX(Matches_Tipps!$B$4:$J$113,MATCH($F65,Matches_Tipps!$B$4:$B$113,0),5)","v":46197.166666666664},{"$f":"INDEX(Matches_Tipps!$B$4:$J$113,MATCH($F65,Matches_Tipps!$B$4:$B$113,0),8)","v":"Kolumbien"},{"$f":"INDEX(Matches_Tipps!$B$4:$J$113,MATCH($F65,Matches_Tipps!$B$4:$B$113,0),9)","v":"DR Kongo"},48,{"$f":"INDEX(Matches_Tipps!$B$4:$J$113,MATCH($F65,Matches_Tipps!$B$4:$B$113,0),2)","v":"K4"},{"$f":"INDEX(Matches_Tipps!$B$4:$J$113,MATCH($F65,Matches_Tipps!$B$4:$B$113,0),3)","v":"K2"},{"$f":"IFERROR(VLOOKUP($F65,Matches_Tipps!$B$4:$H$113,7,0),\"\")","v":"Guadalajara"}]
[]
[null,{"$f":"INDEX(Matches_Tipps!$B$4:$J$113,MATCH($F67,Matches_Tipps!$B$4:$B$113,0),5)","v":"2026-06-25"},{"$f":"INDEX(Matches_Tipps!$B$4:$J$113,MATCH($F67,Matches_Tipps!$B$4:$B$113,0),5)","v":46198},{"$f":"INDEX(Matches_Tipps!$B$4:$J$113,MATCH($F67,Matches_Tipps!$B$4:$B$113,0),8)","v":"Schottland"},{"$f":"INDEX(Matches_Tipps!$B$4:$J$113,MATCH($F67,Matches_Tipps!$B$4:$B$113,0),9)","v":"Brasilien"},49,{"$f":"INDEX(Matches_Tipps!$B$4:$J$113,MATCH($F67,Matches_Tipps!$B$4:$B$113,0),2)","v":"C4"},{"$f":"INDEX(Matches_Tipps!$B$4:$J$113,MATCH($F67,Matches_Tipps!$B$4:$B$113,0),3)","v":"C1"},{"$f":"IFERROR(VLOOKUP($F67,Matches_Tipps!$B$4:$H$113,7,0),\"\")","v":"Miami"}]
[null,{"$f":"INDEX(Matches_Tipps!$B$4:$J$113,MATCH($F68,Matches_Tipps!$B$4:$B$113,0),5)","v":"2026-06-25"},{"$f":"INDEX(Matches_Tipps!$B$4:$J$113,MATCH($F68,Matches_Tipps!$B$4:$B$113,0),5)","v":46198},{"$f":"INDEX(Matches_Tipps!$B$4:$J$113,MATCH($F68,Matches_Tipps!$B$4:$B$113,0),8)","v":"Marokko"},{"$f":"INDEX(Matches_Tipps!$B$4:$J$113,MATCH($F68,Matches_Tipps!$B$4:$B$113,0),9)","v":"Haiti"},50,{"$f":"INDEX(Matches_Tipps!$B$4:$J$113,MATCH($F68,Matches_Tipps!$B$4:$B$113,0),2)","v":"C2"},{"$f":"INDEX(Matches_Tipps!$B$4:$J$113,MATCH($F68,Matches_Tipps!$B$4:$B$113,0),3)","v":"C3"},{"$f":"IFERROR(VLOOKUP($F68,Matches_Tipps!$B$4:$H$113,7,0),\"\")","v":"Atlanta"}]
[]
[null,{"$f":"INDEX(Matches_Tipps!$B$4:$J$113,MATCH($F70,Matches_Tipps!$B$4:$B$113,0),5)","v":"2026-06-24T21:00:00"},{"$f":"INDEX(Matches_Tipps!$B$4:$J$113,MATCH($F70,Matches_Tipps!$B$4:$B$113,0),5)","v":46197.875},{"$f":"INDEX(Matches_Tipps!$B$4:$J$113,MATCH($F70,Matches_Tipps!$B$4:$B$113,0),8)","v":"Schweiz"},{"$f":"INDEX(Matches_Tipps!$B$4:$J$113,MATCH($F70,Matches_Tipps!$B$4:$B$113,0),9)","v":"Kanada"},51,{"$f":"INDEX(Matches_Tipps!$B$4:$J$113,MATCH($F70,Matches_Tipps!$B$4:$B$113,0),2)","v":"B4"},{"$f":"INDEX(Matches_Tipps!$B$4:$J$113,MATCH($F70,Matches_Tipps!$B$4:$B$113,0),3)","v":"B1"},{"$f":"IFERROR(VLOOKUP($F70,Matches_Tipps!$B$4:$H$113,7,0),\"\")","v":"Vancouver"}]
[null,{"$f":"INDEX(Matches_Tipps!$B$4:$J$113,MATCH($F71,Matches_Tipps!$B$4:$B$113,0),5)","v":"2026-06-24T21:00:00"},{"$f":"INDEX(Matches_Tipps!$B$4:$J$113,MATCH($F71,Matches_Tipps!$B$4:$B$113,0),5)","v":46197.875},{"$f":"INDEX(Matches_Tipps!$B$4:$J$113,MATCH($F71,Matches_Tipps!$B$4:$B$113,0),8)","v":"Bosnien-Herzeg."},{"$f":"INDEX(Matches_Tipps!$B$4:$J$113,MATCH($F71,Matches_Tipps!$B$4:$B$113,0),9)","v":"Katar"},52,{"$f":"INDEX(Matches_Tipps!$B$4:$J$113,MATCH($F71,Matches_Tipps!$B$4:$B$113,0),2)","v":"B2"},{"$f":"INDEX(Matches_Tipps!$B$4:$J$113,MATCH($F71,Matches_Tipps!$B$4:$B$113,0),3)","v":"B3"},{"$f":"IFERROR(VLOOKUP($F71,Matches_Tipps!$B$4:$H$113,7,0),\"\")","v":"Seattle"}]
[]
[null,{"$f":"INDEX(Matches_Tipps!$B$4:$J$113,MATCH($F73,Matches_Tipps!$B$4:$B$113,0),5)","v":"2026-06-25T03:00:00"},{"$f":"INDEX(Matches_Tipps!$B$4:$J$113,MATCH($F73,Matches_Tipps!$B$4:$B$113,0),5)","v":46198.125},{"$f":"INDEX(Matches_Tipps!$B$4:$J$113,MATCH($F73,Matches_Tipps!$B$4:$B$113,0),8)","v":"Südafrika"},{"$f":"INDEX(Matches_Tipps!$B$4:$J$113,MATCH($F73,Matches_Tipps!$B$4:$B$113,0),9)","v":"Südkorea"},54,{"$f":"INDEX(Matches_Tipps!$B$4:$J$113,MATCH($F73,Matches_Tipps!$B$4:$B$113,0),2)","v":"A2"},{"$f":"INDEX(Matches_Tipps!$B$4:$J$113,MATCH($F73,Matches_Tipps!$B$4:$B$113,0),3)","v":"A3"},{"$f":"IFERROR(VLOOKUP($F73,Matches_Tipps!$B$4:$H$113,7,0),\"\")","v":"Monterrey"}]
[null,{"$f":"INDEX(Matches_Tipps!$B$4:$J$113,MATCH($F74,Matches_Tipps!$B$4:$B$113,0),5)","v":"2026-06-25T03:00:00"},{"$f":"INDEX(Matches_Tipps!$B$4:$J$113,MATCH($F74,Matches_Tipps!$B$4:$B$113,0),5)","v":46198.125},{"$f":"INDEX(Matches_Tipps!$B$4:$J$113,MATCH($F74,Matches_Tipps!$B$4:$B$113,0),8)","v":"Tschechien"},{"$f":"INDEX(Matches_Tipps!$B$4:$J$113,MATCH($F74,Matches_Tipps!$B$4:$B$113,0),9)","v":"Mexiko"},53,{"$f":"INDEX(Matches_Tipps!$B$4:$J$113,MATCH($F74,Matches_Tipps!$B$4:$B$113,0),2)","v":"A4"},{"$f":"INDEX(Matches_Tipps!$B$4:$J$113,MATCH($F74,Matches_Tipps!$B$4:$B$113,0),3)","v":"A1"},{"$f":"IFERROR(VLOOKUP($F74,Matches_Tipps!$B$4:$H$113,7,0),\"\")","v":"Mexico City"}]
[]
[null,{"$f":"INDEX(Matches_Tipps!$B$4:$J$113,MATCH($F76,Matches_Tipps!$B$4:$B$113,0),5)","v":"2026-06-25T22:00:00"},{"$f":"INDEX(Matches_Tipps!$B$4:$J$113,MATCH($F76,Matches_Tipps!$B$4:$B$113,0),5)","v":46198.916666666664},{"$f":"INDEX(Matches_Tipps!$B$4:$J$113,MATCH($F76,Matches_Tipps!$B$4:$B$113,0),8)","v":"Ecuador"},{"$f":"INDEX(Matches_Tipps!$B$4:$J$113,MATCH($F76,Matches_Tipps!$B$4:$B$113,0),9)","v":"Deutschland"},56,{"$f":"INDEX(Matches_Tipps!$B$4:$J$113,MATCH($F76,Matches_Tipps!$B$4:$B$113,0),2)","v":"E4"},{"$f":"INDEX(Matches_Tipps!$B$4:$J$113,MATCH($F76,Matches_Tipps!$B$4:$B$113,0),3)","v":"E1"},{"$f":"IFERROR(VLOOKUP($F76,Matches_Tipps!$B$4:$H$113,7,0),\"\")","v":"New York/New Jersey"}]
[null,{"$f":"INDEX(Matches_Tipps!$B$4:$J$113,MATCH($F77,Matches_Tipps!$B$4:$B$113,0),5)","v":"2026-06-25T22:00:00"},{"$f":"INDEX(Matches_Tipps!$B$4:$J$113,MATCH($F77,Matches_Tipps!$B$4:$B$113,0),5)","v":46198.916666666664},{"$f":"INDEX(Matches_Tipps!$B$4:$J$113,MATCH($F77,Matches_Tipps!$B$4:$B$113,0),8)","v":"Curacao"},{"$f":"INDEX(Matches_Tipps!$B$4:$J$113,MATCH($F77,Matches_Tipps!$B$4:$B$113,0),9)","v":"Elfenbeinküste"},55,{"$f":"INDEX(Matches_Tipps!$B$4:$J$113,MATCH($F77,Matches_Tipps!$B$4:$B$113,0),2)","v":"E2"},{"$f":"INDEX(Matches_Tipps!$B$4:$J$113,MATCH($F77,Matches_Tipps!$B$4:$B$113,0),3)","v":"E3"},{"$f":"IFERROR(VLOOKUP($F77,Matches_Tipps!$B$4:$H$113,7,0),\"\")","v":"Philadelphia"}]
[]
[null,{"$f":"INDEX(Matches_Tipps!$B$4:$J$113,MATCH($F79,Matches_Tipps!$B$4:$B$113,0),5)","v":"2026-06-26T01:00:00"},{"$f":"INDEX(Matches_Tipps!$B$4:$J$113,MATCH($F79,Matches_Tipps!$B$4:$B$113,0),5)","v":46199.041666666664},{"$f":"INDEX(Matches_Tipps!$B$4:$J$113,MATCH($F79,Matches_Tipps!$B$4:$B$113,0),8)","v":"Japan"},{"$f":"INDEX(Matches_Tipps!$B$4:$J$113,MATCH($F79,Matches_Tipps!$B$4:$B$113,0),9)","v":"Schweden"},57,{"$f":"INDEX(Matches_Tipps!$B$4:$J$113,MATCH($F79,Matches_Tipps!$B$4:$B$113,0),2)","v":"F2"},{"$f":"INDEX(Matches_Tipps!$B$4:$J$113,MATCH($F79,Matches_Tipps!$B$4:$B$113,0),3)","v":"F3"},{"$f":"IFERROR(VLOOKUP($F79,Matches_Tipps!$B$4:$H$113,7,0),\"\")","v":"Dallas"}]
[null,{"$f":"INDEX(Matches_Tipps!$B$4:$J$113,MATCH($F80,Matches_Tipps!$B$4:$B$113,0),5)","v":"2026-06-26T01:00:00"},{"$f":"INDEX(Matches_Tipps!$B$4:$J$113,MATCH($F80,Matches_Tipps!$B$4:$B$113,0),5)","v":46199.041666666664},{"$f":"INDEX(Matches_Tipps!$B$4:$J$113,MATCH($F80,Matches_Tipps!$B$4:$B$113,0),8)","v":"Tunesien"},{"$f":"INDEX(Matches_Tipps!$B$4:$J$113,MATCH($F80,Matches_Tipps!$B$4:$B$113,0),9)","v":"Niederlande"},58,{"$f":"INDEX(Matches_Tipps!$B$4:$J$113,MATCH($F80,Matches_Tipps!$B$4:$B$113,0),2)","v":"F4"},{"$f":"INDEX(Matches_Tipps!$B$4:$J$113,MATCH($F80,Matches_Tipps!$B$4:$B$113,0),3)","v":"F1"},{"$f":"IFERROR(VLOOKUP($F80,Matches_Tipps!$B$4:$H$113,7,0),\"\")","v":"Kansas City"}]
[null,{"$f":"INDEX(Matches_Tipps!$B$4:$J$113,MATCH($F81,Matches_Tipps!$B$4:$B$113,0),5)","v":"2026-06-26T04:00:00"},{"$f":"INDEX(Matches_Tipps!$B$4:$J$113,MATCH($F81,Matches_Tipps!$B$4:$B$113,0),5)","v":46199.166666666664},{"$f":"INDEX(Matches_Tipps!$B$4:$J$113,MATCH($F81,Matches_Tipps!$B$4:$B$113,0),8)","v":"Türkei"},{"$f":"INDEX(Matches_Tipps!$B$4:$J$113,MATCH($F81,Matches_Tipps!$B$4:$B$113,0),9)","v":"USA"},59,{"$f":"INDEX(Matches_Tipps!$B$4:$J$113,MATCH($F81,Matches_Tipps!$B$4:$B$113,0),2)","v":"D4"},{"$f":"INDEX(Matches_Tipps!$B$4:$J$113,MATCH($F81,Matches_Tipps!$B$4:$B$113,0),3)","v":"D1"},{"$f":"IFERROR(VLOOKUP($F81,Matches_Tipps!$B$4:$H$113,7,0),\"\")","v":"Los Angeles"}]
[null,{"$f":"INDEX(Matches_Tipps!$B$4:$J$113,MATCH($F82,Matches_Tipps!$B$4:$B$113,0),5)","v":"2026-06-26T04:00:00"},{"$f":"INDEX(Matches_Tipps!$B$4:$J$113,MATCH($F82,Matches_Tipps!$B$4:$B$113,0),5)","v":46199.166666666664},{"$f":"INDEX(Matches_Tipps!$B$4:$J$113,MATCH($F82,Matches_Tipps!$B$4:$B$113,0),8)","v":"Paraguay"},{"$f":"INDEX(Matches_Tipps!$B$4:$J$113,MATCH($F82,Matches_Tipps!$B$4:$B$113,0),9)","v":"Australien"},60,{"$f":"INDEX(Matches_Tipps!$B$4:$J$113,MATCH($F82,Matches_Tipps!$B$4:$B$113,0),2)","v":"D2"},{"$f":"INDEX(Matches_Tipps!$B$4:$J$113,MATCH($F82,Matches_Tipps!$B$4:$B$113,0),3)","v":"D3"},{"$f":"IFERROR(VLOOKUP($F82,Matches_Tipps!$B$4:$H$113,7,0),\"\")","v":"San Francisco Bay Area"}]
[]
[null,{"$f":"INDEX(Matches_Tipps!$B$4:$J$113,MATCH($F84,Matches_Tipps!$B$4:$B$113,0),5)","v":"2026-06-26T21:00:00"},{"$f":"INDEX(Matches_Tipps!$B$4:$J$113,MATCH($F84,Matches_Tipps!$B$4:$B$113,0),5)","v":46199.875},{"$f":"INDEX(Matches_Tipps!$B$4:$J$113,MATCH($F84,Matches_Tipps!$B$4:$B$113,0),8)","v":"Norwegen"},{"$f":"INDEX(Matches_Tipps!$B$4:$J$113,MATCH($F84,Matches_Tipps!$B$4:$B$113,0),9)","v":"Frankreich"},61,{"$f":"INDEX(Matches_Tipps!$B$4:$J$113,MATCH($F84,Matches_Tipps!$B$4:$B$113,0),2)","v":"I4"},{"$f":"INDEX(Matches_Tipps!$B$4:$J$113,MATCH($F84,Matches_Tipps!$B$4:$B$113,0),3)","v":"I1"},{"$f":"IFERROR(VLOOKUP($F84,Matches_Tipps!$B$4:$H$113,7,0),\"\")","v":"Boston"}]
[null,{"$f":"INDEX(Matches_Tipps!$B$4:$J$113,MATCH($F85,Matches_Tipps!$B$4:$B$113,0),5)","v":"2026-06-26T21:00:00"},{"$f":"INDEX(Matches_Tipps!$B$4:$J$113,MATCH($F85,Matches_Tipps!$B$4:$B$113,0),5)","v":46199.875},{"$f":"INDEX(Matches_Tipps!$B$4:$J$113,MATCH($F85,Matches_Tipps!$B$4:$B$113,0),8)","v":"Senegal"},{"$f":"INDEX(Matches_Tipps!$B$4:$J$113,MATCH($F85,Matches_Tipps!$B$4:$B$113,0),9)","v":"Irak"},62,{"$f":"INDEX(Matches_Tipps!$B$4:$J$113,MATCH($F85,Matches_Tipps!$B$4:$B$113,0),2)","v":"I2"},{"$f":"INDEX(Matches_Tipps!$B$4:$J$113,MATCH($F85,Matches_Tipps!$B$4:$B$113,0),3)","v":"I3"},{"$f":"IFERROR(VLOOKUP($F85,Matches_Tipps!$B$4:$H$113,7,0),\"\")","v":"Toronto"}]
[null,{"$f":"INDEX(Matches_Tipps!$B$4:$J$113,MATCH($F86,Matches_Tipps!$B$4:$B$113,0),5)","v":"2026-06-27T05:00:00"},{"$f":"INDEX(Matches_Tipps!$B$4:$J$113,MATCH($F86,Matches_Tipps!$B$4:$B$113,0),5)","v":46200.208333333336},{"$f":"INDEX(Matches_Tipps!$B$4:$J$113,MATCH($F86,Matches_Tipps!$B$4:$B$113,0),8)","v":"Ägypten"},{"$f":"INDEX(Matches_Tipps!$B$4:$J$113,MATCH($F86,Matches_Tipps!$B$4:$B$113,0),9)","v":"Iran"},63,{"$f":"INDEX(Matches_Tipps!$B$4:$J$113,MATCH($F86,Matches_Tipps!$B$4:$B$113,0),2)","v":"G2"},{"$f":"INDEX(Matches_Tipps!$B$4:$J$113,MATCH($F86,Matches_Tipps!$B$4:$B$113,0),3)","v":"G3"},{"$f":"IFERROR(VLOOKUP($F86,Matches_Tipps!$B$4:$H$113,7,0),\"\")","v":"Seattle"}]
[null,{"$f":"INDEX(Matches_Tipps!$B$4:$J$113,MATCH($F87,Matches_Tipps!$B$4:$B$113,0),5)","v":"2026-06-27T05:00:00"},{"$f":"INDEX(Matches_Tipps!$B$4:$J$113,MATCH($F87,Matches_Tipps!$B$4:$B$113,0),5)","v":46200.208333333336},{"$f":"INDEX(Matches_Tipps!$B$4:$J$113,MATCH($F87,Matches_Tipps!$B$4:$B$113,0),8)","v":"Neuseeland"},{"$f":"INDEX(Matches_Tipps!$B$4:$J$113,MATCH($F87,Matches_Tipps!$B$4:$B$113,0),9)","v":"Belgien"},64,{"$f":"INDEX(Matches_Tipps!$B$4:$J$113,MATCH($F87,Matches_Tipps!$B$4:$B$113,0),2)","v":"G4"},{"$f":"INDEX(Matches_Tipps!$B$4:$J$113,MATCH($F87,Matches_Tipps!$B$4:$B$113,0),3)","v":"G1"},{"$f":"IFERROR(VLOOKUP($F87,Matches_Tipps!$B$4:$H$113,7,0),\"\")","v":"Vancouver"}]
[]
[null,{"$f":"INDEX(Matches_Tipps!$B$4:$J$113,MATCH($F89,Matches_Tipps!$B$4:$B$113,0),5)","v":"2026-06-27T02:00:00"},{"$f":"INDEX(Matches_Tipps!$B$4:$J$113,MATCH($F89,Matches_Tipps!$B$4:$B$113,0),5)","v":46200.083333333336},{"$f":"INDEX(Matches_Tipps!$B$4:$J$113,MATCH($F89,Matches_Tipps!$B$4:$B$113,0),8)","v":"Kapverde"},{"$f":"INDEX(Matches_Tipps!$B$4:$J$113,MATCH($F89,Matches_Tipps!$B$4:$B$113,0),9)","v":"Saudiarabien"},65,{"$f":"INDEX(Matches_Tipps!$B$4:$J$113,MATCH($F89,Matches_Tipps!$B$4:$B$113,0),2)","v":"H2"},{"$f":"INDEX(Matches_Tipps!$B$4:$J$113,MATCH($F89,Matches_Tipps!$B$4:$B$113,0),3)","v":"H3"},{"$f":"IFERROR(VLOOKUP($F89,Matches_Tipps!$B$4:$H$113,7,0),\"\")","v":"Houston"}]
[null,{"$f":"INDEX(Matches_Tipps!$B$4:$J$113,MATCH($F90,Matches_Tipps!$B$4:$B$113,0),5)","v":"2026-06-27T02:00:00"},{"$f":"INDEX(Matches_Tipps!$B$4:$J$113,MATCH($F90,Matches_Tipps!$B$4:$B$113,0),5)","v":46200.083333333336},{"$f":"INDEX(Matches_Tipps!$B$4:$J$113,MATCH($F90,Matches_Tipps!$B$4:$B$113,0),8)","v":"Uruguay"},{"$f":"INDEX(Matches_Tipps!$B$4:$J$113,MATCH($F90,Matches_Tipps!$B$4:$B$113,0),9)","v":"Spanien"},66,{"$f":"INDEX(Matches_Tipps!$B$4:$J$113,MATCH($F90,Matches_Tipps!$B$4:$B$113,0),2)","v":"H4"},{"$f":"INDEX(Matches_Tipps!$B$4:$J$113,MATCH($F90,Matches_Tipps!$B$4:$B$113,0),3)","v":"H1"},{"$f":"IFERROR(VLOOKUP($F90,Matches_Tipps!$B$4:$H$113,7,0),\"\")","v":"Guadalajara"}]
[null,{"$f":"INDEX(Matches_Tipps!$B$4:$J$113,MATCH($F91,Matches_Tipps!$B$4:$B$113,0),5)","v":"2026-06-27T23:00:00"},{"$f":"INDEX(Matches_Tipps!$B$4:$J$113,MATCH($F91,Matches_Tipps!$B$4:$B$113,0),5)","v":46200.958333333336},{"$f":"INDEX(Matches_Tipps!$B$4:$J$113,MATCH($F91,Matches_Tipps!$B$4:$B$113,0),8)","v":"Panama"},{"$f":"INDEX(Matches_Tipps!$B$4:$J$113,MATCH($F91,Matches_Tipps!$B$4:$B$113,0),9)","v":"England"},67,{"$f":"INDEX(Matches_Tipps!$B$4:$J$113,MATCH($F91,Matches_Tipps!$B$4:$B$113,0),2)","v":"L4"},{"$f":"INDEX(Matches_Tipps!$B$4:$J$113,MATCH($F91,Matches_Tipps!$B$4:$B$113,0),3)","v":"L1"},{"$f":"IFERROR(VLOOKUP($F91,Matches_Tipps!$B$4:$H$113,7,0),\"\")","v":"New York/New Jersey"}]
[null,{"$f":"INDEX(Matches_Tipps!$B$4:$J$113,MATCH($F92,Matches_Tipps!$B$4:$B$113,0),5)","v":"2026-06-27T23:00:00"},{"$f":"INDEX(Matches_Tipps!$B$4:$J$113,MATCH($F92,Matches_Tipps!$B$4:$B$113,0),5)","v":46200.958333333336},{"$f":"INDEX(Matches_Tipps!$B$4:$J$113,MATCH($F92,Matches_Tipps!$B$4:$B$113,0),8)","v":"Kroatien"},{"$f":"INDEX(Matches_Tipps!$B$4:$J$113,MATCH($F92,Matches_Tipps!$B$4:$B$113,0),9)","v":"Ghana"},68,{"$f":"INDEX(Matches_Tipps!$B$4:$J$113,MATCH($F92,Matches_Tipps!$B$4:$B$113,0),2)","v":"L2"},{"$f":"INDEX(Matches_Tipps!$B$4:$J$113,MATCH($F92,Matches_Tipps!$B$4:$B$113,0),3)","v":"L3"},{"$f":"IFERROR(VLOOKUP($F92,Matches_Tipps!$B$4:$H$113,7,0),\"\")","v":"Philadelphia"}]
[]
[null,{"$f":"INDEX(Matches_Tipps!$B$4:$J$113,MATCH($F94,Matches_Tipps!$B$4:$B$113,0),5)","v":"2026-06-28T04:00:00"},{"$f":"INDEX(Matches_Tipps!$B$4:$J$113,MATCH($F94,Matches_Tipps!$B$4:$B$113,0),5)","v":46201.166666666664},{"$f":"INDEX(Matches_Tipps!$B$4:$J$113,MATCH($F94,Matches_Tipps!$B$4:$B$113,0),8)","v":"Algerien"},{"$f":"INDEX(Matches_Tipps!$B$4:$J$113,MATCH($F94,Matches_Tipps!$B$4:$B$113,0),9)","v":"Österreich"},69,{"$f":"INDEX(Matches_Tipps!$B$4:$J$113,MATCH($F94,Matches_Tipps!$B$4:$B$113,0),2)","v":"J2"},{"$f":"INDEX(Matches_Tipps!$B$4:$J$113,MATCH($F94,Matches_Tipps!$B$4:$B$113,0),3)","v":"J3"},{"$f":"IFERROR(VLOOKUP($F94,Matches_Tipps!$B$4:$H$113,7,0),\"\")","v":"Kansas City"}]
[null,{"$f":"INDEX(Matches_Tipps!$B$4:$J$113,MATCH($F95,Matches_Tipps!$B$4:$B$113,0),5)","v":"2026-06-28T04:00:00"},{"$f":"INDEX(Matches_Tipps!$B$4:$J$113,MATCH($F95,Matches_Tipps!$B$4:$B$113,0),5)","v":46201.166666666664},{"$f":"INDEX(Matches_Tipps!$B$4:$J$113,MATCH($F95,Matches_Tipps!$B$4:$B$113,0),8)","v":"Jordanien"},{"$f":"INDEX(Matches_Tipps!$B$4:$J$113,MATCH($F95,Matches_Tipps!$B$4:$B$113,0),9)","v":"Argentinien"},70,{"$f":"INDEX(Matches_Tipps!$B$4:$J$113,MATCH($F95,Matches_Tipps!$B$4:$B$113,0),2)","v":"J4"},{"$f":"INDEX(Matches_Tipps!$B$4:$J$113,MATCH($F95,Matches_Tipps!$B$4:$B$113,0),3)","v":"J1"},{"$f":"IFERROR(VLOOKUP($F95,Matches_Tipps!$B$4:$H$113,7,0),\"\")","v":"Dallas"}]
[null,{"$f":"INDEX(Matches_Tipps!$B$4:$J$113,MATCH($F96,Matches_Tipps!$B$4:$B$113,0),5)","v":"2026-06-28T01:30:00"},{"$f":"INDEX(Matches_Tipps!$B$4:$J$113,MATCH($F96,Matches_Tipps!$B$4:$B$113,0),5)","v":46201.0625},{"$f":"INDEX(Matches_Tipps!$B$4:$J$113,MATCH($F96,Matches_Tipps!$B$4:$B$113,0),8)","v":"Kolumbien"},{"$f":"INDEX(Matches_Tipps!$B$4:$J$113,MATCH($F96,Matches_Tipps!$B$4:$B$113,0),9)","v":"Portugal"},71,{"$f":"INDEX(Matches_Tipps!$B$4:$J$113,MATCH($F96,Matches_Tipps!$B$4:$B$113,0),2)","v":"K4"},{"$f":"INDEX(Matches_Tipps!$B$4:$J$113,MATCH($F96,Matches_Tipps!$B$4:$B$113,0),3)","v":"K1"},{"$f":"IFERROR(VLOOKUP($F96,Matches_Tipps!$B$4:$H$113,7,0),\"\")","v":"Miami"}]
[null,{"$f":"INDEX(Matches_Tipps!$B$4:$J$113,MATCH($F97,Matches_Tipps!$B$4:$B$113,0),5)","v":"2026-06-28T01:30:00"},{"$f":"INDEX(Matches_Tipps!$B$4:$J$113,MATCH($F97,Matches_Tipps!$B$4:$B$113,0),5)","v":46201.0625},{"$f":"INDEX(Matches_Tipps!$B$4:$J$113,MATCH($F97,Matches_Tipps!$B$4:$B$113,0),8)","v":"DR Kongo"},{"$f":"INDEX(Matches_Tipps!$B$4:$J$113,MATCH($F97,Matches_Tipps!$B$4:$B$113,0),9)","v":"Usbekistan"},72,{"$f":"INDEX(Matches_Tipps!$B$4:$J$113,MATCH($F97,Matches_Tipps!$B$4:$B$113,0),2)","v":"K2"},{"$f":"INDEX(Matches_Tipps!$B$4:$J$113,MATCH($F97,Matches_Tipps!$B$4:$B$113,0),3)","v":"K3"},{"$f":"IFERROR(VLOOKUP($F97,Matches_Tipps!$B$4:$H$113,7,0),\"\")","v":"Atlanta"}]
[]
[null,{"$f":"#REF!","v":{"$error":"#REF!"}}]
[null,{"$f":"INDEX(Matches_Tipps!$B$4:$J$113,MATCH($F100,Matches_Tipps!$B$4:$B$113,0),5)","v":"2026-06-28T21:00:00"},{"$f":"INDEX(Matches_Tipps!$B$4:$J$113,MATCH($F100,Matches_Tipps!$B$4:$B$113,0),5)","v":46201.875},{"$f":"INDEX(Matches_Tipps!$B$4:$J$113,MATCH($F100,Matches_Tipps!$B$4:$B$113,0),8)","v":""},{"$f":"INDEX(Matches_Tipps!$B$4:$J$113,MATCH($F100,Matches_Tipps!$B$4:$B$113,0),9)","v":""},73,{"$f":"INDEX(Matches_Tipps!$B$4:$J$113,MATCH($F100,Matches_Tipps!$B$4:$B$113,0),2)","v":"2A"},{"$f":"INDEX(Matches_Tipps!$B$4:$J$113,MATCH($F100,Matches_Tipps!$B$4:$B$113,0),3)","v":"2B"},{"$f":"IFERROR(VLOOKUP($F100,Matches_Tipps!$B$4:$H$113,7,0),\"\")","v":"Los Angeles"}]
[null,{"$f":"INDEX(Matches_Tipps!$B$4:$J$113,MATCH($F101,Matches_Tipps!$B$4:$B$113,0),5)","v":"2026-06-29T22:30:00"},{"$f":"INDEX(Matches_Tipps!$B$4:$J$113,MATCH($F101,Matches_Tipps!$B$4:$B$113,0),5)","v":46202.9375},{"$f":"INDEX(Matches_Tipps!$B$4:$J$113,MATCH($F101,Matches_Tipps!$B$4:$B$113,0),8)","v":""},{"$f":"INDEX(Matches_Tipps!$B$4:$J$113,MATCH($F101,Matches_Tipps!$B$4:$B$113,0),9)","v":""},74,{"$f":"INDEX(Matches_Tipps!$B$4:$J$113,MATCH($F101,Matches_Tipps!$B$4:$B$113,0),2)","v":"1E"},{"$f":"INDEX(Matches_Tipps!$B$4:$J$113,MATCH($F101,Matches_Tipps!$B$4:$B$113,0),3)","v":"3-ABCDF"},{"$f":"IFERROR(VLOOKUP($F101,Matches_Tipps!$B$4:$H$113,7,0),\"\")","v":"Boston"}]
[]
[null,{"$f":"INDEX(Matches_Tipps!$B$4:$J$113,MATCH($F103,Matches_Tipps!$B$4:$B$113,0),5)","v":"2026-06-30T03:00:00"},{"$f":"INDEX(Matches_Tipps!$B$4:$J$113,MATCH($F103,Matches_Tipps!$B$4:$B$113,0),5)","v":46203.125},{"$f":"INDEX(Matches_Tipps!$B$4:$J$113,MATCH($F103,Matches_Tipps!$B$4:$B$113,0),8)","v":""},{"$f":"INDEX(Matches_Tipps!$B$4:$J$113,MATCH($F103,Matches_Tipps!$B$4:$B$113,0),9)","v":""},75,{"$f":"INDEX(Matches_Tipps!$B$4:$J$113,MATCH($F103,Matches_Tipps!$B$4:$B$113,0),2)","v":"1F"},{"$f":"INDEX(Matches_Tipps!$B$4:$J$113,MATCH($F103,Matches_Tipps!$B$4:$B$113,0),3)","v":"2C"},{"$f":"IFERROR(VLOOKUP($F103,Matches_Tipps!$B$4:$H$113,7,0),\"\")","v":"Monterrey"}]
[null,{"$f":"INDEX(Matches_Tipps!$B$4:$J$113,MATCH($F104,Matches_Tipps!$B$4:$B$113,0),5)","v":"2026-06-29T19:00:00"},{"$f":"INDEX(Matches_Tipps!$B$4:$J$113,MATCH($F104,Matches_Tipps!$B$4:$B$113,0),5)","v":46202.791666666664},{"$f":"INDEX(Matches_Tipps!$B$4:$J$113,MATCH($F104,Matches_Tipps!$B$4:$B$113,0),8)","v":""},{"$f":"INDEX(Matches_Tipps!$B$4:$J$113,MATCH($F104,Matches_Tipps!$B$4:$B$113,0),9)","v":""},76,{"$f":"INDEX(Matches_Tipps!$B$4:$J$113,MATCH($F104,Matches_Tipps!$B$4:$B$113,0),2)","v":"1C"},{"$f":"INDEX(Matches_Tipps!$B$4:$J$113,MATCH($F104,Matches_Tipps!$B$4:$B$113,0),3)","v":"2F"},{"$f":"IFERROR(VLOOKUP($F104,Matches_Tipps!$B$4:$H$113,7,0),\"\")","v":"Houston"}]
[]
[null,{"$f":"INDEX(Matches_Tipps!$B$4:$J$113,MATCH($F106,Matches_Tipps!$B$4:$B$113,0),5)","v":"2026-06-30T23:00:00"},{"$f":"INDEX(Matches_Tipps!$B$4:$J$113,MATCH($F106,Matches_Tipps!$B$4:$B$113,0),5)","v":46203.958333333336},{"$f":"INDEX(Matches_Tipps!$B$4:$J$113,MATCH($F106,Matches_Tipps!$B$4:$B$113,0),8)","v":""},{"$f":"INDEX(Matches_Tipps!$B$4:$J$113,MATCH($F106,Matches_Tipps!$B$4:$B$113,0),9)","v":""},77,{"$f":"INDEX(Matches_Tipps!$B$4:$J$113,MATCH($F106,Matches_Tipps!$B$4:$B$113,0),2)","v":"1I"},{"$f":"INDEX(Matches_Tipps!$B$4:$J$113,MATCH($F106,Matches_Tipps!$B$4:$B$113,0),3)","v":"3-CDFGH"},{"$f":"IFERROR(VLOOKUP($F106,Matches_Tipps!$B$4:$H$113,7,0),\"\")","v":"New York/New Jersey"}]
[null,{"$f":"INDEX(Matches_Tipps!$B$4:$J$113,MATCH($F107,Matches_Tipps!$B$4:$B$113,0),5)","v":"2026-06-30T19:00:00"},{"$f":"INDEX(Matches_Tipps!$B$4:$J$113,MATCH($F107,Matches_Tipps!$B$4:$B$113,0),5)","v":46203.791666666664},{"$f":"INDEX(Matches_Tipps!$B$4:$J$113,MATCH($F107,Matches_Tipps!$B$4:$B$113,0),8)","v":""},{"$f":"INDEX(Matches_Tipps!$B$4:$J$113,MATCH($F107,Matches_Tipps!$B$4:$B$113,0),9)","v":""},78,{"$f":"INDEX(Matches_Tipps!$B$4:$J$113,MATCH($F107,Matches_Tipps!$B$4:$B$113,0),2)","v":"2E"},{"$f":"INDEX(Matches_Tipps!$B$4:$J$113,MATCH($F107,Matches_Tipps!$B$4:$B$113,0),3)","v":"2I"},{"$f":"IFERROR(VLOOKUP($F107,Matches_Tipps!$B$4:$H$113,7,0),\"\")","v":"Dallas"}]
[]
[null,{"$f":"INDEX(Matches_Tipps!$B$4:$J$113,MATCH($F109,Matches_Tipps!$B$4:$B$113,0),5)","v":"2026-07-01T03:00:00"},{"$f":"INDEX(Matches_Tipps!$B$4:$J$113,MATCH($F109,Matches_Tipps!$B$4:$B$113,0),5)","v":46204.125},{"$f":"INDEX(Matches_Tipps!$B$4:$J$113,MATCH($F109,Matches_Tipps!$B$4:$B$113,0),8)","v":""},{"$f":"INDEX(Matches_Tipps!$B$4:$J$113,MATCH($F109,Matches_Tipps!$B$4:$B$113,0),9)","v":""},79,{"$f":"INDEX(Matches_Tipps!$B$4:$J$113,MATCH($F109,Matches_Tipps!$B$4:$B$113,0),2)","v":"1A"},{"$f":"INDEX(Matches_Tipps!$B$4:$J$113,MATCH($F109,Matches_Tipps!$B$4:$B$113,0),3)","v":"3-CEFHI"},{"$f":"IFERROR(VLOOKUP($F109,Matches_Tipps!$B$4:$H$113,7,0),\"\")","v":"Mexico City"}]
[null,{"$f":"INDEX(Matches_Tipps!$B$4:$J$113,MATCH($F110,Matches_Tipps!$B$4:$B$113,0),5)","v":"2026-07-01T18:00:00"},{"$f":"INDEX(Matches_Tipps!$B$4:$J$113,MATCH($F110,Matches_Tipps!$B$4:$B$113,0),5)","v":46204.75},{"$f":"INDEX(Matches_Tipps!$B$4:$J$113,MATCH($F110,Matches_Tipps!$B$4:$B$113,0),8)","v":""},{"$f":"INDEX(Matches_Tipps!$B$4:$J$113,MATCH($F110,Matches_Tipps!$B$4:$B$113,0),9)","v":""},80,{"$f":"INDEX(Matches_Tipps!$B$4:$J$113,MATCH($F110,Matches_Tipps!$B$4:$B$113,0),2)","v":"1L"},{"$f":"INDEX(Matches_Tipps!$B$4:$J$113,MATCH($F110,Matches_Tipps!$B$4:$B$113,0),3)","v":"3-EHIJK"},{"$f":"IFERROR(VLOOKUP($F110,Matches_Tipps!$B$4:$H$113,7,0),\"\")","v":"Atlanta"}]
[]
[null,{"$f":"INDEX(Matches_Tipps!$B$4:$J$113,MATCH($F112,Matches_Tipps!$B$4:$B$113,0),5)","v":"2026-07-02T02:00:00"},{"$f":"INDEX(Matches_Tipps!$B$4:$J$113,MATCH($F112,Matches_Tipps!$B$4:$B$113,0),5)","v":46205.083333333336},{"$f":"INDEX(Matches_Tipps!$B$4:$J$113,MATCH($F112,Matches_Tipps!$B$4:$B$113,0),8)","v":""},{"$f":"INDEX(Matches_Tipps!$B$4:$J$113,MATCH($F112,Matches_Tipps!$B$4:$B$113,0),9)","v":""},81,{"$f":"INDEX(Matches_Tipps!$B$4:$J$113,MATCH($F112,Matches_Tipps!$B$4:$B$113,0),2)","v":"1D"},{"$f":"INDEX(Matches_Tipps!$B$4:$J$113,MATCH($F112,Matches_Tipps!$B$4:$B$113,0),3)","v":"3-BEFIJ"},{"$f":"IFERROR(VLOOKUP($F112,Matches_Tipps!$B$4:$H$113,7,0),\"\")","v":"San Francisco Bay Area"}]
[null,{"$f":"INDEX(Matches_Tipps!$B$4:$J$113,MATCH($F113,Matches_Tipps!$B$4:$B$113,0),5)","v":"2026-07-01T22:00:00"},{"$f":"INDEX(Matches_Tipps!$B$4:$J$113,MATCH($F113,Matches_Tipps!$B$4:$B$113,0),5)","v":46204.916666666664},{"$f":"INDEX(Matches_Tipps!$B$4:$J$113,MATCH($F113,Matches_Tipps!$B$4:$B$113,0),8)","v":""},{"$f":"INDEX(Matches_Tipps!$B$4:$J$113,MATCH($F113,Matches_Tipps!$B$4:$B$113,0),9)","v":""},82,{"$f":"INDEX(Matches_Tipps!$B$4:$J$113,MATCH($F113,Matches_Tipps!$B$4:$B$113,0),2)","v":"1G"},{"$f":"INDEX(Matches_Tipps!$B$4:$J$113,MATCH($F113,Matches_Tipps!$B$4:$B$113,0),3)","v":"3-AEHIJ"},{"$f":"IFERROR(VLOOKUP($F113,Matches_Tipps!$B$4:$H$113,7,0),\"\")","v":"Seattle"}]
[]
[null,{"$f":"INDEX(Matches_Tipps!$B$4:$J$113,MATCH($F115,Matches_Tipps!$B$4:$B$113,0),5)","v":"2026-07-03T01:00:00"},{"$f":"INDEX(Matches_Tipps!$B$4:$J$113,MATCH($F115,Matches_Tipps!$B$4:$B$113,0),5)","v":46206.041666666664},{"$f":"INDEX(Matches_Tipps!$B$4:$J$113,MATCH($F115,Matches_Tipps!$B$4:$B$113,0),8)","v":""},{"$f":"INDEX(Matches_Tipps!$B$4:$J$113,MATCH($F115,Matches_Tipps!$B$4:$B$113,0),9)","v":""},83,{"$f":"INDEX(Matches_Tipps!$B$4:$J$113,MATCH($F115,Matches_Tipps!$B$4:$B$113,0),2)","v":"2K"},{"$f":"INDEX(Matches_Tipps!$B$4:$J$113,MATCH($F115,Matches_Tipps!$B$4:$B$113,0),3)","v":"2L"},{"$f":"IFERROR(VLOOKUP($F115,Matches_Tipps!$B$4:$H$113,7,0),\"\")","v":"Toronto"}]
[null,{"$f":"INDEX(Matches_Tipps!$B$4:$J$113,MATCH($F116,Matches_Tipps!$B$4:$B$113,0),5)","v":"2026-07-02T21:00:00"},{"$f":"INDEX(Matches_Tipps!$B$4:$J$113,MATCH($F116,Matches_Tipps!$B$4:$B$113,0),5)","v":46205.875},{"$f":"INDEX(Matches_Tipps!$B$4:$J$113,MATCH($F116,Matches_Tipps!$B$4:$B$113,0),8)","v":""},{"$f":"INDEX(Matches_Tipps!$B$4:$J$113,MATCH($F116,Matches_Tipps!$B$4:$B$113,0),9)","v":""},84,{"$f":"INDEX(Matches_Tipps!$B$4:$J$113,MATCH($F116,Matches_Tipps!$B$4:$B$113,0),2)","v":"1H"},{"$f":"INDEX(Matches_Tipps!$B$4:$J$113,MATCH($F116,Matches_Tipps!$B$4:$B$113,0),3)","v":"2J"},{"$f":"IFERROR(VLOOKUP($F116,Matches_Tipps!$B$4:$H$113,7,0),\"\")","v":"Los Angeles"}]
[]
[null,{"$f":"INDEX(Matches_Tipps!$B$4:$J$113,MATCH($F118,Matches_Tipps!$B$4:$B$113,0),5)","v":"2026-07-03T05:00:00"},{"$f":"INDEX(Matches_Tipps!$B$4:$J$113,MATCH($F118,Matches_Tipps!$B$4:$B$113,0),5)","v":46206.208333333336},{"$f":"INDEX(Matches_Tipps!$B$4:$J$113,MATCH($F118,Matches_Tipps!$B$4:$B$113,0),8)","v":""},{"$f":"INDEX(Matches_Tipps!$B$4:$J$113,MATCH($F118,Matches_Tipps!$B$4:$B$113,0),9)","v":""},85,{"$f":"INDEX(Matches_Tipps!$B$4:$J$113,MATCH($F118,Matches_Tipps!$B$4:$B$113,0),2)","v":"1B"},{"$f":"INDEX(Matches_Tipps!$B$4:$J$113,MATCH($F118,Matches_Tipps!$B$4:$B$113,0),3)","v":"3-EFGIJ"},{"$f":"IFERROR(VLOOKUP($F118,Matches_Tipps!$B$4:$H$113,7,0),\"\")","v":"Vancouver"}]
[null,{"$f":"INDEX(Matches_Tipps!$B$4:$J$113,MATCH($F119,Matches_Tipps!$B$4:$B$113,0),5)","v":"2026-07-04"},{"$f":"INDEX(Matches_Tipps!$B$4:$J$113,MATCH($F119,Matches_Tipps!$B$4:$B$113,0),5)","v":46207},{"$f":"INDEX(Matches_Tipps!$B$4:$J$113,MATCH($F119,Matches_Tipps!$B$4:$B$113,0),8)","v":""},{"$f":"INDEX(Matches_Tipps!$B$4:$J$113,MATCH($F119,Matches_Tipps!$B$4:$B$113,0),9)","v":""},86,{"$f":"INDEX(Matches_Tipps!$B$4:$J$113,MATCH($F119,Matches_Tipps!$B$4:$B$113,0),2)","v":"1J"},{"$f":"INDEX(Matches_Tipps!$B$4:$J$113,MATCH($F119,Matches_Tipps!$B$4:$B$113,0),3)","v":"2H"},{"$f":"IFERROR(VLOOKUP($F119,Matches_Tipps!$B$4:$H$113,7,0),\"\")","v":"Miami"}]
[]
[null,{"$f":"INDEX(Matches_Tipps!$B$4:$J$113,MATCH($F121,Matches_Tipps!$B$4:$B$113,0),5)","v":"2026-07-04T03:30:00"},{"$f":"INDEX(Matches_Tipps!$B$4:$J$113,MATCH($F121,Matches_Tipps!$B$4:$B$113,0),5)","v":46207.145833333336},{"$f":"INDEX(Matches_Tipps!$B$4:$J$113,MATCH($F121,Matches_Tipps!$B$4:$B$113,0),8)","v":""},{"$f":"INDEX(Matches_Tipps!$B$4:$J$113,MATCH($F121,Matches_Tipps!$B$4:$B$113,0),9)","v":""},87,{"$f":"INDEX(Matches_Tipps!$B$4:$J$113,MATCH($F121,Matches_Tipps!$B$4:$B$113,0),2)","v":"1K"},{"$f":"INDEX(Matches_Tipps!$B$4:$J$113,MATCH($F121,Matches_Tipps!$B$4:$B$113,0),3)","v":"3-DEIJL"},{"$f":"IFERROR(VLOOKUP($F121,Matches_Tipps!$B$4:$H$113,7,0),\"\")","v":"Kansas City"}]
[null,{"$f":"INDEX(Matches_Tipps!$B$4:$J$113,MATCH($F122,Matches_Tipps!$B$4:$B$113,0),5)","v":"2026-07-03T20:00:00"},{"$f":"INDEX(Matches_Tipps!$B$4:$J$113,MATCH($F122,Matches_Tipps!$B$4:$B$113,0),5)","v":46206.833333333336},{"$f":"INDEX(Matches_Tipps!$B$4:$J$113,MATCH($F122,Matches_Tipps!$B$4:$B$113,0),8)","v":""},{"$f":"INDEX(Matches_Tipps!$B$4:$J$113,MATCH($F122,Matches_Tipps!$B$4:$B$113,0),9)","v":""},88,{"$f":"INDEX(Matches_Tipps!$B$4:$J$113,MATCH($F122,Matches_Tipps!$B$4:$B$113,0),2)","v":"2D"},{"$f":"INDEX(Matches_Tipps!$B$4:$J$113,MATCH($F122,Matches_Tipps!$B$4:$B$113,0),3)","v":"2G"},{"$f":"IFERROR(VLOOKUP($F122,Matches_Tipps!$B$4:$H$113,7,0),\"\")","v":"Dallas"}]
[]
[null,{"$f":"#REF!","v":{"$error":"#REF!"}}]
[null,{"$f":"INDEX(Matches_Tipps!$B$4:$J$113,MATCH($F125,Matches_Tipps!$B$4:$B$113,0),5)","v":"2026-07-04T23:00:00"},{"$f":"INDEX(Matches_Tipps!$B$4:$J$113,MATCH($F125,Matches_Tipps!$B$4:$B$113,0),5)","v":46207.958333333336},{"$f":"Meine_Tipps!$B$60","v":""},{"$f":"Meine_Tipps!$C$60","v":""},89,{"$f":"INDEX(Matches_Tipps!$B$4:$J$113,MATCH($F125,Matches_Tipps!$B$4:$B$113,0),2)","v":"W74"},{"$f":"INDEX(Matches_Tipps!$B$4:$J$113,MATCH($F125,Matches_Tipps!$B$4:$B$113,0),3)","v":"W77"},{"$f":"IFERROR(VLOOKUP($F125,Matches_Tipps!$B$4:$H$113,7,0),\"\")","v":"Philadelphia"}]
[null,{"$f":"INDEX(Matches_Tipps!$B$4:$J$113,MATCH($F126,Matches_Tipps!$B$4:$B$113,0),5)","v":"2026-07-04T19:00:00"},{"$f":"INDEX(Matches_Tipps!$B$4:$J$113,MATCH($F126,Matches_Tipps!$B$4:$B$113,0),5)","v":46207.791666666664},{"$f":"Meine_Tipps!$E$60","v":""},{"$f":"Meine_Tipps!$F$60","v":""},90,{"$f":"INDEX(Matches_Tipps!$B$4:$J$113,MATCH($F126,Matches_Tipps!$B$4:$B$113,0),2)","v":"W73"},{"$f":"INDEX(Matches_Tipps!$B$4:$J$113,MATCH($F126,Matches_Tipps!$B$4:$B$113,0),3)","v":"W75"},{"$f":"IFERROR(VLOOKUP($F126,Matches_Tipps!$B$4:$H$113,7,0),\"\")","v":"Houston"}]
[]
[null,{"$f":"INDEX(Matches_Tipps!$B$4:$J$113,MATCH($F128,Matches_Tipps!$B$4:$B$113,0),5)","v":"2026-07-05T22:00:00"},{"$f":"INDEX(Matches_Tipps!$B$4:$J$113,MATCH($F128,Matches_Tipps!$B$4:$B$113,0),5)","v":46208.916666666664},{"$f":"Meine_Tipps!$H$60","v":""},{"$f":"Meine_Tipps!$I$60","v":""},91,{"$f":"INDEX(Matches_Tipps!$B$4:$J$113,MATCH($F128,Matches_Tipps!$B$4:$B$113,0),2)","v":"W76"},{"$f":"INDEX(Matches_Tipps!$B$4:$J$113,MATCH($F128,Matches_Tipps!$B$4:$B$113,0),3)","v":"W78"},{"$f":"IFERROR(VLOOKUP($F128,Matches_Tipps!$B$4:$H$113,7,0),\"\")","v":"New York/New Jersey"}]
[null,{"$f":"INDEX(Matches_Tipps!$B$4:$J$113,MATCH($F129,Matches_Tipps!$B$4:$B$113,0),5)","v":"2026-07-06T02:00:00"},{"$f":"INDEX(Matches_Tipps!$B$4:$J$113,MATCH($F129,Matches_Tipps!$B$4:$B$113,0),5)","v":46209.083333333336},{"$f":"Meine_Tipps!$K$60","v":""},{"$f":"Meine_Tipps!$L$60","v":""},92,{"$f":"INDEX(Matches_Tipps!$B$4:$J$113,MATCH($F129,Matches_Tipps!$B$4:$B$113,0),2)","v":"W79"},{"$f":"INDEX(Matches_Tipps!$B$4:$J$113,MATCH($F129,Matches_Tipps!$B$4:$B$113,0),3)","v":"W80"},{"$f":"IFERROR(VLOOKUP($F129,Matches_Tipps!$B$4:$H$113,7,0),\"\")","v":"Mexico City"}]
[]
[null,{"$f":"INDEX(Matches_Tipps!$B$4:$J$113,MATCH($F131,Matches_Tipps!$B$4:$B$113,0),5)","v":"2026-07-06T21:00:00"},{"$f":"INDEX(Matches_Tipps!$B$4:$J$113,MATCH($F131,Matches_Tipps!$B$4:$B$113,0),5)","v":46209.875},{"$f":"Meine_Tipps!$N$60","v":""},{"$f":"Meine_Tipps!$O$60","v":""},93,{"$f":"INDEX(Matches_Tipps!$B$4:$J$113,MATCH($F131,Matches_Tipps!$B$4:$B$113,0),2)","v":"W83"},{"$f":"INDEX(Matches_Tipps!$B$4:$J$113,MATCH($F131,Matches_Tipps!$B$4:$B$113,0),3)","v":"W84"},{"$f":"IFERROR(VLOOKUP($F131,Matches_Tipps!$B$4:$H$113,7,0),\"\")","v":"Dallas"}]
[null,{"$f":"INDEX(Matches_Tipps!$B$4:$J$113,MATCH($F132,Matches_Tipps!$B$4:$B$113,0),5)","v":"2026-07-07T02:00:00"},{"$f":"INDEX(Matches_Tipps!$B$4:$J$113,MATCH($F132,Matches_Tipps!$B$4:$B$113,0),5)","v":46210.083333333336},{"$f":"Meine_Tipps!$Q$60","v":""},{"$f":"Meine_Tipps!$R$60","v":""},94,{"$f":"INDEX(Matches_Tipps!$B$4:$J$113,MATCH($F132,Matches_Tipps!$B$4:$B$113,0),2)","v":"W81"},{"$f":"INDEX(Matches_Tipps!$B$4:$J$113,MATCH($F132,Matches_Tipps!$B$4:$B$113,0),3)","v":"W82"},{"$f":"IFERROR(VLOOKUP($F132,Matches_Tipps!$B$4:$H$113,7,0),\"\")","v":"Seattle"}]
[]
[null,{"$f":"INDEX(Matches_Tipps!$B$4:$J$113,MATCH($F134,Matches_Tipps!$B$4:$B$113,0),5)","v":"2026-07-07T18:00:00"},{"$f":"INDEX(Matches_Tipps!$B$4:$J$113,MATCH($F134,Matches_Tipps!$B$4:$B$113,0),5)","v":46210.75},{"$f":"Meine_Tipps!$T$60","v":""},{"$f":"Meine_Tipps!$U$60","v":""},95,{"$f":"INDEX(Matches_Tipps!$B$4:$J$113,MATCH($F134,Matches_Tipps!$B$4:$B$113,0),2)","v":"W86"},{"$f":"INDEX(Matches_Tipps!$B$4:$J$113,MATCH($F134,Matches_Tipps!$B$4:$B$113,0),3)","v":"W88"},{"$f":"IFERROR(VLOOKUP($F134,Matches_Tipps!$B$4:$H$113,7,0),\"\")","v":"Atlanta"}]
[null,{"$f":"INDEX(Matches_Tipps!$B$4:$J$113,MATCH($F135,Matches_Tipps!$B$4:$B$113,0),5)","v":"2026-07-07T22:00:00"},{"$f":"INDEX(Matches_Tipps!$B$4:$J$113,MATCH($F135,Matches_Tipps!$B$4:$B$113,0),5)","v":46210.916666666664},{"$f":"Meine_Tipps!$W$60","v":""},{"$f":"Meine_Tipps!$X$60","v":""},96,{"$f":"INDEX(Matches_Tipps!$B$4:$J$113,MATCH($F135,Matches_Tipps!$B$4:$B$113,0),2)","v":"W85"},{"$f":"INDEX(Matches_Tipps!$B$4:$J$113,MATCH($F135,Matches_Tipps!$B$4:$B$113,0),3)","v":"W87"},{"$f":"IFERROR(VLOOKUP($F135,Matches_Tipps!$B$4:$H$113,7,0),\"\")","v":"Vancouver"}]
[]
[null,{"$f":"#REF!","v":{"$error":"#REF!"}}]
[null,{"$f":"INDEX(Matches_Tipps!$B$4:$J$113,MATCH($F138,Matches_Tipps!$B$4:$B$113,0),5)","v":"2026-07-09T22:00:00"},{"$f":"INDEX(Matches_Tipps!$B$4:$J$113,MATCH($F138,Matches_Tipps!$B$4:$B$113,0),5)","v":46212.916666666664},{"$f":"Meine_Tipps!$C$70","v":""},{"$f":"Meine_Tipps!$E$70","v":""},97,{"$f":"INDEX(Matches_Tipps!$B$4:$J$113,MATCH($F138,Matches_Tipps!$B$4:$B$113,0),2)","v":"W89"},{"$f":"INDEX(Matches_Tipps!$B$4:$J$113,MATCH($F138,Matches_Tipps!$B$4:$B$113,0),3)","v":"W90"},{"$f":"IFERROR(VLOOKUP($F138,Matches_Tipps!$B$4:$H$113,7,0),\"\")","v":"Boston"}]
[null,{"$f":"INDEX(Matches_Tipps!$B$4:$J$113,MATCH($F139,Matches_Tipps!$B$4:$B$113,0),5)","v":"2026-07-10T21:00:00"},{"$f":"INDEX(Matches_Tipps!$B$4:$J$113,MATCH($F139,Matches_Tipps!$B$4:$B$113,0),5)","v":46213.875},{"$f":"Meine_Tipps!$I$70","v":""},{"$f":"Meine_Tipps!$K$70","v":""},98,{"$f":"INDEX(Matches_Tipps!$B$4:$J$113,MATCH($F139,Matches_Tipps!$B$4:$B$113,0),2)","v":"W93"},{"$f":"INDEX(Matches_Tipps!$B$4:$J$113,MATCH($F139,Matches_Tipps!$B$4:$B$113,0),3)","v":"W94"},{"$f":"IFERROR(VLOOKUP($F139,Matches_Tipps!$B$4:$H$113,7,0),\"\")","v":"Los Angeles"}]
[]
[null,{"$f":"INDEX(Matches_Tipps!$B$4:$J$113,MATCH($F141,Matches_Tipps!$B$4:$B$113,0),5)","v":"2026-07-11T23:00:00"},{"$f":"INDEX(Matches_Tipps!$B$4:$J$113,MATCH($F141,Matches_Tipps!$B$4:$B$113,0),5)","v":46214.958333333336},{"$f":"Meine_Tipps!$O$70","v":""},{"$f":"Meine_Tipps!$Q$70","v":""},99,{"$f":"INDEX(Matches_Tipps!$B$4:$J$113,MATCH($F141,Matches_Tipps!$B$4:$B$113,0),2)","v":"W91"},{"$f":"INDEX(Matches_Tipps!$B$4:$J$113,MATCH($F141,Matches_Tipps!$B$4:$B$113,0),3)","v":"W92"},{"$f":"IFERROR(VLOOKUP($F141,Matches_Tipps!$B$4:$H$113,7,0),\"\")","v":"Miami"}]
[null,{"$f":"INDEX(Matches_Tipps!$B$4:$J$113,MATCH($F142,Matches_Tipps!$B$4:$B$113,0),5)","v":"2026-07-12T03:00:00"},{"$f":"INDEX(Matches_Tipps!$B$4:$J$113,MATCH($F142,Matches_Tipps!$B$4:$B$113,0),5)","v":46215.125},{"$f":"Meine_Tipps!$U$70","v":""},{"$f":"Meine_Tipps!$W$70","v":""},100,{"$f":"INDEX(Matches_Tipps!$B$4:$J$113,MATCH($F142,Matches_Tipps!$B$4:$B$113,0),2)","v":"W95"},{"$f":"INDEX(Matches_Tipps!$B$4:$J$113,MATCH($F142,Matches_Tipps!$B$4:$B$113,0),3)","v":"W96"},{"$f":"IFERROR(VLOOKUP($F142,Matches_Tipps!$B$4:$H$113,7,0),\"\")","v":"Kansas City"}]
[]
[null,{"$f":"#REF!","v":{"$error":"#REF!"}}]
[null,{"$f":"INDEX(Matches_Tipps!$B$4:$J$113,MATCH($F145,Matches_Tipps!$B$4:$B$113,0),5)","v":"2026-07-14T21:00:00"},{"$f":"INDEX(Matches_Tipps!$B$4:$J$113,MATCH($F145,Matches_Tipps!$B$4:$B$113,0),5)","v":46217.875},{"$f":"Meine_Tipps!$F$80","v":""},{"$f":"Meine_Tipps!$H$80","v":""},101,{"$f":"INDEX(Matches_Tipps!$B$4:$J$113,MATCH($F145,Matches_Tipps!$B$4:$B$113,0),2)","v":"W97"},{"$f":"INDEX(Matches_Tipps!$B$4:$J$113,MATCH($F145,Matches_Tipps!$B$4:$B$113,0),3)","v":"W98"},{"$f":"IFERROR(VLOOKUP($F145,Matches_Tipps!$B$4:$H$113,7,0),\"\")","v":"Dallas"}]
[]
[null,{"$f":"INDEX(Matches_Tipps!$B$4:$J$113,MATCH($F147,Matches_Tipps!$B$4:$B$113,0),5)","v":"2026-07-15T21:00:00"},{"$f":"INDEX(Matches_Tipps!$B$4:$J$113,MATCH($F147,Matches_Tipps!$B$4:$B$113,0),5)","v":46218.875},{"$f":"Meine_Tipps!$R$80","v":""},{"$f":"Meine_Tipps!$T$80","v":""},102,{"$f":"INDEX(Matches_Tipps!$B$4:$J$113,MATCH($F147,Matches_Tipps!$B$4:$B$113,0),2)","v":"W99"},{"$f":"INDEX(Matches_Tipps!$B$4:$J$113,MATCH($F147,Matches_Tipps!$B$4:$B$113,0),3)","v":"W100"},{"$f":"IFERROR(VLOOKUP($F147,Matches_Tipps!$B$4:$H$113,7,0),\"\")","v":"Atlanta"}]
[]
[null,{"$f":"#REF!","v":{"$error":"#REF!"}}]
[null,{"$f":"INDEX(Matches_Tipps!$B$4:$J$113,MATCH($F150,Matches_Tipps!$B$4:$B$113,0),5)","v":"2026-07-18T23:00:00"},{"$f":"INDEX(Matches_Tipps!$B$4:$J$113,MATCH($F150,Matches_Tipps!$B$4:$B$113,0),5)","v":46221.958333333336},{"$f":"Meine_Tipps!$L$88","v":""},{"$f":"Meine_Tipps!$N$88","v":""},103,{"$f":"INDEX(Matches_Tipps!$B$4:$J$113,MATCH($F150,Matches_Tipps!$B$4:$B$113,0),2)","v":"RU101"},{"$f":"INDEX(Matches_Tipps!$B$4:$J$113,MATCH($F150,Matches_Tipps!$B$4:$B$113,0),3)","v":"RU102"},{"$f":"IFERROR(VLOOKUP($F150,Matches_Tipps!$B$4:$H$113,7,0),\"\")","v":"Miami"}]
[]
[null,{"$f":"#REF!","v":{"$error":"#REF!"}}]
[null,{"$f":"INDEX(Matches_Tipps!$B$4:$J$113,MATCH($F153,Matches_Tipps!$B$4:$B$113,0),5)","v":"2026-07-19T21:00:00"},{"$f":"INDEX(Matches_Tipps!$B$4:$J$113,MATCH($F153,Matches_Tipps!$B$4:$B$113,0),5)","v":46222.875},{"$f":"Meine_Tipps!$L$98","v":""},{"$f":"Meine_Tipps!$N$98","v":""},104,{"$f":"INDEX(Matches_Tipps!$B$4:$J$113,MATCH($F153,Matches_Tipps!$B$4:$B$113,0),2)","v":"W101"},{"$f":"INDEX(Matches_Tipps!$B$4:$J$113,MATCH($F153,Matches_Tipps!$B$4:$B$113,0),3)","v":"W102"},{"$f":"IFERROR(VLOOKUP($F153,Matches_Tipps!$B$4:$H$113,7,0),\"\")","v":"New York/New Jersey"}]

{"sheet":"FairPlay","index":4,"n_rows":27,"n_cols":9,"rows_kept":27,"merged":[[1,1,1,5],[2,1,2,5]]}
[]
[null,{"$f":"Sprache_Tipps!$E$117","v":"Fair-Play"}]
[null,"Entscheidet bei zwei oder mehr Mannschaften die Fair-Play-Wertung über die bessere Platzierung in der Gruppe, so kannst du hier die Reihung festlegen: 0 für die \"unfairste\" Mannschaft bis 3 für die \"fairste\" Mannschaft. Wenn du nichts einträgst, wird angenommen dass alle Mannschaft gleich \"fair\" gespielt haben und es entscheidet gemäß dem FIFA Regelwerk der FIFA Koeffizient"]
[]
["A",{"$f":"Sprache_Tipps!$E$124&\" \"&A5","v":"Gruppe A"},{"$f":"Sprache_Tipps!$E$168","v":"Bonus"},"E",{"$f":"Sprache_Tipps!$E$124&\" \"&D5","v":"Gruppe E"},{"$f":"Sprache_Tipps!$E$168","v":"Bonus"},"I",{"$f":"Sprache_Tipps!$E$124&\" \"&G5","v":"Gruppe I"},{"$f":"Sprache_Tipps!$E$168","v":"Bonus"}]
[null,"Mexiko",0,null,"Deutschland",0,null,"Frankreich",0]
[null,"Südafrika",0,null,"Curacao",0,null,"Senegal",0]
[null,"Südkorea",0,null,"Elfenbeinküste",0,null,"Irak",0]
[null,"Tschechien",0,null,"Ecuador",0,null,"Norwegen",0]
[]
["B",{"$f":"Sprache_Tipps!$E$124&\" \"&A11","v":"Gruppe B"},{"$f":"Sprache_Tipps!$E$168","v":"Bonus"},"F",{"$f":"Sprache_Tipps!$E$124&\" \"&D11","v":"Gruppe F"},{"$f":"Sprache_Tipps!$E$168","v":"Bonus"},"J",{"$f":"Sprache_Tipps!$E$124&\" \"&G11","v":"Gruppe J"},{"$f":"Sprache_Tipps!$E$168","v":"Bonus"}]
[null,"Kanada",0,null,"Niederlande",0,null,"Argentinien",0]
[null,"Bosnien-Herzeg.",0,null,"Japan",0,null,"Algerien",0]
[null,"Katar",0,null,"Schweden",0,null,"Österreich",0]
[null,"Schweiz",0,null,"Tunesien",0,null,"Jordanien",0]
[]
["C",{"$f":"Sprache_Tipps!$E$124&\" \"&A17","v":"Gruppe C"},{"$f":"Sprache_Tipps!$E$168","v":"Bonus"},"G",{"$f":"Sprache_Tipps!$E$124&\" \"&D17","v":"Gruppe G"},{"$f":"Sprache_Tipps!$E$168","v":"Bonus"},"K",{"$f":"Sprache_Tipps!$E$124&\" \"&G17","v":"Gruppe K"},{"$f":"Sprache_Tipps!$E$168","v":"Bonus"}]
[null,"Brasilien",0,null,"Belgien",0,null,"Portugal",0]
[null,"Marokko",0,null,"Ägypten",0,null,"DR Kongo",0]
[null,"Haiti",0,null,"Iran",0,null,"Usbekistan",0]
[null,"Schottland",0,null,"Neuseeland",0,null,"Kolumbien",0]
[]
["D",{"$f":"Sprache_Tipps!$E$124&\" \"&A23","v":"Gruppe D"},{"$f":"Sprache_Tipps!$E$168","v":"Bonus"},"H",{"$f":"Sprache_Tipps!$E$124&\" \"&D23","v":"Gruppe H"},{"$f":"Sprache_Tipps!$E$168","v":"Bonus"},"L",{"$f":"Sprache_Tipps!$E$124&\" \"&G23","v":"Gruppe L"},{"$f":"Sprache_Tipps!$E$168","v":"Bonus"}]
[null,"USA",0,null,"Spanien",0,null,"England",0]
[null,"Paraguay",0,null,"Kapverde",0,null,"Kroatien",0]
[null,"Australien",0,null,"Saudiarabien",0,null,"Ghana",0]
[null,"Türkei",0,null,"Uruguay",0,null,"Panama",0]

{"sheet":"Direkte Vergleiche Tipps","index":5,"n_rows":97,"n_cols":33,"rows_kept":97,"hidden":true,"merged":[[0,1,0,20],[2,3,2,7],[2,8,2,12],[2,13,2,17],[3,5,3,7],[3,15,3,17],[10,3,10,7],[10,8,10,12],[10,13,10,17],[11,5,11,7],[11,15,11,17],[18,3,18,7],[18,8,18,12],[18,13,18,17],[19,5,19,7],[19,15,19,17],[26,3,26,7],[26,8,26,12],[26,13,26,17],[27,5,27,7],[27,15,27,17],[34,3,34,7],[34,8,34,12],[34,13,34,17],[35,5,35,7],[35,15,35,17],[42,3,42,7],[42,8,42,12],[42,13,42,17],[43,5,43,7],[43,15,43,17],[50,3,50,7],[50,8,50,12],[50,13,50,17],[51,5,51,7],[51,15,51,17],[58,3,58,7],[58,8,58,12],[58,13,58,17],[59,5,59,7],[59,15,59,17],[66,3,66,7],[66,8,66,12],[66,13,66,17],[67,5,67,7],[67,15,67,17],[74,3,74,7],[74,8,74,12],[74,13,74,17],[75,5,75,7],[75,15,75,17],[82,3,82,7],[82,8,82,12],[82,13,82,17],[83,5,83,7],[83,15,83,17],[90,3,90,7],[90,8,90,12],[90,13,90,17],[91,5,91,7],[91,15,91,17]]}
[null,{"$f":"Sprache_Tipps!$E$116","v":"Direkte Vergleiche"}]
[]
[null,{"$f":"IF(OR($AC9>0,$K5<>\"\",$K6<>\"\",$K7<>\"\"),\"˜\",\"\")","v":""},{"$f":"Sprache_Tipps!$E$124&\" A\"","v":"Gruppe A"},{"$f":"Sprache_Tipps!$E$129","v":"Total"},{"$nulls":4},{"$f":"Sprache_Tipps!$E$132","v":"Dir. Vergl.(2)"},{"$nulls":4},{"$f":"Sprache_Tipps!$E$133","v":"Dir. Vergl.(3)"},{"$nulls":8},"Clear?",null,"Row numbers",{"$nulls":3},"Col num","Dir. Comp. (3)"]
[{"$nulls":3},{"$f":"Sprache_Tipps!$E$125","v":"Pkt."},{"$f":"Sprache_Tipps!$E$126","v":"TD"},{"$f":"Sprache_Tipps!$E$127","v":"Tore"},{"$nulls":4},{"$f":"Sprache_Tipps!$E$125","v":"Pkt."},null,null,{"$f":"Sprache_Tipps!$E$125","v":"Pkt."},{"$f":"Sprache_Tipps!$E$126","v":"TD"},{"$f":"Sprache_Tipps!$E$127","v":"Tore"},{"$nulls":3},{"$f":"Sprache_Tipps!$E$130","v":"Fair-Play/Los"},{"$f":"Sprache_Tipps!$E$131","v":"Nicht klar"},{"$nulls":8},"Points","GD","For","Against"]
[null,"1.",{"$f":"GrpA_Tipps!$P$11","v":"Mexiko"},{"$f":"GrpA_Tipps!$Q$11","v":0},{"$f":"GrpA_Tipps!$R$11","v":0},{"$f":"GrpA_Tipps!$S$11","v":0},"-",{"$f":"GrpA_Tipps!$T$11","v":0},null,null,{"$f":"GrpA_Tipps!$AD$11","v":""},null,null,{"$f":"IF($AC9=0,\"\",IF(INDEX($Y5:$AB8,1,$AC9)=0,\"\",INDEX($AD5:$AG7,INDEX($Y5:$AB8,1,$AC9),1)))","v":""},{"$f":"IF($AC9=0,\"\",IF(INDEX($Y5:$AB8,1,$AC9)=0,\"\",INDEX($AD5:$AG7,INDEX($Y5:$AB8,1,$AC9),2)))","v":""},{"$f":"IF($AC9=0,\"\",IF(INDEX($Y5:$AB8,1,$AC9)=0,\"\",INDEX($AD5:$AG7,INDEX($Y5:$AB8,1,$AC9),3)))","v":""},"-",{"$f":"IF($AC9=0,\"\",IF(INDEX($Y5:$AB8,1,$AC9)=0,\"\",INDEX($AD5:$AG7,INDEX($Y5:$AB8,1,$AC9),4)))","v":""},null,{"$f":"SUMIFS(FairPlayPoints1,FairPlayTeams1,$C5)+SUMIFS(FairPlayPoints2,FairPlayTeams2,$C5)+SUMIFS(FairPlayPoints3,FairPlayTeams3,$C5)","v":0},{"$f":"IF($W5>0,\"•\",\"\")","v":""},null,{"$f":"IF(AND(OR(TRUNC(GrpA_Tipps!$V$11,4)=TRUNC(GrpA_Tipps!$V$12,4),TRUNC(GrpA_Tipps!$V$11,4)=TRUNC(GrpA_Tipps!$V$13,4),TRUNC(GrpA_Tipps!$V$11,4)=TRUNC(GrpA_Tipps!$V$14,4)),VLOOKUP(GrpA_Tipps!$P$11,GrpA_Tipps!$P$4:$AC$7,14,0)),1,0)","v":0},null,{"$f":"IF(VLOOKUP($C5,GrpA_Tipps!$P$18:$X$21,9,0)+VLOOKUP($C5,GrpA_Tipps!$P$18:$AD$21,15,0)>0,MATCH($C5,GrpA_Tipps!$P$18:$P$21,0),0)","v":0},{"$f":"IF(VLOOKUP($C5,GrpA_Tipps!$P$23:$X$26,9,0)+VLOOKUP($C5,GrpA_Tipps!$P$23:$AD$26,15,0)>0,MATCH($C5,GrpA_Tipps!$P$23:$P$26,0),0)","v":0},{"$f":"IF(VLOOKUP($C5,GrpA_Tipps!$P$28:$X$31,9,0)+VLOOKUP($C5,GrpA_Tipps!$P$28:$AD$31,15,0)>0,MATCH($C5,GrpA_Tipps!$P$28:$P$31,0),0)","v":0},{"$f":"IF(VLOOKUP($C5,GrpA_Tipps!$P$33:$X$36,9,0)+VLOOKUP($C5,GrpA_Tipps!$P$33:$AD$36,15,0)>0,MATCH($C5,GrpA_Tipps!$P$33:$P$36,0),0)","v":0},null,{"$f":"IF($Y9>0,GrpA_Tipps!$Q$18:$T$20,IF($Z9>0,GrpA_Tipps!$Q$23:$T$25,IF($AA9>0,GrpA_Tipps!$Q$28:$T$30,IF($AB9>0,GrpA_Tipps!$Q$33:$T$35,\"0\"))))","v":"0"},"0","0","0"]
[null,"2.",{"$f":"GrpA_Tipps!$P$12","v":"Südafrika"},{"$f":"GrpA_Tipps!$Q$12","v":0},{"$f":"GrpA_Tipps!$R$12","v":0},{"$f":"GrpA_Tipps!$S$12","v":0},"-",{"$f":"GrpA_Tipps!$T$12","v":0},null,null,{"$f":"GrpA_Tipps!$AD$12","v":""},null,null,{"$f":"IF($AC9=0,\"\",IF(INDEX($Y5:$AB8,2,$AC9)=0,\"\",INDEX($AD5:$AG7,INDEX($Y5:$AB8,2,$AC9),1)))","v":""},{"$f":"IF($AC9=0,\"\",IF(INDEX($Y5:$AB8,2,$AC9)=0,\"\",INDEX($AD5:$AG7,INDEX($Y5:$AB8,2,$AC9),2)))","v":""},{"$f":"IF($AC9=0,\"\",IF(INDEX($Y5:$AB8,2,$AC9)=0,\"\",INDEX($AD5:$AG7,INDEX($Y5:$AB8,2,$AC9),3)))","v":""},"-",{"$f":"IF($AC9=0,\"\",IF(INDEX($Y5:$AB8,2,$AC9)=0,\"\",INDEX($AD5:$AG7,INDEX($Y5:$AB8,2,$AC9),4)))","v":""},null,{"$f":"SUMIFS(FairPlayPoints1,FairPlayTeams1,$C6)+SUMIFS(FairPlayPoints2,FairPlayTeams2,$C6)+SUMIFS(FairPlayPoints3,FairPlayTeams3,$C6)","v":0},{"$f":"IF($W6>0,\"•\",\"\")","v":""},null,{"$f":"IF(AND(OR(TRUNC(GrpA_Tipps!$V$12,4)=TRUNC(GrpA_Tipps!$V$11,4),TRUNC(GrpA_Tipps!$V$12,4)=TRUNC(GrpA_Tipps!$V$13,4),TRUNC(GrpA_Tipps!$V$12,4)=TRUNC(GrpA_Tipps!$V$14,4)),VLOOKUP(GrpA_Tipps!$P$12,GrpA_Tipps!$P$4:$AC$7,14,0)),1,0)","v":0},null,{"$f":"IF(VLOOKUP($C6,GrpA_Tipps!$P$18:$X$21,9,0)+VLOOKUP($C6,GrpA_Tipps!$P$18:$AD$21,15,0)>0,MATCH($C6,GrpA_Tipps!$P$18:$P$21,0),0)","v":0},{"$f":"IF(VLOOKUP($C6,GrpA_Tipps!$P$23:$X$26,9,0)+VLOOKUP($C6,GrpA_Tipps!$P$23:$AD$26,15,0)>0,MATCH($C6,GrpA_Tipps!$P$23:$P$26,0),0)","v":0},{"$f":"IF(VLOOKUP($C6,GrpA_Tipps!$P$28:$X$31,9,0)+VLOOKUP($C6,GrpA_Tipps!$P$28:$AD$31,15,0)>0,MATCH($C6,GrpA_Tipps!$P$28:$P$31,0),0)","v":0},{"$f":"IF(VLOOKUP($C6,GrpA_Tipps!$P$33:$X$36,9,0)+VLOOKUP($C6,GrpA_Tipps!$P$33:$AD$36,15,0)>0,MATCH($C6,GrpA_Tipps!$P$33:$P$36,0),0)","v":0},null,"0","0","0","0"]
[null,"3.",{"$f":"GrpA_Tipps!$P$13","v":"Südkorea"},{"$f":"GrpA_Tipps!$Q$13","v":0},{"$f":"GrpA_Tipps!$R$13","v":0},{"$f":"GrpA_Tipps!$S$13","v":0},"-",{"$f":"GrpA_Tipps!$T$13","v":0},null,null,{"$f":"GrpA_Tipps!$AD$13","v":""},null,null,{"$f":"IF($AC9=0,\"\",IF(INDEX($Y5:$AB8,3,$AC9)=0,\"\",INDEX($AD5:$AG7,INDEX($Y5:$AB8,3,$AC9),1)))","v":""},{"$f":"IF($AC9=0,\"\",IF(INDEX($Y5:$AB8,3,$AC9)=0,\"\",INDEX($AD5:$AG7,INDEX($Y5:$AB8,3,$AC9),2)))","v":""},{"$f":"IF($AC9=0,\"\",IF(INDEX($Y5:$AB8,3,$AC9)=0,\"\",INDEX($AD5:$AG7,INDEX($Y5:$AB8,3,$AC9),3)))","v":""},"-",{"$f":"IF($AC9=0,\"\",IF(INDEX($Y5:$AB8,3,$AC9)=0,\"\",INDEX($AD5:$AG7,INDEX($Y5:$AB8,3,$AC9),4)))","v":""},null,{"$f":"SUMIFS(FairPlayPoints1,FairPlayTeams1,$C7)+SUMIFS(FairPlayPoints2,FairPlayTeams2,$C7)+SUMIFS(FairPlayPoints3,FairPlayTeams3,$C7)","v":0},{"$f":"IF($W7>0,\"•\",\"\")","v":""},null,{"$f":"IF(AND(OR(TRUNC(GrpA_Tipps!$V$13,4)=TRUNC(GrpA_Tipps!$V$11,4),TRUNC(GrpA_Tipps!$V$13,4)=TRUNC(GrpA_Tipps!$V$12,4),TRUNC(GrpA_Tipps!$V$13,4)=TRUNC(GrpA_Tipps!$V$14,4)),VLOOKUP(GrpA_Tipps!$P$13,GrpA_Tipps!$P$4:$AC$7,14,0)),1,0)","v":0},null,{"$f":"IF(VLOOKUP($C7,GrpA_Tipps!$P$18:$X$21,9,0)+VLOOKUP($C7,GrpA_Tipps!$P$18:$AD$21,15,0)>0,MATCH($C7,GrpA_Tipps!$P$18:$P$21,0),0)","v":0},{"$f":"IF(VLOOKUP($C7,GrpA_Tipps!$P$23:$X$26,9,0)+VLOOKUP($C7,GrpA_Tipps!$P$23:$AD$26,15,0)>0,MATCH($C7,GrpA_Tipps!$P$23:$P$26,0),0)","v":0},{"$f":"IF(VLOOKUP($C7,GrpA_Tipps!$P$28:$X$31,9,0)+VLOOKUP($C7,GrpA_Tipps!$P$28:$AD$31,15,0)>0,MATCH($C7,GrpA_Tipps!$P$28:$P$31,0),0)","v":0},{"$f":"IF(VLOOKUP($C7,GrpA_Tipps!$P$33:$X$36,9,0)+VLOOKUP($C7,GrpA_Tipps!$P$33:$AD$36,15,0)>0,MATCH($C7,GrpA_Tipps!$P$33:$P$36,0),0)","v":0},null,"0","0","0","0"]
[null,"4.",{"$f":"GrpA_Tipps!$P$14","v":"Tschechien"},{"$f":"GrpA_Tipps!$Q$14","v":0},{"$f":"GrpA_Tipps!$R$14","v":0},{"$f":"GrpA_Tipps!$S$14","v":0},"-",{"$f":"GrpA_Tipps!$T$14","v":0},null,null,{"$f":"GrpA_Tipps!$AD$14","v":""},null,null,{"$f":"IF($AC9=0,\"\",IF(INDEX($Y5:$AB8,4,$AC9)=0,\"\",INDEX($AD5:$AG7,INDEX($Y5:$AB8,4,$AC9),1)))","v":""},{"$f":"IF($AC9=0,\"\",IF(INDEX($Y5:$AB8,4,$AC9)=0,\"\",INDEX($AD5:$AG7,INDEX($Y5:$AB8,4,$AC9),2)))","v":""},{"$f":"IF($AC9=0,\"\",IF(INDEX($Y5:$AB8,4,$AC9)=0,\"\",INDEX($AD5:$AG7,INDEX($Y5:$AB8,4,$AC9),3)))","v":""},"-",{"$f":"IF($AC9=0,\"\",IF(INDEX($Y5:$AB8,4,$AC9)=0,\"\",INDEX($AD5:$AG7,INDEX($Y5:$AB8,4,$AC9),4)))","v":""},null,{"$f":"SUMIFS(FairPlayPoints1,FairPlayTeams1,$C8)+SUMIFS(FairPlayPoints2,FairPlayTeams2,$C8)+SUMIFS(FairPlayPoints3,FairPlayTeams3,$C8)","v":0},{"$f":"IF($W8>0,\"•\",\"\")","v":""},null,{"$f":"IF(AND(OR(TRUNC(GrpA_Tipps!$V$14,4)=TRUNC(GrpA_Tipps!$V$11,4),TRUNC(GrpA_Tipps!$V$14,4)=TRUNC(GrpA_Tipps!$V$12,4),TRUNC(GrpA_Tipps!$V$14,4)=TRUNC(GrpA_Tipps!$V$13,4)),VLOOKUP(GrpA_Tipps!$P$14,GrpA_Tipps!$P$4:$AC$7,14,0)),1,0)","v":0},null,{"$f":"IF(VLOOKUP($C8,GrpA_Tipps!$P$18:$X$21,9,0)+VLOOKUP($C8,GrpA_Tipps!$P$18:$AD$21,15,0)>0,MATCH($C8,GrpA_Tipps!$P$18:$P$21,0),0)","v":0},{"$f":"IF(VLOOKUP($C8,GrpA_Tipps!$P$23:$X$26,9,0)+VLOOKUP($C8,GrpA_Tipps!$P$23:$AD$26,15,0)>0,MATCH($C8,GrpA_Tipps!$P$23:$P$26,0),0)","v":0},{"$f":"IF(VLOOKUP($C8,GrpA_Tipps!$P$28:$X$31,9,0)+VLOOKUP($C8,GrpA_Tipps!$P$28:$AD$31,15,0)>0,MATCH($C8,GrpA_Tipps!$P$28:$P$31,0),0)","v":0},{"$f":"IF(VLOOKUP($C8,GrpA_Tipps!$P$33:$X$36,9,0)+VLOOKUP($C8,GrpA_Tipps!$P$33:$AD$36,15,0)>0,MATCH($C8,GrpA_Tipps!$P$33:$P$36,0),0)","v":0}]
[{"$nulls":24},{"$f":"SUM(Y5:Y8)","v":0},{"$f":"SUM(Z5:Z8)","v":0},0,0,{"$f":"MAX(IF($Y9:$AB9>0,COLUMN($Y9:$AB9)-COLUMN(X$1),0))","v":0}]
[]
[null,{"$f":"IF(OR($AC17>0,$K13<>\"\",$K14<>\"\",$K15<>\"\"),\"˜\",\"\")","v":""},{"$f":"Sprache_Tipps!$E$124&\" B\"","v":"Gruppe B"},{"$f":"Sprache_Tipps!$E$129","v":"Total"},{"$nulls":4},{"$f":"Sprache_Tipps!$E$132","v":"Dir. Vergl.(2)"},{"$nulls":4},{"$f":"Sprache_Tipps!$E$133","v":"Dir. Vergl.(3)"}]
[{"$nulls":3},{"$f":"Sprache_Tipps!$E$125","v":"Pkt."},{"$f":"Sprache_Tipps!$E$126","v":"TD"},{"$f":"Sprache_Tipps!$E$127","v":"Tore"},{"$nulls":4},{"$f":"Sprache_Tipps!$E$125","v":"Pkt."},null,null,{"$f":"Sprache_Tipps!$E$125","v":"Pkt."},{"$f":"Sprache_Tipps!$E$126","v":"TD"},{"$f":"Sprache_Tipps!$E$127","v":"Tore"},{"$nulls":3},{"$f":"Sprache_Tipps!$E$130","v":"Fair-Play/Los"},{"$f":"Sprache_Tipps!$E$131","v":"Nicht klar"}]
[null,"1.",{"$f":"GrpB_Tipps!$P$11","v":"Kanada"},{"$f":"GrpB_Tipps!$Q$11","v":0},{"$f":"GrpB_Tipps!$R$11","v":0},{"$f":"GrpB_Tipps!$S$11","v":0},"-",{"$f":"GrpB_Tipps!$T$11","v":0},null,null,{"$f":"GrpB_Tipps!$AD$11","v":""},null,null,{"$f":"IF($AC17=0,\"\",IF(INDEX($Y13:$AB16,1,$AC17)=0,\"\",INDEX($AD13:$AG15,INDEX($Y13:$AB16,1,$AC17),1)))","v":""},{"$f":"IF($AC17=0,\"\",IF(INDEX($Y13:$AB16,1,$AC17)=0,\"\",INDEX($AD13:$AG15,INDEX($Y13:$AB16,1,$AC17),2)))","v":""},{"$f":"IF($AC17=0,\"\",IF(INDEX($Y13:$AB16,1,$AC17)=0,\"\",INDEX($AD13:$AG15,INDEX($Y13:$AB16,1,$AC17),3)))","v":""},"-",{"$f":"IF($AC17=0,\"\",IF(INDEX($Y13:$AB16,1,$AC17)=0,\"\",INDEX($AD13:$AG15,INDEX($Y13:$AB16,1,$AC17),4)))","v":""},null,{"$f":"SUMIFS(FairPlayPoints1,FairPlayTeams1,$C13)+SUMIFS(FairPlayPoints2,FairPlayTeams2,$C13)+SUMIFS(FairPlayPoints3,FairPlayTeams3,$C13)","v":0},{"$f":"IF($W13>0,\"•\",\"\")","v":""},null,{"$f":"IF(AND(OR(TRUNC(GrpB_Tipps!$V$11,4)=TRUNC(GrpB_Tipps!$V$12,4),TRUNC(GrpB_Tipps!$V$11,4)=TRUNC(GrpB_Tipps!$V$13,4),TRUNC(GrpB_Tipps!$V$11,4)=TRUNC(GrpB_Tipps!$V$14,4)),VLOOKUP(GrpB_Tipps!$P$11,GrpB_Tipps!$P$4:$AC$7,14,0)),1,0)","v":0},null,{"$f":"IF(VLOOKUP($C13,GrpB_Tipps!$P$18:$X$21,9,0)+VLOOKUP($C13,GrpB_Tipps!$P$18:$AD$21,15,0)>0,MATCH($C13,GrpB_Tipps!$P$18:$P$21,0),0)","v":0},{"$f":"IF(VLOOKUP($C13,GrpB_Tipps!$P$23:$X$26,9,0)+VLOOKUP($C13,GrpB_Tipps!$P$23:$AD$26,15,0)>0,MATCH($C13,GrpB_Tipps!$P$23:$P$26,0),0)","v":0},{"$f":"IF(VLOOKUP($C13,GrpB_Tipps!$P$28:$X$31,9,0)+VLOOKUP($C13,GrpB_Tipps!$P$28:$AD$31,15,0)>0,MATCH($C13,GrpB_Tipps!$P$28:$P$31,0),0)","v":0},{"$f":"IF(VLOOKUP($C13,GrpB_Tipps!$P$33:$X$36,9,0)+VLOOKUP($C13,GrpB_Tipps!$P$33:$AD$36,15,0)>0,MATCH($C13,GrpB_Tipps!$P$33:$P$36,0),0)","v":0},null,{"$f":"IF($Y17>0,GrpB_Tipps!$Q$18:$T$20,IF($Z17>0,GrpB_Tipps!$Q$23:$T$25,IF($AA17>0,GrpB_Tipps!$Q$28:$T$30,IF($AB17>0,GrpB_Tipps!$Q$33:$T$35,\"0\"))))","v":"0"},"0","0","0"]
[null,"2.",{"$f":"GrpB_Tipps!$P$12","v":"Bosnien-Herzeg."},{"$f":"GrpB_Tipps!$Q$12","v":0},{"$f":"GrpB_Tipps!$R$12","v":0},{"$f":"GrpB_Tipps!$S$12","v":0},"-",{"$f":"GrpB_Tipps!$T$12","v":0},null,null,{"$f":"GrpB_Tipps!$AD$12","v":""},null,null,{"$f":"IF($AC17=0,\"\",IF(INDEX($Y13:$AB16,2,$AC17)=0,\"\",INDEX($AD13:$AG15,INDEX($Y13:$AB16,2,$AC17),1)))","v":""},{"$f":"IF($AC17=0,\"\",IF(INDEX($Y13:$AB16,2,$AC17)=0,\"\",INDEX($AD13:$AG15,INDEX($Y13:$AB16,2,$AC17),2)))","v":""},{"$f":"IF($AC17=0,\"\",IF(INDEX($Y13:$AB16,2,$AC17)=0,\"\",INDEX($AD13:$AG15,INDEX($Y13:$AB16,2,$AC17),3)))","v":""},"-",{"$f":"IF($AC17=0,\"\",IF(INDEX($Y13:$AB16,2,$AC17)=0,\"\",INDEX($AD13:$AG15,INDEX($Y13:$AB16,2,$AC17),4)))","v":""},null,{"$f":"SUMIFS(FairPlayPoints1,FairPlayTeams1,$C14)+SUMIFS(FairPlayPoints2,FairPlayTeams2,$C14)+SUMIFS(FairPlayPoints3,FairPlayTeams3,$C14)","v":0},{"$f":"IF($W14>0,\"•\",\"\")","v":""},null,{"$f":"IF(AND(OR(TRUNC(GrpB_Tipps!$V$12,4)=TRUNC(GrpB_Tipps!$V$11,4),TRUNC(GrpB_Tipps!$V$12,4)=TRUNC(GrpB_Tipps!$V$13,4),TRUNC(GrpB_Tipps!$V$12,4)=TRUNC(GrpB_Tipps!$V$14,4)),VLOOKUP(GrpB_Tipps!$P$12,GrpB_Tipps!$P$4:$AC$7,14,0)),1,0)","v":0},null,{"$f":"IF(VLOOKUP($C14,GrpB_Tipps!$P$18:$X$21,9,0)+VLOOKUP($C14,GrpB_Tipps!$P$18:$AD$21,15,0)>0,MATCH($C14,GrpB_Tipps!$P$18:$P$21,0),0)","v":0},{"$f":"IF(VLOOKUP($C14,GrpB_Tipps!$P$23:$X$26,9,0)+VLOOKUP($C14,GrpB_Tipps!$P$23:$AD$26,15,0)>0,MATCH($C14,GrpB_Tipps!$P$23:$P$26,0),0)","v":0},{"$f":"IF(VLOOKUP($C14,GrpB_Tipps!$P$28:$X$31,9,0)+VLOOKUP($C14,GrpB_Tipps!$P$28:$AD$31,15,0)>0,MATCH($C14,GrpB_Tipps!$P$28:$P$31,0),0)","v":0},{"$f":"IF(VLOOKUP($C14,GrpB_Tipps!$P$33:$X$36,9,0)+VLOOKUP($C14,GrpB_Tipps!$P$33:$AD$36,15,0)>0,MATCH($C14,GrpB_Tipps!$P$33:$P$36,0),0)","v":0},null,"0","0","0","0"]
[null,"3.",{"$f":"GrpB_Tipps!$P$13","v":"Katar"},{"$f":"GrpB_Tipps!$Q$13","v":0},{"$f":"GrpB_Tipps!$R$13","v":0},{"$f":"GrpB_Tipps!$S$13","v":0},"-",{"$f":"GrpB_Tipps!$T$13","v":0},null,null,{"$f":"GrpB_Tipps!$AD$13","v":""},null,null,{"$f":"IF($AC17=0,\"\",IF(INDEX($Y13:$AB16,3,$AC17)=0,\"\",INDEX($AD13:$AG15,INDEX($Y13:$AB16,3,$AC17),1)))","v":""},{"$f":"IF($AC17=0,\"\",IF(INDEX($Y13:$AB16,3,$AC17)=0,\"\",INDEX($AD13:$AG15,INDEX($Y13:$AB16,3,$AC17),2)))","v":""},{"$f":"IF($AC17=0,\"\",IF(INDEX($Y13:$AB16,3,$AC17)=0,\"\",INDEX($AD13:$AG15,INDEX($Y13:$AB16,3,$AC17),3)))","v":""},"-",{"$f":"IF($AC17=0,\"\",IF(INDEX($Y13:$AB16,3,$AC17)=0,\"\",INDEX($AD13:$AG15,INDEX($Y13:$AB16,3,$AC17),4)))","v":""},null,{"$f":"SUMIFS(FairPlayPoints1,FairPlayTeams1,$C15)+SUMIFS(FairPlayPoints2,FairPlayTeams2,$C15)+SUMIFS(FairPlayPoints3,FairPlayTeams3,$C15)","v":0},{"$f":"IF($W15>0,\"•\",\"\")","v":""},null,{"$f":"IF(AND(OR(TRUNC(GrpB_Tipps!$V$13,4)=TRUNC(GrpB_Tipps!$V$11,4),TRUNC(GrpB_Tipps!$V$13,4)=TRUNC(GrpB_Tipps!$V$12,4),TRUNC(GrpB_Tipps!$V$13,4)=TRUNC(GrpB_Tipps!$V$14,4)),VLOOKUP(GrpB_Tipps!$P$13,GrpB_Tipps!$P$4:$AC$7,14,0)),1,0)","v":0},null,{"$f":"IF(VLOOKUP($C15,GrpB_Tipps!$P$18:$X$21,9,0)+VLOOKUP($C15,GrpB_Tipps!$P$18:$AD$21,15,0)>0,MATCH($C15,GrpB_Tipps!$P$18:$P$21,0),0)","v":0},{"$f":"IF(VLOOKUP($C15,GrpB_Tipps!$P$23:$X$26,9,0)+VLOOKUP($C15,GrpB_Tipps!$P$23:$AD$26,15,0)>0,MATCH($C15,GrpB_Tipps!$P$23:$P$26,0),0)","v":0},{"$f":"IF(VLOOKUP($C15,GrpB_Tipps!$P$28:$X$31,9,0)+VLOOKUP($C15,GrpB_Tipps!$P$28:$AD$31,15,0)>0,MATCH($C15,GrpB_Tipps!$P$28:$P$31,0),0)","v":0},{"$f":"IF(VLOOKUP($C15,GrpB_Tipps!$P$33:$X$36,9,0)+VLOOKUP($C15,GrpB_Tipps!$P$33:$AD$36,15,0)>0,MATCH($C15,GrpB_Tipps!$P$33:$P$36,0),0)","v":0},null,"0","0","0","0"]
[null,"4.",{"$f":"GrpB_Tipps!$P$14","v":"Schweiz"},{"$f":"GrpB_Tipps!$Q$14","v":0},{"$f":"GrpB_Tipps!$R$14","v":0},{"$f":"GrpB_Tipps!$S$14","v":0},"-",{"$f":"GrpB_Tipps!$T$14","v":0},null,null,{"$f":"GrpB_Tipps!$AD$14","v":""},null,null,{"$f":"IF($AC17=0,\"\",IF(INDEX($Y13:$AB16,4,$AC17)=0,\"\",INDEX($AD13:$AG15,INDEX($Y13:$AB16,4,$AC17),1)))","v":""},{"$f":"IF($AC17=0,\"\",IF(INDEX($Y13:$AB16,4,$AC17)=0,\"\",INDEX($AD13:$AG15,INDEX($Y13:$AB16,4,$AC17),2)))","v":""},{"$f":"IF($AC17=0,\"\",IF(INDEX($Y13:$AB16,4,$AC17)=0,\"\",INDEX($AD13:$AG15,INDEX($Y13:$AB16,4,$AC17),3)))","v":""},"-",{"$f":"IF($AC17=0,\"\",IF(INDEX($Y13:$AB16,4,$AC17)=0,\"\",INDEX($AD13:$AG15,INDEX($Y13:$AB16,4,$AC17),4)))","v":""},null,{"$f":"SUMIFS(FairPlayPoints1,FairPlayTeams1,$C16)+SUMIFS(FairPlayPoints2,FairPlayTeams2,$C16)+SUMIFS(FairPlayPoints3,FairPlayTeams3,$C16)","v":0},{"$f":"IF($W16>0,\"•\",\"\")","v":""},null,{"$f":"IF(AND(OR(TRUNC(GrpB_Tipps!$V$14,4)=TRUNC(GrpB_Tipps!$V$11,4),TRUNC(GrpB_Tipps!$V$14,4)=TRUNC(GrpB_Tipps!$V$12,4),TRUNC(GrpB_Tipps!$V$14,4)=TRUNC(GrpB_Tipps!$V$13,4)),VLOOKUP(GrpB_Tipps!$P$14,GrpB_Tipps!$P$4:$AC$7,14,0)),1,0)","v":0},null,{"$f":"IF(VLOOKUP($C16,GrpB_Tipps!$P$18:$X$21,9,0)+VLOOKUP($C16,GrpB_Tipps!$P$18:$AD$21,15,0)>0,MATCH($C16,GrpB_Tipps!$P$18:$P$21,0),0)","v":0},{"$f":"IF(VLOOKUP($C16,GrpB_Tipps!$P$23:$X$26,9,0)+VLOOKUP($C16,GrpB_Tipps!$P$23:$AD$26,15,0)>0,MATCH($C16,GrpB_Tipps!$P$23:$P$26,0),0)","v":0},{"$f":"IF(VLOOKUP($C16,GrpB_Tipps!$P$28:$X$31,9,0)+VLOOKUP($C16,GrpB_Tipps!$P$28:$AD$31,15,0)>0,MATCH($C16,GrpB_Tipps!$P$28:$P$31,0),0)","v":0},{"$f":"IF(VLOOKUP($C16,GrpB_Tipps!$P$33:$X$36,9,0)+VLOOKUP($C16,GrpB_Tipps!$P$33:$AD$36,15,0)>0,MATCH($C16,GrpB_Tipps!$P$33:$P$36,0),0)","v":0}]
[{"$nulls":24},{"$f":"SUM(Y13:Y16)","v":0},{"$f":"SUM(Z13:Z16)","v":0},0,0,{"$f":"MAX(IF($Y17:$AB17>0,COLUMN($Y17:$AB17)-COLUMN(X$1),0))","v":0}]
[]
[null,{"$f":"IF(OR($AC25>0,$K21<>\"\",$K22<>\"\",$K23<>\"\"),\"˜\",\"\")","v":""},{"$f":"Sprache_Tipps!$E$124&\" C\"","v":"Gruppe C"},{"$f":"Sprache_Tipps!$E$129","v":"Total"},{"$nulls":4},{"$f":"Sprache_Tipps!$E$132","v":"Dir. Vergl.(2)"},{"$nulls":4},{"$f":"Sprache_Tipps!$E$133","v":"Dir. Vergl.(3)"}]
[{"$nulls":3},{"$f":"Sprache_Tipps!$E$125","v":"Pkt."},{"$f":"Sprache_Tipps!$E$126","v":"TD"},{"$f":"Sprache_Tipps!$E$127","v":"Tore"},{"$nulls":4},{"$f":"Sprache_Tipps!$E$125","v":"Pkt."},null,null,{"$f":"Sprache_Tipps!$E$125","v":"Pkt."},{"$f":"Sprache_Tipps!$E$126","v":"TD"},{"$f":"Sprache_Tipps!$E$127","v":"Tore"},{"$nulls":3},{"$f":"Sprache_Tipps!$E$130","v":"Fair-Play/Los"},{"$f":"Sprache_Tipps!$E$131","v":"Nicht klar"}]
[null,"1.",{"$f":"GrpC_Tipps!$P$11","v":"Brasilien"},{"$f":"GrpC_Tipps!$Q$11","v":0},{"$f":"GrpC_Tipps!$R$11","v":0},{"$f":"GrpC_Tipps!$S$11","v":0},"-",{"$f":"GrpC_Tipps!$T$11","v":0},null,null,{"$f":"GrpC_Tipps!$AD$11","v":""},null,null,{"$f":"IF($AC25=0,\"\",IF(INDEX($Y21:$AB24,1,$AC25)=0,\"\",INDEX($AD21:$AG23,INDEX($Y21:$AB24,1,$AC25),1)))","v":""},{"$f":"IF($AC25=0,\"\",IF(INDEX($Y21:$AB24,1,$AC25)=0,\"\",INDEX($AD21:$AG23,INDEX($Y21:$AB24,1,$AC25),2)))","v":""},{"$f":"IF($AC25=0,\"\",IF(INDEX($Y21:$AB24,1,$AC25)=0,\"\",INDEX($AD21:$AG23,INDEX($Y21:$AB24,1,$AC25),3)))","v":""},"-",{"$f":"IF($AC25=0,\"\",IF(INDEX($Y21:$AB24,1,$AC25)=0,\"\",INDEX($AD21:$AG23,INDEX($Y21:$AB24,1,$AC25),4)))","v":""},null,{"$f":"SUMIFS(FairPlayPoints1,FairPlayTeams1,$C21)+SUMIFS(FairPlayPoints2,FairPlayTeams2,$C21)+SUMIFS(FairPlayPoints3,FairPlayTeams3,$C21)","v":0},{"$f":"IF($W21>0,\"•\",\"\")","v":""},null,{"$f":"IF(AND(OR(TRUNC(GrpC_Tipps!$V$11,4)=TRUNC(GrpC_Tipps!$V$12,4),TRUNC(GrpC_Tipps!$V$11,4)=TRUNC(GrpC_Tipps!$V$13,4),TRUNC(GrpC_Tipps!$V$11,4)=TRUNC(GrpC_Tipps!$V$14,4)),VLOOKUP(GrpC_Tipps!$P$11,GrpC_Tipps!$P$4:$AC$7,14,0)),1,0)","v":0},null,{"$f":"IF(VLOOKUP($C21,GrpC_Tipps!$P$18:$X$21,9,0)+VLOOKUP($C21,GrpC_Tipps!$P$18:$AD$21,15,0)>0,MATCH($C21,GrpC_Tipps!$P$18:$P$21,0),0)","v":0},{"$f":"IF(VLOOKUP($C21,GrpC_Tipps!$P$23:$X$26,9,0)+VLOOKUP($C21,GrpC_Tipps!$P$23:$AD$26,15,0)>0,MATCH($C21,GrpC_Tipps!$P$23:$P$26,0),0)","v":0},{"$f":"IF(VLOOKUP($C21,GrpC_Tipps!$P$28:$X$31,9,0)+VLOOKUP($C21,GrpC_Tipps!$P$28:$AD$31,15,0)>0,MATCH($C21,GrpC_Tipps!$P$28:$P$31,0),0)","v":0},{"$f":"IF(VLOOKUP($C21,GrpC_Tipps!$P$33:$X$36,9,0)+VLOOKUP($C21,GrpC_Tipps!$P$33:$AD$36,15,0)>0,MATCH($C21,GrpC_Tipps!$P$33:$P$36,0),0)","v":0},null,{"$f":"IF($Y25>0,GrpC_Tipps!$Q$18:$T$20,IF($Z25>0,GrpC_Tipps!$Q$23:$T$25,IF($AA25>0,GrpC_Tipps!$Q$28:$T$30,IF($AB25>0,GrpC_Tipps!$Q$33:$T$35,\"0\"))))","v":"0"},"0","0","0"]
[null,"2.",{"$f":"GrpC_Tipps!$P$12","v":"Marokko"},{"$f":"GrpC_Tipps!$Q$12","v":0},{"$f":"GrpC_Tipps!$R$12","v":0},{"$f":"GrpC_Tipps!$S$12","v":0},"-",{"$f":"GrpC_Tipps!$T$12","v":0},null,null,{"$f":"GrpC_Tipps!$AD$12","v":""},null,null,{"$f":"IF($AC25=0,\"\",IF(INDEX($Y21:$AB24,2,$AC25)=0,\"\",INDEX($AD21:$AG23,INDEX($Y21:$AB24,2,$AC25),1)))","v":""},{"$f":"IF($AC25=0,\"\",IF(INDEX($Y21:$AB24,2,$AC25)=0,\"\",INDEX($AD21:$AG23,INDEX($Y21:$AB24,2,$AC25),2)))","v":""},{"$f":"IF($AC25=0,\"\",IF(INDEX($Y21:$AB24,2,$AC25)=0,\"\",INDEX($AD21:$AG23,INDEX($Y21:$AB24,2,$AC25),3)))","v":""},"-",{"$f":"IF($AC25=0,\"\",IF(INDEX($Y21:$AB24,2,$AC25)=0,\"\",INDEX($AD21:$AG23,INDEX($Y21:$AB24,2,$AC25),4)))","v":""},null,{"$f":"SUMIFS(FairPlayPoints1,FairPlayTeams1,$C22)+SUMIFS(FairPlayPoints2,FairPlayTeams2,$C22)+SUMIFS(FairPlayPoints3,FairPlayTeams3,$C22)","v":0},{"$f":"IF($W22>0,\"•\",\"\")","v":""},null,{"$f":"IF(AND(OR(TRUNC(GrpC_Tipps!$V$12,4)=TRUNC(GrpC_Tipps!$V$11,4),TRUNC(GrpC_Tipps!$V$12,4)=TRUNC(GrpC_Tipps!$V$13,4),TRUNC(GrpC_Tipps!$V$12,4)=TRUNC(GrpC_Tipps!$V$14,4)),VLOOKUP(GrpC_Tipps!$P$12,GrpC_Tipps!$P$4:$AC$7,14,0)),1,0)","v":0},null,{"$f":"IF(VLOOKUP($C22,GrpC_Tipps!$P$18:$X$21,9,0)+VLOOKUP($C22,GrpC_Tipps!$P$18:$AD$21,15,0)>0,MATCH($C22,GrpC_Tipps!$P$18:$P$21,0),0)","v":0},{"$f":"IF(VLOOKUP($C22,GrpC_Tipps!$P$23:$X$26,9,0)+VLOOKUP($C22,GrpC_Tipps!$P$23:$AD$26,15,0)>0,MATCH($C22,GrpC_Tipps!$P$23:$P$26,0),0)","v":0},{"$f":"IF(VLOOKUP($C22,GrpC_Tipps!$P$28:$X$31,9,0)+VLOOKUP($C22,GrpC_Tipps!$P$28:$AD$31,15,0)>0,MATCH($C22,GrpC_Tipps!$P$28:$P$31,0),0)","v":0},{"$f":"IF(VLOOKUP($C22,GrpC_Tipps!$P$33:$X$36,9,0)+VLOOKUP($C22,GrpC_Tipps!$P$33:$AD$36,15,0)>0,MATCH($C22,GrpC_Tipps!$P$33:$P$36,0),0)","v":0},null,"0","0","0","0"]
[null,"3.",{"$f":"GrpC_Tipps!$P$13","v":"Haiti"},{"$f":"GrpC_Tipps!$Q$13","v":0},{"$f":"GrpC_Tipps!$R$13","v":0},{"$f":"GrpC_Tipps!$S$13","v":0},"-",{"$f":"GrpC_Tipps!$T$13","v":0},null,null,{"$f":"GrpC_Tipps!$AD$13","v":""},null,null,{"$f":"IF($AC25=0,\"\",IF(INDEX($Y21:$AB24,3,$AC25)=0,\"\",INDEX($AD21:$AG23,INDEX($Y21:$AB24,3,$AC25),1)))","v":""},{"$f":"IF($AC25=0,\"\",IF(INDEX($Y21:$AB24,3,$AC25)=0,\"\",INDEX($AD21:$AG23,INDEX($Y21:$AB24,3,$AC25),2)))","v":""},{"$f":"IF($AC25=0,\"\",IF(INDEX($Y21:$AB24,3,$AC25)=0,\"\",INDEX($AD21:$AG23,INDEX($Y21:$AB24,3,$AC25),3)))","v":""},"-",{"$f":"IF($AC25=0,\"\",IF(INDEX($Y21:$AB24,3,$AC25)=0,\"\",INDEX($AD21:$AG23,INDEX($Y21:$AB24,3,$AC25),4)))","v":""},null,{"$f":"SUMIFS(FairPlayPoints1,FairPlayTeams1,$C23)+SUMIFS(FairPlayPoints2,FairPlayTeams2,$C23)+SUMIFS(FairPlayPoints3,FairPlayTeams3,$C23)","v":0},{"$f":"IF($W23>0,\"•\",\"\")","v":""},null,{"$f":"IF(AND(OR(TRUNC(GrpC_Tipps!$V$13,4)=TRUNC(GrpC_Tipps!$V$11,4),TRUNC(GrpC_Tipps!$V$13,4)=TRUNC(GrpC_Tipps!$V$12,4),TRUNC(GrpC_Tipps!$V$13,4)=TRUNC(GrpC_Tipps!$V$14,4)),VLOOKUP(GrpC_Tipps!$P$13,GrpC_Tipps!$P$4:$AC$7,14,0)),1,0)","v":0},null,{"$f":"IF(VLOOKUP($C23,GrpC_Tipps!$P$18:$X$21,9,0)+VLOOKUP($C23,GrpC_Tipps!$P$18:$AD$21,15,0)>0,MATCH($C23,GrpC_Tipps!$P$18:$P$21,0),0)","v":0},{"$f":"IF(VLOOKUP($C23,GrpC_Tipps!$P$23:$X$26,9,0)+VLOOKUP($C23,GrpC_Tipps!$P$23:$AD$26,15,0)>0,MATCH($C23,GrpC_Tipps!$P$23:$P$26,0),0)","v":0},{"$f":"IF(VLOOKUP($C23,GrpC_Tipps!$P$28:$X$31,9,0)+VLOOKUP($C23,GrpC_Tipps!$P$28:$AD$31,15,0)>0,MATCH($C23,GrpC_Tipps!$P$28:$P$31,0),0)","v":0},{"$f":"IF(VLOOKUP($C23,GrpC_Tipps!$P$33:$X$36,9,0)+VLOOKUP($C23,GrpC_Tipps!$P$33:$AD$36,15,0)>0,MATCH($C23,GrpC_Tipps!$P$33:$P$36,0),0)","v":0},null,"0","0","0","0"]
[null,"4.",{"$f":"GrpC_Tipps!$P$14","v":"Schottland"},{"$f":"GrpC_Tipps!$Q$14","v":0},{"$f":"GrpC_Tipps!$R$14","v":0},{"$f":"GrpC_Tipps!$S$14","v":0},"-",{"$f":"GrpC_Tipps!$T$14","v":0},null,null,{"$f":"GrpC_Tipps!$AD$14","v":""},null,null,{"$f":"IF($AC25=0,\"\",IF(INDEX($Y21:$AB24,4,$AC25)=0,\"\",INDEX($AD21:$AG23,INDEX($Y21:$AB24,4,$AC25),1)))","v":""},{"$f":"IF($AC25=0,\"\",IF(INDEX($Y21:$AB24,4,$AC25)=0,\"\",INDEX($AD21:$AG23,INDEX($Y21:$AB24,4,$AC25),2)))","v":""},{"$f":"IF($AC25=0,\"\",IF(INDEX($Y21:$AB24,4,$AC25)=0,\"\",INDEX($AD21:$AG23,INDEX($Y21:$AB24,4,$AC25),3)))","v":""},"-",{"$f":"IF($AC25=0,\"\",IF(INDEX($Y21:$AB24,4,$AC25)=0,\"\",INDEX($AD21:$AG23,INDEX($Y21:$AB24,4,$AC25),4)))","v":""},null,{"$f":"SUMIFS(FairPlayPoints1,FairPlayTeams1,$C24)+SUMIFS(FairPlayPoints2,FairPlayTeams2,$C24)+SUMIFS(FairPlayPoints3,FairPlayTeams3,$C24)","v":0},{"$f":"IF($W24>0,\"•\",\"\")","v":""},null,{"$f":"IF(AND(OR(TRUNC(GrpC_Tipps!$V$14,4)=TRUNC(GrpC_Tipps!$V$11,4),TRUNC(GrpC_Tipps!$V$14,4)=TRUNC(GrpC_Tipps!$V$12,4),TRUNC(GrpC_Tipps!$V$14,4)=TRUNC(GrpC_Tipps!$V$13,4)),VLOOKUP(GrpC_Tipps!$P$14,GrpC_Tipps!$P$4:$AC$7,14,0)),1,0)","v":0},null,{"$f":"IF(VLOOKUP($C24,GrpC_Tipps!$P$18:$X$21,9,0)+VLOOKUP($C24,GrpC_Tipps!$P$18:$AD$21,15,0)>0,MATCH($C24,GrpC_Tipps!$P$18:$P$21,0),0)","v":0},{"$f":"IF(VLOOKUP($C24,GrpC_Tipps!$P$23:$X$26,9,0)+VLOOKUP($C24,GrpC_Tipps!$P$23:$AD$26,15,0)>0,MATCH($C24,GrpC_Tipps!$P$23:$P$26,0),0)","v":0},{"$f":"IF(VLOOKUP($C24,GrpC_Tipps!$P$28:$X$31,9,0)+VLOOKUP($C24,GrpC_Tipps!$P$28:$AD$31,15,0)>0,MATCH($C24,GrpC_Tipps!$P$28:$P$31,0),0)","v":0},{"$f":"IF(VLOOKUP($C24,GrpC_Tipps!$P$33:$X$36,9,0)+VLOOKUP($C24,GrpC_Tipps!$P$33:$AD$36,15,0)>0,MATCH($C24,GrpC_Tipps!$P$33:$P$36,0),0)","v":0}]
[{"$nulls":24},{"$f":"SUM(Y21:Y24)","v":0},{"$f":"SUM(Z21:Z24)","v":0},0,0,{"$f":"MAX(IF($Y25:$AB25>0,COLUMN($Y25:$AB25)-COLUMN(X$1),0))","v":0}]
[]
[null,{"$f":"IF(OR($AC33>0,$K29<>\"\",$K30<>\"\",$K31<>\"\"),\"˜\",\"\")","v":""},{"$f":"Sprache_Tipps!$E$124&\" D\"","v":"Gruppe D"},{"$f":"Sprache_Tipps!$E$129","v":"Total"},{"$nulls":4},{"$f":"Sprache_Tipps!$E$132","v":"Dir. Vergl.(2)"},{"$nulls":4},{"$f":"Sprache_Tipps!$E$133","v":"Dir. Vergl.(3)"}]
[{"$nulls":3},{"$f":"Sprache_Tipps!$E$125","v":"Pkt."},{"$f":"Sprache_Tipps!$E$126","v":"TD"},{"$f":"Sprache_Tipps!$E$127","v":"Tore"},{"$nulls":4},{"$f":"Sprache_Tipps!$E$125","v":"Pkt."},null,null,{"$f":"Sprache_Tipps!$E$125","v":"Pkt."},{"$f":"Sprache_Tipps!$E$126","v":"TD"},{"$f":"Sprache_Tipps!$E$127","v":"Tore"},{"$nulls":3},{"$f":"Sprache_Tipps!$E$130","v":"Fair-Play/Los"},{"$f":"Sprache_Tipps!$E$131","v":"Nicht klar"}]
[null,"1.",{"$f":"GrpD_Tipps!$P$11","v":"USA"},{"$f":"GrpD_Tipps!$Q$11","v":0},{"$f":"GrpD_Tipps!$R$11","v":0},{"$f":"GrpD_Tipps!$S$11","v":0},"-",{"$f":"GrpD_Tipps!$T$11","v":0},null,null,{"$f":"GrpD_Tipps!$AD$11","v":""},null,null,{"$f":"IF($AC33=0,\"\",IF(INDEX($Y29:$AB32,1,$AC33)=0,\"\",INDEX($AD29:$AG31,INDEX($Y29:$AB32,1,$AC33),1)))","v":""},{"$f":"IF($AC33=0,\"\",IF(INDEX($Y29:$AB32,1,$AC33)=0,\"\",INDEX($AD29:$AG31,INDEX($Y29:$AB32,1,$AC33),2)))","v":""},{"$f":"IF($AC33=0,\"\",IF(INDEX($Y29:$AB32,1,$AC33)=0,\"\",INDEX($AD29:$AG31,INDEX($Y29:$AB32,1,$AC33),3)))","v":""},"-",{"$f":"IF($AC33=0,\"\",IF(INDEX($Y29:$AB32,1,$AC33)=0,\"\",INDEX($AD29:$AG31,INDEX($Y29:$AB32,1,$AC33),4)))","v":""},null,{"$f":"SUMIFS(FairPlayPoints1,FairPlayTeams1,$C29)+SUMIFS(FairPlayPoints2,FairPlayTeams2,$C29)+SUMIFS(FairPlayPoints3,FairPlayTeams3,$C29)","v":0},{"$f":"IF($W29>0,\"•\",\"\")","v":""},null,{"$f":"IF(AND(OR(TRUNC(GrpD_Tipps!$V$11,4)=TRUNC(GrpD_Tipps!$V$12,4),TRUNC(GrpD_Tipps!$V$11,4)=TRUNC(GrpD_Tipps!$V$13,4),TRUNC(GrpD_Tipps!$V$11,4)=TRUNC(GrpD_Tipps!$V$14,4)),VLOOKUP(GrpD_Tipps!$P$11,GrpD_Tipps!$P$4:$AC$7,14,0)),1,0)","v":0},null,{"$f":"IF(VLOOKUP($C29,GrpD_Tipps!$P$18:$X$21,9,0)+VLOOKUP($C29,GrpD_Tipps!$P$18:$AD$21,15,0)>0,MATCH($C29,GrpD_Tipps!$P$18:$P$21,0),0)","v":0},{"$f":"IF(VLOOKUP($C29,GrpD_Tipps!$P$23:$X$26,9,0)+VLOOKUP($C29,GrpD_Tipps!$P$23:$AD$26,15,0)>0,MATCH($C29,GrpD_Tipps!$P$23:$P$26,0),0)","v":0},{"$f":"IF(VLOOKUP($C29,GrpD_Tipps!$P$28:$X$31,9,0)+VLOOKUP($C29,GrpD_Tipps!$P$28:$AD$31,15,0)>0,MATCH($C29,GrpD_Tipps!$P$28:$P$31,0),0)","v":0},{"$f":"IF(VLOOKUP($C29,GrpD_Tipps!$P$33:$X$36,9,0)+VLOOKUP($C29,GrpD_Tipps!$P$33:$AD$36,15,0)>0,MATCH($C29,GrpD_Tipps!$P$33:$P$36,0),0)","v":0},null,{"$f":"IF($Y33>0,GrpD_Tipps!$Q$18:$T$20,IF($Z33>0,GrpD_Tipps!$Q$23:$T$25,IF($AA33>0,GrpD_Tipps!$Q$28:$T$30,IF($AB33>0,GrpD_Tipps!$Q$33:$T$35,\"0\"))))","v":"0"},"0","0","0"]
[null,"2.",{"$f":"GrpD_Tipps!$P$12","v":"Paraguay"},{"$f":"GrpD_Tipps!$Q$12","v":0},{"$f":"GrpD_Tipps!$R$12","v":0},{"$f":"GrpD_Tipps!$S$12","v":0},"-",{"$f":"GrpD_Tipps!$T$12","v":0},null,null,{"$f":"GrpD_Tipps!$AD$12","v":""},null,null,{"$f":"IF($AC33=0,\"\",IF(INDEX($Y29:$AB32,2,$AC33)=0,\"\",INDEX($AD29:$AG31,INDEX($Y29:$AB32,2,$AC33),1)))","v":""},{"$f":"IF($AC33=0,\"\",IF(INDEX($Y29:$AB32,2,$AC33)=0,\"\",INDEX($AD29:$AG31,INDEX($Y29:$AB32,2,$AC33),2)))","v":""},{"$f":"IF($AC33=0,\"\",IF(INDEX($Y29:$AB32,2,$AC33)=0,\"\",INDEX($AD29:$AG31,INDEX($Y29:$AB32,2,$AC33),3)))","v":""},"-",{"$f":"IF($AC33=0,\"\",IF(INDEX($Y29:$AB32,2,$AC33)=0,\"\",INDEX($AD29:$AG31,INDEX($Y29:$AB32,2,$AC33),4)))","v":""},null,{"$f":"SUMIFS(FairPlayPoints1,FairPlayTeams1,$C30)+SUMIFS(FairPlayPoints2,FairPlayTeams2,$C30)+SUMIFS(FairPlayPoints3,FairPlayTeams3,$C30)","v":0},{"$f":"IF($W30>0,\"•\",\"\")","v":""},null,{"$f":"IF(AND(OR(TRUNC(GrpD_Tipps!$V$12,4)=TRUNC(GrpD_Tipps!$V$11,4),TRUNC(GrpD_Tipps!$V$12,4)=TRUNC(GrpD_Tipps!$V$13,4),TRUNC(GrpD_Tipps!$V$12,4)=TRUNC(GrpD_Tipps!$V$14,4)),VLOOKUP(GrpD_Tipps!$P$12,GrpD_Tipps!$P$4:$AC$7,14,0)),1,0)","v":0},null,{"$f":"IF(VLOOKUP($C30,GrpD_Tipps!$P$18:$X$21,9,0)+VLOOKUP($C30,GrpD_Tipps!$P$18:$AD$21,15,0)>0,MATCH($C30,GrpD_Tipps!$P$18:$P$21,0),0)","v":0},{"$f":"IF(VLOOKUP($C30,GrpD_Tipps!$P$23:$X$26,9,0)+VLOOKUP($C30,GrpD_Tipps!$P$23:$AD$26,15,0)>0,MATCH($C30,GrpD_Tipps!$P$23:$P$26,0),0)","v":0},{"$f":"IF(VLOOKUP($C30,GrpD_Tipps!$P$28:$X$31,9,0)+VLOOKUP($C30,GrpD_Tipps!$P$28:$AD$31,15,0)>0,MATCH($C30,GrpD_Tipps!$P$28:$P$31,0),0)","v":0},{"$f":"IF(VLOOKUP($C30,GrpD_Tipps!$P$33:$X$36,9,0)+VLOOKUP($C30,GrpD_Tipps!$P$33:$AD$36,15,0)>0,MATCH($C30,GrpD_Tipps!$P$33:$P$36,0),0)","v":0},null,"0","0","0","0"]
[null,"3.",{"$f":"GrpD_Tipps!$P$13","v":"Australien"},{"$f":"GrpD_Tipps!$Q$13","v":0},{"$f":"GrpD_Tipps!$R$13","v":0},{"$f":"GrpD_Tipps!$S$13","v":0},"-",{"$f":"GrpD_Tipps!$T$13","v":0},null,null,{"$f":"GrpD_Tipps!$AD$13","v":""},null,null,{"$f":"IF($AC33=0,\"\",IF(INDEX($Y29:$AB32,3,$AC33)=0,\"\",INDEX($AD29:$AG31,INDEX($Y29:$AB32,3,$AC33),1)))","v":""},{"$f":"IF($AC33=0,\"\",IF(INDEX($Y29:$AB32,3,$AC33)=0,\"\",INDEX($AD29:$AG31,INDEX($Y29:$AB32,3,$AC33),2)))","v":""},{"$f":"IF($AC33=0,\"\",IF(INDEX($Y29:$AB32,3,$AC33)=0,\"\",INDEX($AD29:$AG31,INDEX($Y29:$AB32,3,$AC33),3)))","v":""},"-",{"$f":"IF($AC33=0,\"\",IF(INDEX($Y29:$AB32,3,$AC33)=0,\"\",INDEX($AD29:$AG31,INDEX($Y29:$AB32,3,$AC33),4)))","v":""},null,{"$f":"SUMIFS(FairPlayPoints1,FairPlayTeams1,$C31)+SUMIFS(FairPlayPoints2,FairPlayTeams2,$C31)+SUMIFS(FairPlayPoints3,FairPlayTeams3,$C31)","v":0},{"$f":"IF($W31>0,\"•\",\"\")","v":""},null,{"$f":"IF(AND(OR(TRUNC(GrpD_Tipps!$V$13,4)=TRUNC(GrpD_Tipps!$V$11,4),TRUNC(GrpD_Tipps!$V$13,4)=TRUNC(GrpD_Tipps!$V$12,4),TRUNC(GrpD_Tipps!$V$13,4)=TRUNC(GrpD_Tipps!$V$14,4)),VLOOKUP(GrpD_Tipps!$P$13,GrpD_Tipps!$P$4:$AC$7,14,0)),1,0)","v":0},null,{"$f":"IF(VLOOKUP($C31,GrpD_Tipps!$P$18:$X$21,9,0)+VLOOKUP($C31,GrpD_Tipps!$P$18:$AD$21,15,0)>0,MATCH($C31,GrpD_Tipps!$P$18:$P$21,0),0)","v":0},{"$f":"IF(VLOOKUP($C31,GrpD_Tipps!$P$23:$X$26,9,0)+VLOOKUP($C31,GrpD_Tipps!$P$23:$AD$26,15,0)>0,MATCH($C31,GrpD_Tipps!$P$23:$P$26,0),0)","v":0},{"$f":"IF(VLOOKUP($C31,GrpD_Tipps!$P$28:$X$31,9,0)+VLOOKUP($C31,GrpD_Tipps!$P$28:$AD$31,15,0)>0,MATCH($C31,GrpD_Tipps!$P$28:$P$31,0),0)","v":0},{"$f":"IF(VLOOKUP($C31,GrpD_Tipps!$P$33:$X$36,9,0)+VLOOKUP($C31,GrpD_Tipps!$P$33:$AD$36,15,0)>0,MATCH($C31,GrpD_Tipps!$P$33:$P$36,0),0)","v":0},null,"0","0","0","0"]
[null,"4.",{"$f":"GrpD_Tipps!$P$14","v":"Türkei"},{"$f":"GrpD_Tipps!$Q$14","v":0},{"$f":"GrpD_Tipps!$R$14","v":0},{"$f":"GrpD_Tipps!$S$14","v":0},"-",{"$f":"GrpD_Tipps!$T$14","v":0},null,null,{"$f":"GrpD_Tipps!$AD$14","v":""},null,null,{"$f":"IF($AC33=0,\"\",IF(INDEX($Y29:$AB32,4,$AC33)=0,\"\",INDEX($AD29:$AG31,INDEX($Y29:$AB32,4,$AC33),1)))","v":""},{"$f":"IF($AC33=0,\"\",IF(INDEX($Y29:$AB32,4,$AC33)=0,\"\",INDEX($AD29:$AG31,INDEX($Y29:$AB32,4,$AC33),2)))","v":""},{"$f":"IF($AC33=0,\"\",IF(INDEX($Y29:$AB32,4,$AC33)=0,\"\",INDEX($AD29:$AG31,INDEX($Y29:$AB32,4,$AC33),3)))","v":""},"-",{"$f":"IF($AC33=0,\"\",IF(INDEX($Y29:$AB32,4,$AC33)=0,\"\",INDEX($AD29:$AG31,INDEX($Y29:$AB32,4,$AC33),4)))","v":""},null,{"$f":"SUMIFS(FairPlayPoints1,FairPlayTeams1,$C32)+SUMIFS(FairPlayPoints2,FairPlayTeams2,$C32)+SUMIFS(FairPlayPoints3,FairPlayTeams3,$C32)","v":0},{"$f":"IF($W32>0,\"•\",\"\")","v":""},null,{"$f":"IF(AND(OR(TRUNC(GrpD_Tipps!$V$14,4)=TRUNC(GrpD_Tipps!$V$11,4),TRUNC(GrpD_Tipps!$V$14,4)=TRUNC(GrpD_Tipps!$V$12,4),TRUNC(GrpD_Tipps!$V$14,4)=TRUNC(GrpD_Tipps!$V$13,4)),VLOOKUP(GrpD_Tipps!$P$14,GrpD_Tipps!$P$4:$AC$7,14,0)),1,0)","v":0},null,{"$f":"IF(VLOOKUP($C32,GrpD_Tipps!$P$18:$X$21,9,0)+VLOOKUP($C32,GrpD_Tipps!$P$18:$AD$21,15,0)>0,MATCH($C32,GrpD_Tipps!$P$18:$P$21,0),0)","v":0},{"$f":"IF(VLOOKUP($C32,GrpD_Tipps!$P$23:$X$26,9,0)+VLOOKUP($C32,GrpD_Tipps!$P$23:$AD$26,15,0)>0,MATCH($C32,GrpD_Tipps!$P$23:$P$26,0),0)","v":0},{"$f":"IF(VLOOKUP($C32,GrpD_Tipps!$P$28:$X$31,9,0)+VLOOKUP($C32,GrpD_Tipps!$P$28:$AD$31,15,0)>0,MATCH($C32,GrpD_Tipps!$P$28:$P$31,0),0)","v":0},{"$f":"IF(VLOOKUP($C32,GrpD_Tipps!$P$33:$X$36,9,0)+VLOOKUP($C32,GrpD_Tipps!$P$33:$AD$36,15,0)>0,MATCH($C32,GrpD_Tipps!$P$33:$P$36,0),0)","v":0}]
[{"$nulls":24},{"$f":"SUM(Y29:Y32)","v":0},{"$f":"SUM(Z29:Z32)","v":0},0,0,{"$f":"MAX(IF($Y33:$AB33>0,COLUMN($Y33:$AB33)-COLUMN(X$1),0))","v":0}]
[]
[null,{"$f":"IF(OR($AC41>0,$K37<>\"\",$K38<>\"\",$K39<>\"\"),\"˜\",\"\")","v":""},{"$f":"Sprache_Tipps!$E$124&\" E\"","v":"Gruppe E"},{"$f":"Sprache_Tipps!$E$129","v":"Total"},{"$nulls":4},{"$f":"Sprache_Tipps!$E$132","v":"Dir. Vergl.(2)"},{"$nulls":4},{"$f":"Sprache_Tipps!$E$133","v":"Dir. Vergl.(3)"}]
[{"$nulls":3},{"$f":"Sprache_Tipps!$E$125","v":"Pkt."},{"$f":"Sprache_Tipps!$E$126","v":"TD"},{"$f":"Sprache_Tipps!$E$127","v":"Tore"},{"$nulls":4},{"$f":"Sprache_Tipps!$E$125","v":"Pkt."},null,null,{"$f":"Sprache_Tipps!$E$125","v":"Pkt."},{"$f":"Sprache_Tipps!$E$126","v":"TD"},{"$f":"Sprache_Tipps!$E$127","v":"Tore"},{"$nulls":3},{"$f":"Sprache_Tipps!$E$130","v":"Fair-Play/Los"},{"$f":"Sprache_Tipps!$E$131","v":"Nicht klar"}]
[null,"1.",{"$f":"GrpE_Tipps!$P$11","v":"Deutschland"},{"$f":"GrpE_Tipps!$Q$11","v":0},{"$f":"GrpE_Tipps!$R$11","v":0},{"$f":"GrpE_Tipps!$S$11","v":0},"-",{"$f":"GrpE_Tipps!$T$11","v":0},null,null,{"$f":"GrpE_Tipps!$AD$11","v":""},null,null,{"$f":"IF($AC41=0,\"\",IF(INDEX($Y37:$AB40,1,$AC41)=0,\"\",INDEX($AD37:$AG39,INDEX($Y37:$AB40,1,$AC41),1)))","v":""},{"$f":"IF($AC41=0,\"\",IF(INDEX($Y37:$AB40,1,$AC41)=0,\"\",INDEX($AD37:$AG39,INDEX($Y37:$AB40,1,$AC41),2)))","v":""},{"$f":"IF($AC41=0,\"\",IF(INDEX($Y37:$AB40,1,$AC41)=0,\"\",INDEX($AD37:$AG39,INDEX($Y37:$AB40,1,$AC41),3)))","v":""},"-",{"$f":"IF($AC41=0,\"\",IF(INDEX($Y37:$AB40,1,$AC41)=0,\"\",INDEX($AD37:$AG39,INDEX($Y37:$AB40,1,$AC41),4)))","v":""},null,{"$f":"SUMIFS(FairPlayPoints1,FairPlayTeams1,$C37)+SUMIFS(FairPlayPoints2,FairPlayTeams2,$C37)+SUMIFS(FairPlayPoints3,FairPlayTeams3,$C37)","v":0},{"$f":"IF($W37>0,\"•\",\"\")","v":""},null,{"$f":"IF(AND(OR(TRUNC(GrpE_Tipps!$V$11,4)=TRUNC(GrpE_Tipps!$V$12,4),TRUNC(GrpE_Tipps!$V$11,4)=TRUNC(GrpE_Tipps!$V$13,4),TRUNC(GrpE_Tipps!$V$11,4)=TRUNC(GrpE_Tipps!$V$14,4)),VLOOKUP(GrpE_Tipps!$P$11,GrpE_Tipps!$P$4:$AC$7,14,0)),1,0)","v":0},null,{"$f":"IF(VLOOKUP($C37,GrpE_Tipps!$P$18:$X$21,9,0)+VLOOKUP($C37,GrpE_Tipps!$P$18:$AD$21,15,0)>0,MATCH($C37,GrpE_Tipps!$P$18:$P$21,0),0)","v":0},{"$f":"IF(VLOOKUP($C37,GrpE_Tipps!$P$23:$X$26,9,0)+VLOOKUP($C37,GrpE_Tipps!$P$23:$AD$26,15,0)>0,MATCH($C37,GrpE_Tipps!$P$23:$P$26,0),0)","v":0},{"$f":"IF(VLOOKUP($C37,GrpE_Tipps!$P$28:$X$31,9,0)+VLOOKUP($C37,GrpE_Tipps!$P$28:$AD$31,15,0)>0,MATCH($C37,GrpE_Tipps!$P$28:$P$31,0),0)","v":0},{"$f":"IF(VLOOKUP($C37,GrpE_Tipps!$P$33:$X$36,9,0)+VLOOKUP($C37,GrpE_Tipps!$P$33:$AD$36,15,0)>0,MATCH($C37,GrpE_Tipps!$P$33:$P$36,0),0)","v":0},null,{"$f":"IF($Y41>0,GrpE_Tipps!$Q$18:$T$20,IF($Z41>0,GrpE_Tipps!$Q$23:$T$25,IF($AA41>0,GrpE_Tipps!$Q$28:$T$30,IF($AB41>0,GrpE_Tipps!$Q$33:$T$35,\"0\"))))","v":"0"},"0","0","0"]
[null,"2.",{"$f":"GrpE_Tipps!$P$12","v":"Curacao"},{"$f":"GrpE_Tipps!$Q$12","v":0},{"$f":"GrpE_Tipps!$R$12","v":0},{"$f":"GrpE_Tipps!$S$12","v":0},"-",{"$f":"GrpE_Tipps!$T$12","v":0},null,null,{"$f":"GrpE_Tipps!$AD$12","v":""},null,null,{"$f":"IF($AC41=0,\"\",IF(INDEX($Y37:$AB40,2,$AC41)=0,\"\",INDEX($AD37:$AG39,INDEX($Y37:$AB40,2,$AC41),1)))","v":""},{"$f":"IF($AC41=0,\"\",IF(INDEX($Y37:$AB40,2,$AC41)=0,\"\",INDEX($AD37:$AG39,INDEX($Y37:$AB40,2,$AC41),2)))","v":""},{"$f":"IF($AC41=0,\"\",IF(INDEX($Y37:$AB40,2,$AC41)=0,\"\",INDEX($AD37:$AG39,INDEX($Y37:$AB40,2,$AC41),3)))","v":""},"-",{"$f":"IF($AC41=0,\"\",IF(INDEX($Y37:$AB40,2,$AC41)=0,\"\",INDEX($AD37:$AG39,INDEX($Y37:$AB40,2,$AC41),4)))","v":""},null,{"$f":"SUMIFS(FairPlayPoints1,FairPlayTeams1,$C38)+SUMIFS(FairPlayPoints2,FairPlayTeams2,$C38)+SUMIFS(FairPlayPoints3,FairPlayTeams3,$C38)","v":0},{"$f":"IF($W38>0,\"•\",\"\")","v":""},null,{"$f":"IF(AND(OR(TRUNC(GrpE_Tipps!$V$12,4)=TRUNC(GrpE_Tipps!$V$11,4),TRUNC(GrpE_Tipps!$V$12,4)=TRUNC(GrpE_Tipps!$V$13,4),TRUNC(GrpE_Tipps!$V$12,4)=TRUNC(GrpE_Tipps!$V$14,4)),VLOOKUP(GrpE_Tipps!$P$12,GrpE_Tipps!$P$4:$AC$7,14,0)),1,0)","v":0},null,{"$f":"IF(VLOOKUP($C38,GrpE_Tipps!$P$18:$X$21,9,0)+VLOOKUP($C38,GrpE_Tipps!$P$18:$AD$21,15,0)>0,MATCH($C38,GrpE_Tipps!$P$18:$P$21,0),0)","v":0},{"$f":"IF(VLOOKUP($C38,GrpE_Tipps!$P$23:$X$26,9,0)+VLOOKUP($C38,GrpE_Tipps!$P$23:$AD$26,15,0)>0,MATCH($C38,GrpE_Tipps!$P$23:$P$26,0),0)","v":0},{"$f":"IF(VLOOKUP($C38,GrpE_Tipps!$P$28:$X$31,9,0)+VLOOKUP($C38,GrpE_Tipps!$P$28:$AD$31,15,0)>0,MATCH($C38,GrpE_Tipps!$P$28:$P$31,0),0)","v":0},{"$f":"IF(VLOOKUP($C38,GrpE_Tipps!$P$33:$X$36,9,0)+VLOOKUP($C38,GrpE_Tipps!$P$33:$AD$36,15,0)>0,MATCH($C38,GrpE_Tipps!$P$33:$P$36,0),0)","v":0},null,"0","0","0","0"]
[null,"3.",{"$f":"GrpE_Tipps!$P$13","v":"Elfenbeinküste"},{"$f":"GrpE_Tipps!$Q$13","v":0},{"$f":"GrpE_Tipps!$R$13","v":0},{"$f":"GrpE_Tipps!$S$13","v":0},"-",{"$f":"GrpE_Tipps!$T$13","v":0},null,null,{"$f":"GrpE_Tipps!$AD$13","v":""},null,null,{"$f":"IF($AC41=0,\"\",IF(INDEX($Y37:$AB40,3,$AC41)=0,\"\",INDEX($AD37:$AG39,INDEX($Y37:$AB40,3,$AC41),1)))","v":""},{"$f":"IF($AC41=0,\"\",IF(INDEX($Y37:$AB40,3,$AC41)=0,\"\",INDEX($AD37:$AG39,INDEX($Y37:$AB40,3,$AC41),2)))","v":""},{"$f":"IF($AC41=0,\"\",IF(INDEX($Y37:$AB40,3,$AC41)=0,\"\",INDEX($AD37:$AG39,INDEX($Y37:$AB40,3,$AC41),3)))","v":""},"-",{"$f":"IF($AC41=0,\"\",IF(INDEX($Y37:$AB40,3,$AC41)=0,\"\",INDEX($AD37:$AG39,INDEX($Y37:$AB40,3,$AC41),4)))","v":""},null,{"$f":"SUMIFS(FairPlayPoints1,FairPlayTeams1,$C39)+SUMIFS(FairPlayPoints2,FairPlayTeams2,$C39)+SUMIFS(FairPlayPoints3,FairPlayTeams3,$C39)","v":0},{"$f":"IF($W39>0,\"•\",\"\")","v":""},null,{"$f":"IF(AND(OR(TRUNC(GrpE_Tipps!$V$13,4)=TRUNC(GrpE_Tipps!$V$11,4),TRUNC(GrpE_Tipps!$V$13,4)=TRUNC(GrpE_Tipps!$V$12,4),TRUNC(GrpE_Tipps!$V$13,4)=TRUNC(GrpE_Tipps!$V$14,4)),VLOOKUP(GrpE_Tipps!$P$13,GrpE_Tipps!$P$4:$AC$7,14,0)),1,0)","v":0},null,{"$f":"IF(VLOOKUP($C39,GrpE_Tipps!$P$18:$X$21,9,0)+VLOOKUP($C39,GrpE_Tipps!$P$18:$AD$21,15,0)>0,MATCH($C39,GrpE_Tipps!$P$18:$P$21,0),0)","v":0},{"$f":"IF(VLOOKUP($C39,GrpE_Tipps!$P$23:$X$26,9,0)+VLOOKUP($C39,GrpE_Tipps!$P$23:$AD$26,15,0)>0,MATCH($C39,GrpE_Tipps!$P$23:$P$26,0),0)","v":0},{"$f":"IF(VLOOKUP($C39,GrpE_Tipps!$P$28:$X$31,9,0)+VLOOKUP($C39,GrpE_Tipps!$P$28:$AD$31,15,0)>0,MATCH($C39,GrpE_Tipps!$P$28:$P$31,0),0)","v":0},{"$f":"IF(VLOOKUP($C39,GrpE_Tipps!$P$33:$X$36,9,0)+VLOOKUP($C39,GrpE_Tipps!$P$33:$AD$36,15,0)>0,MATCH($C39,GrpE_Tipps!$P$33:$P$36,0),0)","v":0},null,"0","0","0","0"]
[null,"4.",{"$f":"GrpE_Tipps!$P$14","v":"Ecuador"},{"$f":"GrpE_Tipps!$Q$14","v":0},{"$f":"GrpE_Tipps!$R$14","v":0},{"$f":"GrpE_Tipps!$S$14","v":0},"-",{"$f":"GrpE_Tipps!$T$14","v":0},null,null,{"$f":"GrpE_Tipps!$AD$14","v":""},null,null,{"$f":"IF($AC41=0,\"\",IF(INDEX($Y37:$AB40,4,$AC41)=0,\"\",INDEX($AD37:$AG39,INDEX($Y37:$AB40,4,$AC41),1)))","v":""},{"$f":"IF($AC41=0,\"\",IF(INDEX($Y37:$AB40,4,$AC41)=0,\"\",INDEX($AD37:$AG39,INDEX($Y37:$AB40,4,$AC41),2)))","v":""},{"$f":"IF($AC41=0,\"\",IF(INDEX($Y37:$AB40,4,$AC41)=0,\"\",INDEX($AD37:$AG39,INDEX($Y37:$AB40,4,$AC41),3)))","v":""},"-",{"$f":"IF($AC41=0,\"\",IF(INDEX($Y37:$AB40,4,$AC41)=0,\"\",INDEX($AD37:$AG39,INDEX($Y37:$AB40,4,$AC41),4)))","v":""},null,{"$f":"SUMIFS(FairPlayPoints1,FairPlayTeams1,$C40)+SUMIFS(FairPlayPoints2,FairPlayTeams2,$C40)+SUMIFS(FairPlayPoints3,FairPlayTeams3,$C40)","v":0},{"$f":"IF($W40>0,\"•\",\"\")","v":""},null,{"$f":"IF(AND(OR(TRUNC(GrpE_Tipps!$V$14,4)=TRUNC(GrpE_Tipps!$V$11,4),TRUNC(GrpE_Tipps!$V$14,4)=TRUNC(GrpE_Tipps!$V$12,4),TRUNC(GrpE_Tipps!$V$14,4)=TRUNC(GrpE_Tipps!$V$13,4)),VLOOKUP(GrpE_Tipps!$P$14,GrpE_Tipps!$P$4:$AC$7,14,0)),1,0)","v":0},null,{"$f":"IF(VLOOKUP($C40,GrpE_Tipps!$P$18:$X$21,9,0)+VLOOKUP($C40,GrpE_Tipps!$P$18:$AD$21,15,0)>0,MATCH($C40,GrpE_Tipps!$P$18:$P$21,0),0)","v":0},{"$f":"IF(VLOOKUP($C40,GrpE_Tipps!$P$23:$X$26,9,0)+VLOOKUP($C40,GrpE_Tipps!$P$23:$AD$26,15,0)>0,MATCH($C40,GrpE_Tipps!$P$23:$P$26,0),0)","v":0},{"$f":"IF(VLOOKUP($C40,GrpE_Tipps!$P$28:$X$31,9,0)+VLOOKUP($C40,GrpE_Tipps!$P$28:$AD$31,15,0)>0,MATCH($C40,GrpE_Tipps!$P$28:$P$31,0),0)","v":0},{"$f":"IF(VLOOKUP($C40,GrpE_Tipps!$P$33:$X$36,9,0)+VLOOKUP($C40,GrpE_Tipps!$P$33:$AD$36,15,0)>0,MATCH($C40,GrpE_Tipps!$P$33:$P$36,0),0)","v":0}]
[{"$nulls":24},{"$f":"SUM(Y37:Y40)","v":0},{"$f":"SUM(Z37:Z40)","v":0},0,0,{"$f":"MAX(IF($Y41:$AB41>0,COLUMN($Y41:$AB41)-COLUMN(X$1),0))","v":0}]
[]
[null,{"$f":"IF(OR($AC49>0,$K45<>\"\",$K46<>\"\",$K47<>\"\"),\"˜\",\"\")","v":""},{"$f":"Sprache_Tipps!$E$124&\" F\"","v":"Gruppe F"},{"$f":"Sprache_Tipps!$E$129","v":"Total"},{"$nulls":4},{"$f":"Sprache_Tipps!$E$132","v":"Dir. Vergl.(2)"},{"$nulls":4},{"$f":"Sprache_Tipps!$E$133","v":"Dir. Vergl.(3)"}]
[{"$nulls":3},{"$f":"Sprache_Tipps!$E$125","v":"Pkt."},{"$f":"Sprache_Tipps!$E$126","v":"TD"},{"$f":"Sprache_Tipps!$E$127","v":"Tore"},{"$nulls":4},{"$f":"Sprache_Tipps!$E$125","v":"Pkt."},null,null,{"$f":"Sprache_Tipps!$E$125","v":"Pkt."},{"$f":"Sprache_Tipps!$E$126","v":"TD"},{"$f":"Sprache_Tipps!$E$127","v":"Tore"},{"$nulls":3},{"$f":"Sprache_Tipps!$E$130","v":"Fair-Play/Los"},{"$f":"Sprache_Tipps!$E$131","v":"Nicht klar"}]
[null,"1.",{"$f":"GrpF_Tipps!$P$11","v":"Niederlande"},{"$f":"GrpF_Tipps!$Q$11","v":0},{"$f":"GrpF_Tipps!$R$11","v":0},{"$f":"GrpF_Tipps!$S$11","v":0},"-",{"$f":"GrpF_Tipps!$T$11","v":0},null,null,{"$f":"GrpF_Tipps!$AD$11","v":""},null,null,{"$f":"IF($AC49=0,\"\",IF(INDEX($Y45:$AB48,1,$AC49)=0,\"\",INDEX($AD45:$AG47,INDEX($Y45:$AB48,1,$AC49),1)))","v":""},{"$f":"IF($AC49=0,\"\",IF(INDEX($Y45:$AB48,1,$AC49)=0,\"\",INDEX($AD45:$AG47,INDEX($Y45:$AB48,1,$AC49),2)))","v":""},{"$f":"IF($AC49=0,\"\",IF(INDEX($Y45:$AB48,1,$AC49)=0,\"\",INDEX($AD45:$AG47,INDEX($Y45:$AB48,1,$AC49),3)))","v":""},"-",{"$f":"IF($AC49=0,\"\",IF(INDEX($Y45:$AB48,1,$AC49)=0,\"\",INDEX($AD45:$AG47,INDEX($Y45:$AB48,1,$AC49),4)))","v":""},null,{"$f":"SUMIFS(FairPlayPoints1,FairPlayTeams1,$C45)+SUMIFS(FairPlayPoints2,FairPlayTeams2,$C45)+SUMIFS(FairPlayPoints3,FairPlayTeams3,$C45)","v":0},{"$f":"IF($W45>0,\"•\",\"\")","v":""},null,{"$f":"IF(AND(OR(TRUNC(GrpF_Tipps!$V$11,4)=TRUNC(GrpF_Tipps!$V$12,4),TRUNC(GrpF_Tipps!$V$11,4)=TRUNC(GrpF_Tipps!$V$13,4),TRUNC(GrpF_Tipps!$V$11,4)=TRUNC(GrpF_Tipps!$V$14,4)),VLOOKUP(GrpF_Tipps!$P$11,GrpF_Tipps!$P$4:$AC$7,14,0)),1,0)","v":0},null,{"$f":"IF(VLOOKUP($C45,GrpF_Tipps!$P$18:$X$21,9,0)+VLOOKUP($C45,GrpF_Tipps!$P$18:$AD$21,15,0)>0,MATCH($C45,GrpF_Tipps!$P$18:$P$21,0),0)","v":0},{"$f":"IF(VLOOKUP($C45,GrpF_Tipps!$P$23:$X$26,9,0)+VLOOKUP($C45,GrpF_Tipps!$P$23:$AD$26,15,0)>0,MATCH($C45,GrpF_Tipps!$P$23:$P$26,0),0)","v":0},{"$f":"IF(VLOOKUP($C45,GrpF_Tipps!$P$28:$X$31,9,0)+VLOOKUP($C45,GrpF_Tipps!$P$28:$AD$31,15,0)>0,MATCH($C45,GrpF_Tipps!$P$28:$P$31,0),0)","v":0},{"$f":"IF(VLOOKUP($C45,GrpF_Tipps!$P$33:$X$36,9,0)+VLOOKUP($C45,GrpF_Tipps!$P$33:$AD$36,15,0)>0,MATCH($C45,GrpF_Tipps!$P$33:$P$36,0),0)","v":0},null,{"$f":"IF($Y49>0,GrpF_Tipps!$Q$18:$T$20,IF($Z49>0,GrpF_Tipps!$Q$23:$T$25,IF($AA49>0,GrpF_Tipps!$Q$28:$T$30,IF($AB49>0,GrpF_Tipps!$Q$33:$T$35,\"0\"))))","v":"0"},"0","0","0"]
[null,"2.",{"$f":"GrpF_Tipps!$P$12","v":"Japan"},{"$f":"GrpF_Tipps!$Q$12","v":0},{"$f":"GrpF_Tipps!$R$12","v":0},{"$f":"GrpF_Tipps!$S$12","v":0},"-",{"$f":"GrpF_Tipps!$T$12","v":0},null,null,{"$f":"GrpF_Tipps!$AD$12","v":""},null,null,{"$f":"IF($AC49=0,\"\",IF(INDEX($Y45:$AB48,2,$AC49)=0,\"\",INDEX($AD45:$AG47,INDEX($Y45:$AB48,2,$AC49),1)))","v":""},{"$f":"IF($AC49=0,\"\",IF(INDEX($Y45:$AB48,2,$AC49)=0,\"\",INDEX($AD45:$AG47,INDEX($Y45:$AB48,2,$AC49),2)))","v":""},{"$f":"IF($AC49=0,\"\",IF(INDEX($Y45:$AB48,2,$AC49)=0,\"\",INDEX($AD45:$AG47,INDEX($Y45:$AB48,2,$AC49),3)))","v":""},"-",{"$f":"IF($AC49=0,\"\",IF(INDEX($Y45:$AB48,2,$AC49)=0,\"\",INDEX($AD45:$AG47,INDEX($Y45:$AB48,2,$AC49),4)))","v":""},null,{"$f":"SUMIFS(FairPlayPoints1,FairPlayTeams1,$C46)+SUMIFS(FairPlayPoints2,FairPlayTeams2,$C46)+SUMIFS(FairPlayPoints3,FairPlayTeams3,$C46)","v":0},{"$f":"IF($W46>0,\"•\",\"\")","v":""},null,{"$f":"IF(AND(OR(TRUNC(GrpF_Tipps!$V$12,4)=TRUNC(GrpF_Tipps!$V$11,4),TRUNC(GrpF_Tipps!$V$12,4)=TRUNC(GrpF_Tipps!$V$13,4),TRUNC(GrpF_Tipps!$V$12,4)=TRUNC(GrpF_Tipps!$V$14,4)),VLOOKUP(GrpF_Tipps!$P$12,GrpF_Tipps!$P$4:$AC$7,14,0)),1,0)","v":0},null,{"$f":"IF(VLOOKUP($C46,GrpF_Tipps!$P$18:$X$21,9,0)+VLOOKUP($C46,GrpF_Tipps!$P$18:$AD$21,15,0)>0,MATCH($C46,GrpF_Tipps!$P$18:$P$21,0),0)","v":0},{"$f":"IF(VLOOKUP($C46,GrpF_Tipps!$P$23:$X$26,9,0)+VLOOKUP($C46,GrpF_Tipps!$P$23:$AD$26,15,0)>0,MATCH($C46,GrpF_Tipps!$P$23:$P$26,0),0)","v":0},{"$f":"IF(VLOOKUP($C46,GrpF_Tipps!$P$28:$X$31,9,0)+VLOOKUP($C46,GrpF_Tipps!$P$28:$AD$31,15,0)>0,MATCH($C46,GrpF_Tipps!$P$28:$P$31,0),0)","v":0},{"$f":"IF(VLOOKUP($C46,GrpF_Tipps!$P$33:$X$36,9,0)+VLOOKUP($C46,GrpF_Tipps!$P$33:$AD$36,15,0)>0,MATCH($C46,GrpF_Tipps!$P$33:$P$36,0),0)","v":0},null,"0","0","0","0"]
[null,"3.",{"$f":"GrpF_Tipps!$P$13","v":"Schweden"},{"$f":"GrpF_Tipps!$Q$13","v":0},{"$f":"GrpF_Tipps!$R$13","v":0},{"$f":"GrpF_Tipps!$S$13","v":0},"-",{"$f":"GrpF_Tipps!$T$13","v":0},null,null,{"$f":"GrpF_Tipps!$AD$13","v":""},null,null,{"$f":"IF($AC49=0,\"\",IF(INDEX($Y45:$AB48,3,$AC49)=0,\"\",INDEX($AD45:$AG47,INDEX($Y45:$AB48,3,$AC49),1)))","v":""},{"$f":"IF($AC49=0,\"\",IF(INDEX($Y45:$AB48,3,$AC49)=0,\"\",INDEX($AD45:$AG47,INDEX($Y45:$AB48,3,$AC49),2)))","v":""},{"$f":"IF($AC49=0,\"\",IF(INDEX($Y45:$AB48,3,$AC49)=0,\"\",INDEX($AD45:$AG47,INDEX($Y45:$AB48,3,$AC49),3)))","v":""},"-",{"$f":"IF($AC49=0,\"\",IF(INDEX($Y45:$AB48,3,$AC49)=0,\"\",INDEX($AD45:$AG47,INDEX($Y45:$AB48,3,$AC49),4)))","v":""},null,{"$f":"SUMIFS(FairPlayPoints1,FairPlayTeams1,$C47)+SUMIFS(FairPlayPoints2,FairPlayTeams2,$C47)+SUMIFS(FairPlayPoints3,FairPlayTeams3,$C47)","v":0},{"$f":"IF($W47>0,\"•\",\"\")","v":""},null,{"$f":"IF(AND(OR(TRUNC(GrpF_Tipps!$V$13,4)=TRUNC(GrpF_Tipps!$V$11,4),TRUNC(GrpF_Tipps!$V$13,4)=TRUNC(GrpF_Tipps!$V$12,4),TRUNC(GrpF_Tipps!$V$13,4)=TRUNC(GrpF_Tipps!$V$14,4)),VLOOKUP(GrpF_Tipps!$P$13,GrpF_Tipps!$P$4:$AC$7,14,0)),1,0)","v":0},null,{"$f":"IF(VLOOKUP($C47,GrpF_Tipps!$P$18:$X$21,9,0)+VLOOKUP($C47,GrpF_Tipps!$P$18:$AD$21,15,0)>0,MATCH($C47,GrpF_Tipps!$P$18:$P$21,0),0)","v":0},{"$f":"IF(VLOOKUP($C47,GrpF_Tipps!$P$23:$X$26,9,0)+VLOOKUP($C47,GrpF_Tipps!$P$23:$AD$26,15,0)>0,MATCH($C47,GrpF_Tipps!$P$23:$P$26,0),0)","v":0},{"$f":"IF(VLOOKUP($C47,GrpF_Tipps!$P$28:$X$31,9,0)+VLOOKUP($C47,GrpF_Tipps!$P$28:$AD$31,15,0)>0,MATCH($C47,GrpF_Tipps!$P$28:$P$31,0),0)","v":0},{"$f":"IF(VLOOKUP($C47,GrpF_Tipps!$P$33:$X$36,9,0)+VLOOKUP($C47,GrpF_Tipps!$P$33:$AD$36,15,0)>0,MATCH($C47,GrpF_Tipps!$P$33:$P$36,0),0)","v":0},null,"0","0","0","0"]
[null,"4.",{"$f":"GrpF_Tipps!$P$14","v":"Tunesien"},{"$f":"GrpF_Tipps!$Q$14","v":0},{"$f":"GrpF_Tipps!$R$14","v":0},{"$f":"GrpF_Tipps!$S$14","v":0},"-",{"$f":"GrpF_Tipps!$T$14","v":0},null,null,{"$f":"GrpF_Tipps!$AD$14","v":""},null,null,{"$f":"IF($AC49=0,\"\",IF(INDEX($Y45:$AB48,4,$AC49)=0,\"\",INDEX($AD45:$AG47,INDEX($Y45:$AB48,4,$AC49),1)))","v":""},{"$f":"IF($AC49=0,\"\",IF(INDEX($Y45:$AB48,4,$AC49)=0,\"\",INDEX($AD45:$AG47,INDEX($Y45:$AB48,4,$AC49),2)))","v":""},{"$f":"IF($AC49=0,\"\",IF(INDEX($Y45:$AB48,4,$AC49)=0,\"\",INDEX($AD45:$AG47,INDEX($Y45:$AB48,4,$AC49),3)))","v":""},"-",{"$f":"IF($AC49=0,\"\",IF(INDEX($Y45:$AB48,4,$AC49)=0,\"\",INDEX($AD45:$AG47,INDEX($Y45:$AB48,4,$AC49),4)))","v":""},null,{"$f":"SUMIFS(FairPlayPoints1,FairPlayTeams1,$C48)+SUMIFS(FairPlayPoints2,FairPlayTeams2,$C48)+SUMIFS(FairPlayPoints3,FairPlayTeams3,$C48)","v":0},{"$f":"IF($W48>0,\"•\",\"\")","v":""},null,{"$f":"IF(AND(OR(TRUNC(GrpF_Tipps!$V$14,4)=TRUNC(GrpF_Tipps!$V$11,4),TRUNC(GrpF_Tipps!$V$14,4)=TRUNC(GrpF_Tipps!$V$12,4),TRUNC(GrpF_Tipps!$V$14,4)=TRUNC(GrpF_Tipps!$V$13,4)),VLOOKUP(GrpF_Tipps!$P$14,GrpF_Tipps!$P$4:$AC$7,14,0)),1,0)","v":0},null,{"$f":"IF(VLOOKUP($C48,GrpF_Tipps!$P$18:$X$21,9,0)+VLOOKUP($C48,GrpF_Tipps!$P$18:$AD$21,15,0)>0,MATCH($C48,GrpF_Tipps!$P$18:$P$21,0),0)","v":0},{"$f":"IF(VLOOKUP($C48,GrpF_Tipps!$P$23:$X$26,9,0)+VLOOKUP($C48,GrpF_Tipps!$P$23:$AD$26,15,0)>0,MATCH($C48,GrpF_Tipps!$P$23:$P$26,0),0)","v":0},{"$f":"IF(VLOOKUP($C48,GrpF_Tipps!$P$28:$X$31,9,0)+VLOOKUP($C48,GrpF_Tipps!$P$28:$AD$31,15,0)>0,MATCH($C48,GrpF_Tipps!$P$28:$P$31,0),0)","v":0},{"$f":"IF(VLOOKUP($C48,GrpF_Tipps!$P$33:$X$36,9,0)+VLOOKUP($C48,GrpF_Tipps!$P$33:$AD$36,15,0)>0,MATCH($C48,GrpF_Tipps!$P$33:$P$36,0),0)","v":0}]
[{"$nulls":24},{"$f":"SUM(Y45:Y48)","v":0},{"$f":"SUM(Z45:Z48)","v":0},0,0,{"$f":"MAX(IF($Y49:$AB49>0,COLUMN($Y49:$AB49)-COLUMN(X$1),0))","v":0}]
[]
[null,{"$f":"IF(OR($AC57>0,$K53<>\"\",$K54<>\"\",$K55<>\"\"),\"˜\",\"\")","v":""},{"$f":"Sprache_Tipps!$E$124&\" G\"","v":"Gruppe G"},{"$f":"Sprache_Tipps!$E$129","v":"Total"},{"$nulls":4},{"$f":"Sprache_Tipps!$E$132","v":"Dir. Vergl.(2)"},{"$nulls":4},{"$f":"Sprache_Tipps!$E$133","v":"Dir. Vergl.(3)"}]
[{"$nulls":3},{"$f":"Sprache_Tipps!$E$125","v":"Pkt."},{"$f":"Sprache_Tipps!$E$126","v":"TD"},{"$f":"Sprache_Tipps!$E$127","v":"Tore"},{"$nulls":4},{"$f":"Sprache_Tipps!$E$125","v":"Pkt."},null,null,{"$f":"Sprache_Tipps!$E$125","v":"Pkt."},{"$f":"Sprache_Tipps!$E$126","v":"TD"},{"$f":"Sprache_Tipps!$E$127","v":"Tore"},{"$nulls":3},{"$f":"Sprache_Tipps!$E$130","v":"Fair-Play/Los"},{"$f":"Sprache_Tipps!$E$131","v":"Nicht klar"}]
[null,"1.",{"$f":"GrpG_Tipps!$P$11","v":"Belgien"},{"$f":"GrpG_Tipps!$Q$11","v":0},{"$f":"GrpG_Tipps!$R$11","v":0},{"$f":"GrpG_Tipps!$S$11","v":0},"-",{"$f":"GrpG_Tipps!$T$11","v":0},null,null,{"$f":"GrpG_Tipps!$AD$11","v":""},null,null,{"$f":"IF($AC57=0,\"\",IF(INDEX($Y53:$AB56,1,$AC57)=0,\"\",INDEX($AD53:$AG55,INDEX($Y53:$AB56,1,$AC57),1)))","v":""},{"$f":"IF($AC57=0,\"\",IF(INDEX($Y53:$AB56,1,$AC57)=0,\"\",INDEX($AD53:$AG55,INDEX($Y53:$AB56,1,$AC57),2)))","v":""},{"$f":"IF($AC57=0,\"\",IF(INDEX($Y53:$AB56,1,$AC57)=0,\"\",INDEX($AD53:$AG55,INDEX($Y53:$AB56,1,$AC57),3)))","v":""},"-",{"$f":"IF($AC57=0,\"\",IF(INDEX($Y53:$AB56,1,$AC57)=0,\"\",INDEX($AD53:$AG55,INDEX($Y53:$AB56,1,$AC57),4)))","v":""},null,{"$f":"SUMIFS(FairPlayPoints1,FairPlayTeams1,$C53)+SUMIFS(FairPlayPoints2,FairPlayTeams2,$C53)+SUMIFS(FairPlayPoints3,FairPlayTeams3,$C53)","v":0},{"$f":"IF($W53>0,\"•\",\"\")","v":""},null,{"$f":"IF(AND(OR(TRUNC(GrpG_Tipps!$V$11,4)=TRUNC(GrpG_Tipps!$V$12,4),TRUNC(GrpG_Tipps!$V$11,4)=TRUNC(GrpG_Tipps!$V$13,4),TRUNC(GrpG_Tipps!$V$11,4)=TRUNC(GrpG_Tipps!$V$14,4)),VLOOKUP(GrpG_Tipps!$P$11,GrpG_Tipps!$P$4:$AC$7,14,0)),1,0)","v":0},null,{"$f":"IF(VLOOKUP($C53,GrpG_Tipps!$P$18:$X$21,9,0)+VLOOKUP($C53,GrpG_Tipps!$P$18:$AD$21,15,0)>0,MATCH($C53,GrpG_Tipps!$P$18:$P$21,0),0)","v":0},{"$f":"IF(VLOOKUP($C53,GrpG_Tipps!$P$23:$X$26,9,0)+VLOOKUP($C53,GrpG_Tipps!$P$23:$AD$26,15,0)>0,MATCH($C53,GrpG_Tipps!$P$23:$P$26,0),0)","v":0},{"$f":"IF(VLOOKUP($C53,GrpG_Tipps!$P$28:$X$31,9,0)+VLOOKUP($C53,GrpG_Tipps!$P$28:$AD$31,15,0)>0,MATCH($C53,GrpG_Tipps!$P$28:$P$31,0),0)","v":0},{"$f":"IF(VLOOKUP($C53,GrpG_Tipps!$P$33:$X$36,9,0)+VLOOKUP($C53,GrpG_Tipps!$P$33:$AD$36,15,0)>0,MATCH($C53,GrpG_Tipps!$P$33:$P$36,0),0)","v":0},null,{"$f":"IF($Y57>0,GrpG_Tipps!$Q$18:$T$20,IF($Z57>0,GrpG_Tipps!$Q$23:$T$25,IF($AA57>0,GrpG_Tipps!$Q$28:$T$30,IF($AB57>0,GrpG_Tipps!$Q$33:$T$35,\"0\"))))","v":"0"},"0","0","0"]
[null,"2.",{"$f":"GrpG_Tipps!$P$12","v":"Ägypten"},{"$f":"GrpG_Tipps!$Q$12","v":0},{"$f":"GrpG_Tipps!$R$12","v":0},{"$f":"GrpG_Tipps!$S$12","v":0},"-",{"$f":"GrpG_Tipps!$T$12","v":0},null,null,{"$f":"GrpG_Tipps!$AD$12","v":""},null,null,{"$f":"IF($AC57=0,\"\",IF(INDEX($Y53:$AB56,2,$AC57)=0,\"\",INDEX($AD53:$AG55,INDEX($Y53:$AB56,2,$AC57),1)))","v":""},{"$f":"IF($AC57=0,\"\",IF(INDEX($Y53:$AB56,2,$AC57)=0,\"\",INDEX($AD53:$AG55,INDEX($Y53:$AB56,2,$AC57),2)))","v":""},{"$f":"IF($AC57=0,\"\",IF(INDEX($Y53:$AB56,2,$AC57)=0,\"\",INDEX($AD53:$AG55,INDEX($Y53:$AB56,2,$AC57),3)))","v":""},"-",{"$f":"IF($AC57=0,\"\",IF(INDEX($Y53:$AB56,2,$AC57)=0,\"\",INDEX($AD53:$AG55,INDEX($Y53:$AB56,2,$AC57),4)))","v":""},null,{"$f":"SUMIFS(FairPlayPoints1,FairPlayTeams1,$C54)+SUMIFS(FairPlayPoints2,FairPlayTeams2,$C54)+SUMIFS(FairPlayPoints3,FairPlayTeams3,$C54)","v":0},{"$f":"IF($W54>0,\"•\",\"\")","v":""},null,{"$f":"IF(AND(OR(TRUNC(GrpG_Tipps!$V$12,4)=TRUNC(GrpG_Tipps!$V$11,4),TRUNC(GrpG_Tipps!$V$12,4)=TRUNC(GrpG_Tipps!$V$13,4),TRUNC(GrpG_Tipps!$V$12,4)=TRUNC(GrpG_Tipps!$V$14,4)),VLOOKUP(GrpG_Tipps!$P$12,GrpG_Tipps!$P$4:$AC$7,14,0)),1,0)","v":0},null,{"$f":"IF(VLOOKUP($C54,GrpG_Tipps!$P$18:$X$21,9,0)+VLOOKUP($C54,GrpG_Tipps!$P$18:$AD$21,15,0)>0,MATCH($C54,GrpG_Tipps!$P$18:$P$21,0),0)","v":0},{"$f":"IF(VLOOKUP($C54,GrpG_Tipps!$P$23:$X$26,9,0)+VLOOKUP($C54,GrpG_Tipps!$P$23:$AD$26,15,0)>0,MATCH($C54,GrpG_Tipps!$P$23:$P$26,0),0)","v":0},{"$f":"IF(VLOOKUP($C54,GrpG_Tipps!$P$28:$X$31,9,0)+VLOOKUP($C54,GrpG_Tipps!$P$28:$AD$31,15,0)>0,MATCH($C54,GrpG_Tipps!$P$28:$P$31,0),0)","v":0},{"$f":"IF(VLOOKUP($C54,GrpG_Tipps!$P$33:$X$36,9,0)+VLOOKUP($C54,GrpG_Tipps!$P$33:$AD$36,15,0)>0,MATCH($C54,GrpG_Tipps!$P$33:$P$36,0),0)","v":0},null,"0","0","0","0"]
[null,"3.",{"$f":"GrpG_Tipps!$P$13","v":"Iran"},{"$f":"GrpG_Tipps!$Q$13","v":0},{"$f":"GrpG_Tipps!$R$13","v":0},{"$f":"GrpG_Tipps!$S$13","v":0},"-",{"$f":"GrpG_Tipps!$T$13","v":0},null,null,{"$f":"GrpG_Tipps!$AD$13","v":""},null,null,{"$f":"IF($AC57=0,\"\",IF(INDEX($Y53:$AB56,3,$AC57)=0,\"\",INDEX($AD53:$AG55,INDEX($Y53:$AB56,3,$AC57),1)))","v":""},{"$f":"IF($AC57=0,\"\",IF(INDEX($Y53:$AB56,3,$AC57)=0,\"\",INDEX($AD53:$AG55,INDEX($Y53:$AB56,3,$AC57),2)))","v":""},{"$f":"IF($AC57=0,\"\",IF(INDEX($Y53:$AB56,3,$AC57)=0,\"\",INDEX($AD53:$AG55,INDEX($Y53:$AB56,3,$AC57),3)))","v":""},"-",{"$f":"IF($AC57=0,\"\",IF(INDEX($Y53:$AB56,3,$AC57)=0,\"\",INDEX($AD53:$AG55,INDEX($Y53:$AB56,3,$AC57),4)))","v":""},null,{"$f":"SUMIFS(FairPlayPoints1,FairPlayTeams1,$C55)+SUMIFS(FairPlayPoints2,FairPlayTeams2,$C55)+SUMIFS(FairPlayPoints3,FairPlayTeams3,$C55)","v":0},{"$f":"IF($W55>0,\"•\",\"\")","v":""},null,{"$f":"IF(AND(OR(TRUNC(GrpG_Tipps!$V$13,4)=TRUNC(GrpG_Tipps!$V$11,4),TRUNC(GrpG_Tipps!$V$13,4)=TRUNC(GrpG_Tipps!$V$12,4),TRUNC(GrpG_Tipps!$V$13,4)=TRUNC(GrpG_Tipps!$V$14,4)),VLOOKUP(GrpG_Tipps!$P$13,GrpG_Tipps!$P$4:$AC$7,14,0)),1,0)","v":0},null,{"$f":"IF(VLOOKUP($C55,GrpG_Tipps!$P$18:$X$21,9,0)+VLOOKUP($C55,GrpG_Tipps!$P$18:$AD$21,15,0)>0,MATCH($C55,GrpG_Tipps!$P$18:$P$21,0),0)","v":0},{"$f":"IF(VLOOKUP($C55,GrpG_Tipps!$P$23:$X$26,9,0)+VLOOKUP($C55,GrpG_Tipps!$P$23:$AD$26,15,0)>0,MATCH($C55,GrpG_Tipps!$P$23:$P$26,0),0)","v":0},{"$f":"IF(VLOOKUP($C55,GrpG_Tipps!$P$28:$X$31,9,0)+VLOOKUP($C55,GrpG_Tipps!$P$28:$AD$31,15,0)>0,MATCH($C55,GrpG_Tipps!$P$28:$P$31,0),0)","v":0},{"$f":"IF(VLOOKUP($C55,GrpG_Tipps!$P$33:$X$36,9,0)+VLOOKUP($C55,GrpG_Tipps!$P$33:$AD$36,15,0)>0,MATCH($C55,GrpG_Tipps!$P$33:$P$36,0),0)","v":0},null,"0","0","0","0"]
[null,"4.",{"$f":"GrpG_Tipps!$P$14","v":"Neuseeland"},{"$f":"GrpG_Tipps!$Q$14","v":0},{"$f":"GrpG_Tipps!$R$14","v":0},{"$f":"GrpG_Tipps!$S$14","v":0},"-",{"$f":"GrpG_Tipps!$T$14","v":0},null,null,{"$f":"GrpG_Tipps!$AD$14","v":""},null,null,{"$f":"IF($AC57=0,\"\",IF(INDEX($Y53:$AB56,4,$AC57)=0,\"\",INDEX($AD53:$AG55,INDEX($Y53:$AB56,4,$AC57),1)))","v":""},{"$f":"IF($AC57=0,\"\",IF(INDEX($Y53:$AB56,4,$AC57)=0,\"\",INDEX($AD53:$AG55,INDEX($Y53:$AB56,4,$AC57),2)))","v":""},{"$f":"IF($AC57=0,\"\",IF(INDEX($Y53:$AB56,4,$AC57)=0,\"\",INDEX($AD53:$AG55,INDEX($Y53:$AB56,4,$AC57),3)))","v":""},"-",{"$f":"IF($AC57=0,\"\",IF(INDEX($Y53:$AB56,4,$AC57)=0,\"\",INDEX($AD53:$AG55,INDEX($Y53:$AB56,4,$AC57),4)))","v":""},null,{"$f":"SUMIFS(FairPlayPoints1,FairPlayTeams1,$C56)+SUMIFS(FairPlayPoints2,FairPlayTeams2,$C56)+SUMIFS(FairPlayPoints3,FairPlayTeams3,$C56)","v":0},{"$f":"IF($W56>0,\"•\",\"\")","v":""},null,{"$f":"IF(AND(OR(TRUNC(GrpG_Tipps!$V$14,4)=TRUNC(GrpG_Tipps!$V$11,4),TRUNC(GrpG_Tipps!$V$14,4)=TRUNC(GrpG_Tipps!$V$12,4),TRUNC(GrpG_Tipps!$V$14,4)=TRUNC(GrpG_Tipps!$V$13,4)),VLOOKUP(GrpG_Tipps!$P$14,GrpG_Tipps!$P$4:$AC$7,14,0)),1,0)","v":0},null,{"$f":"IF(VLOOKUP($C56,GrpG_Tipps!$P$18:$X$21,9,0)+VLOOKUP($C56,GrpG_Tipps!$P$18:$AD$21,15,0)>0,MATCH($C56,GrpG_Tipps!$P$18:$P$21,0),0)","v":0},{"$f":"IF(VLOOKUP($C56,GrpG_Tipps!$P$23:$X$26,9,0)+VLOOKUP($C56,GrpG_Tipps!$P$23:$AD$26,15,0)>0,MATCH($C56,GrpG_Tipps!$P$23:$P$26,0),0)","v":0},{"$f":"IF(VLOOKUP($C56,GrpG_Tipps!$P$28:$X$31,9,0)+VLOOKUP($C56,GrpG_Tipps!$P$28:$AD$31,15,0)>0,MATCH($C56,GrpG_Tipps!$P$28:$P$31,0),0)","v":0},{"$f":"IF(VLOOKUP($C56,GrpG_Tipps!$P$33:$X$36,9,0)+VLOOKUP($C56,GrpG_Tipps!$P$33:$AD$36,15,0)>0,MATCH($C56,GrpG_Tipps!$P$33:$P$36,0),0)","v":0}]
[{"$nulls":24},{"$f":"SUM(Y53:Y56)","v":0},{"$f":"SUM(Z53:Z56)","v":0},0,0,{"$f":"MAX(IF($Y57:$AB57>0,COLUMN($Y57:$AB57)-COLUMN(X$1),0))","v":0}]
[]
[null,{"$f":"IF(OR($AC65>0,$K61<>\"\",$K62<>\"\",$K63<>\"\"),\"˜\",\"\")","v":""},{"$f":"Sprache_Tipps!$E$124&\" H\"","v":"Gruppe H"},{"$f":"Sprache_Tipps!$E$129","v":"Total"},{"$nulls":4},{"$f":"Sprache_Tipps!$E$132","v":"Dir. Vergl.(2)"},{"$nulls":4},{"$f":"Sprache_Tipps!$E$133","v":"Dir. Vergl.(3)"}]
[{"$nulls":3},{"$f":"Sprache_Tipps!$E$125","v":"Pkt."},{"$f":"Sprache_Tipps!$E$126","v":"TD"},{"$f":"Sprache_Tipps!$E$127","v":"Tore"},{"$nulls":4},{"$f":"Sprache_Tipps!$E$125","v":"Pkt."},null,null,{"$f":"Sprache_Tipps!$E$125","v":"Pkt."},{"$f":"Sprache_Tipps!$E$126","v":"TD"},{"$f":"Sprache_Tipps!$E$127","v":"Tore"},{"$nulls":3},{"$f":"Sprache_Tipps!$E$130","v":"Fair-Play/Los"},{"$f":"Sprache_Tipps!$E$131","v":"Nicht klar"}]
[null,"1.",{"$f":"GrpH_Tipps!$P$11","v":"Spanien"},{"$f":"GrpH_Tipps!$Q$11","v":0},{"$f":"GrpH_Tipps!$R$11","v":0},{"$f":"GrpH_Tipps!$S$11","v":0},"-",{"$f":"GrpH_Tipps!$T$11","v":0},null,null,{"$f":"GrpH_Tipps!$AD$11","v":""},null,null,{"$f":"IF($AC65=0,\"\",IF(INDEX($Y61:$AB64,1,$AC65)=0,\"\",INDEX($AD61:$AG63,INDEX($Y61:$AB64,1,$AC65),1)))","v":""},{"$f":"IF($AC65=0,\"\",IF(INDEX($Y61:$AB64,1,$AC65)=0,\"\",INDEX($AD61:$AG63,INDEX($Y61:$AB64,1,$AC65),2)))","v":""},{"$f":"IF($AC65=0,\"\",IF(INDEX($Y61:$AB64,1,$AC65)=0,\"\",INDEX($AD61:$AG63,INDEX($Y61:$AB64,1,$AC65),3)))","v":""},"-",{"$f":"IF($AC65=0,\"\",IF(INDEX($Y61:$AB64,1,$AC65)=0,\"\",INDEX($AD61:$AG63,INDEX($Y61:$AB64,1,$AC65),4)))","v":""},null,{"$f":"SUMIFS(FairPlayPoints1,FairPlayTeams1,$C61)+SUMIFS(FairPlayPoints2,FairPlayTeams2,$C61)+SUMIFS(FairPlayPoints3,FairPlayTeams3,$C61)","v":0},{"$f":"IF($W61>0,\"•\",\"\")","v":""},null,{"$f":"IF(AND(OR(TRUNC(GrpH_Tipps!$V$11,4)=TRUNC(GrpH_Tipps!$V$12,4),TRUNC(GrpH_Tipps!$V$11,4)=TRUNC(GrpH_Tipps!$V$13,4),TRUNC(GrpH_Tipps!$V$11,4)=TRUNC(GrpH_Tipps!$V$14,4)),VLOOKUP(GrpH_Tipps!$P$11,GrpH_Tipps!$P$4:$AC$7,14,0)),1,0)","v":0},null,{"$f":"IF(VLOOKUP($C61,GrpH_Tipps!$P$18:$X$21,9,0)+VLOOKUP($C61,GrpH_Tipps!$P$18:$AD$21,15,0)>0,MATCH($C61,GrpH_Tipps!$P$18:$P$21,0),0)","v":0},{"$f":"IF(VLOOKUP($C61,GrpH_Tipps!$P$23:$X$26,9,0)+VLOOKUP($C61,GrpH_Tipps!$P$23:$AD$26,15,0)>0,MATCH($C61,GrpH_Tipps!$P$23:$P$26,0),0)","v":0},{"$f":"IF(VLOOKUP($C61,GrpH_Tipps!$P$28:$X$31,9,0)+VLOOKUP($C61,GrpH_Tipps!$P$28:$AD$31,15,0)>0,MATCH($C61,GrpH_Tipps!$P$28:$P$31,0),0)","v":0},{"$f":"IF(VLOOKUP($C61,GrpH_Tipps!$P$33:$X$36,9,0)+VLOOKUP($C61,GrpH_Tipps!$P$33:$AD$36,15,0)>0,MATCH($C61,GrpH_Tipps!$P$33:$P$36,0),0)","v":0},null,{"$f":"IF($Y65>0,GrpH_Tipps!$Q$18:$T$20,IF($Z65>0,GrpH_Tipps!$Q$23:$T$25,IF($AA65>0,GrpH_Tipps!$Q$28:$T$30,IF($AB65>0,GrpH_Tipps!$Q$33:$T$35,\"0\"))))","v":"0"},"0","0","0"]
[null,"2.",{"$f":"GrpH_Tipps!$P$12","v":"Kapverde"},{"$f":"GrpH_Tipps!$Q$12","v":0},{"$f":"GrpH_Tipps!$R$12","v":0},{"$f":"GrpH_Tipps!$S$12","v":0},"-",{"$f":"GrpH_Tipps!$T$12","v":0},null,null,{"$f":"GrpH_Tipps!$AD$12","v":""},null,null,{"$f":"IF($AC65=0,\"\",IF(INDEX($Y61:$AB64,2,$AC65)=0,\"\",INDEX($AD61:$AG63,INDEX($Y61:$AB64,2,$AC65),1)))","v":""},{"$f":"IF($AC65=0,\"\",IF(INDEX($Y61:$AB64,2,$AC65)=0,\"\",INDEX($AD61:$AG63,INDEX($Y61:$AB64,2,$AC65),2)))","v":""},{"$f":"IF($AC65=0,\"\",IF(INDEX($Y61:$AB64,2,$AC65)=0,\"\",INDEX($AD61:$AG63,INDEX($Y61:$AB64,2,$AC65),3)))","v":""},"-",{"$f":"IF($AC65=0,\"\",IF(INDEX($Y61:$AB64,2,$AC65)=0,\"\",INDEX($AD61:$AG63,INDEX($Y61:$AB64,2,$AC65),4)))","v":""},null,{"$f":"SUMIFS(FairPlayPoints1,FairPlayTeams1,$C62)+SUMIFS(FairPlayPoints2,FairPlayTeams2,$C62)+SUMIFS(FairPlayPoints3,FairPlayTeams3,$C62)","v":0},{"$f":"IF($W62>0,\"•\",\"\")","v":""},null,{"$f":"IF(AND(OR(TRUNC(GrpH_Tipps!$V$12,4)=TRUNC(GrpH_Tipps!$V$11,4),TRUNC(GrpH_Tipps!$V$12,4)=TRUNC(GrpH_Tipps!$V$13,4),TRUNC(GrpH_Tipps!$V$12,4)=TRUNC(GrpH_Tipps!$V$14,4)),VLOOKUP(GrpH_Tipps!$P$12,GrpH_Tipps!$P$4:$AC$7,14,0)),1,0)","v":0},null,{"$f":"IF(VLOOKUP($C62,GrpH_Tipps!$P$18:$X$21,9,0)+VLOOKUP($C62,GrpH_Tipps!$P$18:$AD$21,15,0)>0,MATCH($C62,GrpH_Tipps!$P$18:$P$21,0),0)","v":0},{"$f":"IF(VLOOKUP($C62,GrpH_Tipps!$P$23:$X$26,9,0)+VLOOKUP($C62,GrpH_Tipps!$P$23:$AD$26,15,0)>0,MATCH($C62,GrpH_Tipps!$P$23:$P$26,0),0)","v":0},{"$f":"IF(VLOOKUP($C62,GrpH_Tipps!$P$28:$X$31,9,0)+VLOOKUP($C62,GrpH_Tipps!$P$28:$AD$31,15,0)>0,MATCH($C62,GrpH_Tipps!$P$28:$P$31,0),0)","v":0},{"$f":"IF(VLOOKUP($C62,GrpH_Tipps!$P$33:$X$36,9,0)+VLOOKUP($C62,GrpH_Tipps!$P$33:$AD$36,15,0)>0,MATCH($C62,GrpH_Tipps!$P$33:$P$36,0),0)","v":0},null,"0","0","0","0"]
[null,"3.",{"$f":"GrpH_Tipps!$P$13","v":"Saudiarabien"},{"$f":"GrpH_Tipps!$Q$13","v":0},{"$f":"GrpH_Tipps!$R$13","v":0},{"$f":"GrpH_Tipps!$S$13","v":0},"-",{"$f":"GrpH_Tipps!$T$13","v":0},null,null,{"$f":"GrpH_Tipps!$AD$13","v":""},null,null,{"$f":"IF($AC65=0,\"\",IF(INDEX($Y61:$AB64,3,$AC65)=0,\"\",INDEX($AD61:$AG63,INDEX($Y61:$AB64,3,$AC65),1)))","v":""},{"$f":"IF($AC65=0,\"\",IF(INDEX($Y61:$AB64,3,$AC65)=0,\"\",INDEX($AD61:$AG63,INDEX($Y61:$AB64,3,$AC65),2)))","v":""},{"$f":"IF($AC65=0,\"\",IF(INDEX($Y61:$AB64,3,$AC65)=0,\"\",INDEX($AD61:$AG63,INDEX($Y61:$AB64,3,$AC65),3)))","v":""},"-",{"$f":"IF($AC65=0,\"\",IF(INDEX($Y61:$AB64,3,$AC65)=0,\"\",INDEX($AD61:$AG63,INDEX($Y61:$AB64,3,$AC65),4)))","v":""},null,{"$f":"SUMIFS(FairPlayPoints1,FairPlayTeams1,$C63)+SUMIFS(FairPlayPoints2,FairPlayTeams2,$C63)+SUMIFS(FairPlayPoints3,FairPlayTeams3,$C63)","v":0},{"$f":"IF($W63>0,\"•\",\"\")","v":""},null,{"$f":"IF(AND(OR(TRUNC(GrpH_Tipps!$V$13,4)=TRUNC(GrpH_Tipps!$V$11,4),TRUNC(GrpH_Tipps!$V$13,4)=TRUNC(GrpH_Tipps!$V$12,4),TRUNC(GrpH_Tipps!$V$13,4)=TRUNC(GrpH_Tipps!$V$14,4)),VLOOKUP(GrpH_Tipps!$P$13,GrpH_Tipps!$P$4:$AC$7,14,0)),1,0)","v":0},null,{"$f":"IF(VLOOKUP($C63,GrpH_Tipps!$P$18:$X$21,9,0)+VLOOKUP($C63,GrpH_Tipps!$P$18:$AD$21,15,0)>0,MATCH($C63,GrpH_Tipps!$P$18:$P$21,0),0)","v":0},{"$f":"IF(VLOOKUP($C63,GrpH_Tipps!$P$23:$X$26,9,0)+VLOOKUP($C63,GrpH_Tipps!$P$23:$AD$26,15,0)>0,MATCH($C63,GrpH_Tipps!$P$23:$P$26,0),0)","v":0},{"$f":"IF(VLOOKUP($C63,GrpH_Tipps!$P$28:$X$31,9,0)+VLOOKUP($C63,GrpH_Tipps!$P$28:$AD$31,15,0)>0,MATCH($C63,GrpH_Tipps!$P$28:$P$31,0),0)","v":0},{"$f":"IF(VLOOKUP($C63,GrpH_Tipps!$P$33:$X$36,9,0)+VLOOKUP($C63,GrpH_Tipps!$P$33:$AD$36,15,0)>0,MATCH($C63,GrpH_Tipps!$P$33:$P$36,0),0)","v":0},null,"0","0","0","0"]
[null,"4.",{"$f":"GrpH_Tipps!$P$14","v":"Uruguay"},{"$f":"GrpH_Tipps!$Q$14","v":0},{"$f":"GrpH_Tipps!$R$14","v":0},{"$f":"GrpH_Tipps!$S$14","v":0},"-",{"$f":"GrpH_Tipps!$T$14","v":0},null,null,{"$f":"GrpH_Tipps!$AD$14","v":""},null,null,{"$f":"IF($AC65=0,\"\",IF(INDEX($Y61:$AB64,4,$AC65)=0,\"\",INDEX($AD61:$AG63,INDEX($Y61:$AB64,4,$AC65),1)))","v":""},{"$f":"IF($AC65=0,\"\",IF(INDEX($Y61:$AB64,4,$AC65)=0,\"\",INDEX($AD61:$AG63,INDEX($Y61:$AB64,4,$AC65),2)))","v":""},{"$f":"IF($AC65=0,\"\",IF(INDEX($Y61:$AB64,4,$AC65)=0,\"\",INDEX($AD61:$AG63,INDEX($Y61:$AB64,4,$AC65),3)))","v":""},"-",{"$f":"IF($AC65=0,\"\",IF(INDEX($Y61:$AB64,4,$AC65)=0,\"\",INDEX($AD61:$AG63,INDEX($Y61:$AB64,4,$AC65),4)))","v":""},null,{"$f":"SUMIFS(FairPlayPoints1,FairPlayTeams1,$C64)+SUMIFS(FairPlayPoints2,FairPlayTeams2,$C64)+SUMIFS(FairPlayPoints3,FairPlayTeams3,$C64)","v":0},{"$f":"IF($W64>0,\"•\",\"\")","v":""},null,{"$f":"IF(AND(OR(TRUNC(GrpH_Tipps!$V$14,4)=TRUNC(GrpH_Tipps!$V$11,4),TRUNC(GrpH_Tipps!$V$14,4)=TRUNC(GrpH_Tipps!$V$12,4),TRUNC(GrpH_Tipps!$V$14,4)=TRUNC(GrpH_Tipps!$V$13,4)),VLOOKUP(GrpH_Tipps!$P$14,GrpH_Tipps!$P$4:$AC$7,14,0)),1,0)","v":0},null,{"$f":"IF(VLOOKUP($C64,GrpH_Tipps!$P$18:$X$21,9,0)+VLOOKUP($C64,GrpH_Tipps!$P$18:$AD$21,15,0)>0,MATCH($C64,GrpH_Tipps!$P$18:$P$21,0),0)","v":0},{"$f":"IF(VLOOKUP($C64,GrpH_Tipps!$P$23:$X$26,9,0)+VLOOKUP($C64,GrpH_Tipps!$P$23:$AD$26,15,0)>0,MATCH($C64,GrpH_Tipps!$P$23:$P$26,0),0)","v":0},{"$f":"IF(VLOOKUP($C64,GrpH_Tipps!$P$28:$X$31,9,0)+VLOOKUP($C64,GrpH_Tipps!$P$28:$AD$31,15,0)>0,MATCH($C64,GrpH_Tipps!$P$28:$P$31,0),0)","v":0},{"$f":"IF(VLOOKUP($C64,GrpH_Tipps!$P$33:$X$36,9,0)+VLOOKUP($C64,GrpH_Tipps!$P$33:$AD$36,15,0)>0,MATCH($C64,GrpH_Tipps!$P$33:$P$36,0),0)","v":0}]
[{"$nulls":24},{"$f":"SUM(Y61:Y64)","v":0},{"$f":"SUM(Z61:Z64)","v":0},0,0,{"$f":"MAX(IF($Y65:$AB65>0,COLUMN($Y65:$AB65)-COLUMN(X$1),0))","v":0}]
[]
[null,{"$f":"IF(OR($AC73>0,$K69<>\"\",$K70<>\"\",$K71<>\"\"),\"˜\",\"\")","v":""},{"$f":"Sprache_Tipps!$E$124&\" I\"","v":"Gruppe I"},{"$f":"Sprache_Tipps!$E$129","v":"Total"},{"$nulls":4},{"$f":"Sprache_Tipps!$E$132","v":"Dir. Vergl.(2)"},{"$nulls":4},{"$f":"Sprache_Tipps!$E$133","v":"Dir. Vergl.(3)"}]
[{"$nulls":3},{"$f":"Sprache_Tipps!$E$125","v":"Pkt."},{"$f":"Sprache_Tipps!$E$126","v":"TD"},{"$f":"Sprache_Tipps!$E$127","v":"Tore"},{"$nulls":4},{"$f":"Sprache_Tipps!$E$125","v":"Pkt."},null,null,{"$f":"Sprache_Tipps!$E$125","v":"Pkt."},{"$f":"Sprache_Tipps!$E$126","v":"TD"},{"$f":"Sprache_Tipps!$E$127","v":"Tore"},{"$nulls":3},{"$f":"Sprache_Tipps!$E$130","v":"Fair-Play/Los"},{"$f":"Sprache_Tipps!$E$131","v":"Nicht klar"}]
[null,"1.",{"$f":"GrpI_Tipps!$P$11","v":"Frankreich"},{"$f":"GrpI_Tipps!$Q$11","v":0},{"$f":"GrpI_Tipps!$R$11","v":0},{"$f":"GrpI_Tipps!$S$11","v":0},"-",{"$f":"GrpI_Tipps!$T$11","v":0},null,null,{"$f":"GrpI_Tipps!$AD$11","v":""},null,null,{"$f":"IF($AC73=0,\"\",IF(INDEX($Y69:$AB72,1,$AC73)=0,\"\",INDEX($AD69:$AG71,INDEX($Y69:$AB72,1,$AC73),1)))","v":""},{"$f":"IF($AC73=0,\"\",IF(INDEX($Y69:$AB72,1,$AC73)=0,\"\",INDEX($AD69:$AG71,INDEX($Y69:$AB72,1,$AC73),2)))","v":""},{"$f":"IF($AC73=0,\"\",IF(INDEX($Y69:$AB72,1,$AC73)=0,\"\",INDEX($AD69:$AG71,INDEX($Y69:$AB72,1,$AC73),3)))","v":""},"-",{"$f":"IF($AC73=0,\"\",IF(INDEX($Y69:$AB72,1,$AC73)=0,\"\",INDEX($AD69:$AG71,INDEX($Y69:$AB72,1,$AC73),4)))","v":""},null,{"$f":"SUMIFS(FairPlayPoints1,FairPlayTeams1,$C69)+SUMIFS(FairPlayPoints2,FairPlayTeams2,$C69)+SUMIFS(FairPlayPoints3,FairPlayTeams3,$C69)","v":0},{"$f":"IF($W69>0,\"•\",\"\")","v":""},null,{"$f":"IF(AND(OR(TRUNC(GrpI_Tipps!$V$11,4)=TRUNC(GrpI_Tipps!$V$12,4),TRUNC(GrpI_Tipps!$V$11,4)=TRUNC(GrpI_Tipps!$V$13,4),TRUNC(GrpI_Tipps!$V$11,4)=TRUNC(GrpI_Tipps!$V$14,4)),VLOOKUP(GrpI_Tipps!$P$11,GrpI_Tipps!$P$4:$AC$7,14,0)),1,0)","v":0},null,{"$f":"IF(VLOOKUP($C69,GrpI_Tipps!$P$18:$X$21,9,0)+VLOOKUP($C69,GrpI_Tipps!$P$18:$AD$21,15,0)>0,MATCH($C69,GrpI_Tipps!$P$18:$P$21,0),0)","v":0},{"$f":"IF(VLOOKUP($C69,GrpI_Tipps!$P$23:$X$26,9,0)+VLOOKUP($C69,GrpI_Tipps!$P$23:$AD$26,15,0)>0,MATCH($C69,GrpI_Tipps!$P$23:$P$26,0),0)","v":0},{"$f":"IF(VLOOKUP($C69,GrpI_Tipps!$P$28:$X$31,9,0)+VLOOKUP($C69,GrpI_Tipps!$P$28:$AD$31,15,0)>0,MATCH($C69,GrpI_Tipps!$P$28:$P$31,0),0)","v":0},{"$f":"IF(VLOOKUP($C69,GrpI_Tipps!$P$33:$X$36,9,0)+VLOOKUP($C69,GrpI_Tipps!$P$33:$AD$36,15,0)>0,MATCH($C69,GrpI_Tipps!$P$33:$P$36,0),0)","v":0},null,{"$f":"IF($Y73>0,GrpI_Tipps!$Q$18:$T$20,IF($Z73>0,GrpI_Tipps!$Q$23:$T$25,IF($AA73>0,GrpI_Tipps!$Q$28:$T$30,IF($AB73>0,GrpI_Tipps!$Q$33:$T$35,\"0\"))))","v":"0"},"0","0","0"]
[null,"2.",{"$f":"GrpI_Tipps!$P$12","v":"Senegal"},{"$f":"GrpI_Tipps!$Q$12","v":0},{"$f":"GrpI_Tipps!$R$12","v":0},{"$f":"GrpI_Tipps!$S$12","v":0},"-",{"$f":"GrpI_Tipps!$T$12","v":0},null,null,{"$f":"GrpI_Tipps!$AD$12","v":""},null,null,{"$f":"IF($AC73=0,\"\",IF(INDEX($Y69:$AB72,2,$AC73)=0,\"\",INDEX($AD69:$AG71,INDEX($Y69:$AB72,2,$AC73),1)))","v":""},{"$f":"IF($AC73=0,\"\",IF(INDEX($Y69:$AB72,2,$AC73)=0,\"\",INDEX($AD69:$AG71,INDEX($Y69:$AB72,2,$AC73),2)))","v":""},{"$f":"IF($AC73=0,\"\",IF(INDEX($Y69:$AB72,2,$AC73)=0,\"\",INDEX($AD69:$AG71,INDEX($Y69:$AB72,2,$AC73),3)))","v":""},"-",{"$f":"IF($AC73=0,\"\",IF(INDEX($Y69:$AB72,2,$AC73)=0,\"\",INDEX($AD69:$AG71,INDEX($Y69:$AB72,2,$AC73),4)))","v":""},null,{"$f":"SUMIFS(FairPlayPoints1,FairPlayTeams1,$C70)+SUMIFS(FairPlayPoints2,FairPlayTeams2,$C70)+SUMIFS(FairPlayPoints3,FairPlayTeams3,$C70)","v":0},{"$f":"IF($W70>0,\"•\",\"\")","v":""},null,{"$f":"IF(AND(OR(TRUNC(GrpI_Tipps!$V$12,4)=TRUNC(GrpI_Tipps!$V$11,4),TRUNC(GrpI_Tipps!$V$12,4)=TRUNC(GrpI_Tipps!$V$13,4),TRUNC(GrpI_Tipps!$V$12,4)=TRUNC(GrpI_Tipps!$V$14,4)),VLOOKUP(GrpI_Tipps!$P$12,GrpI_Tipps!$P$4:$AC$7,14,0)),1,0)","v":0},null,{"$f":"IF(VLOOKUP($C70,GrpI_Tipps!$P$18:$X$21,9,0)+VLOOKUP($C70,GrpI_Tipps!$P$18:$AD$21,15,0)>0,MATCH($C70,GrpI_Tipps!$P$18:$P$21,0),0)","v":0},{"$f":"IF(VLOOKUP($C70,GrpI_Tipps!$P$23:$X$26,9,0)+VLOOKUP($C70,GrpI_Tipps!$P$23:$AD$26,15,0)>0,MATCH($C70,GrpI_Tipps!$P$23:$P$26,0),0)","v":0},{"$f":"IF(VLOOKUP($C70,GrpI_Tipps!$P$28:$X$31,9,0)+VLOOKUP($C70,GrpI_Tipps!$P$28:$AD$31,15,0)>0,MATCH($C70,GrpI_Tipps!$P$28:$P$31,0),0)","v":0},{"$f":"IF(VLOOKUP($C70,GrpI_Tipps!$P$33:$X$36,9,0)+VLOOKUP($C70,GrpI_Tipps!$P$33:$AD$36,15,0)>0,MATCH($C70,GrpI_Tipps!$P$33:$P$36,0),0)","v":0},null,"0","0","0","0"]
[null,"3.",{"$f":"GrpI_Tipps!$P$13","v":"Irak"},{"$f":"GrpI_Tipps!$Q$13","v":0},{"$f":"GrpI_Tipps!$R$13","v":0},{"$f":"GrpI_Tipps!$S$13","v":0},"-",{"$f":"GrpI_Tipps!$T$13","v":0},null,null,{"$f":"GrpI_Tipps!$AD$13","v":""},null,null,{"$f":"IF($AC73=0,\"\",IF(INDEX($Y69:$AB72,3,$AC73)=0,\"\",INDEX($AD69:$AG71,INDEX($Y69:$AB72,3,$AC73),1)))","v":""},{"$f":"IF($AC73=0,\"\",IF(INDEX($Y69:$AB72,3,$AC73)=0,\"\",INDEX($AD69:$AG71,INDEX($Y69:$AB72,3,$AC73),2)))","v":""},{"$f":"IF($AC73=0,\"\",IF(INDEX($Y69:$AB72,3,$AC73)=0,\"\",INDEX($AD69:$AG71,INDEX($Y69:$AB72,3,$AC73),3)))","v":""},"-",{"$f":"IF($AC73=0,\"\",IF(INDEX($Y69:$AB72,3,$AC73)=0,\"\",INDEX($AD69:$AG71,INDEX($Y69:$AB72,3,$AC73),4)))","v":""},null,{"$f":"SUMIFS(FairPlayPoints1,FairPlayTeams1,$C71)+SUMIFS(FairPlayPoints2,FairPlayTeams2,$C71)+SUMIFS(FairPlayPoints3,FairPlayTeams3,$C71)","v":0},{"$f":"IF($W71>0,\"•\",\"\")","v":""},null,{"$f":"IF(AND(OR(TRUNC(GrpI_Tipps!$V$13,4)=TRUNC(GrpI_Tipps!$V$11,4),TRUNC(GrpI_Tipps!$V$13,4)=TRUNC(GrpI_Tipps!$V$12,4),TRUNC(GrpI_Tipps!$V$13,4)=TRUNC(GrpI_Tipps!$V$14,4)),VLOOKUP(GrpI_Tipps!$P$13,GrpI_Tipps!$P$4:$AC$7,14,0)),1,0)","v":0},null,{"$f":"IF(VLOOKUP($C71,GrpI_Tipps!$P$18:$X$21,9,0)+VLOOKUP($C71,GrpI_Tipps!$P$18:$AD$21,15,0)>0,MATCH($C71,GrpI_Tipps!$P$18:$P$21,0),0)","v":0},{"$f":"IF(VLOOKUP($C71,GrpI_Tipps!$P$23:$X$26,9,0)+VLOOKUP($C71,GrpI_Tipps!$P$23:$AD$26,15,0)>0,MATCH($C71,GrpI_Tipps!$P$23:$P$26,0),0)","v":0},{"$f":"IF(VLOOKUP($C71,GrpI_Tipps!$P$28:$X$31,9,0)+VLOOKUP($C71,GrpI_Tipps!$P$28:$AD$31,15,0)>0,MATCH($C71,GrpI_Tipps!$P$28:$P$31,0),0)","v":0},{"$f":"IF(VLOOKUP($C71,GrpI_Tipps!$P$33:$X$36,9,0)+VLOOKUP($C71,GrpI_Tipps!$P$33:$AD$36,15,0)>0,MATCH($C71,GrpI_Tipps!$P$33:$P$36,0),0)","v":0},null,"0","0","0","0"]
[null,"4.",{"$f":"GrpI_Tipps!$P$14","v":"Norwegen"},{"$f":"GrpI_Tipps!$Q$14","v":0},{"$f":"GrpI_Tipps!$R$14","v":0},{"$f":"GrpI_Tipps!$S$14","v":0},"-",{"$f":"GrpI_Tipps!$T$14","v":0},null,null,{"$f":"GrpI_Tipps!$AD$14","v":""},null,null,{"$f":"IF($AC73=0,\"\",IF(INDEX($Y69:$AB72,4,$AC73)=0,\"\",INDEX($AD69:$AG71,INDEX($Y69:$AB72,4,$AC73),1)))","v":""},{"$f":"IF($AC73=0,\"\",IF(INDEX($Y69:$AB72,4,$AC73)=0,\"\",INDEX($AD69:$AG71,INDEX($Y69:$AB72,4,$AC73),2)))","v":""},{"$f":"IF($AC73=0,\"\",IF(INDEX($Y69:$AB72,4,$AC73)=0,\"\",INDEX($AD69:$AG71,INDEX($Y69:$AB72,4,$AC73),3)))","v":""},"-",{"$f":"IF($AC73=0,\"\",IF(INDEX($Y69:$AB72,4,$AC73)=0,\"\",INDEX($AD69:$AG71,INDEX($Y69:$AB72,4,$AC73),4)))","v":""},null,{"$f":"SUMIFS(FairPlayPoints1,FairPlayTeams1,$C72)+SUMIFS(FairPlayPoints2,FairPlayTeams2,$C72)+SUMIFS(FairPlayPoints3,FairPlayTeams3,$C72)","v":0},{"$f":"IF($W72>0,\"•\",\"\")","v":""},null,{"$f":"IF(AND(OR(TRUNC(GrpI_Tipps!$V$14,4)=TRUNC(GrpI_Tipps!$V$11,4),TRUNC(GrpI_Tipps!$V$14,4)=TRUNC(GrpI_Tipps!$V$12,4),TRUNC(GrpI_Tipps!$V$14,4)=TRUNC(GrpI_Tipps!$V$13,4)),VLOOKUP(GrpI_Tipps!$P$14,GrpI_Tipps!$P$4:$AC$7,14,0)),1,0)","v":0},null,{"$f":"IF(VLOOKUP($C72,GrpI_Tipps!$P$18:$X$21,9,0)+VLOOKUP($C72,GrpI_Tipps!$P$18:$AD$21,15,0)>0,MATCH($C72,GrpI_Tipps!$P$18:$P$21,0),0)","v":0},{"$f":"IF(VLOOKUP($C72,GrpI_Tipps!$P$23:$X$26,9,0)+VLOOKUP($C72,GrpI_Tipps!$P$23:$AD$26,15,0)>0,MATCH($C72,GrpI_Tipps!$P$23:$P$26,0),0)","v":0},{"$f":"IF(VLOOKUP($C72,GrpI_Tipps!$P$28:$X$31,9,0)+VLOOKUP($C72,GrpI_Tipps!$P$28:$AD$31,15,0)>0,MATCH($C72,GrpI_Tipps!$P$28:$P$31,0),0)","v":0},{"$f":"IF(VLOOKUP($C72,GrpI_Tipps!$P$33:$X$36,9,0)+VLOOKUP($C72,GrpI_Tipps!$P$33:$AD$36,15,0)>0,MATCH($C72,GrpI_Tipps!$P$33:$P$36,0),0)","v":0}]
[{"$nulls":24},{"$f":"SUM(Y69:Y72)","v":0},{"$f":"SUM(Z69:Z72)","v":0},0,0,{"$f":"MAX(IF($Y73:$AB73>0,COLUMN($Y73:$AB73)-COLUMN(X$1),0))","v":0}]
[]
[null,{"$f":"IF(OR($AC81>0,$K77<>\"\",$K78<>\"\",$K79<>\"\"),\"˜\",\"\")","v":""},{"$f":"Sprache_Tipps!$E$124&\" J\"","v":"Gruppe J"},{"$f":"Sprache_Tipps!$E$129","v":"Total"},{"$nulls":4},{"$f":"Sprache_Tipps!$E$132","v":"Dir. Vergl.(2)"},{"$nulls":4},{"$f":"Sprache_Tipps!$E$133","v":"Dir. Vergl.(3)"}]
[{"$nulls":3},{"$f":"Sprache_Tipps!$E$125","v":"Pkt."},{"$f":"Sprache_Tipps!$E$126","v":"TD"},{"$f":"Sprache_Tipps!$E$127","v":"Tore"},{"$nulls":4},{"$f":"Sprache_Tipps!$E$125","v":"Pkt."},null,null,{"$f":"Sprache_Tipps!$E$125","v":"Pkt."},{"$f":"Sprache_Tipps!$E$126","v":"TD"},{"$f":"Sprache_Tipps!$E$127","v":"Tore"},{"$nulls":3},{"$f":"Sprache_Tipps!$E$130","v":"Fair-Play/Los"},{"$f":"Sprache_Tipps!$E$131","v":"Nicht klar"}]
[null,"1.",{"$f":"GrpJ_Tipps!$P$11","v":"Argentinien"},{"$f":"GrpJ_Tipps!$Q$11","v":0},{"$f":"GrpJ_Tipps!$R$11","v":0},{"$f":"GrpJ_Tipps!$S$11","v":0},"-",{"$f":"GrpJ_Tipps!$T$11","v":0},null,null,{"$f":"GrpJ_Tipps!$AD$11","v":""},null,null,{"$f":"IF($AC81=0,\"\",IF(INDEX($Y77:$AB80,1,$AC81)=0,\"\",INDEX($AD77:$AG79,INDEX($Y77:$AB80,1,$AC81),1)))","v":""},{"$f":"IF($AC81=0,\"\",IF(INDEX($Y77:$AB80,1,$AC81)=0,\"\",INDEX($AD77:$AG79,INDEX($Y77:$AB80,1,$AC81),2)))","v":""},{"$f":"IF($AC81=0,\"\",IF(INDEX($Y77:$AB80,1,$AC81)=0,\"\",INDEX($AD77:$AG79,INDEX($Y77:$AB80,1,$AC81),3)))","v":""},"-",{"$f":"IF($AC81=0,\"\",IF(INDEX($Y77:$AB80,1,$AC81)=0,\"\",INDEX($AD77:$AG79,INDEX($Y77:$AB80,1,$AC81),4)))","v":""},null,{"$f":"SUMIFS(FairPlayPoints1,FairPlayTeams1,$C77)+SUMIFS(FairPlayPoints2,FairPlayTeams2,$C77)+SUMIFS(FairPlayPoints3,FairPlayTeams3,$C77)","v":0},{"$f":"IF($W77>0,\"•\",\"\")","v":""},null,{"$f":"IF(AND(OR(TRUNC(GrpJ_Tipps!$V$11,4)=TRUNC(GrpJ_Tipps!$V$12,4),TRUNC(GrpJ_Tipps!$V$11,4)=TRUNC(GrpJ_Tipps!$V$13,4),TRUNC(GrpJ_Tipps!$V$11,4)=TRUNC(GrpJ_Tipps!$V$14,4)),VLOOKUP(GrpJ_Tipps!$P$11,GrpJ_Tipps!$P$4:$AC$7,14,0)),1,0)","v":0},null,{"$f":"IF(VLOOKUP($C77,GrpJ_Tipps!$P$18:$X$21,9,0)+VLOOKUP($C77,GrpJ_Tipps!$P$18:$AD$21,15,0)>0,MATCH($C77,GrpJ_Tipps!$P$18:$P$21,0),0)","v":0},{"$f":"IF(VLOOKUP($C77,GrpJ_Tipps!$P$23:$X$26,9,0)+VLOOKUP($C77,GrpJ_Tipps!$P$23:$AD$26,15,0)>0,MATCH($C77,GrpJ_Tipps!$P$23:$P$26,0),0)","v":0},{"$f":"IF(VLOOKUP($C77,GrpJ_Tipps!$P$28:$X$31,9,0)+VLOOKUP($C77,GrpJ_Tipps!$P$28:$AD$31,15,0)>0,MATCH($C77,GrpJ_Tipps!$P$28:$P$31,0),0)","v":0},{"$f":"IF(VLOOKUP($C77,GrpJ_Tipps!$P$33:$X$36,9,0)+VLOOKUP($C77,GrpJ_Tipps!$P$33:$AD$36,15,0)>0,MATCH($C77,GrpJ_Tipps!$P$33:$P$36,0),0)","v":0},null,{"$f":"IF($Y81>0,GrpJ_Tipps!$Q$18:$T$20,IF($Z81>0,GrpJ_Tipps!$Q$23:$T$25,IF($AA81>0,GrpJ_Tipps!$Q$28:$T$30,IF($AB81>0,GrpJ_Tipps!$Q$33:$T$35,\"0\"))))","v":"0"},"0","0","0"]
[null,"2.",{"$f":"GrpJ_Tipps!$P$12","v":"Algerien"},{"$f":"GrpJ_Tipps!$Q$12","v":0},{"$f":"GrpJ_Tipps!$R$12","v":0},{"$f":"GrpJ_Tipps!$S$12","v":0},"-",{"$f":"GrpJ_Tipps!$T$12","v":0},null,null,{"$f":"GrpJ_Tipps!$AD$12","v":""},null,null,{"$f":"IF($AC81=0,\"\",IF(INDEX($Y77:$AB80,2,$AC81)=0,\"\",INDEX($AD77:$AG79,INDEX($Y77:$AB80,2,$AC81),1)))","v":""},{"$f":"IF($AC81=0,\"\",IF(INDEX($Y77:$AB80,2,$AC81)=0,\"\",INDEX($AD77:$AG79,INDEX($Y77:$AB80,2,$AC81),2)))","v":""},{"$f":"IF($AC81=0,\"\",IF(INDEX($Y77:$AB80,2,$AC81)=0,\"\",INDEX($AD77:$AG79,INDEX($Y77:$AB80,2,$AC81),3)))","v":""},"-",{"$f":"IF($AC81=0,\"\",IF(INDEX($Y77:$AB80,2,$AC81)=0,\"\",INDEX($AD77:$AG79,INDEX($Y77:$AB80,2,$AC81),4)))","v":""},null,{"$f":"SUMIFS(FairPlayPoints1,FairPlayTeams1,$C78)+SUMIFS(FairPlayPoints2,FairPlayTeams2,$C78)+SUMIFS(FairPlayPoints3,FairPlayTeams3,$C78)","v":0},{"$f":"IF($W78>0,\"•\",\"\")","v":""},null,{"$f":"IF(AND(OR(TRUNC(GrpJ_Tipps!$V$12,4)=TRUNC(GrpJ_Tipps!$V$11,4),TRUNC(GrpJ_Tipps!$V$12,4)=TRUNC(GrpJ_Tipps!$V$13,4),TRUNC(GrpJ_Tipps!$V$12,4)=TRUNC(GrpJ_Tipps!$V$14,4)),VLOOKUP(GrpJ_Tipps!$P$12,GrpJ_Tipps!$P$4:$AC$7,14,0)),1,0)","v":0},null,{"$f":"IF(VLOOKUP($C78,GrpJ_Tipps!$P$18:$X$21,9,0)+VLOOKUP($C78,GrpJ_Tipps!$P$18:$AD$21,15,0)>0,MATCH($C78,GrpJ_Tipps!$P$18:$P$21,0),0)","v":0},{"$f":"IF(VLOOKUP($C78,GrpJ_Tipps!$P$23:$X$26,9,0)+VLOOKUP($C78,GrpJ_Tipps!$P$23:$AD$26,15,0)>0,MATCH($C78,GrpJ_Tipps!$P$23:$P$26,0),0)","v":0},{"$f":"IF(VLOOKUP($C78,GrpJ_Tipps!$P$28:$X$31,9,0)+VLOOKUP($C78,GrpJ_Tipps!$P$28:$AD$31,15,0)>0,MATCH($C78,GrpJ_Tipps!$P$28:$P$31,0),0)","v":0},{"$f":"IF(VLOOKUP($C78,GrpJ_Tipps!$P$33:$X$36,9,0)+VLOOKUP($C78,GrpJ_Tipps!$P$33:$AD$36,15,0)>0,MATCH($C78,GrpJ_Tipps!$P$33:$P$36,0),0)","v":0},null,"0","0","0","0"]
[null,"3.",{"$f":"GrpJ_Tipps!$P$13","v":"Österreich"},{"$f":"GrpJ_Tipps!$Q$13","v":0},{"$f":"GrpJ_Tipps!$R$13","v":0},{"$f":"GrpJ_Tipps!$S$13","v":0},"-",{"$f":"GrpJ_Tipps!$T$13","v":0},null,null,{"$f":"GrpJ_Tipps!$AD$13","v":""},null,null,{"$f":"IF($AC81=0,\"\",IF(INDEX($Y77:$AB80,3,$AC81)=0,\"\",INDEX($AD77:$AG79,INDEX($Y77:$AB80,3,$AC81),1)))","v":""},{"$f":"IF($AC81=0,\"\",IF(INDEX($Y77:$AB80,3,$AC81)=0,\"\",INDEX($AD77:$AG79,INDEX($Y77:$AB80,3,$AC81),2)))","v":""},{"$f":"IF($AC81=0,\"\",IF(INDEX($Y77:$AB80,3,$AC81)=0,\"\",INDEX($AD77:$AG79,INDEX($Y77:$AB80,3,$AC81),3)))","v":""},"-",{"$f":"IF($AC81=0,\"\",IF(INDEX($Y77:$AB80,3,$AC81)=0,\"\",INDEX($AD77:$AG79,INDEX($Y77:$AB80,3,$AC81),4)))","v":""},null,{"$f":"SUMIFS(FairPlayPoints1,FairPlayTeams1,$C79)+SUMIFS(FairPlayPoints2,FairPlayTeams2,$C79)+SUMIFS(FairPlayPoints3,FairPlayTeams3,$C79)","v":0},{"$f":"IF($W79>0,\"•\",\"\")","v":""},null,{"$f":"IF(AND(OR(TRUNC(GrpJ_Tipps!$V$13,4)=TRUNC(GrpJ_Tipps!$V$11,4),TRUNC(GrpJ_Tipps!$V$13,4)=TRUNC(GrpJ_Tipps!$V$12,4),TRUNC(GrpJ_Tipps!$V$13,4)=TRUNC(GrpJ_Tipps!$V$14,4)),VLOOKUP(GrpJ_Tipps!$P$13,GrpJ_Tipps!$P$4:$AC$7,14,0)),1,0)","v":0},null,{"$f":"IF(VLOOKUP($C79,GrpJ_Tipps!$P$18:$X$21,9,0)+VLOOKUP($C79,GrpJ_Tipps!$P$18:$AD$21,15,0)>0,MATCH($C79,GrpJ_Tipps!$P$18:$P$21,0),0)","v":0},{"$f":"IF(VLOOKUP($C79,GrpJ_Tipps!$P$23:$X$26,9,0)+VLOOKUP($C79,GrpJ_Tipps!$P$23:$AD$26,15,0)>0,MATCH($C79,GrpJ_Tipps!$P$23:$P$26,0),0)","v":0},{"$f":"IF(VLOOKUP($C79,GrpJ_Tipps!$P$28:$X$31,9,0)+VLOOKUP($C79,GrpJ_Tipps!$P$28:$AD$31,15,0)>0,MATCH($C79,GrpJ_Tipps!$P$28:$P$31,0),0)","v":0},{"$f":"IF(VLOOKUP($C79,GrpJ_Tipps!$P$33:$X$36,9,0)+VLOOKUP($C79,GrpJ_Tipps!$P$33:$AD$36,15,0)>0,MATCH($C79,GrpJ_Tipps!$P$33:$P$36,0),0)","v":0},null,"0","0","0","0"]
[null,"4.",{"$f":"GrpJ_Tipps!$P$14","v":"Jordanien"},{"$f":"GrpJ_Tipps!$Q$14","v":0},{"$f":"GrpJ_Tipps!$R$14","v":0},{"$f":"GrpJ_Tipps!$S$14","v":0},"-",{"$f":"GrpJ_Tipps!$T$14","v":0},null,null,{"$f":"GrpJ_Tipps!$AD$14","v":""},null,null,{"$f":"IF($AC81=0,\"\",IF(INDEX($Y77:$AB80,4,$AC81)=0,\"\",INDEX($AD77:$AG79,INDEX($Y77:$AB80,4,$AC81),1)))","v":""},{"$f":"IF($AC81=0,\"\",IF(INDEX($Y77:$AB80,4,$AC81)=0,\"\",INDEX($AD77:$AG79,INDEX($Y77:$AB80,4,$AC81),2)))","v":""},{"$f":"IF($AC81=0,\"\",IF(INDEX($Y77:$AB80,4,$AC81)=0,\"\",INDEX($AD77:$AG79,INDEX($Y77:$AB80,4,$AC81),3)))","v":""},"-",{"$f":"IF($AC81=0,\"\",IF(INDEX($Y77:$AB80,4,$AC81)=0,\"\",INDEX($AD77:$AG79,INDEX($Y77:$AB80,4,$AC81),4)))","v":""},null,{"$f":"SUMIFS(FairPlayPoints1,FairPlayTeams1,$C80)+SUMIFS(FairPlayPoints2,FairPlayTeams2,$C80)+SUMIFS(FairPlayPoints3,FairPlayTeams3,$C80)","v":0},{"$f":"IF($W80>0,\"•\",\"\")","v":""},null,{"$f":"IF(AND(OR(TRUNC(GrpJ_Tipps!$V$14,4)=TRUNC(GrpJ_Tipps!$V$11,4),TRUNC(GrpJ_Tipps!$V$14,4)=TRUNC(GrpJ_Tipps!$V$12,4),TRUNC(GrpJ_Tipps!$V$14,4)=TRUNC(GrpJ_Tipps!$V$13,4)),VLOOKUP(GrpJ_Tipps!$P$14,GrpJ_Tipps!$P$4:$AC$7,14,0)),1,0)","v":0},null,{"$f":"IF(VLOOKUP($C80,GrpJ_Tipps!$P$18:$X$21,9,0)+VLOOKUP($C80,GrpJ_Tipps!$P$18:$AD$21,15,0)>0,MATCH($C80,GrpJ_Tipps!$P$18:$P$21,0),0)","v":0},{"$f":"IF(VLOOKUP($C80,GrpJ_Tipps!$P$23:$X$26,9,0)+VLOOKUP($C80,GrpJ_Tipps!$P$23:$AD$26,15,0)>0,MATCH($C80,GrpJ_Tipps!$P$23:$P$26,0),0)","v":0},{"$f":"IF(VLOOKUP($C80,GrpJ_Tipps!$P$28:$X$31,9,0)+VLOOKUP($C80,GrpJ_Tipps!$P$28:$AD$31,15,0)>0,MATCH($C80,GrpJ_Tipps!$P$28:$P$31,0),0)","v":0},{"$f":"IF(VLOOKUP($C80,GrpJ_Tipps!$P$33:$X$36,9,0)+VLOOKUP($C80,GrpJ_Tipps!$P$33:$AD$36,15,0)>0,MATCH($C80,GrpJ_Tipps!$P$33:$P$36,0),0)","v":0}]
[{"$nulls":24},{"$f":"SUM(Y77:Y80)","v":0},{"$f":"SUM(Z77:Z80)","v":0},0,0,{"$f":"MAX(IF($Y81:$AB81>0,COLUMN($Y81:$AB81)-COLUMN(X$1),0))","v":0}]
[]
[null,{"$f":"IF(OR($AC89>0,$K85<>\"\",$K86<>\"\",$K87<>\"\"),\"˜\",\"\")","v":""},{"$f":"Sprache_Tipps!$E$124&\" K\"","v":"Gruppe K"},{"$f":"Sprache_Tipps!$E$129","v":"Total"},{"$nulls":4},{"$f":"Sprache_Tipps!$E$132","v":"Dir. Vergl.(2)"},{"$nulls":4},{"$f":"Sprache_Tipps!$E$133","v":"Dir. Vergl.(3)"}]
[{"$nulls":3},{"$f":"Sprache_Tipps!$E$125","v":"Pkt."},{"$f":"Sprache_Tipps!$E$126","v":"TD"},{"$f":"Sprache_Tipps!$E$127","v":"Tore"},{"$nulls":4},{"$f":"Sprache_Tipps!$E$125","v":"Pkt."},null,null,{"$f":"Sprache_Tipps!$E$125","v":"Pkt."},{"$f":"Sprache_Tipps!$E$126","v":"TD"},{"$f":"Sprache_Tipps!$E$127","v":"Tore"},{"$nulls":3},{"$f":"Sprache_Tipps!$E$130","v":"Fair-Play/Los"},{"$f":"Sprache_Tipps!$E$131","v":"Nicht klar"}]
[null,"1.",{"$f":"GrpK_Tipps!$P$11","v":"Portugal"},{"$f":"GrpK_Tipps!$Q$11","v":0},{"$f":"GrpK_Tipps!$R$11","v":0},{"$f":"GrpK_Tipps!$S$11","v":0},"-",{"$f":"GrpK_Tipps!$T$11","v":0},null,null,{"$f":"GrpK_Tipps!$AD$11","v":""},null,null,{"$f":"IF($AC89=0,\"\",IF(INDEX($Y85:$AB88,1,$AC89)=0,\"\",INDEX($AD85:$AG87,INDEX($Y85:$AB88,1,$AC89),1)))","v":""},{"$f":"IF($AC89=0,\"\",IF(INDEX($Y85:$AB88,1,$AC89)=0,\"\",INDEX($AD85:$AG87,INDEX($Y85:$AB88,1,$AC89),2)))","v":""},{"$f":"IF($AC89=0,\"\",IF(INDEX($Y85:$AB88,1,$AC89)=0,\"\",INDEX($AD85:$AG87,INDEX($Y85:$AB88,1,$AC89),3)))","v":""},"-",{"$f":"IF($AC89=0,\"\",IF(INDEX($Y85:$AB88,1,$AC89)=0,\"\",INDEX($AD85:$AG87,INDEX($Y85:$AB88,1,$AC89),4)))","v":""},null,{"$f":"SUMIFS(FairPlayPoints1,FairPlayTeams1,$C85)+SUMIFS(FairPlayPoints2,FairPlayTeams2,$C85)+SUMIFS(FairPlayPoints3,FairPlayTeams3,$C85)","v":0},{"$f":"IF($W85>0,\"•\",\"\")","v":""},null,{"$f":"IF(AND(OR(TRUNC(GrpK_Tipps!$V$11,4)=TRUNC(GrpK_Tipps!$V$12,4),TRUNC(GrpK_Tipps!$V$11,4)=TRUNC(GrpK_Tipps!$V$13,4),TRUNC(GrpK_Tipps!$V$11,4)=TRUNC(GrpK_Tipps!$V$14,4)),VLOOKUP(GrpK_Tipps!$P$11,GrpK_Tipps!$P$4:$AC$7,14,0)),1,0)","v":0},null,{"$f":"IF(VLOOKUP($C85,GrpK_Tipps!$P$18:$X$21,9,0)+VLOOKUP($C85,GrpK_Tipps!$P$18:$AD$21,15,0)>0,MATCH($C85,GrpK_Tipps!$P$18:$P$21,0),0)","v":0},{"$f":"IF(VLOOKUP($C85,GrpK_Tipps!$P$23:$X$26,9,0)+VLOOKUP($C85,GrpK_Tipps!$P$23:$AD$26,15,0)>0,MATCH($C85,GrpK_Tipps!$P$23:$P$26,0),0)","v":0},{"$f":"IF(VLOOKUP($C85,GrpK_Tipps!$P$28:$X$31,9,0)+VLOOKUP($C85,GrpK_Tipps!$P$28:$AD$31,15,0)>0,MATCH($C85,GrpK_Tipps!$P$28:$P$31,0),0)","v":0},{"$f":"IF(VLOOKUP($C85,GrpK_Tipps!$P$33:$X$36,9,0)+VLOOKUP($C85,GrpK_Tipps!$P$33:$AD$36,15,0)>0,MATCH($C85,GrpK_Tipps!$P$33:$P$36,0),0)","v":0},null,{"$f":"IF($Y89>0,GrpK_Tipps!$Q$18:$T$20,IF($Z89>0,GrpK_Tipps!$Q$23:$T$25,IF($AA89>0,GrpK_Tipps!$Q$28:$T$30,IF($AB89>0,GrpK_Tipps!$Q$33:$T$35,\"0\"))))","v":"0"},"0","0","0"]
[null,"2.",{"$f":"GrpK_Tipps!$P$12","v":"DR Kongo"},{"$f":"GrpK_Tipps!$Q$12","v":0},{"$f":"GrpK_Tipps!$R$12","v":0},{"$f":"GrpK_Tipps!$S$12","v":0},"-",{"$f":"GrpK_Tipps!$T$12","v":0},null,null,{"$f":"GrpK_Tipps!$AD$12","v":""},null,null,{"$f":"IF($AC89=0,\"\",IF(INDEX($Y85:$AB88,2,$AC89)=0,\"\",INDEX($AD85:$AG87,INDEX($Y85:$AB88,2,$AC89),1)))","v":""},{"$f":"IF($AC89=0,\"\",IF(INDEX($Y85:$AB88,2,$AC89)=0,\"\",INDEX($AD85:$AG87,INDEX($Y85:$AB88,2,$AC89),2)))","v":""},{"$f":"IF($AC89=0,\"\",IF(INDEX($Y85:$AB88,2,$AC89)=0,\"\",INDEX($AD85:$AG87,INDEX($Y85:$AB88,2,$AC89),3)))","v":""},"-",{"$f":"IF($AC89=0,\"\",IF(INDEX($Y85:$AB88,2,$AC89)=0,\"\",INDEX($AD85:$AG87,INDEX($Y85:$AB88,2,$AC89),4)))","v":""},null,{"$f":"SUMIFS(FairPlayPoints1,FairPlayTeams1,$C86)+SUMIFS(FairPlayPoints2,FairPlayTeams2,$C86)+SUMIFS(FairPlayPoints3,FairPlayTeams3,$C86)","v":0},{"$f":"IF($W86>0,\"•\",\"\")","v":""},null,{"$f":"IF(AND(OR(TRUNC(GrpK_Tipps!$V$12,4)=TRUNC(GrpK_Tipps!$V$11,4),TRUNC(GrpK_Tipps!$V$12,4)=TRUNC(GrpK_Tipps!$V$13,4),TRUNC(GrpK_Tipps!$V$12,4)=TRUNC(GrpK_Tipps!$V$14,4)),VLOOKUP(GrpK_Tipps!$P$12,GrpK_Tipps!$P$4:$AC$7,14,0)),1,0)","v":0},null,{"$f":"IF(VLOOKUP($C86,GrpK_Tipps!$P$18:$X$21,9,0)+VLOOKUP($C86,GrpK_Tipps!$P$18:$AD$21,15,0)>0,MATCH($C86,GrpK_Tipps!$P$18:$P$21,0),0)","v":0},{"$f":"IF(VLOOKUP($C86,GrpK_Tipps!$P$23:$X$26,9,0)+VLOOKUP($C86,GrpK_Tipps!$P$23:$AD$26,15,0)>0,MATCH($C86,GrpK_Tipps!$P$23:$P$26,0),0)","v":0},{"$f":"IF(VLOOKUP($C86,GrpK_Tipps!$P$28:$X$31,9,0)+VLOOKUP($C86,GrpK_Tipps!$P$28:$AD$31,15,0)>0,MATCH($C86,GrpK_Tipps!$P$28:$P$31,0),0)","v":0},{"$f":"IF(VLOOKUP($C86,GrpK_Tipps!$P$33:$X$36,9,0)+VLOOKUP($C86,GrpK_Tipps!$P$33:$AD$36,15,0)>0,MATCH($C86,GrpK_Tipps!$P$33:$P$36,0),0)","v":0},null,"0","0","0","0"]
[null,"3.",{"$f":"GrpK_Tipps!$P$13","v":"Usbekistan"},{"$f":"GrpK_Tipps!$Q$13","v":0},{"$f":"GrpK_Tipps!$R$13","v":0},{"$f":"GrpK_Tipps!$S$13","v":0},"-",{"$f":"GrpK_Tipps!$T$13","v":0},null,null,{"$f":"GrpK_Tipps!$AD$13","v":""},null,null,{"$f":"IF($AC89=0,\"\",IF(INDEX($Y85:$AB88,3,$AC89)=0,\"\",INDEX($AD85:$AG87,INDEX($Y85:$AB88,3,$AC89),1)))","v":""},{"$f":"IF($AC89=0,\"\",IF(INDEX($Y85:$AB88,3,$AC89)=0,\"\",INDEX($AD85:$AG87,INDEX($Y85:$AB88,3,$AC89),2)))","v":""},{"$f":"IF($AC89=0,\"\",IF(INDEX($Y85:$AB88,3,$AC89)=0,\"\",INDEX($AD85:$AG87,INDEX($Y85:$AB88,3,$AC89),3)))","v":""},"-",{"$f":"IF($AC89=0,\"\",IF(INDEX($Y85:$AB88,3,$AC89)=0,\"\",INDEX($AD85:$AG87,INDEX($Y85:$AB88,3,$AC89),4)))","v":""},null,{"$f":"SUMIFS(FairPlayPoints1,FairPlayTeams1,$C87)+SUMIFS(FairPlayPoints2,FairPlayTeams2,$C87)+SUMIFS(FairPlayPoints3,FairPlayTeams3,$C87)","v":0},{"$f":"IF($W87>0,\"•\",\"\")","v":""},null,{"$f":"IF(AND(OR(TRUNC(GrpK_Tipps!$V$13,4)=TRUNC(GrpK_Tipps!$V$11,4),TRUNC(GrpK_Tipps!$V$13,4)=TRUNC(GrpK_Tipps!$V$12,4),TRUNC(GrpK_Tipps!$V$13,4)=TRUNC(GrpK_Tipps!$V$14,4)),VLOOKUP(GrpK_Tipps!$P$13,GrpK_Tipps!$P$4:$AC$7,14,0)),1,0)","v":0},null,{"$f":"IF(VLOOKUP($C87,GrpK_Tipps!$P$18:$X$21,9,0)+VLOOKUP($C87,GrpK_Tipps!$P$18:$AD$21,15,0)>0,MATCH($C87,GrpK_Tipps!$P$18:$P$21,0),0)","v":0},{"$f":"IF(VLOOKUP($C87,GrpK_Tipps!$P$23:$X$26,9,0)+VLOOKUP($C87,GrpK_Tipps!$P$23:$AD$26,15,0)>0,MATCH($C87,GrpK_Tipps!$P$23:$P$26,0),0)","v":0},{"$f":"IF(VLOOKUP($C87,GrpK_Tipps!$P$28:$X$31,9,0)+VLOOKUP($C87,GrpK_Tipps!$P$28:$AD$31,15,0)>0,MATCH($C87,GrpK_Tipps!$P$28:$P$31,0),0)","v":0},{"$f":"IF(VLOOKUP($C87,GrpK_Tipps!$P$33:$X$36,9,0)+VLOOKUP($C87,GrpK_Tipps!$P$33:$AD$36,15,0)>0,MATCH($C87,GrpK_Tipps!$P$33:$P$36,0),0)","v":0},null,"0","0","0","0"]
[null,"4.",{"$f":"GrpK_Tipps!$P$14","v":"Kolumbien"},{"$f":"GrpK_Tipps!$Q$14","v":0},{"$f":"GrpK_Tipps!$R$14","v":0},{"$f":"GrpK_Tipps!$S$14","v":0},"-",{"$f":"GrpK_Tipps!$T$14","v":0},null,null,{"$f":"GrpK_Tipps!$AD$14","v":""},null,null,{"$f":"IF($AC89=0,\"\",IF(INDEX($Y85:$AB88,4,$AC89)=0,\"\",INDEX($AD85:$AG87,INDEX($Y85:$AB88,4,$AC89),1)))","v":""},{"$f":"IF($AC89=0,\"\",IF(INDEX($Y85:$AB88,4,$AC89)=0,\"\",INDEX($AD85:$AG87,INDEX($Y85:$AB88,4,$AC89),2)))","v":""},{"$f":"IF($AC89=0,\"\",IF(INDEX($Y85:$AB88,4,$AC89)=0,\"\",INDEX($AD85:$AG87,INDEX($Y85:$AB88,4,$AC89),3)))","v":""},"-",{"$f":"IF($AC89=0,\"\",IF(INDEX($Y85:$AB88,4,$AC89)=0,\"\",INDEX($AD85:$AG87,INDEX($Y85:$AB88,4,$AC89),4)))","v":""},null,{"$f":"SUMIFS(FairPlayPoints1,FairPlayTeams1,$C88)+SUMIFS(FairPlayPoints2,FairPlayTeams2,$C88)+SUMIFS(FairPlayPoints3,FairPlayTeams3,$C88)","v":0},{"$f":"IF($W88>0,\"•\",\"\")","v":""},null,{"$f":"IF(AND(OR(TRUNC(GrpK_Tipps!$V$14,4)=TRUNC(GrpK_Tipps!$V$11,4),TRUNC(GrpK_Tipps!$V$14,4)=TRUNC(GrpK_Tipps!$V$12,4),TRUNC(GrpK_Tipps!$V$14,4)=TRUNC(GrpK_Tipps!$V$13,4)),VLOOKUP(GrpK_Tipps!$P$14,GrpK_Tipps!$P$4:$AC$7,14,0)),1,0)","v":0},null,{"$f":"IF(VLOOKUP($C88,GrpK_Tipps!$P$18:$X$21,9,0)+VLOOKUP($C88,GrpK_Tipps!$P$18:$AD$21,15,0)>0,MATCH($C88,GrpK_Tipps!$P$18:$P$21,0),0)","v":0},{"$f":"IF(VLOOKUP($C88,GrpK_Tipps!$P$23:$X$26,9,0)+VLOOKUP($C88,GrpK_Tipps!$P$23:$AD$26,15,0)>0,MATCH($C88,GrpK_Tipps!$P$23:$P$26,0),0)","v":0},{"$f":"IF(VLOOKUP($C88,GrpK_Tipps!$P$28:$X$31,9,0)+VLOOKUP($C88,GrpK_Tipps!$P$28:$AD$31,15,0)>0,MATCH($C88,GrpK_Tipps!$P$28:$P$31,0),0)","v":0},{"$f":"IF(VLOOKUP($C88,GrpK_Tipps!$P$33:$X$36,9,0)+VLOOKUP($C88,GrpK_Tipps!$P$33:$AD$36,15,0)>0,MATCH($C88,GrpK_Tipps!$P$33:$P$36,0),0)","v":0}]
[{"$nulls":24},{"$f":"SUM(Y85:Y88)","v":0},{"$f":"SUM(Z85:Z88)","v":0},0,0,{"$f":"MAX(IF($Y89:$AB89>0,COLUMN($Y89:$AB89)-COLUMN(X$1),0))","v":0}]
[]
[null,{"$f":"IF(OR($AC97>0,$K93<>\"\",$K94<>\"\",$K95<>\"\"),\"˜\",\"\")","v":""},{"$f":"Sprache_Tipps!$E$124&\" L\"","v":"Gruppe L"},{"$f":"Sprache_Tipps!$E$129","v":"Total"},{"$nulls":4},{"$f":"Sprache_Tipps!$E$132","v":"Dir. Vergl.(2)"},{"$nulls":4},{"$f":"Sprache_Tipps!$E$133","v":"Dir. Vergl.(3)"}]
[{"$nulls":3},{"$f":"Sprache_Tipps!$E$125","v":"Pkt."},{"$f":"Sprache_Tipps!$E$126","v":"TD"},{"$f":"Sprache_Tipps!$E$127","v":"Tore"},{"$nulls":4},{"$f":"Sprache_Tipps!$E$125","v":"Pkt."},null,null,{"$f":"Sprache_Tipps!$E$125","v":"Pkt."},{"$f":"Sprache_Tipps!$E$126","v":"TD"},{"$f":"Sprache_Tipps!$E$127","v":"Tore"},{"$nulls":3},{"$f":"Sprache_Tipps!$E$130","v":"Fair-Play/Los"},{"$f":"Sprache_Tipps!$E$131","v":"Nicht klar"}]
[null,"1.",{"$f":"GrpL_Tipps!$P$11","v":"England"},{"$f":"GrpL_Tipps!$Q$11","v":0},{"$f":"GrpL_Tipps!$R$11","v":0},{"$f":"GrpL_Tipps!$S$11","v":0},"-",{"$f":"GrpL_Tipps!$T$11","v":0},null,null,{"$f":"GrpL_Tipps!$AD$11","v":""},null,null,{"$f":"IF($AC97=0,\"\",IF(INDEX($Y93:$AB96,1,$AC97)=0,\"\",INDEX($AD93:$AG95,INDEX($Y93:$AB96,1,$AC97),1)))","v":""},{"$f":"IF($AC97=0,\"\",IF(INDEX($Y93:$AB96,1,$AC97)=0,\"\",INDEX($AD93:$AG95,INDEX($Y93:$AB96,1,$AC97),2)))","v":""},{"$f":"IF($AC97=0,\"\",IF(INDEX($Y93:$AB96,1,$AC97)=0,\"\",INDEX($AD93:$AG95,INDEX($Y93:$AB96,1,$AC97),3)))","v":""},"-",{"$f":"IF($AC97=0,\"\",IF(INDEX($Y93:$AB96,1,$AC97)=0,\"\",INDEX($AD93:$AG95,INDEX($Y93:$AB96,1,$AC97),4)))","v":""},null,{"$f":"SUMIFS(FairPlayPoints1,FairPlayTeams1,$C93)+SUMIFS(FairPlayPoints2,FairPlayTeams2,$C93)+SUMIFS(FairPlayPoints3,FairPlayTeams3,$C93)","v":0},{"$f":"IF($W93>0,\"•\",\"\")","v":""},null,{"$f":"IF(AND(OR(TRUNC(GrpL_Tipps!$V$11,4)=TRUNC(GrpL_Tipps!$V$12,4),TRUNC(GrpL_Tipps!$V$11,4)=TRUNC(GrpL_Tipps!$V$13,4),TRUNC(GrpL_Tipps!$V$11,4)=TRUNC(GrpL_Tipps!$V$14,4)),VLOOKUP(GrpL_Tipps!$P$11,GrpL_Tipps!$P$4:$AC$7,14,0)),1,0)","v":0},null,{"$f":"IF(VLOOKUP($C93,GrpL_Tipps!$P$18:$X$21,9,0)+VLOOKUP($C93,GrpL_Tipps!$P$18:$AD$21,15,0)>0,MATCH($C93,GrpL_Tipps!$P$18:$P$21,0),0)","v":0},{"$f":"IF(VLOOKUP($C93,GrpL_Tipps!$P$23:$X$26,9,0)+VLOOKUP($C93,GrpL_Tipps!$P$23:$AD$26,15,0)>0,MATCH($C93,GrpL_Tipps!$P$23:$P$26,0),0)","v":0},{"$f":"IF(VLOOKUP($C93,GrpL_Tipps!$P$28:$X$31,9,0)+VLOOKUP($C93,GrpL_Tipps!$P$28:$AD$31,15,0)>0,MATCH($C93,GrpL_Tipps!$P$28:$P$31,0),0)","v":0},{"$f":"IF(VLOOKUP($C93,GrpL_Tipps!$P$33:$X$36,9,0)+VLOOKUP($C93,GrpL_Tipps!$P$33:$AD$36,15,0)>0,MATCH($C93,GrpL_Tipps!$P$33:$P$36,0),0)","v":0},null,{"$f":"IF($Y97>0,GrpL_Tipps!$Q$18:$T$20,IF($Z97>0,GrpL_Tipps!$Q$23:$T$25,IF($AA97>0,GrpL_Tipps!$Q$28:$T$30,IF($AB97>0,GrpL_Tipps!$Q$33:$T$35,\"0\"))))","v":"0"},"0","0","0"]
[null,"2.",{"$f":"GrpL_Tipps!$P$12","v":"Kroatien"},{"$f":"GrpL_Tipps!$Q$12","v":0},{"$f":"GrpL_Tipps!$R$12","v":0},{"$f":"GrpL_Tipps!$S$12","v":0},"-",{"$f":"GrpL_Tipps!$T$12","v":0},null,null,{"$f":"GrpL_Tipps!$AD$12","v":""},null,null,{"$f":"IF($AC97=0,\"\",IF(INDEX($Y93:$AB96,2,$AC97)=0,\"\",INDEX($AD93:$AG95,INDEX($Y93:$AB96,2,$AC97),1)))","v":""},{"$f":"IF($AC97=0,\"\",IF(INDEX($Y93:$AB96,2,$AC97)=0,\"\",INDEX($AD93:$AG95,INDEX($Y93:$AB96,2,$AC97),2)))","v":""},{"$f":"IF($AC97=0,\"\",IF(INDEX($Y93:$AB96,2,$AC97)=0,\"\",INDEX($AD93:$AG95,INDEX($Y93:$AB96,2,$AC97),3)))","v":""},"-",{"$f":"IF($AC97=0,\"\",IF(INDEX($Y93:$AB96,2,$AC97)=0,\"\",INDEX($AD93:$AG95,INDEX($Y93:$AB96,2,$AC97),4)))","v":""},null,{"$f":"SUMIFS(FairPlayPoints1,FairPlayTeams1,$C94)+SUMIFS(FairPlayPoints2,FairPlayTeams2,$C94)+SUMIFS(FairPlayPoints3,FairPlayTeams3,$C94)","v":0},{"$f":"IF($W94>0,\"•\",\"\")","v":""},null,{"$f":"IF(AND(OR(TRUNC(GrpL_Tipps!$V$12,4)=TRUNC(GrpL_Tipps!$V$11,4),TRUNC(GrpL_Tipps!$V$12,4)=TRUNC(GrpL_Tipps!$V$13,4),TRUNC(GrpL_Tipps!$V$12,4)=TRUNC(GrpL_Tipps!$V$14,4)),VLOOKUP(GrpL_Tipps!$P$12,GrpL_Tipps!$P$4:$AC$7,14,0)),1,0)","v":0},null,{"$f":"IF(VLOOKUP($C94,GrpL_Tipps!$P$18:$X$21,9,0)+VLOOKUP($C94,GrpL_Tipps!$P$18:$AD$21,15,0)>0,MATCH($C94,GrpL_Tipps!$P$18:$P$21,0),0)","v":0},{"$f":"IF(VLOOKUP($C94,GrpL_Tipps!$P$23:$X$26,9,0)+VLOOKUP($C94,GrpL_Tipps!$P$23:$AD$26,15,0)>0,MATCH($C94,GrpL_Tipps!$P$23:$P$26,0),0)","v":0},{"$f":"IF(VLOOKUP($C94,GrpL_Tipps!$P$28:$X$31,9,0)+VLOOKUP($C94,GrpL_Tipps!$P$28:$AD$31,15,0)>0,MATCH($C94,GrpL_Tipps!$P$28:$P$31,0),0)","v":0},{"$f":"IF(VLOOKUP($C94,GrpL_Tipps!$P$33:$X$36,9,0)+VLOOKUP($C94,GrpL_Tipps!$P$33:$AD$36,15,0)>0,MATCH($C94,GrpL_Tipps!$P$33:$P$36,0),0)","v":0},null,"0","0","0","0"]
[null,"3.",{"$f":"GrpL_Tipps!$P$13","v":"Ghana"},{"$f":"GrpL_Tipps!$Q$13","v":0},{"$f":"GrpL_Tipps!$R$13","v":0},{"$f":"GrpL_Tipps!$S$13","v":0},"-",{"$f":"GrpL_Tipps!$T$13","v":0},null,null,{"$f":"GrpL_Tipps!$AD$13","v":""},null,null,{"$f":"IF($AC97=0,\"\",IF(INDEX($Y93:$AB96,3,$AC97)=0,\"\",INDEX($AD93:$AG95,INDEX($Y93:$AB96,3,$AC97),1)))","v":""},{"$f":"IF($AC97=0,\"\",IF(INDEX($Y93:$AB96,3,$AC97)=0,\"\",INDEX($AD93:$AG95,INDEX($Y93:$AB96,3,$AC97),2)))","v":""},{"$f":"IF($AC97=0,\"\",IF(INDEX($Y93:$AB96,3,$AC97)=0,\"\",INDEX($AD93:$AG95,INDEX($Y93:$AB96,3,$AC97),3)))","v":""},"-",{"$f":"IF($AC97=0,\"\",IF(INDEX($Y93:$AB96,3,$AC97)=0,\"\",INDEX($AD93:$AG95,INDEX($Y93:$AB96,3,$AC97),4)))","v":""},null,{"$f":"SUMIFS(FairPlayPoints1,FairPlayTeams1,$C95)+SUMIFS(FairPlayPoints2,FairPlayTeams2,$C95)+SUMIFS(FairPlayPoints3,FairPlayTeams3,$C95)","v":0},{"$f":"IF($W95>0,\"•\",\"\")","v":""},null,{"$f":"IF(AND(OR(TRUNC(GrpL_Tipps!$V$13,4)=TRUNC(GrpL_Tipps!$V$11,4),TRUNC(GrpL_Tipps!$V$13,4)=TRUNC(GrpL_Tipps!$V$12,4),TRUNC(GrpL_Tipps!$V$13,4)=TRUNC(GrpL_Tipps!$V$14,4)),VLOOKUP(GrpL_Tipps!$P$13,GrpL_Tipps!$P$4:$AC$7,14,0)),1,0)","v":0},null,{"$f":"IF(VLOOKUP($C95,GrpL_Tipps!$P$18:$X$21,9,0)+VLOOKUP($C95,GrpL_Tipps!$P$18:$AD$21,15,0)>0,MATCH($C95,GrpL_Tipps!$P$18:$P$21,0),0)","v":0},{"$f":"IF(VLOOKUP($C95,GrpL_Tipps!$P$23:$X$26,9,0)+VLOOKUP($C95,GrpL_Tipps!$P$23:$AD$26,15,0)>0,MATCH($C95,GrpL_Tipps!$P$23:$P$26,0),0)","v":0},{"$f":"IF(VLOOKUP($C95,GrpL_Tipps!$P$28:$X$31,9,0)+VLOOKUP($C95,GrpL_Tipps!$P$28:$AD$31,15,0)>0,MATCH($C95,GrpL_Tipps!$P$28:$P$31,0),0)","v":0},{"$f":"IF(VLOOKUP($C95,GrpL_Tipps!$P$33:$X$36,9,0)+VLOOKUP($C95,GrpL_Tipps!$P$33:$AD$36,15,0)>0,MATCH($C95,GrpL_Tipps!$P$33:$P$36,0),0)","v":0},null,"0","0","0","0"]
[null,"4.",{"$f":"GrpL_Tipps!$P$14","v":"Panama"},{"$f":"GrpL_Tipps!$Q$14","v":0},{"$f":"GrpL_Tipps!$R$14","v":0},{"$f":"GrpL_Tipps!$S$14","v":0},"-",{"$f":"GrpL_Tipps!$T$14","v":0},null,null,{"$f":"GrpL_Tipps!$AD$14","v":""},null,null,{"$f":"IF($AC97=0,\"\",IF(INDEX($Y93:$AB96,4,$AC97)=0,\"\",INDEX($AD93:$AG95,INDEX($Y93:$AB96,4,$AC97),1)))","v":""},{"$f":"IF($AC97=0,\"\",IF(INDEX($Y93:$AB96,4,$AC97)=0,\"\",INDEX($AD93:$AG95,INDEX($Y93:$AB96,4,$AC97),2)))","v":""},{"$f":"IF($AC97=0,\"\",IF(INDEX($Y93:$AB96,4,$AC97)=0,\"\",INDEX($AD93:$AG95,INDEX($Y93:$AB96,4,$AC97),3)))","v":""},"-",{"$f":"IF($AC97=0,\"\",IF(INDEX($Y93:$AB96,4,$AC97)=0,\"\",INDEX($AD93:$AG95,INDEX($Y93:$AB96,4,$AC97),4)))","v":""},null,{"$f":"SUMIFS(FairPlayPoints1,FairPlayTeams1,$C96)+SUMIFS(FairPlayPoints2,FairPlayTeams2,$C96)+SUMIFS(FairPlayPoints3,FairPlayTeams3,$C96)","v":0},{"$f":"IF($W96>0,\"•\",\"\")","v":""},null,{"$f":"IF(AND(OR(TRUNC(GrpL_Tipps!$V$14,4)=TRUNC(GrpL_Tipps!$V$11,4),TRUNC(GrpL_Tipps!$V$14,4)=TRUNC(GrpL_Tipps!$V$12,4),TRUNC(GrpL_Tipps!$V$14,4)=TRUNC(GrpL_Tipps!$V$13,4)),VLOOKUP(GrpL_Tipps!$P$14,GrpL_Tipps!$P$4:$AC$7,14,0)),1,0)","v":0},null,{"$f":"IF(VLOOKUP($C96,GrpL_Tipps!$P$18:$X$21,9,0)+VLOOKUP($C96,GrpL_Tipps!$P$18:$AD$21,15,0)>0,MATCH($C96,GrpL_Tipps!$P$18:$P$21,0),0)","v":0},{"$f":"IF(VLOOKUP($C96,GrpL_Tipps!$P$23:$X$26,9,0)+VLOOKUP($C96,GrpL_Tipps!$P$23:$AD$26,15,0)>0,MATCH($C96,GrpL_Tipps!$P$23:$P$26,0),0)","v":0},{"$f":"IF(VLOOKUP($C96,GrpL_Tipps!$P$28:$X$31,9,0)+VLOOKUP($C96,GrpL_Tipps!$P$28:$AD$31,15,0)>0,MATCH($C96,GrpL_Tipps!$P$28:$P$31,0),0)","v":0},{"$f":"IF(VLOOKUP($C96,GrpL_Tipps!$P$33:$X$36,9,0)+VLOOKUP($C96,GrpL_Tipps!$P$33:$AD$36,15,0)>0,MATCH($C96,GrpL_Tipps!$P$33:$P$36,0),0)","v":0}]
[{"$nulls":24},{"$f":"SUM(Y93:Y96)","v":0},{"$f":"SUM(Z93:Z96)","v":0},0,0,{"$f":"MAX(IF($Y97:$AB97>0,COLUMN($Y97:$AB97)-COLUMN(X$1),0))","v":0}]

{"sheet":"Zuordnung Dritte","index":6,"n_rows":502,"n_cols":11,"rows_kept":502,"hidden":true,"merged":[[1,2,1,10],[2,2,2,10],[4,2,6,2]]}
[]
[null,null,{"$f":"Sprache_Tipps!$E$122","v":"Zuordnung der Gruppendritten im Sechzehntelfinale"}]
[null,null,"FIFA, 23.06.2025"]
[{"$nulls":3},"3-CEFHI","3-EFGIJ","3-BEFIJ","3-ABCDF","3-AEHIJ","3-CDFGH","3-DEIJL","3-EHIJK"]
[null,null,{"$f":"Sprache_Tipps!$E$171","v":"Gruppen-kombination:"},{"$f":"Sprache_Tipps!$E$172","v":"Erster der Gruppe"},{"$f":"Sprache_Tipps!$E$172","v":"Erster der Gruppe"},{"$f":"Sprache_Tipps!$E$172","v":"Erster der Gruppe"},{"$f":"Sprache_Tipps!$E$172","v":"Erster der Gruppe"},{"$f":"Sprache_Tipps!$E$172","v":"Erster der Gruppe"},{"$f":"Sprache_Tipps!$E$172","v":"Erster der Gruppe"},{"$f":"Sprache_Tipps!$E$172","v":"Erster der Gruppe"},{"$f":"Sprache_Tipps!$E$172","v":"Erster der Gruppe"}]
[{"$nulls":3},"A","B","D","E","G","I","K","L"]
[{"$nulls":3},{"$f":"Sprache_Tipps!$E$173","v":"gegen Dritten der Gruppe"},{"$f":"Sprache_Tipps!$E$173","v":"gegen Dritten der Gruppe"},{"$f":"Sprache_Tipps!$E$173","v":"gegen Dritten der Gruppe"},{"$f":"Sprache_Tipps!$E$173","v":"gegen Dritten der Gruppe"},{"$f":"Sprache_Tipps!$E$173","v":"gegen Dritten der Gruppe"},{"$f":"Sprache_Tipps!$E$173","v":"gegen Dritten der Gruppe"},{"$f":"Sprache_Tipps!$E$173","v":"gegen Dritten der Gruppe"},{"$f":"Sprache_Tipps!$E$173","v":"gegen Dritten der Gruppe"}]
[null,null,"EFGHIJKL","E","J","I","F","H","G","L","K"]
[null,null,"DFGHIJKL","H","G","I","D","J","F","L","K"]
[null,null,"DEGHIJKL","E","J","I","D","H","G","L","K"]
[null,null,"DEFHIJKL","E","J","I","D","H","F","L","K"]
[null,null,"DEFGIJKL","E","G","I","D","J","F","L","K"]
[null,null,"DEFGHJKL","E","G","J","D","H","F","L","K"]
[null,null,"DEFGHIKL","E","G","I","D","H","F","L","K"]
[null,null,"DEFGHIJL","E","G","J","D","H","F","L","I"]
[null,null,"DEFGHIJK","E","G","J","D","H","F","I","K"]
[null,null,"CFGHIJKL","H","G","I","C","J","F","L","K"]
[null,null,"CEGHIJKL","E","J","I","C","H","G","L","K"]
[null,null,"CEFHIJKL","E","J","I","C","H","F","L","K"]
[null,null,"CEFGIJKL","E","G","I","C","J","F","L","K"]
[null,null,"CEFGHJKL","E","G","J","C","H","F","L","K"]
[null,null,"CEFGHIKL","E","G","I","C","H","F","L","K"]
[null,null,"CEFGHIJL","E","G","J","C","H","F","L","I"]
[null,null,"CEFGHIJK","E","G","J","C","H","F","I","K"]
[null,null,"CDGHIJKL","H","G","I","C","J","D","L","K"]
[null,null,"CDFHIJKL","C","J","I","D","H","F","L","K"]
[null,null,"CDFGIJKL","C","G","I","D","J","F","L","K"]
[null,null,"CDFGHJKL","C","G","J","D","H","F","L","K"]
[null,null,"CDFGHIKL","C","G","I","D","H","F","L","K"]
[null,null,"CDFGHIJL","C","G","J","D","H","F","L","I"]
[null,null,"CDFGHIJK","C","G","J","D","H","F","I","K"]
[null,null,"CDEHIJKL","E","J","I","C","H","D","L","K"]
[null,null,"CDEGIJKL","E","G","I","C","J","D","L","K"]
[null,null,"CDEGHJKL","E","G","J","C","H","D","L","K"]
[null,null,"CDEGHIKL","E","G","I","C","H","D","L","K"]
[null,null,"CDEGHIJL","E","G","J","C","H","D","L","I"]
[null,null,"CDEGHIJK","E","G","J","C","H","D","I","K"]
[null,null,"CDEFIJKL","C","J","E","D","I","F","L","K"]
[null,null,"CDEFHJKL","C","J","E","D","H","F","L","K"]
[null,null,"CDEFHIKL","C","E","I","D","H","F","L","K"]
[null,null,"CDEFHIJL","C","J","E","D","H","F","L","I"]
[null,null,"CDEFHIJK","C","J","E","D","H","F","I","K"]
[null,null,"CDEFGJKL","C","G","E","D","J","F","L","K"]
[null,null,"CDEFGIKL","C","G","E","D","I","F","L","K"]
[null,null,"CDEFGIJL","C","G","E","D","J","F","L","I"]
[null,null,"CDEFGIJK","C","G","E","D","J","F","I","K"]
[null,null,"CDEFGHKL","C","G","E","D","H","F","L","K"]
[null,null,"CDEFGHJL","C","G","J","D","H","F","L","E"]
[null,null,"CDEFGHJK","C","G","J","D","H","F","E","K"]
[null,null,"CDEFGHIL","C","G","E","D","H","F","L","I"]
[null,null,"CDEFGHIK","C","G","E","D","H","F","I","K"]
[null,null,"CDEFGHIJ","C","G","J","D","H","F","E","I"]
[null,null,"BFGHIJKL","H","J","B","F","I","G","L","K"]
[null,null,"BEGHIJKL","E","J","I","B","H","G","L","K"]
[null,null,"BEFHIJKL","E","J","B","F","I","H","L","K"]
[null,null,"BEFGIJKL","E","J","B","F","I","G","L","K"]
[null,null,"BEFGHJKL","E","J","B","F","H","G","L","K"]
[null,null,"BEFGHIKL","E","G","B","F","I","H","L","K"]
[null,null,"BEFGHIJL","E","J","B","F","H","G","L","I"]
[null,null,"BEFGHIJK","E","J","B","F","H","G","I","K"]
[null,null,"BDGHIJKL","H","J","B","D","I","G","L","K"]
[null,null,"BDFHIJKL","H","J","B","D","I","F","L","K"]
[null,null,"BDFGIJKL","I","G","B","D","J","F","L","K"]
[null,null,"BDFGHJKL","H","G","B","D","J","F","L","K"]
[null,null,"BDFGHIKL","H","G","B","D","I","F","L","K"]
[null,null,"BDFGHIJL","H","G","B","D","J","F","L","I"]
[null,null,"BDFGHIJK","H","G","B","D","J","F","I","K"]
[null,null,"BDEHIJKL","E","J","B","D","I","H","L","K"]
[null,null,"BDEGIJKL","E","J","B","D","I","G","L","K"]
[null,null,"BDEGHJKL","E","J","B","D","H","G","L","K"]
[null,null,"BDEGHIKL","E","G","B","D","I","H","L","K"]
[null,null,"BDEGHIJL","E","J","B","D","H","G","L","I"]
[null,null,"BDEGHIJK","E","J","B","D","H","G","I","K"]
[null,null,"BDEFIJKL","E","J","B","D","I","F","L","K"]
[null,null,"BDEFHJKL","E","J","B","D","H","F","L","K"]
[null,null,"BDEFHIKL","E","I","B","D","H","F","L","K"]
[null,null,"BDEFHIJL","E","J","B","D","H","F","L","I"]
[null,null,"BDEFHIJK","E","J","B","D","H","F","I","K"]
[null,null,"BDEFGJKL","E","G","B","D","J","F","L","K"]
[null,null,"BDEFGIKL","E","G","B","D","I","F","L","K"]
[null,null,"BDEFGIJL","E","G","B","D","J","F","L","I"]
[null,null,"BDEFGIJK","E","G","B","D","J","F","I","K"]
[null,null,"BDEFGHKL","E","G","B","D","H","F","L","K"]
[null,null,"BDEFGHJL","H","G","B","D","J","F","L","E"]
[null,null,"BDEFGHJK","H","G","B","D","J","F","E","K"]
[null,null,"BDEFGHIL","E","G","B","D","H","F","L","I"]
[null,null,"BDEFGHIK","E","G","B","D","H","F","I","K"]
[null,null,"BDEFGHIJ","H","G","B","D","J","F","E","I"]
[null,null,"BCGHIJKL","H","J","B","C","I","G","L","K"]
[null,null,"BCFHIJKL","H","J","B","C","I","F","L","K"]
[null,null,"BCFGIJKL","I","G","B","C","J","F","L","K"]
[null,null,"BCFGHJKL","H","G","B","C","J","F","L","K"]
[null,null,"BCFGHIKL","H","G","B","C","I","F","L","K"]
[null,null,"BCFGHIJL","H","G","B","C","J","F","L","I"]
[null,null,"BCFGHIJK","H","G","B","C","J","F","I","K"]
[null,null,"BCEHIJKL","E","J","B","C","I","H","L","K"]
[null,null,"BCEGIJKL","E","J","B","C","I","G","L","K"]
[null,null,"BCEGHJKL","E","J","B","C","H","G","L","K"]
[null,null,"BCEGHIKL","E","G","B","C","I","H","L","K"]
[null,null,"BCEGHIJL","E","J","B","C","H","G","L","I"]
[null,null,"BCEGHIJK","E","J","B","C","H","G","I","K"]
[null,null,"BCEFIJKL","E","J","B","C","I","F","L","K"]
[null,null,"BCEFHJKL","E","J","B","C","H","F","L","K"]
[null,null,"BCEFHIKL","E","I","B","C","H","F","L","K"]
[null,null,"BCEFHIJL","E","J","B","C","H","F","L","I"]
[null,null,"BCEFHIJK","E","J","B","C","H","F","I","K"]
[null,null,"BCEFGJKL","E","G","B","C","J","F","L","K"]
[null,null,"BCEFGIKL","E","G","B","C","I","F","L","K"]
[null,null,"BCEFGIJL","E","G","B","C","J","F","L","I"]
[null,null,"BCEFGIJK","E","G","B","C","J","F","I","K"]
[null,null,"BCEFGHKL","E","G","B","C","H","F","L","K"]
[null,null,"BCEFGHJL","H","G","B","C","J","F","L","E"]
[null,null,"BCEFGHJK","H","G","B","C","J","F","E","K"]
[null,null,"BCEFGHIL","E","G","B","C","H","F","L","I"]
[null,null,"BCEFGHIK","E","G","B","C","H","F","I","K"]
[null,null,"BCEFGHIJ","H","G","B","C","J","F","E","I"]
[null,null,"BCDHIJKL","H","J","B","C","I","D","L","K"]
[null,null,"BCDGIJKL","I","G","B","C","J","D","L","K"]
[null,null,"BCDGHJKL","H","G","B","C","J","D","L","K"]
[null,null,"BCDGHIKL","H","G","B","C","I","D","L","K"]
[null,null,"BCDGHIJL","H","G","B","C","J","D","L","I"]
[null,null,"BCDGHIJK","H","G","B","C","J","D","I","K"]
[null,null,"BCDFIJKL","C","J","B","D","I","F","L","K"]
[null,null,"BCDFHJKL","C","J","B","D","H","F","L","K"]
[null,null,"BCDFHIKL","C","I","B","D","H","F","L","K"]
[null,null,"BCDFHIJL","C","J","B","D","H","F","L","I"]
[null,null,"BCDFHIJK","C","J","B","D","H","F","I","K"]
[null,null,"BCDFGJKL","C","G","B","D","J","F","L","K"]
[null,null,"BCDFGIKL","C","G","B","D","I","F","L","K"]
[null,null,"BCDFGIJL","C","G","B","D","J","F","L","I"]
[null,null,"BCDFGIJK","C","G","B","D","J","F","I","K"]
[null,null,"BCDFGHKL","C","G","B","D","H","F","L","K"]
[null,null,"BCDFGHJL","C","G","B","D","H","F","L","J"]
[null,null,"BCDFGHJK","H","G","B","C","J","F","D","K"]
[null,null,"BCDFGHIL","C","G","B","D","H","F","L","I"]
[null,null,"BCDFGHIK","C","G","B","D","H","F","I","K"]
[null,null,"BCDFGHIJ","H","G","B","C","J","F","D","I"]
[null,null,"BCDEIJKL","E","J","B","C","I","D","L","K"]
[null,null,"BCDEHJKL","E","J","B","C","H","D","L","K"]
[null,null,"BCDEHIKL","E","I","B","C","H","D","L","K"]
[null,null,"BCDEHIJL","E","J","B","C","H","D","L","I"]
[null,null,"BCDEHIJK","E","J","B","C","H","D","I","K"]
[null,null,"BCDEGJKL","E","G","B","C","J","D","L","K"]
[null,null,"BCDEGIKL","E","G","B","C","I","D","L","K"]
[null,null,"BCDEGIJL","E","G","B","C","J","D","L","I"]
[null,null,"BCDEGIJK","E","G","B","C","J","D","I","K"]
[null,null,"BCDEGHKL","E","G","B","C","H","D","L","K"]
[null,null,"BCDEGHJL","H","G","B","C","J","D","L","E"]
[null,null,"BCDEGHJK","H","G","B","C","J","D","E","K"]
[null,null,"BCDEGHIL","E","G","B","C","H","D","L","I"]
[null,null,"BCDEGHIK","E","G","B","C","H","D","I","K"]
[null,null,"BCDEGHIJ","H","G","B","C","J","D","E","I"]
[null,null,"BCDEFJKL","C","J","B","D","E","F","L","K"]
[null,null,"BCDEFIKL","C","E","B","D","I","F","L","K"]
[null,null,"BCDEFIJL","C","J","B","D","E","F","L","I"]
[null,null,"BCDEFIJK","C","J","B","D","E","F","I","K"]
[null,null,"BCDEFHKL","C","E","B","D","H","F","L","K"]
[null,null,"BCDEFHJL","C","J","B","D","H","F","L","E"]
[null,null,"BCDEFHJK","C","J","B","D","H","F","E","K"]
[null,null,"BCDEFHIL","C","E","B","D","H","F","L","I"]
[null,null,"BCDEFHIK","C","E","B","D","H","F","I","K"]
[null,null,"BCDEFHIJ","C","J","B","D","H","F","E","I"]
[null,null,"BCDEFGKL","C","G","B","D","E","F","L","K"]
[null,null,"BCDEFGJL","C","G","B","D","J","F","L","E"]
[null,null,"BCDEFGJK","C","G","B","D","J","F","E","K"]
[null,null,"BCDEFGIL","C","G","B","D","E","F","L","I"]
[null,null,"BCDEFGIK","C","G","B","D","E","F","I","K"]
[null,null,"BCDEFGIJ","C","G","B","D","J","F","E","I"]
[null,null,"BCDEFGHL","C","G","B","D","H","F","L","E"]
[null,null,"BCDEFGHK","C","G","B","D","H","F","E","K"]
[null,null,"BCDEFGHJ","H","G","B","C","J","F","D","E"]
[null,null,"BCDEFGHI","C","G","B","D","H","F","E","I"]
[null,null,"AFGHIJKL","H","J","I","F","A","G","L","K"]
[null,null,"AEGHIJKL","E","J","I","A","H","G","L","K"]
[null,null,"AEFHIJKL","E","J","I","F","A","H","L","K"]
[null,null,"AEFGIJKL","E","J","I","F","A","G","L","K"]
[null,null,"AEFGHJKL","E","G","J","F","A","H","L","K"]
[null,null,"AEFGHIKL","E","G","I","F","A","H","L","K"]
[null,null,"AEFGHIJL","E","G","J","F","A","H","L","I"]
[null,null,"AEFGHIJK","E","G","J","F","A","H","I","K"]
[null,null,"ADGHIJKL","H","J","I","D","A","G","L","K"]
[null,null,"ADFHIJKL","H","J","I","D","A","F","L","K"]
[null,null,"ADFGIJKL","I","G","J","D","A","F","L","K"]
[null,null,"ADFGHJKL","H","G","J","D","A","F","L","K"]
[null,null,"ADFGHIKL","H","G","I","D","A","F","L","K"]
[null,null,"ADFGHIJL","H","G","J","D","A","F","L","I"]
[null,null,"ADFGHIJK","H","G","J","D","A","F","I","K"]
[null,null,"ADEHIJKL","E","J","I","D","A","H","L","K"]
[null,null,"ADEGIJKL","E","J","I","D","A","G","L","K"]
[null,null,"ADEGHJKL","E","G","J","D","A","H","L","K"]
[null,null,"ADEGHIKL","E","G","I","D","A","H","L","K"]
[null,null,"ADEGHIJL","E","G","J","D","A","H","L","I"]
[null,null,"ADEGHIJK","E","G","J","D","A","H","I","K"]
[null,null,"ADEFIJKL","E","J","I","D","A","F","L","K"]
[null,null,"ADEFHJKL","H","J","E","D","A","F","L","K"]
[null,null,"ADEFHIKL","H","E","I","D","A","F","L","K"]
[null,null,"ADEFHIJL","H","J","E","D","A","F","L","I"]
[null,null,"ADEFHIJK","H","J","E","D","A","F","I","K"]
[null,null,"ADEFGJKL","E","G","J","D","A","F","L","K"]
[null,null,"ADEFGIKL","E","G","I","D","A","F","L","K"]
[null,null,"ADEFGIJL","E","G","J","D","A","F","L","I"]
[null,null,"ADEFGIJK","E","G","J","D","A","F","I","K"]
[null,null,"ADEFGHKL","H","G","E","D","A","F","L","K"]
[null,null,"ADEFGHJL","H","G","J","D","A","F","L","E"]
[null,null,"ADEFGHJK","H","G","J","D","A","F","E","K"]
[null,null,"ADEFGHIL","H","G","E","D","A","F","L","I"]
[null,null,"ADEFGHIK","H","G","E","D","A","F","I","K"]
[null,null,"ADEFGHIJ","H","G","J","D","A","F","E","I"]
[null,null,"ACGHIJKL","H","J","I","C","A","G","L","K"]
[null,null,"ACFHIJKL","H","J","I","C","A","F","L","K"]
[null,null,"ACFGIJKL","I","G","J","C","A","F","L","K"]
[null,null,"ACFGHJKL","H","G","J","C","A","F","L","K"]
[null,null,"ACFGHIKL","H","G","I","C","A","F","L","K"]
[null,null,"ACFGHIJL","H","G","J","C","A","F","L","I"]
[null,null,"ACFGHIJK","H","G","J","C","A","F","I","K"]
[null,null,"ACEHIJKL","E","J","I","C","A","H","L","K"]
[null,null,"ACEGIJKL","E","J","I","C","A","G","L","K"]
[null,null,"ACEGHJKL","E","G","J","C","A","H","L","K"]
[null,null,"ACEGHIKL","E","G","I","C","A","H","L","K"]
[null,null,"ACEGHIJL","E","G","J","C","A","H","L","I"]
[null,null,"ACEGHIJK","E","G","J","C","A","H","I","K"]
[null,null,"ACEFIJKL","E","J","I","C","A","F","L","K"]
[null,null,"ACEFHJKL","H","J","E","C","A","F","L","K"]
[null,null,"ACEFHIKL","H","E","I","C","A","F","L","K"]
[null,null,"ACEFHIJL","H","J","E","C","A","F","L","I"]
[null,null,"ACEFHIJK","H","J","E","C","A","F","I","K"]
[null,null,"ACEFGJKL","E","G","J","C","A","F","L","K"]
[null,null,"ACEFGIKL","E","G","I","C","A","F","L","K"]
[null,null,"ACEFGIJL","E","G","J","C","A","F","L","I"]
[null,null,"ACEFGIJK","E","G","J","C","A","F","I","K"]
[null,null,"ACEFGHKL","H","G","E","C","A","F","L","K"]
[null,null,"ACEFGHJL","H","G","J","C","A","F","L","E"]
[null,null,"ACEFGHJK","H","G","J","C","A","F","E","K"]
[null,null,"ACEFGHIL","H","G","E","C","A","F","L","I"]
[null,null,"ACEFGHIK","H","G","E","C","A","F","I","K"]
[null,null,"ACEFGHIJ","H","G","J","C","A","F","E","I"]
[null,null,"ACDHIJKL","H","J","I","C","A","D","L","K"]
[null,null,"ACDGIJKL","I","G","J","C","A","D","L","K"]
[null,null,"ACDGHJKL","H","G","J","C","A","D","L","K"]
[null,null,"ACDGHIKL","H","G","I","C","A","D","L","K"]
[null,null,"ACDGHIJL","H","G","J","C","A","D","L","I"]
[null,null,"ACDGHIJK","H","G","J","C","A","D","I","K"]
[null,null,"ACDFIJKL","C","J","I","D","A","F","L","K"]
[null,null,"ACDFHJKL","H","J","F","C","A","D","L","K"]
[null,null,"ACDFHIKL","H","F","I","C","A","D","L","K"]
[null,null,"ACDFHIJL","H","J","F","C","A","D","L","I"]
[null,null,"ACDFHIJK","H","J","F","C","A","D","I","K"]
[null,null,"ACDFGJKL","C","G","J","D","A","F","L","K"]
[null,null,"ACDFGIKL","C","G","I","D","A","F","L","K"]
[null,null,"ACDFGIJL","C","G","J","D","A","F","L","I"]
[null,null,"ACDFGIJK","C","G","J","D","A","F","I","K"]
[null,null,"ACDFGHKL","H","G","F","C","A","D","L","K"]
[null,null,"ACDFGHJL","C","G","J","D","A","F","L","H"]
[null,null,"ACDFGHJK","H","G","J","C","A","F","D","K"]
[null,null,"ACDFGHIL","H","G","F","C","A","D","L","I"]
[null,null,"ACDFGHIK","H","G","F","C","A","D","I","K"]
[null,null,"ACDFGHIJ","H","G","J","C","A","F","D","I"]
[null,null,"ACDEIJKL","E","J","I","C","A","D","L","K"]
[null,null,"ACDEHJKL","H","J","E","C","A","D","L","K"]
[null,null,"ACDEHIKL","H","E","I","C","A","D","L","K"]
[null,null,"ACDEHIJL","H","J","E","C","A","D","L","I"]
[null,null,"ACDEHIJK","H","J","E","C","A","D","I","K"]
[null,null,"ACDEGJKL","E","G","J","C","A","D","L","K"]
[null,null,"ACDEGIKL","E","G","I","C","A","D","L","K"]
[null,null,"ACDEGIJL","E","G","J","C","A","D","L","I"]
[null,null,"ACDEGIJK","E","G","J","C","A","D","I","K"]
[null,null,"ACDEGHKL","H","G","E","C","A","D","L","K"]
[null,null,"ACDEGHJL","H","G","J","C","A","D","L","E"]
[null,null,"ACDEGHJK","H","G","J","C","A","D","E","K"]
[null,null,"ACDEGHIL","H","G","E","C","A","D","L","I"]
[null,null,"ACDEGHIK","H","G","E","C","A","D","I","K"]
[null,null,"ACDEGHIJ","H","G","J","C","A","D","E","I"]
[null,null,"ACDEFJKL","C","J","E","D","A","F","L","K"]
[null,null,"ACDEFIKL","C","E","I","D","A","F","L","K"]
[null,null,"ACDEFIJL","C","J","E","D","A","F","L","I"]
[null,null,"ACDEFIJK","C","J","E","D","A","F","I","K"]
[null,null,"ACDEFHKL","H","E","F","C","A","D","L","K"]
[null,null,"ACDEFHJL","H","J","F","C","A","D","L","E"]
[null,null,"ACDEFHJK","H","J","E","C","A","F","D","K"]
[null,null,"ACDEFHIL","H","E","F","C","A","D","L","I"]
[null,null,"ACDEFHIK","H","E","F","C","A","D","I","K"]
[null,null,"ACDEFHIJ","H","J","E","C","A","F","D","I"]
[null,null,"ACDEFGKL","C","G","E","D","A","F","L","K"]
[null,null,"ACDEFGJL","C","G","J","D","A","F","L","E"]
[null,null,"ACDEFGJK","C","G","J","D","A","F","E","K"]
[null,null,"ACDEFGIL","C","G","E","D","A","F","L","I"]
[null,null,"ACDEFGIK","C","G","E","D","A","F","I","K"]
[null,null,"ACDEFGIJ","C","G","J","D","A","F","E","I"]
[null,null,"ACDEFGHL","H","G","F","C","A","D","L","E"]
[null,null,"ACDEFGHK","H","G","E","C","A","F","D","K"]
[null,null,"ACDEFGHJ","H","G","J","C","A","F","D","E"]
[null,null,"ACDEFGHI","H","G","E","C","A","F","D","I"]
[null,null,"ABGHIJKL","H","J","B","A","I","G","L","K"]
[null,null,"ABFHIJKL","H","J","B","A","I","F","L","K"]
[null,null,"ABFGIJKL","I","J","B","F","A","G","L","K"]
[null,null,"ABFGHJKL","H","J","B","F","A","G","L","K"]
[null,null,"ABFGHIKL","H","G","B","A","I","F","L","K"]
[null,null,"ABFGHIJL","H","J","B","F","A","G","L","I"]
[null,null,"ABFGHIJK","H","J","B","F","A","G","I","K"]
[null,null,"ABEHIJKL","E","J","B","A","I","H","L","K"]
[null,null,"ABEGIJKL","E","J","B","A","I","G","L","K"]
[null,null,"ABEGHJKL","E","J","B","A","H","G","L","K"]
[null,null,"ABEGHIKL","E","G","B","A","I","H","L","K"]
[null,null,"ABEGHIJL","E","J","B","A","H","G","L","I"]
[null,null,"ABEGHIJK","E","J","B","A","H","G","I","K"]
[null,null,"ABEFIJKL","E","J","B","A","I","F","L","K"]
[null,null,"ABEFHJKL","E","J","B","F","A","H","L","K"]
[null,null,"ABEFHIKL","E","I","B","F","A","H","L","K"]
[null,null,"ABEFHIJL","E","J","B","F","A","H","L","I"]
[null,null,"ABEFHIJK","E","J","B","F","A","H","I","K"]
[null,null,"ABEFGJKL","E","J","B","F","A","G","L","K"]
[null,null,"ABEFGIKL","E","G","B","A","I","F","L","K"]
[null,null,"ABEFGIJL","E","J","B","F","A","G","L","I"]
[null,null,"ABEFGIJK","E","J","B","F","A","G","I","K"]
[null,null,"ABEFGHKL","E","G","B","F","A","H","L","K"]
[null,null,"ABEFGHJL","H","J","B","F","A","G","L","E"]
[null,null,"ABEFGHJK","H","J","B","F","A","G","E","K"]
[null,null,"ABEFGHIL","E","G","B","F","A","H","L","I"]
[null,null,"ABEFGHIK","E","G","B","F","A","H","I","K"]
[null,null,"ABEFGHIJ","H","J","B","F","A","G","E","I"]
[null,null,"ABDHIJKL","I","J","B","D","A","H","L","K"]
[null,null,"ABDGIJKL","I","J","B","D","A","G","L","K"]
[null,null,"ABDGHJKL","H","J","B","D","A","G","L","K"]
[null,null,"ABDGHIKL","I","G","B","D","A","H","L","K"]
[null,null,"ABDGHIJL","H","J","B","D","A","G","L","I"]
[null,null,"ABDGHIJK","H","J","B","D","A","G","I","K"]
[null,null,"ABDFIJKL","I","J","B","D","A","F","L","K"]
[null,null,"ABDFHJKL","H","J","B","D","A","F","L","K"]
[null,null,"ABDFHIKL","H","I","B","D","A","F","L","K"]
[null,null,"ABDFHIJL","H","J","B","D","A","F","L","I"]
[null,null,"ABDFHIJK","H","J","B","D","A","F","I","K"]
[null,null,"ABDFGJKL","F","J","B","D","A","G","L","K"]
[null,null,"ABDFGIKL","I","G","B","D","A","F","L","K"]
[null,null,"ABDFGIJL","F","J","B","D","A","G","L","I"]
[null,null,"ABDFGIJK","F","J","B","D","A","G","I","K"]
[null,null,"ABDFGHKL","H","G","B","D","A","F","L","K"]
[null,null,"ABDFGHJL","H","G","B","D","A","F","L","J"]
[null,null,"ABDFGHJK","H","G","B","D","A","F","J","K"]
[null,null,"ABDFGHIL","H","G","B","D","A","F","L","I"]
[null,null,"ABDFGHIK","H","G","B","D","A","F","I","K"]
[null,null,"ABDFGHIJ","H","G","B","D","A","F","I","J"]
[null,null,"ABDEIJKL","E","J","B","A","I","D","L","K"]
[null,null,"ABDEHJKL","E","J","B","D","A","H","L","K"]
[null,null,"ABDEHIKL","E","I","B","D","A","H","L","K"]
[null,null,"ABDEHIJL","E","J","B","D","A","H","L","I"]
[null,null,"ABDEHIJK","E","J","B","D","A","H","I","K"]
[null,null,"ABDEGJKL","E","J","B","D","A","G","L","K"]
[null,null,"ABDEGIKL","E","G","B","A","I","D","L","K"]
[null,null,"ABDEGIJL","E","J","B","D","A","G","L","I"]
[null,null,"ABDEGIJK","E","J","B","D","A","G","I","K"]
[null,null,"ABDEGHKL","E","G","B","D","A","H","L","K"]
[null,null,"ABDEGHJL","H","J","B","D","A","G","L","E"]
[null,null,"ABDEGHJK","H","J","B","D","A","G","E","K"]
[null,null,"ABDEGHIL","E","G","B","D","A","H","L","I"]
[null,null,"ABDEGHIK","E","G","B","D","A","H","I","K"]
[null,null,"ABDEGHIJ","H","J","B","D","A","G","E","I"]
[null,null,"ABDEFJKL","E","J","B","D","A","F","L","K"]
[null,null,"ABDEFIKL","E","I","B","D","A","F","L","K"]
[null,null,"ABDEFIJL","E","J","B","D","A","F","L","I"]
[null,null,"ABDEFIJK","E","J","B","D","A","F","I","K"]
[null,null,"ABDEFHKL","H","E","B","D","A","F","L","K"]
[null,null,"ABDEFHJL","H","J","B","D","A","F","L","E"]
[null,null,"ABDEFHJK","H","J","B","D","A","F","E","K"]
[null,null,"ABDEFHIL","H","E","B","D","A","F","L","I"]
[null,null,"ABDEFHIK","H","E","B","D","A","F","I","K"]
[null,null,"ABDEFHIJ","H","J","B","D","A","F","E","I"]
[null,null,"ABDEFGKL","E","G","B","D","A","F","L","K"]
[null,null,"ABDEFGJL","E","G","B","D","A","F","L","J"]
[null,null,"ABDEFGJK","E","G","B","D","A","F","J","K"]
[null,null,"ABDEFGIL","E","G","B","D","A","F","L","I"]
[null,null,"ABDEFGIK","E","G","B","D","A","F","I","K"]
[null,null,"ABDEFGIJ","E","G","B","D","A","F","I","J"]
[null,null,"ABDEFGHL","H","G","B","D","A","F","L","E"]
[null,null,"ABDEFGHK","H","G","B","D","A","F","E","K"]
[null,null,"ABDEFGHJ","H","G","B","D","A","F","E","J"]
[null,null,"ABDEFGHI","H","G","B","D","A","F","E","I"]
[null,null,"ABCHIJKL","I","J","B","C","A","H","L","K"]
[null,null,"ABCGIJKL","I","J","B","C","A","G","L","K"]
[null,null,"ABCGHJKL","H","J","B","C","A","G","L","K"]
[null,null,"ABCGHIKL","I","G","B","C","A","H","L","K"]
[null,null,"ABCGHIJL","H","J","B","C","A","G","L","I"]
[null,null,"ABCGHIJK","H","J","B","C","A","G","I","K"]
[null,null,"ABCFIJKL","I","J","B","C","A","F","L","K"]
[null,null,"ABCFHJKL","H","J","B","C","A","F","L","K"]
[null,null,"ABCFHIKL","H","I","B","C","A","F","L","K"]
[null,null,"ABCFHIJL","H","J","B","C","A","F","L","I"]
[null,null,"ABCFHIJK","H","J","B","C","A","F","I","K"]
[null,null,"ABCFGJKL","C","J","B","F","A","G","L","K"]
[null,null,"ABCFGIKL","I","G","B","C","A","F","L","K"]
[null,null,"ABCFGIJL","C","J","B","F","A","G","L","I"]
[null,null,"ABCFGIJK","C","J","B","F","A","G","I","K"]
[null,null,"ABCFGHKL","H","G","B","C","A","F","L","K"]
[null,null,"ABCFGHJL","H","G","B","C","A","F","L","J"]
[null,null,"ABCFGHJK","H","G","B","C","A","F","J","K"]
[null,null,"ABCFGHIL","H","G","B","C","A","F","L","I"]
[null,null,"ABCFGHIK","H","G","B","C","A","F","I","K"]
[null,null,"ABCFGHIJ","H","G","B","C","A","F","I","J"]
[null,null,"ABCEIJKL","E","J","B","A","I","C","L","K"]
[null,null,"ABCEHJKL","E","J","B","C","A","H","L","K"]
[null,null,"ABCEHIKL","E","I","B","C","A","H","L","K"]
[null,null,"ABCEHIJL","E","J","B","C","A","H","L","I"]
[null,null,"ABCEHIJK","E","J","B","C","A","H","I","K"]
[null,null,"ABCEGJKL","E","J","B","C","A","G","L","K"]
[null,null,"ABCEGIKL","E","G","B","A","I","C","L","K"]
[null,null,"ABCEGIJL","E","J","B","C","A","G","L","I"]
[null,null,"ABCEGIJK","E","J","B","C","A","G","I","K"]
[null,null,"ABCEGHKL","E","G","B","C","A","H","L","K"]
[null,null,"ABCEGHJL","H","J","B","C","A","G","L","E"]
[null,null,"ABCEGHJK","H","J","B","C","A","G","E","K"]
[null,null,"ABCEGHIL","E","G","B","C","A","H","L","I"]
[null,null,"ABCEGHIK","E","G","B","C","A","H","I","K"]
[null,null,"ABCEGHIJ","H","J","B","C","A","G","E","I"]
[null,null,"ABCEFJKL","E","J","B","C","A","F","L","K"]
[null,null,"ABCEFIKL","E","I","B","C","A","F","L","K"]
[null,null,"ABCEFIJL","E","J","B","C","A","F","L","I"]
[null,null,"ABCEFIJK","E","J","B","C","A","F","I","K"]
[null,null,"ABCEFHKL","H","E","B","C","A","F","L","K"]
[null,null,"ABCEFHJL","H","J","B","C","A","F","L","E"]
[null,null,"ABCEFHJK","H","J","B","C","A","F","E","K"]
[null,null,"ABCEFHIL","H","E","B","C","A","F","L","I"]
[null,null,"ABCEFHIK","H","E","B","C","A","F","I","K"]
[null,null,"ABCEFHIJ","H","J","B","C","A","F","E","I"]
[null,null,"ABCEFGKL","E","G","B","C","A","F","L","K"]
[null,null,"ABCEFGJL","E","G","B","C","A","F","L","J"]
[null,null,"ABCEFGJK","E","G","B","C","A","F","J","K"]
[null,null,"ABCEFGIL","E","G","B","C","A","F","L","I"]
[null,null,"ABCEFGIK","E","G","B","C","A","F","I","K"]
[null,null,"ABCEFGIJ","E","G","B","C","A","F","I","J"]
[null,null,"ABCEFGHL","H","G","B","C","A","F","L","E"]
[null,null,"ABCEFGHK","H","G","B","C","A","F","E","K"]
[null,null,"ABCEFGHJ","H","G","B","C","A","F","E","J"]
[null,null,"ABCEFGHI","H","G","B","C","A","F","E","I"]
[null,null,"ABCDIJKL","I","J","B","C","A","D","L","K"]
[null,null,"ABCDHJKL","H","J","B","C","A","D","L","K"]
[null,null,"ABCDHIKL","H","I","B","C","A","D","L","K"]
[null,null,"ABCDHIJL","H","J","B","C","A","D","L","I"]
[null,null,"ABCDHIJK","H","J","B","C","A","D","I","K"]
[null,null,"ABCDGJKL","C","J","B","D","A","G","L","K"]
[null,null,"ABCDGIKL","I","G","B","C","A","D","L","K"]
[null,null,"ABCDGIJL","C","J","B","D","A","G","L","I"]
[null,null,"ABCDGIJK","C","J","B","D","A","G","I","K"]
[null,null,"ABCDGHKL","H","G","B","C","A","D","L","K"]
[null,null,"ABCDGHJL","H","G","B","C","A","D","L","J"]
[null,null,"ABCDGHJK","H","G","B","C","A","D","J","K"]
[null,null,"ABCDGHIL","H","G","B","C","A","D","L","I"]
[null,null,"ABCDGHIK","H","G","B","C","A","D","I","K"]
[null,null,"ABCDGHIJ","H","G","B","C","A","D","I","J"]
[null,null,"ABCDFJKL","C","J","B","D","A","F","L","K"]
[null,null,"ABCDFIKL","C","I","B","D","A","F","L","K"]
[null,null,"ABCDFIJL","C","J","B","D","A","F","L","I"]
[null,null,"ABCDFIJK","C","J","B","D","A","F","I","K"]
[null,null,"ABCDFHKL","H","F","B","C","A","D","L","K"]
[null,null,"ABCDFHJL","C","J","B","D","A","F","L","H"]
[null,null,"ABCDFHJK","H","J","B","C","A","F","D","K"]
[null,null,"ABCDFHIL","H","F","B","C","A","D","L","I"]
[null,null,"ABCDFHIK","H","F","B","C","A","D","I","K"]
[null,null,"ABCDFHIJ","H","J","B","C","A","F","D","I"]
[null,null,"ABCDFGKL","C","G","B","D","A","F","L","K"]
[null,null,"ABCDFGJL","C","G","B","D","A","F","L","J"]
[null,null,"ABCDFGJK","C","G","B","D","A","F","J","K"]
[null,null,"ABCDFGIL","C","G","B","D","A","F","L","I"]
[null,null,"ABCDFGIK","C","G","B","D","A","F","I","K"]
[null,null,"ABCDFGIJ","C","G","B","D","A","F","I","J"]
[null,null,"ABCDFGHL","C","G","B","D","A","F","L","H"]
[null,null,"ABCDFGHK","H","G","B","C","A","F","D","K"]
[null,null,"ABCDFGHJ","H","G","B","C","A","F","D","J"]
[null,null,"ABCDFGHI","H","G","B","C","A","F","D","I"]
[null,null,"ABCDEJKL","E","J","B","C","A","D","L","K"]
[null,null,"ABCDEIKL","E","I","B","C","A","D","L","K"]
[null,null,"ABCDEIJL","E","J","B","C","A","D","L","I"]
[null,null,"ABCDEIJK","E","J","B","C","A","D","I","K"]
[null,null,"ABCDEHKL","H","E","B","C","A","D","L","K"]
[null,null,"ABCDEHJL","H","J","B","C","A","D","L","E"]
[null,null,"ABCDEHJK","H","J","B","C","A","D","E","K"]
[null,null,"ABCDEHIL","H","E","B","C","A","D","L","I"]
[null,null,"ABCDEHIK","H","E","B","C","A","D","I","K"]
[null,null,"ABCDEHIJ","H","J","B","C","A","D","E","I"]
[null,null,"ABCDEGKL","E","G","B","C","A","D","L","K"]
[null,null,"ABCDEGJL","E","G","B","C","A","D","L","J"]
[null,null,"ABCDEGJK","E","G","B","C","A","D","J","K"]
[null,null,"ABCDEGIL","E","G","B","C","A","D","L","I"]
[null,null,"ABCDEGIK","E","G","B","C","A","D","I","K"]
[null,null,"ABCDEGIJ","E","G","B","C","A","D","I","J"]
[null,null,"ABCDEGHL","H","G","B","C","A","D","L","E"]
[null,null,"ABCDEGHK","H","G","B","C","A","D","E","K"]
[null,null,"ABCDEGHJ","H","G","B","C","A","D","E","J"]
[null,null,"ABCDEGHI","H","G","B","C","A","D","E","I"]
[null,null,"ABCDEFKL","C","E","B","D","A","F","L","K"]
[null,null,"ABCDEFJL","C","J","B","D","A","F","L","E"]
[null,null,"ABCDEFJK","C","J","B","D","A","F","E","K"]
[null,null,"ABCDEFIL","C","E","B","D","A","F","L","I"]
[null,null,"ABCDEFIK","C","E","B","D","A","F","I","K"]
[null,null,"ABCDEFIJ","C","J","B","D","A","F","E","I"]
[null,null,"ABCDEFHL","H","F","B","C","A","D","L","E"]
[null,null,"ABCDEFHK","H","E","B","C","A","F","D","K"]
[null,null,"ABCDEFHJ","H","J","B","C","A","F","D","E"]
[null,null,"ABCDEFHI","H","E","B","C","A","F","D","I"]
[null,null,"ABCDEFGL","C","G","B","D","A","F","L","E"]
[null,null,"ABCDEFGK","C","G","B","D","A","F","E","K"]
[null,null,"ABCDEFGJ","C","G","B","D","A","F","E","J"]
[null,null,"ABCDEFGI","C","G","B","D","A","F","E","I"]
[null,null,"ABCDEFGH","H","G","B","C","A","F","D","E"]

{"sheet":"Zeitzone","index":7,"n_rows":39,"n_cols":17,"rows_kept":39,"hidden":true,"merged":[[0,0,0,5],[3,6,5,8]]}
[{"$f":"Sprache_Tipps!$E$118","v":"Wahl der Zeitzone"},{"$nulls":5},{"$f":"Sprache_Tipps!$E$188","v":"Hier klicken und\nZeitzone wählen:"},"UTC + 6","←"]
[]
[]
[null,-12,"UTC - 12","IDLW",{"$f":"$B4/24","v":-0.5},null,{"$f":"Sprache_Tipps!$E$192","v":"Bei Sommerzeit muss die Zeitzone entsprechend angepasst werden (z. B. UTC+2 statt UTC+1)"},{"$nulls":4},1,{"$f":"IF(#REF!=0,\"\",#REF!)","v":{"$error":"#REF!"}},"UTC",{"$f":"IFERROR(VLOOKUP($N4,$C$4:$E$39,3,0),0)","v":0},null,"UTC - 7"]
[null,-11,"UTC - 11",null,{"$f":"$B5/24","v":-0.4583333333333333},{"$nulls":6},2,{"$error":"#REF!"},"UTC",{"$f":"IFERROR(VLOOKUP($N5,$C$4:$E$39,3,0),0)","v":0},null,"UTC - 4"]
[null,-10,"UTC - 10","HAST",-0.4166666666666667,{"$nulls":6},3,{"$error":"#REF!"},"UTC",0,null,"UTC - 4"]
[null,-9,"UTC - 9","AKST",-0.375,{"$nulls":6},4,{"$error":"#REF!"},"UTC",0,null,"UTC - 5"]
[null,-8,"UTC - 8","PST",-0.3333333333333333,{"$nulls":6},5,{"$error":"#REF!"},"UTC",0,null,"UTC - 5"]
[null,-7,"UTC - 7","MST",-0.2916666666666667,{"$nulls":6},6,{"$error":"#REF!"},"UTC",0,null,"UTC - 5"]
[null,-6,"UTC - 6","CST",-0.25,{"$nulls":6},7,{"$error":"#REF!"},"UTC",0,null,"UTC - 4"]
[null,-5,"UTC - 5","EST",-0.20833333333333334,{"$nulls":6},8,{"$error":"#REF!"},"UTC",0,null,"UTC - 7"]
[null,-4,"UTC - 4","AST",-0.16666666666666666,{"$nulls":6},9,{"$error":"#REF!"},"UTC",0,null,"UTC - 4"]
[null,-3.5,"UTC - 3:30","NST",-0.14583333333333334,{"$nulls":6},10,{"$error":"#REF!"},"UTC",0,null,"UTC - 7"]
[null,-3,"UTC - 3",null,-0.125,{"$nulls":6},11,{"$error":"#REF!"},"UTC",0,null,"UTC - 7"]
[null,-2,"UTC - 2",null,-0.08333333333333333,{"$nulls":6},12,{"$error":"#REF!"},"UTC",0,null,"UTC - 4"]
[null,-1,"UTC - 1",null,-0.041666666666666664,{"$nulls":6},13,{"$error":"#REF!"},"UTC",0,null,"UTC - 4"]
[null,0,"UTC","WET",0,{"$nulls":6},14,{"$error":"#REF!"},"UTC",0,null,"UTC - 6"]
[null,1,"UTC + 1","CET/WEST",0.041666666666666664,{"$nulls":6},15,{"$error":"#REF!"},"UTC",0,null,"UTC - 6"]
[null,2,"UTC + 2","EET/CEST",0.08333333333333333,{"$nulls":6},16,{"$error":"#REF!"},"UTC",0,null,"UTC - 6"]
[null,3,"UTC + 3","AST/EAT",0.125]
[null,3.5,"UTC + 3:30","IRT",0.14583333333333334]
[null,4,"UTC + 4",null,0.16666666666666666]
[null,4.5,"UTC + 4:30",null,0.1875]
[null,5,"UTC + 5",null,0.20833333333333334]
[null,5.5,"UTC + 5:30","IST",0.22916666666666666]
[null,5.75,"UTC + 5:45",null,0.23958333333333334]
[null,6,"UTC + 6",null,0.25]
[null,6.5,"UTC + 6:30",null,0.2708333333333333]
[null,7,"UTC + 7","ICT",0.2916666666666667]
[null,8,"UTC + 8","CNST",0.3333333333333333]
[null,9,"UTC + 9","JST",0.375]
[null,9.5,"UTC + 9:30","ACST",0.3958333333333333]
[null,10,"UTC + 10",null,0.4166666666666667]
[null,10.5,"UTC + 10:30",null,0.4375]
[null,11,"UTC + 11",null,0.4583333333333333]
[null,12,"UTC + 12","IDLE/NZST",0.5]
[null,12.75,"UTC + 12:45",null,0.53125]
[null,13,"UTC + 13",null,0.5416666666666666]
[null,14,"UTC + 14",null,0.5833333333333334]

{"sheet":"Sprache_Tipps","index":8,"n_rows":257,"n_cols":16,"rows_kept":257,"hidden":true,"merged":[[0,6,0,10],[0,12,0,13],[1,6,1,10],[2,3,3,3],[2,4,3,4],[2,5,3,5],[2,6,3,6],[2,7,3,7],[2,8,3,8],[2,9,3,9],[2,10,3,10],[2,11,3,11],[2,12,3,12]]}
[{"$nulls":5},"Last update:",{"$f":"Sprache_Tipps!$E$120","v":"Wahl der Sprache"},{"$nulls":5},{"$f":"Sprache_Tipps!$E$190","v":"Hier klicken und Sprache wählen:"},null,"german","←"]
[{"$nulls":5},"2026-04-01"]
[null,"english",{"$f":"IF(AND($O$1<>B4,$O$1<>B5,$O$1<>B6,$O$1<>B7,$O$1<>B8,$O$1<>B9),1,0)","v":0},null,null,"FIFA\nrank","english","spanish","italian","french","german","dutch","my language"]
[null,"spanish",{"$f":"IF($O$1=B4,1,0)","v":0}]
[null,"italian",0,1,"Mexiko",15,"Argentina","Argentina","Argentina","Argentine","Argentinien","Argentinië","Mexiko"]
[null,"french",0,2,"Südafrika",60,"Spain","España","Spagna","Espagne","Spanien","Spanje","Südafrika"]
[null,"german",1,3,"Südkorea",25,"France","Francia","Francia","France","Frankreich","Frankrijk","Südkorea"]
[null,"dutch",0,4,"Tschechien",41,"England","Inglaterra","Inghilterra","Angleterre","England","Engeland","Tschechien"]
[null,"my language",0,5,"Kanada",30,"Brazil","Brasil","Brasile","Brésil","Brasilien","Brazilië","Kanada"]
[{"$nulls":3},6,"Bosnien-Herzeg.",65,"Portugal","Portugal","Portogallo","Portugal","Portugal","Portugal","Bosnien-Herzeg."]
[{"$nulls":3},7,"Katar",55,"Netherlands","Países Bajos","Paesi Bassi","Pays-Bas","Niederlande","Nederland","Katar"]
[{"$nulls":3},8,"Schweiz",19,"Belgium","Bélgica","Belgio","Belgique","Belgien","België","Schweiz"]
[{"$nulls":3},9,"Brasilien",6,"Germany","Alemania","Germania","Allemagne","Deutschland","Duitsland","Brasilien"]
[{"$nulls":3},10,"Marokko",8,"Croatia","Croacia","Croazia","Croatie","Kroatien","Kroatië","Marokko"]
[{"$nulls":3},11,"Haiti",83,"Italy","Italia","Italia","Italie","Italien","Italië","Haiti"]
[{"$nulls":3},12,"Schottland",43,"Morocco","Marruecos","Marocco","Maroc","Marokko","Marokko","Schottland"]
[{"$nulls":3},13,"USA",16,"Mexico","México","Messico","Mexique","Mexiko","Mexico","USA"]
[{"$nulls":3},14,"Paraguay",40,"Colombia","Colombia","Colombia","Colombie","Kolumbien","Colombia","Paraguay"]
[{"$nulls":3},15,"Australien",27,"USA","EE.UU.","USA","USA","USA","USA","Australien"]
[{"$nulls":3},16,"Türkei",22,"Uruguay","Uruguay","Uruguay","Uruguay","Uruguay","Uruguay","Türkei"]
[{"$nulls":3},17,"Deutschland",10,"Japan","Japón","Giappone","Japon","Japan","Japan","Deutschland"]
[{"$nulls":3},18,"Curacao",82,"Senegal","Senegal","Senegal","Sénégal","Senegal","Senegal","Curacao"]
[{"$nulls":3},19,"Elfenbeinküste",34,"Switzerland","Suiza","Svizzera","Suisse","Schweiz","Zwitserland","Elfenbeinküste"]
[{"$nulls":3},20,"Ecuador",23,"IR Iran","IR Irán","IR Iran","RI Iran","IR Iran","IR Iran","Ecuador"]
[{"$nulls":3},21,"Niederlande",7,"Denmark","Dinamarca","Danimarca","Danemark","Dänemark","Denemarken","Niederlande"]
[{"$nulls":3},22,"Japan",18,"Austria","Austria","Austria","Autriche","Österreich","Oostenrijk","Japan"]
[{"$nulls":3},23,"Schweden",38,"Rep. of Korea","Rep. de Corea","Rep. di Corea","Rép. de Corée","Rep. Korea","Rep. Korea","Schweden"]
[{"$nulls":3},24,"Tunesien",44,"Australia","Australia","Australia","Australie","Australien","Australië","Tunesien"]
[{"$nulls":3},25,"Belgien",9,"Ecuador","Ecuador","Ecuador","Équateur","Ecuador","Ecuador","Belgien"]
[{"$nulls":3},26,"Ägypten",29,"Ukraine","Ucrania","Ucraina","Ukraine","Ukraine","Oekraïne","Ägypten"]
[{"$nulls":3},27,"Iran",21,"Turkey","Turquía","Turchia","Turquie","Türkei","Turkije","Iran"]
[{"$nulls":3},28,"Neuseeland",85,"Canada","Canadá","Canada","Canada","Kanada","Canada","Neuseeland"]
[{"$nulls":3},29,"Spanien",2,"Sweden","Suecia","Svezia","Suède","Schweden","Zweden","Spanien"]
[{"$nulls":3},30,"Kapverde",69,"Panama","Panamá","Panama","Panama","Panama","Panama","Kapverde"]
[{"$nulls":3},31,"Saudiarabien",61,"Wales","Gales","Galles","Pays de Galles","Wales","Wales","Saudiarabien"]
[{"$nulls":3},32,"Uruguay",17,"Serbia","Serbia","Serbia","Serbie","Serbien","Servië","Uruguay"]
[{"$nulls":3},33,"Frankreich",1,"Norway","Noruega","Norvegia","Norvège","Norwegen","Noorwegen","Frankreich"]
[{"$nulls":3},34,"Senegal",14,"Egypt","Egipto","Egitto","Egypte","Ägypten","Egypte","Senegal"]
[{"$nulls":3},35,"Irak",57,"Russia","Rusia","Russia","Russie","Russland","Rusland","Bol/Suri/Irk"]
[{"$nulls":3},36,"Norwegen",31,"Algeria","Argelia","Algeria","Algérie","Algerien","Algerije","Norwegen"]
[{"$nulls":3},37,"Argentinien",3,"Poland","Polonia","Polonia","Pologne","Polen","Polen","Argentinien"]
[{"$nulls":3},38,"Algerien",28,"Hungary","Hungría","Ungheria","Hongrie","Ungarn","Hongarije","Algerien"]
[{"$nulls":3},39,"Österreich",24,"Greece","Grecia","Grecia","Grèce","Griechenland","Griekenland","Österreich"]
[{"$nulls":3},40,"Jordanien",63,"Costa Rica","Costa Rica","Costa Rica","Costa Rica","Costa Rica","Costa Rica","Jordanien"]
[{"$nulls":3},41,"Portugal",5,"Czech Rep.","Checa","Ceca","Rép. Tchèque","Tschechien","Tsjechië","Portugal"]
[{"$nulls":3},42,"DR Kongo",46,"Peru","Perú","Perù","Pérou","Peru","Peru","Neukal/Jam/Kong"]
[{"$nulls":3},43,"Usbekistan",50,"Paraguay","Paraguay","Paraguay","Paraguay","Paraguay","Paraguay","Usbekistan"]
[{"$nulls":3},44,"Kolumbien",13,"Nigeria","Nigeria","Nigeria","Nigeria","Nigeria","Nigeria","Kolumbien"]
[{"$nulls":3},45,"England",4,"Ivory Coast","Costa de Marfil","Costa d'Avorio","Côte d'Ivoire","Elfenbeinküste","Ivoorkust","England"]
[{"$nulls":3},46,"Kroatien",11,"Venezuela","Venezuela","Venezuela","Venezuela","Venezuela","Venezuela","Kroatien"]
[{"$nulls":3},47,"Ghana",74,"Scotland","Escocia","Scozia","Écosse","Schottland","Schotland","Ghana"]
[{"$nulls":3},48,"Panama",33,"Romania","Rumanía","Romania","Roumanie","Rumänien","Roemenië","Panama"]
[{"$nulls":3},49,{"$f":"IF($C$3,G53,IF($C$4,H53,IF($C$5,I53,IF($C$6,J53,IF($C$7,K53,IF($C$8,L53,IF(M53<>\"\",M53,G53)))))))","v":"Tunesien"},null,"Tunisia","Túnez","Tunisia","Tunisie","Tunesien","Tunesië"]
[{"$nulls":3},50,"Slowenien",null,"Slovenia","Eslovenia","Slovenia","Slovénie","Slowenien","Slovenië"]
[{"$nulls":3},51,"Kamerun",null,"Cameroon","Camerún","Camerun","Cameroun","Kamerun","Kameroen"]
[{"$nulls":3},52,"Slowakei",null,"Slovakia","Eslovaquia","Slovacchia","Slovaquie","Slowakei","Slowakije"]
[{"$nulls":3},53,"Katar",null,"Qatar","Qatar","Qatar","Qatar","Katar","Qatar"]
[{"$nulls":3},54,"Mali",null,"Mali","Mali","Mali","Mali","Mali","Mali"]
[{"$nulls":3},55,"Usbekistan",null,"Uzbekistan","Uzbekistán","Uzbekistan","Ouzbékistan","Usbekistan","Oezbekistan"]
[{"$nulls":3},56,"Südafrika",null,"South Africa","Sudáfrica","Sudafrica","Afrique du Sud","Südafrika","Zuid-Afrika"]
[{"$nulls":3},57,"Chile",null,"Chile","Chile","Cile","Chili","Chile","Chili"]
[{"$nulls":3},58,"Irak",null,"Iraq","Iraq","Iraq","Irak","Irak","Irak"]
[{"$nulls":3},59,"Saudiarabien",{"$nulls":5},"Saudiarabien"]
[{"$nulls":3},60,"Republik Irland",{"$nulls":5},"Republik Irland"]
[{"$nulls":3},61,"DR Kongo",{"$nulls":5},"DR Kongo"]
[{"$nulls":3},62,"Nordmazedonien",{"$nulls":5},"Nordmazedonien"]
[{"$nulls":3},63,"Burkina Faso",null,"Burkina Faso","Burkina Faso","Burkina Faso","Burkina Faso","Burkina Faso","Burkina Faso"]
[{"$nulls":3},64,"Jordanien",{"$nulls":5},"Jordanien"]
[{"$nulls":3},65,"Vereinigte Arabische Emirate",{"$nulls":5},"Vereinigte Arabische Emirate"]
[{"$nulls":3},66,{"$f":"IF($C$3,G70,IF($C$4,H70,IF($C$5,I70,IF($C$6,J70,IF($C$7,K70,IF($C$8,L70,IF(M70<>\"\",M70,G70)))))))","v":"Honduras"},null,"Honduras","Honduras","Honduras","Honduras","Honduras","Honduras"]
[{"$nulls":3},67,"Georgien",null,"Georgia","Georgia","Georgia","Géorgie","Georgien","Georgië"]
[{"$nulls":3},68,"Albanien",null,"Albania","Albania","Albania","Albanie","Albanien","Albanië"]
[{"$nulls":3},69,"Finnland",null,"Finland","Finlandia","Finlandia","Finlande","Finnland","Finland"]
[{"$nulls":3},70,"Jamaika",null,"Jamaica","Jamaica","Giamaica","Jamaïque","Jamaika","Jamaica"]
[{"$nulls":3},71,"Nordirland",null,"Northern Ireland","Irlanda del Norte","Irlanda del Nord","Irlande du Nord","Nordirland","Noord-Ierland"]
[{"$nulls":3},72,"Bosnien und Herzegowina",{"$nulls":5},"Bosnien und Herzegowina"]
[{"$nulls":3},73,"Kap Verde",{"$nulls":5},"Kap Verde"]
[{"$nulls":3},74,"Island",null,"Iceland","Islandia","Islanda","Islande","Island","IJsland"]
[{"$nulls":3},75,"Israel",null,"Israel","Israel","Israele","Israël","Israel","Israël"]
[{"$nulls":3},76,"Ghana",null,"Ghana","Ghana","Ghana","Ghana","Ghana","Ghana"]
[{"$nulls":3},77,"Montenegro",null,"Montenegro","Montenegro","Montenegro","Monténégro","Montenegro","Montenegro"]
[{"$nulls":3},78,"Bolivien",null,"Bolivia","Bolivia","Bolivia","Bolivie","Bolivien","Bolivië"]
[{"$nulls":3},79,"Oman",null,"Oman","Omán","Oman","Oman","Oman","Oman"]
[{"$nulls":3},80,"Gabun",{"$nulls":5},"Gabun"]
[{"$nulls":3},81,"Guinea",{"$nulls":5},"Guinea"]
[{"$nulls":3},82,"Neuseeland",{"$nulls":5},"Neuseeland"]
[{"$nulls":3},83,"Sambia",{"$nulls":5},"Sambia"]
[{"$nulls":3},84,"Bulgarien",null,"Bulgaria","Bulgaria","Bulgaria","Bulgarie","Bulgarien","Bulgarije"]
[{"$nulls":3},85,"Angola",{"$nulls":5},"Angola"]
[{"$nulls":3},86,"Curaçao",{"$nulls":5},"Curaçao"]
[{"$nulls":3},87,"El Salvador",null,"El Salvador","El Salvador","El Salvador","El Salvador","El Salvador","El Salvador"]
[{"$nulls":3},88,"Uganda",{"$nulls":5},"Uganda"]
[{"$nulls":3},89,"Bahrain",{"$nulls":5},"Bahrain"]
[{"$nulls":3},90,"Haiti",{"$nulls":5},"Haiti"]
[]
[{"$nulls":3},"Venue\nno.",null,null,"Venues"]
[{"$nulls":3},1,{"$f":"IF($C$3,G97,IF($C$4,H97,IF($C$5,I97,IF($C$6,J97,IF($C$7,K97,IF($C$8,L97,IF(M97<>\"\",M97,G97)))))))","v":"Vancouver"},null,"Vancouver","Vancouver","Vancouver","Vancouver","Vancouver","Vancouver"]
[{"$nulls":3},2,"Toronto",null,"Toronto","Toronto","Toronto","Toronto","Toronto","Toronto"]
[{"$nulls":3},3,"New York/New Jersey",null,"New York/New Jersey","New York/New Jersey","New York/New Jersey","New York/New Jersey","New York/New Jersey","New York/New Jersey"]
[{"$nulls":3},4,"Kansas City",null,"Kansas City","Kansas City","Kansas City","Kansas City","Kansas City","Kansas City"]
[{"$nulls":3},5,"Dallas",null,"Dallas","Dallas","Dallas","Dallas","Dallas","Dallas"]
[{"$nulls":3},6,"Houston",null,"Houston","Houston","Houston","Houston","Houston","Houston"]
[{"$nulls":3},7,"Atlanta",null,"Atlanta","Atlanta","Atlanta","Atlanta","Atlanta","Atlanta"]
[{"$nulls":3},8,"Los Angeles",null,"Los Angeles","Los Angeles","Los Angeles","Los Angeles","Los Angeles","Los Angeles"]
[{"$nulls":3},9,"Philadelphia",null,"Philadelphia","Philadelphia","Philadelphia","Philadelphia","Philadelphia","Philadelphia"]
[{"$nulls":3},10,"Seattle",null,"Seattle","Seattle","Seattle","Seattle","Seattle","Seattle"]
[{"$nulls":3},11,"San Francisco Bay Area",null,"San Francisco Bay Area","San Francisco Bay Area","San Francisco Bay Area","San Francisco Bay Area","San Francisco Bay Area","San Francisco Bay Area"]
[{"$nulls":3},12,"Boston",null,"Boston","Boston","Boston","Boston","Boston","Boston"]
[{"$nulls":3},13,"Miami",null,"Miami","Miami","Miami","Miami","Miami","Miami"]
[{"$nulls":3},14,"Mexico City",null,"Mexico City","Mexico City","Mexico City","Mexico City","Mexico City","Mexico City"]
[{"$nulls":3},15,"Guadalajara",null,"Guadalajara","Guadalajara","Guadalajara","Guadalajara","Guadalajara","Guadalajara"]
[{"$nulls":3},16,"Monterrey",null,"Monterrey","Monterrey","Monterrey","Monterrey","Monterrey","Monterrey"]
[]
[{"$nulls":6},"Titles"]
[{"$nulls":4},{"$f":"IF($C$3,G115,IF($C$4,H115,IF($C$5,I115,IF($C$6,J115,IF($C$7,K115,IF($C$8,L115,IF(M115<>\"\",M115,G115)))))))","v":"WM 2026 in Kanada/Mexiko/USA"},null,"World Cup 2026 in Canada/Mexico/USA","Copa del Mundo 2026 en Canadá/México/Estados Unidos","Mondiali 2026 in Canada/Messico/Stati Uniti","Coupe du monde 2026 au Canada/Mexique/États-Unis","WM 2026 in Kanada/Mexiko/USA","WK voetbal 2026 - Canada/Mexico/VS","WAGNER-CUP 2026 - DAS TIPPFORMULAR"]
[{"$nulls":4},"Direkte Vergleiche",null,"Direct comparisons","Comparaciones directas","Confronti diretti","Comparaisons directes","Direkte Vergleiche","Onderscheidend vergelijk","Direkte Vergleiche"]
[{"$nulls":4},"Fair-Play",null,"Fair play","Fair-play","Fair play","Fair-play","Fair-Play","Fair-Play","Fair-Play"]
[{"$nulls":4},"Wahl der Zeitzone",null,"Choose time zone","Selección de zona horaria","Selezione del fuso orario","Choix du fuseau horaire","Wahl der Zeitzone","Kies tijdzone","Wahl der Zeitzone"]
[{"$nulls":4},"Spiele",null,"Matches","Partidos","Partite","Matchs","Spiele","Wedstrijden","Spiele Tipps"]
[{"$nulls":4},"Wahl der Sprache",null,"Choose language","Elección de la lengua","Scelta della lingua","Choix de langue","Wahl der Sprache","Kies taal","Wahl der Sprache"]
[{"$nulls":4},"Vorhersagen-Ranking",null,"Predictions Ranking","Ranking de predicciones","Classifica pronostici","Classement des pronostics","Vorhersagen-Ranking","Voorspellingsklassificatie ","Vorhersagen-Ranking"]
[{"$nulls":4},"Zuordnung der Gruppendritten im Sechzehntelfinale",null,"Assignment of the group third in the round of 32","Asignación del grupo tercero en los dieciseisavos de final","Assegnazione del terzo gruppo agli girone di 32","Attribution de la troisième place du groupe en 32e de finale","Zuordnung der Gruppendritten im Sechzehntelfinale","Toewijzing van beste derde plaatsen naar de ronde van 32","Zuordnung der Gruppendritten im Sechzehntelfinale"]
[{"$nulls":6},"Captions"]
[{"$nulls":4},"Gruppe",null,"Group","Grupo","Gruppo","Groupe","Gruppe","Groep","Gruppe"]
[{"$nulls":4},"Pkt.",null,"Pts.","Pt.","Pt.","Pt.","Pkt.","Ptn.","Pkt."]
[{"$nulls":4},"TD",null,"GD","Dif.","Diff.","Diff.","TD","DS","TD"]
[{"$nulls":4},"Tore",null,"Goals","Goles","Gol","Buts","Tore","Doelpunten","Tore"]
[{"$nulls":4},"  Pkt.     Tore",null,"  Pts.     Goals","   Pt.     Goles","  Pt.        Gol","   Pt.      Buts","  Pkt.     Tore","  Ptn.     Doelp.","  Pkt.     Tore"]
[{"$nulls":4},"Total",null,"Total","Total","Totale","Total","Total","Totaal","Total"]
[{"$nulls":4},"Fair-Play/Los",null,"Fair Play/Lot","Fair Play/Sort.","Fair Play/Sort.","Fair-Play/Sort","Fair-Play/Los","Fair Play/Loting","Fair-Play/Los"]
[{"$nulls":4},"Nicht klar",null,"Not clear","No es claro","Non chiaro","Pas clair","Nicht klar","Niet duidelijk","Nicht klar"]
[{"$nulls":4},"Dir. Vergl.(2)",null,"Dir. Comp.(2)","Comp. dir.(2)","Confr. dir.(2)","Comp. dir.(2)","Dir. Vergl.(2)","Dir. Vergl.(2)","Dir. Vergl.(2)"]
[{"$nulls":4},"Dir. Vergl.(3)",null,"Dir. Comp.(3)","Comp. dir.(3)","Confr. dir.(3)","Comp. dir.(3)","Dir. Vergl.(3)","Dir. Vergl.(3)","Dir. Vergl.(3)"]
[{"$nulls":4},"Schlusstabelle",null,"Final table","Mesa final","Tavolo finale","Tableau final","Schlusstabelle","Eindstand groep","Schlusstabelle"]
[{"$nulls":4},"Weltmeister 2026:",null,"World Champion 2026:","Campeón del Mundo 2026:","Campione del mondo 2026:","Champion du monde 2026:","Weltmeister 2026:","Wereldkampioen 2026:","Weltmeister 2026:"]
[{"$nulls":3},1,"Sechzehntelfinale 1",null,"Round of 32 - 1","ronda de 32 - 1","girone di 32 - 1","32e de finale 1","Sechzehntelfinale 1","ronde van 32 - 1","Sechzehntelfinale 1"]
[{"$nulls":3},2,"Sechzehntelfinale 2",null,"Round of 32 - 2","ronda de 32 - 2","girone di 32 - 2","32e de finale 2","Sechzehntelfinale 2","ronde van 32 - 2","Sechzehntelfinale 2"]
[{"$nulls":3},3,"Sechzehntelfinale 3",null,"Round of 32 - 3","ronda de 32 - 3","girone di 32 - 3","32e de finale 3","Sechzehntelfinale 3","ronde van 32 - 3","Sechzehntelfinale 3"]
[{"$nulls":3},4,"Sechzehntelfinale 4",null,"Round of 32 - 4","ronda de 32 - 4","girone di 32 - 4","32e de finale 4","Sechzehntelfinale 4","ronde van 32 - 4","Sechzehntelfinale 4"]
[{"$nulls":3},5,"Sechzehntelfinale 5",null,"Round of 32 - 5","ronda de 32 - 5","girone di 32 - 5","32e de finale 5","Sechzehntelfinale 5","ronde van 32 - 5","Sechzehntelfinale 5"]
[{"$nulls":3},6,"Sechzehntelfinale 6",null,"Round of 32 - 6","ronda de 32 - 6","girone di 32 - 6","32e de finale 6","Sechzehntelfinale 6","ronde van 32 - 6","Sechzehntelfinale 6"]
[{"$nulls":3},7,"Sechzehntelfinale 7",null,"Round of 32 - 7","ronda de 32 - 7","girone di 32 - 7","32e de finale 7","Sechzehntelfinale 7","ronde van 32 - 7","Sechzehntelfinale 7"]
[{"$nulls":3},8,"Sechzehntelfinale 8",null,"Round of 32 - 8","ronda de 32 - 8","girone di 32 - 8","32e de finale 8","Sechzehntelfinale 8","ronde van 32 - 8","Sechzehntelfinale 8"]
[{"$nulls":3},9,"Sechzehntelfinale 9",null,"Round of 32 - 9","ronda de 32 - 9","girone di 32 - 9","32e de finale 9","Sechzehntelfinale 9","ronde van 32 - 9","Sechzehntelfinale 9"]
[{"$nulls":3},10,"Sechzehntelfinale 10",null,"Round of 32 - 10","ronda de 32 - 10","girone di 32 - 10","32e de finale 10","Sechzehntelfinale 10","ronde van 32 - 10","Sechzehntelfinale 10"]
[{"$nulls":3},11,"Sechzehntelfinale 11",null,"Round of 32 - 11","ronda de 32 - 11","girone di 32 - 11","32e de finale 11","Sechzehntelfinale 11","ronde van 32 - 11","Sechzehntelfinale 11"]
[{"$nulls":3},12,"Sechzehntelfinale 12",null,"Round of 32 - 12","ronda de 32 - 12","girone di 32 - 12","32e de finale 12","Sechzehntelfinale 12","ronde van 32 - 12","Sechzehntelfinale 12"]
[{"$nulls":3},13,"Sechzehntelfinale 13",null,"Round of 32 - 13","ronda de 32 - 13","girone di 32 - 13","32e de finale 13","Sechzehntelfinale 13","ronde van 32 - 13","Sechzehntelfinale 13"]
[{"$nulls":3},14,"Sechzehntelfinale 14",null,"Round of 32 - 14","ronda de 32 - 14","girone di 32 - 14","32e de finale 14","Sechzehntelfinale 14","ronde van 32 - 14","Sechzehntelfinale 14"]
[{"$nulls":3},15,"Sechzehntelfinale 15",null,"Round of 32 - 15","ronda de 32 - 15","girone di 32 - 15","32e de finale 15","Sechzehntelfinale 15","ronde van 32 - 15","Sechzehntelfinale 15"]
[{"$nulls":3},16,"Sechzehntelfinale 16",null,"Round of 32 - 16","ronda de 32 - 16","girone di 32 - 16","32e de finale 16","Sechzehntelfinale 16","ronde van 32 - 16","Sechzehntelfinale 16"]
[{"$nulls":3},1,"Achtelfinale 1",null,"Round of 16 - 1","Octavos de final 1","Ottavi di finale 1","huitièmes de finale 1","Achtelfinale 1","Achtste finale 1","Achtelfinale 1"]
[{"$nulls":3},2,"Achtelfinale 2",null,"Round of 16 - 2","Octavos de final 2","Ottavi di finale 2","huitièmes de finale 2","Achtelfinale 2","Achtste finale 2","Achtelfinale 2"]
[{"$nulls":3},3,"Achtelfinale 3",null,"Round of 16 - 3","Octavos de final 3","Ottavi di finale 3","huitièmes de finale 3","Achtelfinale 3","Achtste finale 3","Achtelfinale 3"]
[{"$nulls":3},4,"Achtelfinale 4",null,"Round of 16 - 4","Octavos de final 4","Ottavi di finale 4","huitièmes de finale 4","Achtelfinale 4","Achtste finale 4","Achtelfinale 4"]
[{"$nulls":3},5,"Achtelfinale 5",null,"Round of 16 - 5","Octavos de final 5","Ottavi di finale 5","huitièmes de finale 5","Achtelfinale 5","Achtste finale 5","Achtelfinale 5"]
[{"$nulls":3},6,"Achtelfinale 6",null,"Round of 16 - 6","Octavos de final 6","Ottavi di finale 6","huitièmes de finale 6","Achtelfinale 6","Achtste finale 6","Achtelfinale 6"]
[{"$nulls":3},7,"Achtelfinale 7",null,"Round of 16 - 7","Octavos de final 7","Ottavi di finale 7","huitièmes de finale 7","Achtelfinale 7","Achtste finale 7","Achtelfinale 7"]
[{"$nulls":3},8,"Achtelfinale 8",null,"Round of 16 - 8","Octavos de final 8","Ottavi di finale 8","huitièmes de finale 8","Achtelfinale 8","Achtste finale 8","Achtelfinale 8"]
[{"$nulls":3},1,"Viertelfinale 1",null,"Quarter final 1","Cuartos de final 1","Quarti di finale 1","Quarts de finale 1","Viertelfinale 1","Kwart finale 1","Viertelfinale 1"]
[{"$nulls":3},2,"Viertelfinale 2",null,"Quarter final 2","Cuartos de final 2","Quarti di finale 2","Quarts de finale 2","Viertelfinale 2","Kwart finale 2","Viertelfinale 2"]
[{"$nulls":3},3,"Viertelfinale 3",null,"Quarter final 3","Cuartos de final 3","Quarti di finale 3","Quarts de finale 3","Viertelfinale 3","Kwart finale 3","Viertelfinale 3"]
[{"$nulls":3},4,"Viertelfinale 4",null,"Quarter final 4","Cuartos de final 4","Quarti di finale 4","Quarts de finale 4","Viertelfinale 4","Kwart finale 4","Viertelfinale 4"]
[{"$nulls":4},"Halbfinale 1",null,"Semi-Final 1","Semifinales 1","Semifinali 1","Demi-finales 1","Halbfinale 1","Halve finale 1","Halbfinale 1"]
[{"$nulls":4},"Halbfinale 2",null,"Semi-Final 2","Semifinales 2","Semifinali 2","Demi-finales 2","Halbfinale 2","Halve finale 2","Halbfinale 2"]
[{"$nulls":4},"Dritter Platz",null,"Third place","Tercer lugar","Terzo posto","Troisième place","Dritter Platz","Derde plaats","Dritter Platz"]
[{"$nulls":4},"Finale",null,"Final","Final","Finale","Final","Finale","Finale","Finale"]
[{"$nulls":4},"Bonus",null,"Bonus","Prima","Bonus","Prime","Bonus","Bonus","Bonus"]
[{"$nulls":4},"Elfmeterschießen:",null,"Penalty shoot-out:","Tiro de penalti:","Tiro di rigore:","Tirs au but :","Elfmeterschießen:","Penalties:","Elfmeterschießen:"]
[{"$nulls":4},"Name",null,"Name","Nombre","Nome","Nom","Name","Naam","Name"]
[{"$nulls":4},"Gruppen-kombination:",null,"Group combination:","Combinación de grupos:","Combinazione di gruppi:","Combinaison de groupes :","Gruppen-kombination:","Groeps-combinatie:","Gruppen-kombination:"]
[{"$nulls":4},"Erster der Gruppe",null,"First in Group","Primero del Grupo","Primo nel gruppo","Premier du groupe","Erster der Gruppe","Eerste in groep","Erster der Gruppe"]
[{"$nulls":4},"gegen Dritten der Gruppe",null,"against third of Group","contra la tercera parte del Grupo","contro il terzo del gruppo","contre le troisième du groupe","gegen Dritten der Gruppe","tegen derde in groep","gegen Dritten der Gruppe"]
[{"$nulls":4},"Gruppendritte",null,"Third in the group","Tercero del grupo","Terzo nel gruppo","Troisième du groupe","Gruppendritte","Derde van de groep","Gruppendritte"]
[{"$nulls":4},"Grp",null,"Grp","Grp","Grp","Grp","Grp","Grp","Grp"]
[{"$nulls":4},"Gruppenkombination:",null,"Group combination:","Combinación de grupos:","Combinazione di gruppi:","Combinaison de groupes :","Gruppenkombination:","Groepscombinatie:","Gruppenkombination:"]
[{"$nulls":4},"Nicht qualifiziert:",null,"Not qualified:","No está cualificado:","Non qualificato:","Non qualifié :","Nicht qualifiziert:","Niet gekwalificeerd:","Nicht qualifiziert:"]
[{"$nulls":4},"Fernsehsender",null,"TV channel","canal de televisión","canale tv","chaîne TV","Fernsehsender","tv kanaal","Fernsehsender"]
[{"$nulls":4},"Austragungsort",null,"Venue","Evento","Luogo","Lieu","Austragungsort","Locatie","Austragungsort"]
[{"$nulls":4},0]
[{"$nulls":4},0]
[{"$nulls":6},"Message"]
[{"$nulls":4},"Gruppen mit Fair-Play-Wertung:",null,"Groups with fair play valuation:","Grupos con valoración de fair play:","Gruppi con valutazione fair play:","Groupes avec valorisation fair-play :","Gruppen mit Fair-Play-Wertung:","Groepen met Fair-Play score:","Gruppen mit Fair-Play-Wertung:"]
[{"$nulls":4},"Die Platzierung ist in allen Gruppen geklärt.",null,"The placement has been clarified in all groups.","La ubicación se ha aclarado en todos los grupos.","Il posizionamento è stato chiarito in tutti i gruppi.","Le placement a été clarifié dans tous les groupes.","Die Platzierung ist in allen Gruppen geklärt.","De rangschikking is verduidelijkt in alle groepen.","Die Platzierung ist in allen Gruppen geklärt."]
[{"$nulls":4}," und ",null," and "," y "," e "," et "," und ","en"," und "]
[{"$nulls":4},"Unzulässiges Ergebnis!",null,"Invalid result!","¡Resultado no válido!","Risultato non valido","Résultat invalide !","Unzulässiges Ergebnis!","Ongeldig resultaat!","Unzulässiges Ergebnis!"]
[{"$nulls":4},"Entscheidet bei zwei Mannschaften die Fair-Play-Wertung oder das Los über die bessere Platzierung in der Gruppe, so wird hier für die bessere Mannschaft eine \"1\" eingetragen.",null,"In the case of two teams, if the fair play evaluation or the lottery decides on the better placement in the group, a \"1\" is entered here for the better team.","En el caso de dos equipos, si la clasificación de juego limpio o la lotería deciden la mejor ubicación en el grupo, aquí se ingresa un \"1\" para el mejor equipo.","Nel caso di due squadre, se la valutazione del fair play o la lotteria decidono il miglior piazzamento nel girone, qui viene inserito un \"1\" per la squadra migliore.","Dans le cas de deux équipes, si le classement du fair-play ou la loterie décide du meilleur placement dans le groupe, un \"1\" est inscrit ici pour la meilleure équipe.","Entscheidet bei zwei Mannschaften die Fair-Play-Wertung oder das Los über die bessere Platzierung in der Gruppe, so wird hier für die bessere Mannschaft eine \"1\" eingetragen.","In het geval van twee teams, als door toepassing van Fair-Play of loting bepaald wordt voor de betere kwalificatie in de groep, wordt hier een '1' geplaatst voor het betere team.","Entscheidet bei zwei Mannschaften die Fair-Play-Wertung oder das Los über die bessere Platzierung in der Gruppe, so wird hier für die bessere Mannschaft eine \"1\" eingetragen."]
[{"$nulls":4},"Hier klicken und\nZeitzone wählen:",null,"Click here and\nchoose time zone:","Seleccione\nla zona horaria:","Seleziona il\nfuso orario:","Sélectionnez le fuseau horaire :","Hier klicken und\nZeitzone wählen:","Klik hier en kies de tijdzone:","Hier klicken und\nZeitzone wählen:"]
[{"$nulls":4},"Zeitzone des\nGastgeberlandes:",null,"Time zone of\nthe host country:","Zona horaria\ndel país anfitrión:","Fuso orario del\npaese ospitante:","Fuseau horaire\nde l'hôte pays hôte :","Zeitzone des\nGastgeberlandes:","Tijdzone van het gastland:","Zeitzone des\nGastgeberlandes:"]
[{"$nulls":4},"Hier klicken und Sprache wählen:",null,"Click here and choose language:","Haga clic aquí y elija el idioma:","Clicca qui e scegli la lingua:","Cliquez ici et choisissez la langue :","Hier klicken und Sprache wählen:","Klik hier en kies de taal:","Hier klicken und Sprache wählen:"]
[{"$nulls":4}," : ",null," - "," - "," - "," - "," : "," : "," : "]
[{"$nulls":4},"Bei Sommerzeit muss die Zeitzone entsprechend angepasst werden (z. B. UTC+2 statt UTC+1)",null,"For daylight saving time, the time zone must be adjusted accordingly (e.g. UTC+2 instead of UTC+1)","Para el horario de verano, la zona horaria debe ajustarse en consecuencia (por ejemplo, UTC+2 en lugar de UTC+1)","Per l'ora legale, il fuso orario deve essere regolato di conseguenza (ad esempio UTC+2 invece di UTC+1)","Pour l'heure d'été, le fuseau horaire doit être ajusté en conséquence (par exemple, UTC+2 au lieu de UTC+1)","Bei Sommerzeit muss die Zeitzone entsprechend angepasst werden (z. B. UTC+2 statt UTC+1)","De tijdzone moet dienovereenkomstig worden aangepast voor de zomertijd (b.v. UTC+2 in plaats van UTC+1).","Bei Sommerzeit muss die Zeitzone entsprechend angepasst werden (z. B. UTC+2 statt UTC+1)"]
[{"$nulls":4},0]
[]
[{"$nulls":6},"Predictions"]
[{"$nulls":4},"Vorhersagen",null,"Predictions","Predicciones","Predizioni","Prédictions","Vorhersagen","Voorspellingen","Meine Tipps"]
[{"$nulls":4},"Korrekte Ergebnisse",null,"Correct Results","Resultados correctos","Risultati corretti","Résultats corrects","Korrekte Ergebnisse","Juiste resultaten","Korrekte Ergebnisse"]
[{"$nulls":4},"Ergebn.",null,"Result","result.","risult.","résult.","Ergebn.","Resultaten","Ergebn."]
[{"$nulls":4},"Punkte:",null,"Points:","Puntos:","Punti:","Points:","Punkte:","Punten:","Punkte:"]
[{"$nulls":4},"Summe:",null,"Sum:","Total:","Totale:","Total:","Summe:","Totaal:","Summe:"]
[{"$nulls":4},"Ergebn.",null,"Result","Result.","Risult.","Résult.","Ergebn.","Result.","Ergebnis\nTipp"]
[{"$nulls":4},"G/U/V",null,"W/D/L","G/E/P","V/P/S","G/N/D","G/U/V","W/G/V","1/X/2"]
[{"$nulls":4},"TD",null,"GD","DDG","DR","DDB","TD","DS","Tordiff."]
[{"$nulls":4},"exakt",null,"exact","exact.","esatt.","exact.","exakt","exact","exakt"]
[{"$nulls":4},"Teams",null,"teams","equip.","squad.","équip.","Teams","teams","Teams"]
[{"$nulls":4},{"$f":"IF($C$3,G206,IF($C$4,H206,IF($C$5,I206,IF($C$6,J206,IF($C$7,K206,IF($C$8,L206,IF(M206<>\"\",M206,G206)))))))","v":"Sechzehntelfinale"},null,"Round of 32","Ronda de 32","girone di 32","16es de finale","Sechzehntelfinale","Zestiende finale","Sechzehntelfinale"]
[{"$nulls":4},"Achtelfinale",null,"Round of 16","Octavos de final","Ottavi di finale","huitièmes de finale","Achtelfinale","Achtste finale","Achtelfinale"]
[{"$nulls":4},"Viertelfinale",null,"Quarter final","Cuartos de final","Quarti di finale","Quarts de finale","Viertelfinale","Kwart finale","Viertelfinale"]
[{"$nulls":4},"Halbfinale",null,"Semi-Final","Semifinales","Semifinali","Demi-finales","Halbfinale","Halve finale","Halbfinale"]
[{"$nulls":4},"Dritter Platz",null,"Third place","Tercer lugar","Terzo posto","Troisième place","Dritter Platz","Derde plaats","Dritter Platz"]
[{"$nulls":4},"Finale",null,"Final","Final","Finale","Final","Finale","Finale","Finale"]
[{"$nulls":4},"Weltmeister",null,"World Champion","Campeón del Mundo","Campione del mondo","Champion du monde","Weltmeister","Wereldkampioen","Mein Weltmeister"]
[{"$nulls":4},"Vize-Weltmeister",null,"2nd Place","Vice-Campeón","Vice-Campeone","Vice Champion","Vize-Weltmeister","Vive-Wereldkampioen","Vize-Weltmeister"]
[{"$nulls":4},"Platz 3",null,"3rd Place","Tercer lugar","Terzo posto","Troisième place","Platz 3","3e Plaats","Platz 3"]
[{"$nulls":4},"Hinweis",null,"Hint","Noticia","Avviso","Avis","Hinweis","Opmerking:","Hinweis"]
[{"$nulls":4},"Faktoren",null,"Factors","Factores","Fattori","Facteurs","Faktoren","Factoren","Faktoren"]
[{"$nulls":4},"Einstellungen",null,"Settings","Ajustes","Impostazioni","paramètres","Einstellungen","Instellingen","Einstellungen"]
[{"$nulls":4},"gr. Anz.",null,"many g.","gr. cant.","gr. num.","gr. nom.","gr. Anz.","grote aant.","gr. Anz."]
[{"$nulls":4},"Gewonnen/Unentschieden/Verloren:",null,"Won/Draw/Loss:","Ganado/Empatado/Perdido:","Vinto/Pareggio/Sconfitta:","Gagné/Nul/Défaite :","Gewonnen/Unentschieden/Verloren:","Gewonnen/Gelijkspel/Verloren:","Gewonnen/Unentschieden/Verloren:"]
[{"$nulls":4},"Tordifferenz:",null,"goal difference:","diferencia de goles:","differenza reti:","différence de buts:","Tordifferenz:","verschil in doelpunten","Tordifferenz:"]
[{"$nulls":4},"Viele Tore - gute Annäherung",null,"Many goals - good approximation","Gran cantidad de goles - buena aproximación","Gran numero di gol - buona approssimazione","Grand nombre de buts - bonne approximation","Viele Tore - gute Annäherung","Veel doelpunten - goede voorspelling","Viele Tore - gute Annäherung"]
[{"$nulls":4},"Tore exakt:",null,"goals exact:","goles exactamente:","numero di gol è esatto:","nombre de buts correct:","Tore exakt:","exact aantal doelpunten","Tore exakt:"]
[{"$nulls":4},"korrektes Team (KO-Phase):",null,"correct team (knockout phase):","equipo correcto (fase eliminatoria):","squadra corretto (fase a eliminazione diretta):","équipe correct (phase à élimination directe) :","korrektes Team (KO-Phase):","juiste voorspelling van team dat achtste finales bereikt","korrektes Team (KO-Phase):"]
[{"$nulls":4},"Um zum Beispiel zehn weitere Personen hinzuzufügen, selektiere die Spalten HI bis MG und kopiere sie nach rechts. Fertig. (Blattschutz entfernen!)",null,"For example, to add ten more people, select columns HI through MG and copy them to the right. Finished.\n(Remove sheet protection!)","Por ejemplo, para agregar diez personas más, seleccione las columnas HI a MG y cópielas a la derecha. Acabado.\n(¡Quitar la protección de la hoja!)","Ad esempio, per aggiungere altre dieci persone, seleziona le colonne da HI a MG e copiale a destra. Finito.\n(Rimuovere la protezione del foglio!)","Par exemple, pour ajouter dix personnes supplémentaires, sélectionnez les colonnes HI à MG et copiez-les à droite. Achevé. (Retirez la protection de la feuille !)","Um zum Beispiel zehn weitere Personen hinzuzufügen, selektiere die Spalten HI bis MG und kopiere sie nach rechts. Fertig. (Blattschutz entfernen!)","Als u bijvoorbeeld nog tien mensen wilt toevoegen, selecteert u de kolommen HI tot en met MG en kopieert u deze naar rechts. Afgerond. (Bladbescherming verwijderen!)","Um zum Beispiel zehn weitere Personen hinzuzufügen, selektiere die Spalten HI bis MG und kopiere sie nach rechts. Fertig. (Blattschutz entfernen!)"]
[{"$nulls":4},"Um die Teams in der KO-Runde vorherzusagen, gib in den gelben Feldern die Nummern der Teams ein.",null,"To predict the teams in the KO round, enter the team numbers in the yellow fields.","Para predecir los equipos en la ronda KO, ingrese los números de equipo en los campos amarillos.","Per pronosticare le squadre nel girone KO, inserisci i numeri delle squadre nei campi gialli.","Pour prédire les équipes dans le tour KO, entrez les numéros d'équipe dans les champs jaunes.","Um die Teams in der KO-Runde vorherzusagen, gib in den gelben Feldern die Nummern der Teams ein.","Om de teams te voorspellen die de achtste finales halen, plaats de teamnummers in de gele cellen.","Um die Teams in der KO-Runde vorherzusagen, gib in den gelben Feldern die Nummern der Teams ein."]
[{"$nulls":4},"Auf dem Tabellenblatt 'PrSettings' können die Faktoren für die einzelnen Kategorien und weitere Voreinstellungen gewählt werden.",null,"The factors for the individual categories and other presettings can be selected on the 'PrSettings' worksheet.","Los factores para las categorías individuales y otras configuraciones predeterminadas se pueden seleccionar en la hoja de cálculo 'PrSettings'.","I fattori per le singole categorie e altre preimpostazioni possono essere selezionati nel foglio di calcolo 'PrSettings'.","Les facteurs pour les catégories individuelles et d'autres préréglages peuvent être sélectionnés sur la feuille de calcul 'PrSettings'.","Auf dem Tabellenblatt 'PrSettings' können die Faktoren für die einzelnen Kategorien und weitere Voreinstellungen gewählt werden.","De factoren voor de individuele categorieën en andere instellingen vóóraf kunnen opgevoerd worden op het tabblad: 'Prsettings'.","Auf dem Tabellenblatt 'PrSettings' können die Faktoren für die einzelnen Kategorien und weitere Voreinstellungen gewählt werden."]
[{"$nulls":4},"Zugriff auf die Datei",null,"Access to file","Acceso al archivo","Accedere al fascicolo","Accéder au dossier","Zugriff auf die Datei","Toegang tot de data","Zugriff auf die Datei"]
[{"$nulls":4},"Tabellenblatt",null,"Worksheet","Hoja de cálculo","Foglio di calcolo","Feuille de calcul","Tabellenblatt","Tabblad","Tabellenblatt"]
[{"$nulls":4},"Gewinner im Finale/Dritter Platz:",null,"Final/Third-Place Winner:","Ganador final/tercer lugar:","Vincitore finale/terzo posto:","Gagnant de la finale/troisième place:","Gewinner im Finale/Dritter Platz:","Finale/derde plaats winnaar:","Gewinner im Finale/Dritter Platz:"]
[{"$nulls":4},"Punkte für die Tordifferenz bei Unentschieden:",null,"Points for goal difference in the event of a tie:","Puntos por diferencia de goles en caso de empate:","Punti per differenza reti in caso di parità:","Points pour la différence de buts en cas d'égalité :","Punkte für die Tordifferenz bei Unentschieden:","Punten voor verschil in doelpunten bij een gelijkspel:","Punkte für die Tordifferenz bei Unentschieden:"]
[{"$nulls":4},"ja",null,"yes","sí","sì","oui","ja","ja","ja"]
[{"$nulls":4},"nein",null,"no","no","no","non","nein","nee","nein"]
[{"$nulls":4},"Mindestanzahl für 'Viele Tore' bei Unentschieden:",null,"Minimum number for 'Many Goals' in the event of a tie:","Número mínimo para 'Muchos Goles' en caso de empate:","Numero minimo per 'Molti gol' in caso di parità:","Nombre min. pour 'de nombreux buts' dans une égalité :","Mindestanzahl für 'Viele Tore' bei Unentschieden:","min. aantal goals voor de keuze: 'veel doelpunten' (bij gelijkspel):","Mindestanzahl für 'Viele Tore' bei Unentschieden:"]
[{"$nulls":4},"Mindestanzahl für eine große Tordifferenz:",null,"Minimum number for a large goal difference:","Número mínimo para una gran diferencia de goles:","Numero minimo per una grande differenza reti:","Nombre minimum pour une grande différence de buts :","Mindestanzahl für eine große Tordifferenz:","min. aantal goals voor de keuze: 'groot verschil in doelpunten':","Mindestanzahl für eine große Tordifferenz:"]
[{"$nulls":4},"Sind viele Tore gefallen, kann man auch Punkte für eine gute Annäherung an das Ergebnis vergeben. Es gibt 3 Fälle:\na) Abweichung von maximal 1 Tor bei einem Unentschieden\nb) Abweichung von maximal 1 Tor bei der Tordifferenz\nc) Abweichung von maximal 1 Tor bei einer der beiden Mannschaften.\nWer das nicht möchte, kann beim entsprechenden Faktor eine Null eintragen.\nMan kann auch einzelne Optionen deaktivieren, indem man eine Mindestanzahl von 99 einträgt.",null,"If many goals have been scored, points can also be awarded for a good approximation of the result. There are 3 cases:\na) Deviation from a maximum of 1 goal in the event of a tie\nb) Deviation from a maximum of 1 goal in goal difference\nc) Deviation of a maximum of 1 goal for either team.\nIf you don't want that, you can enter a zero for the relevant factor.\nYou can also deactivate individual options by entering a minimum of 99.","Si se han marcado muchos goles, también se pueden otorgar puntos por una buena aproximación del resultado. Hay 3 casos:\na) Desviación de un máximo de 1 gol en caso de empate\nb) Desviación de un máximo de 1 gol en la diferencia de goles\nc) Desviación de un máximo de 1 gol para cualquiera de los equipos.\nSi no desea eso, puede ingresar un cero para el factor relevante.\nTambién puede desactivar opciones individuales ingresando un mínimo de 99.","Se sono stati segnati molti gol, possono essere assegnati anche punti per una buona approssimazione del risultato. Ci sono 3 casi:\na) Deviazione da un massimo di 1 goal in caso di parità\nb) Deviazione da un massimo di 1 gol in differenza reti\nc) Deviazione di un massimo di 1 goal per ciascuna squadra.\nSe non lo desideri, puoi inserire uno zero per il fattore rilevante.\nPuoi anche disattivare singole opzioni inserendo un minimo di 99.","Si de nombreux buts ont été marqués, des points peuvent également être attribués pour une bonne approximation du résultat. Il y a 3 cas :\na) Déviation d'un maximum de 1 but en cas d'égalité\nb) Déviation d'un maximum de 1 but dans la différence de buts\nc) Déviation d'un maximum de 1 but pour chaque équipe.\nSi vous ne le souhaitez pas, vous pouvez entrer un zéro pour le facteur pertinent.\nVous pouvez également désactiver des options individuelles en entrant un minimum de 99.","Sind viele Tore gefallen, kann man auch Punkte für eine gute Annäherung an das Ergebnis vergeben. Es gibt 3 Fälle:\na) Abweichung von maximal 1 Tor bei einem Unentschieden\nb) Abweichung von maximal 1 Tor bei der Tordifferenz\nc) Abweichung von maximal 1 Tor bei einer der beiden Mannschaften.\nWer das nicht möchte, kann beim entsprechenden Faktor eine Null eintragen.\nMan kann auch einzelne Optionen deaktivieren, indem man eine Mindestanzahl von 99 einträgt.","Als er veel gescoord is, kunnen ook punten toegekend worden voor de 'meest dichtbij' voorspelling. Er zijn 3 voorgeprogrammeerde situaties waarin dat kan gebeuren:\na) het verschil m.b.t. het voorspelde totaal aantal doelpunten bij een gelijkspel is maximaal 1;\nb) het verschil m.b.t. het voorspelde verschil in doelpunten is maximaal 1;\nc) het verschil tussen resultaat en voorspelling van max. 1 doelpunt, geldt voor beide teams.\nOm deze optie uit te zetten: kies '0' bij bovenstaande factoren, of vul '99' in waardoor de individuele opties uitgezet worden.","Sind viele Tore gefallen, kann man auch Punkte für eine gute Annäherung an das Ergebnis vergeben. Es gibt 3 Fälle:\na) Abweichung von maximal 1 Tor bei einem Unentschieden\nb) Abweichung von maximal 1 Tor bei der Tordifferenz\nc) Abweichung von maximal 1 Tor bei einer der beiden Mannschaften.\nWer das nicht möchte, kann beim entsprechenden Faktor eine Null eintragen.\nMan kann auch einzelne Optionen deaktivieren, indem man eine Mindestanzahl von 99 einträgt."]
[{"$nulls":4},"Sollen bei Unentschieden Punkte für die Tordifferenz vergeben werden?\nViele sind es so gewohnt. Aber aus logischen Gründen sind dies geschenkte Punkte, weil in diesem Fall die Tordifferenz automatisch richtig ist. In den Einstellungen oben kann man sich deshalb für 'ja' oder 'nein' entscheiden.",null,"In the event of a tie, should points be awarded for goal difference?\nMany are used to it. But for logical reasons these are free points because in this case the goal difference is automatically correct. In the settings above you can therefore choose 'yes' or 'no'.","En caso de empate, ¿se deben otorgar puntos por diferencia de goles?\nMuchos están acostumbrados. Pero por razones lógicas estos son puntos gratis porque en este caso la diferencia de goles es automáticamente correcta. En la configuración anterior, por lo tanto, puede elegir 'sí' o 'no'.","In caso di parità, i punti dovrebbero essere assegnati per differenza reti?\nMolti ci sono abituati. Ma per ragioni logiche si tratta di punti gratis perché in questo caso la differenza reti è automaticamente giusta. Nelle impostazioni sopra puoi quindi scegliere 'sì' o 'no'.","En cas d'égalité, faut-il attribuer des points pour la différence de buts ?\nBeaucoup y sont habitués. Mais pour des raisons logiques ce sont des points gratuits car dans ce cas la différence de buts est automatiquement bonne. Dans les paramètres ci-dessus, vous pouvez donc choisir 'oui' ou 'non'.","Sollen bei Unentschieden Punkte für die Tordifferenz vergeben werden?\nViele sind es so gewohnt. Aber aus logischen Gründen sind dies geschenkte Punkte, weil in diesem Fall die Tordifferenz automatisch richtig ist. In den Einstellungen oben kann man sich deshalb für 'ja' oder 'nein' entscheiden.","Moet er, in het geval van een gelijkspel, punten worden toegekend voor een voorspeld 'geen verschil in doelpunten'? Vaak wel. Maar logischerwijs is bij een gelijkspel het verschil altijd '0'...en zijn dit dus bonuspunten die niet bij een voorspelde winst of verlies toegekend worden. U kunt deze optie desgewenst kiezen door hierboven 'ja' te kiezen, anders 'nee'.","Sollen bei Unentschieden Punkte für die Tordifferenz vergeben werden?\nViele sind es so gewohnt. Aber aus logischen Gründen sind dies geschenkte Punkte, weil in diesem Fall die Tordifferenz automatisch richtig ist. In den Einstellungen oben kann man sich deshalb für 'ja' oder 'nein' entscheiden."]
[{"$nulls":4},"Mindestanzahl für eine große Summe an Toren:",null,"Minimum number for a large sum of goals:","Número mínimo para una gran suma de goles:","Numero minimo per una grande somma di obiettivi:","Nombre minimum pour une grande somme de buts :","Mindestanzahl für eine große Summe an Toren:","Hoeveel doelpunten worden minimaal bedoeld bij de keuze: 'veel doelpunten'?","Mindestanzahl für eine große Summe an Toren:"]
[{"$nulls":4},"Im Achtelfinale, Viertelfinale und Halbfinale wird das Ergebnis ohne Elfmeterschießen vorhergesagt. Es kann also auch ein Unentschieden eingetragen werden. Im Finale und im Spiel um den dritten Platz muss das Gesamtergebnis (mit Elfmeterschießen) eingetragen werden.",null,"In the round of 16, quarter-finals and semi-finals, the result is predicted without a penalty shoot-out. A tie can also be entered. In the final and third-place match, the total score (including penalty shoot-outs) must be entered.","En los octavos de final, cuartos de final y semifinales, el resultado se pronostica sin tanda de penaltis. También se puede ingresar un empate. En la final y el partido por el tercer puesto, se debe anotar el resultado global (incluidas las tandas de penaltis).","Negli ottavi di finale, quarti di finale e semifinale, si pronostica il risultato senza calci di rigore. È possibile inserire anche un pareggio. Nella finale e nella gara per il terzo posto deve essere inserito il risultato complessivo (inclusi i calci di rigore).","En huitièmes de finale, quarts de finale et demi-finales, le résultat est pronostiqué sans tirs au but. Une égalité peut également être inscrite. Lors de la finale et du match pour la troisième place, le résultat global (y compris les tirs au but) doit être inscrit.","Im Achtelfinale, Viertelfinale und Halbfinale wird das Ergebnis ohne Elfmeterschießen vorhergesagt. Es kann also auch ein Unentschieden eingetragen werden. Im Finale und im Spiel um den dritten Platz muss das Gesamtergebnis (mit Elfmeterschießen) eingetragen werden.","In de achtste-, kwart- en halve finales worden voorspellingen gedaan zonder rekening te houden met een beslissing door penalties. Ook kan een gelijkspel voorspeld worden. Voor de wedstrijd om de derde plaats en de finale moet de voorspelde totaalscore (dus incl. een evt. beslissing door penalties) opgeggeven worden.","Im Achtelfinale, Viertelfinale und Halbfinale wird das Ergebnis ohne Elfmeterschießen vorhergesagt. Es kann also auch ein Unentschieden eingetragen werden. Im Finale und im Spiel um den dritten Platz muss das Gesamtergebnis (mit Elfmeterschießen) eingetragen werden."]
[{"$nulls":4},"Anzahl:",null,"Number:","Número:","Numero:","Nombre:","Anzahl:","Nummer:","Anzahl:"]
[{"$nulls":4},0]
[{"$nulls":4},0]
[]
[{"$nulls":6},"Daily schedule"]
[{"$nulls":4},{"$f":"IF($C$3,G244,IF($C$4,H244,IF($C$5,I244,IF($C$6,J244,IF($C$7,K244,IF($C$8,L244,IF(M244<>\"\",M244,G244)))))))","v":"Täglicher Spielplan"},null,"Daily schedule","Horario diario","Programma giornaliero","Horaire quotidien","Täglicher Spielplan","Dagelijkse planning","Täglicher Spielplan"]
[{"$nulls":4},"Spiel Nr.",null,"Match No.","Partido no.","Partita n.","Match non.","Spiel Nr.","Spel nr","Spiel Nr."]
[{"$nulls":4},"Teams",null,"Teams","equipos","Squadre","Équipes","Teams","Teams","Teams"]
[{"$nulls":4},"Zeit",null,"Time","Tiempo","Tempo","Temps","Zeit","Tijd","Zeit"]
[{"$nulls":4},"Team 1",null,"Team 1","Equipo 1","Squadra 1","Equipe 1","Team 1","Team 1","Team 1"]
[{"$nulls":4},"Team 2",null,"Team 2","Equipo 2","Squadra 2","Equipe 2","Team 2","Team 2","Team 2"]
[{"$nulls":4},"Sechzehntelfinale",null,"Round of 32","ronda de 32","girone di 32","32e de finale","Sechzehntelfinale","ronde van 32","Sechzehntelfinale"]
[{"$nulls":4},"Achtelfinale",null,"Round of 16","Octavos de final","Ottavi di finale","Huitièmes de finale","Achtelfinale","Achtste finale","Achtelfinale"]
[{"$nulls":4},"Viertelfinale",null,"Quarter final","Cuartos de final","Quarti di finale","Quarts de finale","Viertelfinale","Kwart finale","Viertelfinale"]
[{"$nulls":4},"Halbfinale",null,"Semi-Final","Semifinales","Semifinali","Demi-finales","Halbfinale","Halve finale","Halbfinale"]
[{"$nulls":4},"Datum",null,"Date","Fecha","Data","Date","Datum","Datum","Datum"]
[{"$nulls":4},"Favoriten einfärben",null,"Color favorites","Colorea los favoritos","Colora i preferiti","Colorier les favoris","Favoriten einfärben","Kleur de favorieten","Favoriten einfärben"]
[{"$nulls":4},{"$f":"IF($C$3,G256,IF($C$4,H256,IF($C$5,I256,IF($C$6,J256,IF($C$7,K256,IF($C$8,L256,IF(M256<>\"\",M256,G256)))))))","v":"Hier den Gruppencode eingeben"},null,"Enter the group code here","Introduzca el código de grupo aquí","Inserisci qui il codice del gruppo","Entrez le code du groupe ici","Hier den Gruppencode eingeben","Vul hier de groepscode in","Hier den Gruppencode eingeben"]
[{"$nulls":4},{"$f":"IF($C$3,G257,IF($C$4,H257,IF($C$5,I257,IF($C$6,J257,IF($C$7,K257,IF($C$8,L257,IF(M257<>\"\",M257,G257)))))))","v":0}]

{"sheet":"FIFA Rangliste","index":9,"n_rows":151,"n_cols":10,"rows_kept":151,"hidden":true}
[null,"Nation","Kadergröße","ø-Alter","Gesamtwert","Konföderation","Punkte"]
["1  "," Frankreich",25,26.9,"1,36 Mrd. €","UEFA",1877,null,"Mexiko",15]
["2  "," Spanien",27,26.6,"1,31 Mrd. €","UEFA",1876,null,"Südafrika",60]
["3  "," Argentinien",29,27.9,"761,20 Mio. €","CONMEBOL",1875,null,"Südkorea",25]
["4  "," England",35,27.2,"1,62 Mrd. €","UEFA",1826,null,"Tschechien",41]
["5  "," Portugal",26,27,"864,50 Mio. €","UEFA",1764,null,"Kanada",30]
["6  "," Brasilien",24,27,"778,50 Mio. €","CONMEBOL",1761,null,"Bosnien-Herzeg.",65]
["7  "," Niederlande",25,27,"766,00 Mio. €","UEFA",1758,null,"Katar",55]
["8  "," Marokko",29,25.1,"456,00 Mio. €","CAF",1756,null,"Schweiz",19]
["9  "," Belgien",25,26.5,"534,20 Mio. €","UEFA",1735,null,"Brasilien",6]
["10  "," Deutschland",25,27.9,"773,50 Mio. €","UEFA",1730,null,"Marokko",8]
["11  "," Kroatien",26,28.2,"282,30 Mio. €","UEFA",1717,null,"Haiti",83]
["12  "," Italien",28,26.5,"833,50 Mio. €","UEFA",1700,null,"Schottland",43]
["13  "," Kolumbien",26,29.7,"300,50 Mio. €","CONMEBOL",1693,null,"USA",16]
["14  "," Senegal",28,26.8,"474,00 Mio. €","CAF",1689,null,"Paraguay",40]
["15  "," Mexiko",26,27.8,"165,80 Mio. €","CONCACAF",1681,null,"Australien",27]
["16  "," USA",27,26.3,"356,70 Mio. €","CONCACAF",1673,null,"Türkei",22]
["17  "," Uruguay",28,28.4,"366,45 Mio. €","CONMEBOL",1673,null,"Deutschland",10]
["18  "," Japan",27,26.3,"264,20 Mio. €","AFC",1660,null,"Curacao",82]
["19  "," Schweiz",26,27.9,"322,10 Mio. €","UEFA",1649,null,"Elfenbeinküste",34]
["20  "," Dänemark",25,26.4,"375,00 Mio. €","UEFA",1621,null,"Ecuador",23]
["21  "," Iran",33,29.3,"36,78 Mio. €","AFC",1615,null,"Niederlande",7]
["22  "," Türkei",28,27.7,"440,20 Mio. €","UEFA",1599,null,"Japan",18]
["23  "," Ecuador",32,25.9,"366,73 Mio. €","CONMEBOL",1595,null,"Schweden",38]
["24  "," Österreich",28,28.3,"263,40 Mio. €","UEFA",1593,null,"Tunesien",44]
["25  "," Südkorea",26,28.1,"136,75 Mio. €","AFC",1589,null,"Belgien",9]
["26  "," Nigeria",23,27.5,"209,08 Mio. €","CAF",1585,null,"Ägypten",29]
["27  "," Australien",26,27,"50,48 Mio. €","AFC",1581,null,"Iran",21]
["28  "," Algerien",26,25.9,"227,75 Mio. €","CAF",1564,null,"Neuseeland",85]
["29  "," Ägypten",26,28.9,"108,00 Mio. €","CAF",1563,null,"Spanien",2]
["30  "," Kanada",26,26.4,"129,88 Mio. €","CONCACAF",1556,null,"Kapverde",69]
["31  "," Norwegen",24,26.9,"504,00 Mio. €","UEFA",1551,null,"Saudiarabien",61]
["32  "," Ukraine",26,26.6,"261,70 Mio. €","UEFA",1547,null,"Uruguay",17]
["33  "," Panama",23,29.5,"32,40 Mio. €","CONCACAF",1541,null,"Frankreich",1]
["34  "," Elfenbeinküste",25,25.8,"425,90 Mio. €","CAF",1533,null,"Senegal",14]
["35  "," Polen",25,27.6,"214,50 Mio. €","UEFA",1528,null,"Irak",57]
["36  "," Russland",29,26.3,"205,30 Mio. €","UEFA",1526,null,"Norwegen",31]
["37  "," Wales",25,26.8,"197,95 Mio. €","UEFA",1524,null,"Argentinien",3]
["38  "," Schweden",26,26.3,"363,98 Mio. €","UEFA",1515,null,"Algerien",28]
["39  "," Serbien",28,26.7,"298,50 Mio. €","UEFA",1509,null,"Österreich",24]
["40  "," Paraguay",26,29.1,"143,85 Mio. €","CONMEBOL",1504,null,"Jordanien",63]
["41  "," Tschechien",25,28,"180,80 Mio. €","UEFA",1501,null,"Portugal",5]
["42  "," Ungarn",25,26.4,"205,60 Mio. €","UEFA",1501,null,"DR Kongo",46]
["43  "," Schottland",26,28.6,"198,15 Mio. €","UEFA",1498,null,"Usbekistan",50]
["44  "," Tunesien",29,25.4,"52,00 Mio. €","CAF",1483,null,"Kolumbien",13]
["45  "," Kamerun",23,24.7,"197,40 Mio. €","CAF",1481,null,"England",4]
["46  "," DR Kongo",26,28.3,"153,40 Mio. €","CAF",1478,null,"Kroatien",11]
["47  "," Griechenland",24,26.5,"288,10 Mio. €","UEFA",1476,null,"Ghana",74]
["48  "," Slowakei",27,28.5,"130,45 Mio. €","UEFA",1474,null,"Panama",33]
["49  "," Venezuela",28,26.3,"62,08 Mio. €","CONMEBOL",1468]
["50  "," Usbekistan",26,27.8,"63,75 Mio. €","AFC",1465]
["51  "," Costa Rica",23,24.8,"18,70 Mio. €","CONCACAF",1460]
["52  "," Mali",24,25.9,"35,70 Mio. €","CAF",1459]
["53  "," Peru",24,26.7,"28,75 Mio. €","CONMEBOL",1456]
["54  "," Chile",26,25.2,"72,70 Mio. €","CONMEBOL",1455]
["55  "," Katar",25,27.8,"18,30 Mio. €","AFC",1455]
["56  "," Rumänien",26,27.7,"97,20 Mio. €","UEFA",1451]
["57  "," Irak",28,26.5,"19,18 Mio. €","AFC",1447]
["58  "," Slowenien",25,26.9,"142,85 Mio. €","UEFA",1446]
["59  "," Irland",26,27.2,"185,25 Mio. €","UEFA",1437]
["60  "," Südafrika",23,26.8,"41,15 Mio. €","CAF",1430]
["61  "," Saudi-Arabien",23,27.8,"27,63 Mio. €","AFC",1421]
["62  "," Burkina Faso",24,24.9,"120,33 Mio. €","CAF",1412]
["63  "," Jordanien",26,27,"15,98 Mio. €","AFC",1391]
["64  "," Albanien",23,28.2,"81,75 Mio. €","UEFA",1388]
["65  "," Bosnien",24,26.9,"127,10 Mio. €","UEFA",1386]
["66  "," Honduras",26,25.2,"16,40 Mio. €","CONCACAF",1380]
["67  "," Nordmazedonien",26,28.6,"38,70 Mio. €","UEFA",1372]
["68  "," VAE",24,26.5,"31,13 Mio. €","AFC",1370]
["69  "," Kap Verde",36,28.4,"45,15 Mio. €","CAF",1366]
["70  "," Nordirland",28,25.3,"80,15 Mio. €","UEFA",1362]
["71  "," Jamaika",27,27.5,"53,83 Mio. €","CONCACAF",1358]
["72  "," Georgien",23,26.3,"195,30 Mio. €","UEFA",1350]
["73  "," Finnland",23,25.8,"41,40 Mio. €","UEFA",1346]
["74  "," Ghana",25,26.7,"199,28 Mio. €","CAF",1346]
["75  "," Island",23,27.7,"74,03 Mio. €","UEFA",1345]
["76  "," Bolivien",28,24.8,"18,63 Mio. €","CONMEBOL",1329]
["77  "," Israel",25,26.2,"85,90 Mio. €","UEFA",1328]
["78  "," Kosovo",25,27.5,"114,28 Mio. €","UEFA",1319]
["79  "," Oman",22,28.4,"6,10 Mio. €","AFC",1313]
["80  "," Guinea",25,25,"73,00 Mio. €","CAF",1300]
["81  "," Montenegro",26,28.3,"60,13 Mio. €","UEFA",1296]
["82  "," Curaçao",26,27.9,"28,38 Mio. €","CONCACAF",1295]
["83  "," Haiti",25,27.7,"55,10 Mio. €","CONCACAF",1292]
["84  "," Syrien",18,27.1,"7,20 Mio. €","AFC",1289]
["85  "," Neuseeland",23,27.4,"22,20 Mio. €","OFC",1282]
["86  "," Bulgarien",24,25,"29,75 Mio. €","UEFA",1279]
["87  "," Gabun",34,27.6,"34,48 Mio. €","CAF",1273]
["88  "," Uganda",28,27.9,"8,63 Mio. €","CAF",1264]
["89  "," Angola",27,29.2,"52,70 Mio. €","CAF",1263]
["90  "," Benin",24,26.2,"16,90 Mio. €","CAF",1259]
["91  "," Bahrain",24,29.4,"6,23 Mio. €","AFC",1259]
["92  "," Sambia",23,28.6,"12,90 Mio. €","CAF",1256]
["93  "," Thailand",23,29,"8,40 Mio. €","AFC",1252]
["94  "," China",26,26.5,"12,48 Mio. €","AFC",1252]
["95  "," Palästina",23,27.1,"6,88 Mio. €","AFC",1245]
["96  "," Guatemala",21,25.1,"5,38 Mio. €","CONCACAF",1243]
["97  "," Belarus",23,26.5,"14,30 Mio. €","UEFA",1236]
["98  "," Luxemburg",24,26.4,"32,90 Mio. €","UEFA",1228]
["99  "," Vietnam",23,28,"6,38 Mio. €","AFC",1226]
["100  "," El Salvador",23,25.7,"9,75 Mio. €","CONCACAF",1225]
["101  "," Mosambik",28,29.1,"30,10 Mio. €","CAF",1224]
["102  "," Trinidad",25,24.6,"10,10 Mio. €","CONCACAF",1223]
["103  "," Tadschikistan",25,25.7,"7,78 Mio. €","AFC",1222]
["104  "," Madagaskar",25,27.7,"8,18 Mio. €","CAF",1204]
["105  "," Äquat'guinea",19,26.3,"12,03 Mio. €","CAF",1195]
["106  "," Armenien",25,24.7,"40,38 Mio. €","UEFA",1191]
["107  "," Kirgisistan",32,25.4,"7,58 Mio. €","AFC",1191]
["108  "," Libanon",23,28.8,"6,45 Mio. €","AFC",1188]
["109  "," Komoren",21,23.8,"3,28 Mio. €","CAF",1188]
["110  "," Kasachstan",27,26.3,"17,70 Mio. €","UEFA",1183]
["111  "," Kenia",23,25.8,"11,78 Mio. €","CAF",1182]
["112  "," Libyen",19,26.4,"11,43 Mio. €","CAF",1182]
["113  "," Tansania",25,26.2,"7,40 Mio. €","CAF",1180]
["114  "," Niger",23,26.3,"10,05 Mio. €","CAF",1180]
["115  "," Mauretanien",26,26.5,"24,33 Mio. €","CAF",1171]
["116  "," Gambia",22,25.2,"72,58 Mio. €","CAF",1160]
["117  "," Sudan",27,29.1,"3,30 Mio. €","CAF",1157]
["118  "," Nordkorea",29,25.7,"6,85 Mio. €","AFC",1151]
["119  "," Sierra Leone",25,24.8,"13,55 Mio. €","CAF",1149]
["120  "," Namibia",23,27.1,"2,08 Mio. €","CAF",1149]
["121  "," Togo",25,25.5,"29,75 Mio. €","CAF",1147]
["122  "," Indonesien",23,26.4,"30,68 Mio. €","AFC",1145]
["123  "," Färöer",23,27.3,"4,85 Mio. €","UEFA",1137]
["124  "," Aserbaidschan",27,27.5,"16,23 Mio. €","UEFA",1137]
["125  "," Suriname",26,29,"37,70 Mio. €","CONCACAF",1132]
["126  "," Zypern",26,25.7,"19,10 Mio. €","UEFA",1128]
["127  "," Malawi",25,26.3,"2,05 Mio. €","CAF",1128]
["128  "," Ruanda",27,27.6,"6,93 Mio. €","CAF",1127]
["129  "," Estland",24,24.1,"6,65 Mio. €","UEFA",1121]
["130  "," Simbabwe",23,26.6,"7,60 Mio. €","CAF",1118]
["131  "," Nicaragua",23,27.5,"2,58 Mio. €","CONCACAF",1115]
["132  "," Guinea-Bissau",23,26.2,"41,50 Mio. €","CAF",1108]
["133  "," Kongo",23,24.6,"2,60 Mio. €","CAF",1106]
["134  "," Kuwait",23,28.4,"4,35 Mio. €","AFC",1105]
["135  "," Philippinen",23,27.7,"6,18 Mio. €","AFC",1094]
["136  "," Indien",23,28.6,"4,80 Mio. €","AFC",1091]
["137  "," Lettland",27,26.8,"17,68 Mio. €","UEFA",1091]
["138  "," Malaysia",28,28.4,"7,15 Mio. €","AFC",1086]
["139  "," Zentralafrika",26,25.7,"7,00 Mio. €","CAF",1084]
["140  "," Liberia",26,24.3,"15,80 Mio. €","CAF",1079]
["141  "," Turkmenistan",22,27.5,"2,95 Mio. €","AFC",1079]
["142  "," Burundi",24,27.2,"12,18 Mio. €","CAF",1078]
["143  "," Dom. Rep.",23,24.2,"18,05 Mio. €","CONCACAF",1078]
["144  "," Äthiopien",23,27.4,"2,78 Mio. €","CAF",1072]
["145  "," Lesotho",22,28.1,"675 Tsd. €","CAF",1067]
["146  "," Botsuana",26,29.9,"3,08 Mio. €","CAF",1064]
["147  "," Singapur",27,27.6,"3,93 Mio. €","AFC",1060]
["148  "," Litauen",23,27.1,"18,55 Mio. €","UEFA",1058]
["149  "," Jemen",23,26.6,"1,90 Mio. €","AFC",1049]
["150  "," Guyana",26,26.1,"1,58 Mio. €","CONCACAF",1049]

{"sheet":"Groups_Tipps","index":10,"n_rows":65,"n_cols":5,"rows_kept":65,"hidden":true,"merged":[[1,1,1,3],[3,1,4,1],[3,2,4,2],[3,3,4,3]]}
[]
[null,"Groups"]
[]
[null,"Team","Team\nno.","Name"]
[{"$nulls":4},"Played"]
[{"$nulls":3},"A"]
[null,"A1",1,{"$f":"VLOOKUP($C7,Sprache_Tipps!$D$5:$E$94,2,0)","v":"Mexiko"},{"$f":"OR(GrpA_Tipps!$Q4>0,GrpA_Tipps!$T4>0)","v":false}]
[null,"A2",2,{"$f":"VLOOKUP($C8,Sprache_Tipps!$D$5:$E$94,2,0)","v":"Südafrika"},{"$f":"OR(GrpA_Tipps!$Q5>0,GrpA_Tipps!$T5>0)","v":false}]
[null,"A3",3,{"$f":"VLOOKUP($C9,Sprache_Tipps!$D$5:$E$94,2,0)","v":"Südkorea"},{"$f":"OR(GrpA_Tipps!$Q6>0,GrpA_Tipps!$T6>0)","v":false}]
[null,"A4",4,{"$f":"VLOOKUP($C10,Sprache_Tipps!$D$5:$E$94,2,0)","v":"Tschechien"},{"$f":"OR(GrpA_Tipps!$Q7>0,GrpA_Tipps!$T7>0)","v":false}]
[{"$nulls":3},"B"]
[null,"B1",5,{"$f":"VLOOKUP($C12,Sprache_Tipps!$D$5:$E$94,2,0)","v":"Kanada"},{"$f":"OR(GrpB_Tipps!$Q4>0,GrpB_Tipps!$T4>0)","v":false}]
[null,"B2",6,{"$f":"VLOOKUP($C13,Sprache_Tipps!$D$5:$E$94,2,0)","v":"Bosnien-Herzeg."},{"$f":"OR(GrpB_Tipps!$Q5>0,GrpB_Tipps!$T5>0)","v":false}]
[null,"B3",7,{"$f":"VLOOKUP($C14,Sprache_Tipps!$D$5:$E$94,2,0)","v":"Katar"},{"$f":"OR(GrpB_Tipps!$Q6>0,GrpB_Tipps!$T6>0)","v":false}]
[null,"B4",8,{"$f":"VLOOKUP($C15,Sprache_Tipps!$D$5:$E$94,2,0)","v":"Schweiz"},{"$f":"OR(GrpB_Tipps!$Q7>0,GrpB_Tipps!$T7>0)","v":false}]
[{"$nulls":3},"C"]
[null,"C1",9,{"$f":"VLOOKUP($C17,Sprache_Tipps!$D$5:$E$94,2,0)","v":"Brasilien"},{"$f":"OR(GrpC_Tipps!$Q4>0,GrpC_Tipps!$T4>0)","v":false}]
[null,"C2",10,{"$f":"VLOOKUP($C18,Sprache_Tipps!$D$5:$E$94,2,0)","v":"Marokko"},{"$f":"OR(GrpC_Tipps!$Q5>0,GrpC_Tipps!$T5>0)","v":false}]
[null,"C3",11,{"$f":"VLOOKUP($C19,Sprache_Tipps!$D$5:$E$94,2,0)","v":"Haiti"},{"$f":"OR(GrpC_Tipps!$Q6>0,GrpC_Tipps!$T6>0)","v":false}]
[null,"C4",12,{"$f":"VLOOKUP($C20,Sprache_Tipps!$D$5:$E$94,2,0)","v":"Schottland"},{"$f":"OR(GrpC_Tipps!$Q7>0,GrpC_Tipps!$T7>0)","v":false}]
[{"$nulls":3},"D"]
[null,"D1",13,{"$f":"VLOOKUP($C22,Sprache_Tipps!$D$5:$E$94,2,0)","v":"USA"},{"$f":"OR(GrpD_Tipps!$Q4>0,GrpD_Tipps!$T4>0)","v":false}]
[null,"D2",14,{"$f":"VLOOKUP($C23,Sprache_Tipps!$D$5:$E$94,2,0)","v":"Paraguay"},{"$f":"OR(GrpD_Tipps!$Q5>0,GrpD_Tipps!$T5>0)","v":false}]
[null,"D3",15,{"$f":"VLOOKUP($C24,Sprache_Tipps!$D$5:$E$94,2,0)","v":"Australien"},{"$f":"OR(GrpD_Tipps!$Q6>0,GrpD_Tipps!$T6>0)","v":false}]
[null,"D4",16,{"$f":"VLOOKUP($C25,Sprache_Tipps!$D$5:$E$94,2,0)","v":"Türkei"},{"$f":"OR(GrpD_Tipps!$Q7>0,GrpD_Tipps!$T7>0)","v":false}]
[{"$nulls":3},"E"]
[null,"E1",17,{"$f":"VLOOKUP($C27,Sprache_Tipps!$D$5:$E$94,2,0)","v":"Deutschland"},{"$f":"OR(GrpE_Tipps!$Q4>0,GrpE_Tipps!$T4>0)","v":false}]
[null,"E2",18,{"$f":"VLOOKUP($C28,Sprache_Tipps!$D$5:$E$94,2,0)","v":"Curacao"},{"$f":"OR(GrpE_Tipps!$Q5>0,GrpE_Tipps!$T5>0)","v":false}]
[null,"E3",19,{"$f":"VLOOKUP($C29,Sprache_Tipps!$D$5:$E$94,2,0)","v":"Elfenbeinküste"},{"$f":"OR(GrpE_Tipps!$Q6>0,GrpE_Tipps!$T6>0)","v":false}]
[null,"E4",20,{"$f":"VLOOKUP($C30,Sprache_Tipps!$D$5:$E$94,2,0)","v":"Ecuador"},{"$f":"OR(GrpE_Tipps!$Q7>0,GrpE_Tipps!$T7>0)","v":false}]
[{"$nulls":3},"F"]
[null,"F1",21,{"$f":"VLOOKUP($C32,Sprache_Tipps!$D$5:$E$94,2,0)","v":"Niederlande"},{"$f":"OR(GrpF_Tipps!$Q4>0,GrpF_Tipps!$T4>0)","v":false}]
[null,"F2",22,{"$f":"VLOOKUP($C33,Sprache_Tipps!$D$5:$E$94,2,0)","v":"Japan"},{"$f":"OR(GrpF_Tipps!$Q5>0,GrpF_Tipps!$T5>0)","v":false}]
[null,"F3",23,{"$f":"VLOOKUP($C34,Sprache_Tipps!$D$5:$E$94,2,0)","v":"Schweden"},{"$f":"OR(GrpF_Tipps!$Q6>0,GrpF_Tipps!$T6>0)","v":false}]
[null,"F4",24,{"$f":"VLOOKUP($C35,Sprache_Tipps!$D$5:$E$94,2,0)","v":"Tunesien"},{"$f":"OR(GrpF_Tipps!$Q7>0,GrpF_Tipps!$T7>0)","v":false}]
[{"$nulls":3},"G"]
[null,"G1",25,{"$f":"VLOOKUP($C37,Sprache_Tipps!$D$5:$E$94,2,0)","v":"Belgien"},{"$f":"OR(GrpG_Tipps!$Q4>0,GrpG_Tipps!$T4>0)","v":false}]
[null,"G2",26,{"$f":"VLOOKUP($C38,Sprache_Tipps!$D$5:$E$94,2,0)","v":"Ägypten"},{"$f":"OR(GrpG_Tipps!$Q5>0,GrpG_Tipps!$T5>0)","v":false}]
[null,"G3",27,{"$f":"VLOOKUP($C39,Sprache_Tipps!$D$5:$E$94,2,0)","v":"Iran"},{"$f":"OR(GrpG_Tipps!$Q6>0,GrpG_Tipps!$T6>0)","v":false}]
[null,"G4",28,{"$f":"VLOOKUP($C40,Sprache_Tipps!$D$5:$E$94,2,0)","v":"Neuseeland"},{"$f":"OR(GrpG_Tipps!$Q7>0,GrpG_Tipps!$T7>0)","v":false}]
[{"$nulls":3},"H"]
[null,"H1",29,{"$f":"VLOOKUP($C42,Sprache_Tipps!$D$5:$E$94,2,0)","v":"Spanien"},{"$f":"OR(GrpH_Tipps!$Q4>0,GrpH_Tipps!$T4>0)","v":false}]
[null,"H2",30,{"$f":"VLOOKUP($C43,Sprache_Tipps!$D$5:$E$94,2,0)","v":"Kapverde"},{"$f":"OR(GrpH_Tipps!$Q5>0,GrpH_Tipps!$T5>0)","v":false}]
[null,"H3",31,{"$f":"VLOOKUP($C44,Sprache_Tipps!$D$5:$E$94,2,0)","v":"Saudiarabien"},{"$f":"OR(GrpH_Tipps!$Q6>0,GrpH_Tipps!$T6>0)","v":false}]
[null,"H4",32,{"$f":"VLOOKUP($C45,Sprache_Tipps!$D$5:$E$94,2,0)","v":"Uruguay"},{"$f":"OR(GrpH_Tipps!$Q7>0,GrpH_Tipps!$T7>0)","v":false}]
[{"$nulls":3},"I"]
[null,"I1",33,{"$f":"VLOOKUP($C47,Sprache_Tipps!$D$5:$E$94,2,0)","v":"Frankreich"},{"$f":"OR(GrpI_Tipps!$Q4>0,GrpI_Tipps!$T4>0)","v":false}]
[null,"I2",34,{"$f":"VLOOKUP($C48,Sprache_Tipps!$D$5:$E$94,2,0)","v":"Senegal"},{"$f":"OR(GrpI_Tipps!$Q5>0,GrpI_Tipps!$T5>0)","v":false}]
[null,"I3",35,{"$f":"VLOOKUP($C49,Sprache_Tipps!$D$5:$E$94,2,0)","v":"Irak"},{"$f":"OR(GrpI_Tipps!$Q6>0,GrpI_Tipps!$T6>0)","v":false}]
[null,"I4",36,{"$f":"VLOOKUP($C50,Sprache_Tipps!$D$5:$E$94,2,0)","v":"Norwegen"},{"$f":"OR(GrpI_Tipps!$Q7>0,GrpI_Tipps!$T7>0)","v":false}]
[{"$nulls":3},"J"]
[null,"J1",37,{"$f":"VLOOKUP($C52,Sprache_Tipps!$D$5:$E$94,2,0)","v":"Argentinien"},{"$f":"OR(GrpJ_Tipps!$Q4>0,GrpJ_Tipps!$T4>0)","v":false}]
[null,"J2",38,{"$f":"VLOOKUP($C53,Sprache_Tipps!$D$5:$E$94,2,0)","v":"Algerien"},{"$f":"OR(GrpJ_Tipps!$Q5>0,GrpJ_Tipps!$T5>0)","v":false}]
[null,"J3",39,{"$f":"VLOOKUP($C54,Sprache_Tipps!$D$5:$E$94,2,0)","v":"Österreich"},{"$f":"OR(GrpJ_Tipps!$Q6>0,GrpJ_Tipps!$T6>0)","v":false}]
[null,"J4",40,{"$f":"VLOOKUP($C55,Sprache_Tipps!$D$5:$E$94,2,0)","v":"Jordanien"},{"$f":"OR(GrpJ_Tipps!$Q7>0,GrpJ_Tipps!$T7>0)","v":false}]
[{"$nulls":3},"K"]
[null,"K1",41,{"$f":"VLOOKUP($C57,Sprache_Tipps!$D$5:$E$94,2,0)","v":"Portugal"},{"$f":"OR(GrpK_Tipps!$Q4>0,GrpK_Tipps!$T4>0)","v":false}]
[null,"K2",42,{"$f":"VLOOKUP($C58,Sprache_Tipps!$D$5:$E$94,2,0)","v":"DR Kongo"},{"$f":"OR(GrpK_Tipps!$Q5>0,GrpK_Tipps!$T5>0)","v":false}]
[null,"K3",43,{"$f":"VLOOKUP($C59,Sprache_Tipps!$D$5:$E$94,2,0)","v":"Usbekistan"},{"$f":"OR(GrpK_Tipps!$Q6>0,GrpK_Tipps!$T6>0)","v":false}]
[null,"K4",44,{"$f":"VLOOKUP($C60,Sprache_Tipps!$D$5:$E$94,2,0)","v":"Kolumbien"},{"$f":"OR(GrpK_Tipps!$Q7>0,GrpK_Tipps!$T7>0)","v":false}]
[{"$nulls":3},"L"]
[null,"L1",45,{"$f":"VLOOKUP($C62,Sprache_Tipps!$D$5:$E$94,2,0)","v":"England"},{"$f":"OR(GrpL_Tipps!$Q4>0,GrpL_Tipps!$T4>0)","v":false}]
[null,"L2",46,{"$f":"VLOOKUP($C63,Sprache_Tipps!$D$5:$E$94,2,0)","v":"Kroatien"},{"$f":"OR(GrpL_Tipps!$Q5>0,GrpL_Tipps!$T5>0)","v":false}]
[null,"L3",47,{"$f":"VLOOKUP($C64,Sprache_Tipps!$D$5:$E$94,2,0)","v":"Ghana"},{"$f":"OR(GrpL_Tipps!$Q6>0,GrpL_Tipps!$T6>0)","v":false}]
[null,"L4",48,{"$f":"VLOOKUP($C65,Sprache_Tipps!$D$5:$E$94,2,0)","v":"Panama"},{"$f":"OR(GrpL_Tipps!$Q7>0,GrpL_Tipps!$T7>0)","v":false}]

{"sheet":"Matches_Tipps","index":11,"n_rows":113,"n_cols":15,"rows_kept":113,"hidden":true,"merged":[[0,1,0,9],[2,2,2,3]]}
[null,{"$f":"Sprache_Tipps!$E$119","v":"Spiele"}]
[]
[null,"Match No.","Teams",null,"Date   (local time host)","Date   (my time)","Spielort-Nr.","Venue","Team 1","Team 2","Order of headings"]
[null,1,"A1","A2","2026-06-11T15:00:00",{"$f":"$E4-VLOOKUP($G4,Zeitzone!$L$4:$O$19,4,0)+VLOOKUP(Zeitzone!$H$1,Zeitzone!$C$4:$E$39,3,0)","v":"2026-06-11T21:00:00"},14,{"$f":"VLOOKUP($G4,Sprache_Tipps!$D$97:$E$112,2,0)","v":"Mexico City"},{"$f":"VLOOKUP(C4,Groups_Tipps!$B$7:$D$65,3,0)","v":"Mexiko"},{"$f":"VLOOKUP(D4,Groups_Tipps!$B$7:$D$65,3,0)","v":"Südafrika"}]
[null,2,"A3","A4","2026-06-11T22:00:00",{"$f":"$E5-VLOOKUP($G5,Zeitzone!$L$4:$O$19,4,0)+VLOOKUP(Zeitzone!$H$1,Zeitzone!$C$4:$E$39,3,0)","v":"2026-06-12T04:00:00"},15,{"$f":"VLOOKUP($G5,Sprache_Tipps!$D$97:$E$112,2,0)","v":"Guadalajara"},{"$f":"VLOOKUP(C5,Groups_Tipps!$B$7:$D$65,3,0)","v":"Südkorea"},{"$f":"VLOOKUP(D5,Groups_Tipps!$B$7:$D$65,3,0)","v":"Tschechien"}]
[null,3,"B1","B2","2026-06-12T15:00:00",{"$f":"$E6-VLOOKUP($G6,Zeitzone!$L$4:$O$19,4,0)+VLOOKUP(Zeitzone!$H$1,Zeitzone!$C$4:$E$39,3,0)","v":"2026-06-12T21:00:00"},2,{"$f":"VLOOKUP($G6,Sprache_Tipps!$D$97:$E$112,2,0)","v":"Toronto"},{"$f":"VLOOKUP(C6,Groups_Tipps!$B$7:$D$65,3,0)","v":"Kanada"},{"$f":"VLOOKUP(D6,Groups_Tipps!$B$7:$D$65,3,0)","v":"Bosnien-Herzeg."}]
[null,4,"D1","D2","2026-06-12T21:00:00",{"$f":"$E7-VLOOKUP($G7,Zeitzone!$L$4:$O$19,4,0)+VLOOKUP(Zeitzone!$H$1,Zeitzone!$C$4:$E$39,3,0)","v":"2026-06-13T03:00:00"},8,{"$f":"VLOOKUP($G7,Sprache_Tipps!$D$97:$E$112,2,0)","v":"Los Angeles"},{"$f":"VLOOKUP(C7,Groups_Tipps!$B$7:$D$65,3,0)","v":"USA"},{"$f":"VLOOKUP(D7,Groups_Tipps!$B$7:$D$65,3,0)","v":"Paraguay"}]
[null,5,"C3","C4","2026-06-13T21:00:00",{"$f":"$E8-VLOOKUP($G8,Zeitzone!$L$4:$O$19,4,0)+VLOOKUP(Zeitzone!$H$1,Zeitzone!$C$4:$E$39,3,0)","v":"2026-06-14T03:00:00"},12,{"$f":"VLOOKUP($G8,Sprache_Tipps!$D$97:$E$112,2,0)","v":"Boston"},{"$f":"VLOOKUP(C8,Groups_Tipps!$B$7:$D$65,3,0)","v":"Haiti"},{"$f":"VLOOKUP(D8,Groups_Tipps!$B$7:$D$65,3,0)","v":"Schottland"}]
[null,6,"D3","D4","2026-06-14",{"$f":"$E9-VLOOKUP($G9,Zeitzone!$L$4:$O$19,4,0)+VLOOKUP(Zeitzone!$H$1,Zeitzone!$C$4:$E$39,3,0)","v":"2026-06-14T06:00:00"},1,{"$f":"VLOOKUP($G9,Sprache_Tipps!$D$97:$E$112,2,0)","v":"Vancouver"},{"$f":"VLOOKUP(C9,Groups_Tipps!$B$7:$D$65,3,0)","v":"Australien"},{"$f":"VLOOKUP(D9,Groups_Tipps!$B$7:$D$65,3,0)","v":"Türkei"}]
[null,7,"C1","C2","2026-06-13T18:00:00",{"$f":"$E10-VLOOKUP($G10,Zeitzone!$L$4:$O$19,4,0)+VLOOKUP(Zeitzone!$H$1,Zeitzone!$C$4:$E$39,3,0)","v":"2026-06-14"},3,{"$f":"VLOOKUP($G10,Sprache_Tipps!$D$97:$E$112,2,0)","v":"New York/New Jersey"},{"$f":"VLOOKUP(C10,Groups_Tipps!$B$7:$D$65,3,0)","v":"Brasilien"},{"$f":"VLOOKUP(D10,Groups_Tipps!$B$7:$D$65,3,0)","v":"Marokko"}]
[null,8,"B3","B4","2026-06-13T15:00:00",{"$f":"$E11-VLOOKUP($G11,Zeitzone!$L$4:$O$19,4,0)+VLOOKUP(Zeitzone!$H$1,Zeitzone!$C$4:$E$39,3,0)","v":"2026-06-13T21:00:00"},11,{"$f":"VLOOKUP($G11,Sprache_Tipps!$D$97:$E$112,2,0)","v":"San Francisco Bay Area"},{"$f":"VLOOKUP(C11,Groups_Tipps!$B$7:$D$65,3,0)","v":"Katar"},{"$f":"VLOOKUP(D11,Groups_Tipps!$B$7:$D$65,3,0)","v":"Schweiz"}]
[null,9,"E3","E4","2026-06-14T19:00:00",{"$f":"$E12-VLOOKUP($G12,Zeitzone!$L$4:$O$19,4,0)+VLOOKUP(Zeitzone!$H$1,Zeitzone!$C$4:$E$39,3,0)","v":"2026-06-15T01:00:00"},9,{"$f":"VLOOKUP($G12,Sprache_Tipps!$D$97:$E$112,2,0)","v":"Philadelphia"},{"$f":"VLOOKUP(C12,Groups_Tipps!$B$7:$D$65,3,0)","v":"Elfenbeinküste"},{"$f":"VLOOKUP(D12,Groups_Tipps!$B$7:$D$65,3,0)","v":"Ecuador"}]
[null,10,"E1","E2","2026-06-14T13:00:00",{"$f":"$E13-VLOOKUP($G13,Zeitzone!$L$4:$O$19,4,0)+VLOOKUP(Zeitzone!$H$1,Zeitzone!$C$4:$E$39,3,0)","v":"2026-06-14T19:00:00"},6,{"$f":"VLOOKUP($G13,Sprache_Tipps!$D$97:$E$112,2,0)","v":"Houston"},{"$f":"VLOOKUP(C13,Groups_Tipps!$B$7:$D$65,3,0)","v":"Deutschland"},{"$f":"VLOOKUP(D13,Groups_Tipps!$B$7:$D$65,3,0)","v":"Curacao"}]
[null,11,"F1","F2","2026-06-14T16:00:00",{"$f":"$E14-VLOOKUP($G14,Zeitzone!$L$4:$O$19,4,0)+VLOOKUP(Zeitzone!$H$1,Zeitzone!$C$4:$E$39,3,0)","v":"2026-06-14T22:00:00"},5,{"$f":"VLOOKUP($G14,Sprache_Tipps!$D$97:$E$112,2,0)","v":"Dallas"},{"$f":"VLOOKUP(C14,Groups_Tipps!$B$7:$D$65,3,0)","v":"Niederlande"},{"$f":"VLOOKUP(D14,Groups_Tipps!$B$7:$D$65,3,0)","v":"Japan"}]
[null,12,"F3","F4","2026-06-14T22:00:00",{"$f":"$E15-VLOOKUP($G15,Zeitzone!$L$4:$O$19,4,0)+VLOOKUP(Zeitzone!$H$1,Zeitzone!$C$4:$E$39,3,0)","v":"2026-06-15T04:00:00"},16,{"$f":"VLOOKUP($G15,Sprache_Tipps!$D$97:$E$112,2,0)","v":"Monterrey"},{"$f":"VLOOKUP(C15,Groups_Tipps!$B$7:$D$65,3,0)","v":"Schweden"},{"$f":"VLOOKUP(D15,Groups_Tipps!$B$7:$D$65,3,0)","v":"Tunesien"}]
[null,13,"H3","H4","2026-06-15T18:00:00",{"$f":"$E16-VLOOKUP($G16,Zeitzone!$L$4:$O$19,4,0)+VLOOKUP(Zeitzone!$H$1,Zeitzone!$C$4:$E$39,3,0)","v":"2026-06-16"},13,{"$f":"VLOOKUP($G16,Sprache_Tipps!$D$97:$E$112,2,0)","v":"Miami"},{"$f":"VLOOKUP(C16,Groups_Tipps!$B$7:$D$65,3,0)","v":"Saudiarabien"},{"$f":"VLOOKUP(D16,Groups_Tipps!$B$7:$D$65,3,0)","v":"Uruguay"}]
[null,14,"H1","H2","2026-06-15T12:00:00",{"$f":"$E17-VLOOKUP($G17,Zeitzone!$L$4:$O$19,4,0)+VLOOKUP(Zeitzone!$H$1,Zeitzone!$C$4:$E$39,3,0)","v":"2026-06-15T18:00:00"},7,{"$f":"VLOOKUP($G17,Sprache_Tipps!$D$97:$E$112,2,0)","v":"Atlanta"},{"$f":"VLOOKUP(C17,Groups_Tipps!$B$7:$D$65,3,0)","v":"Spanien"},{"$f":"VLOOKUP(D17,Groups_Tipps!$B$7:$D$65,3,0)","v":"Kapverde"}]
[null,15,"G3","G4","2026-06-15T21:00:00",{"$f":"$E18-VLOOKUP($G18,Zeitzone!$L$4:$O$19,4,0)+VLOOKUP(Zeitzone!$H$1,Zeitzone!$C$4:$E$39,3,0)","v":"2026-06-16T03:00:00"},8,{"$f":"VLOOKUP($G18,Sprache_Tipps!$D$97:$E$112,2,0)","v":"Los Angeles"},{"$f":"VLOOKUP(C18,Groups_Tipps!$B$7:$D$65,3,0)","v":"Iran"},{"$f":"VLOOKUP(D18,Groups_Tipps!$B$7:$D$65,3,0)","v":"Neuseeland"}]
[null,16,"G1","G2","2026-06-15T15:00:00",{"$f":"$E19-VLOOKUP($G19,Zeitzone!$L$4:$O$19,4,0)+VLOOKUP(Zeitzone!$H$1,Zeitzone!$C$4:$E$39,3,0)","v":"2026-06-15T21:00:00"},10,{"$f":"VLOOKUP($G19,Sprache_Tipps!$D$97:$E$112,2,0)","v":"Seattle"},{"$f":"VLOOKUP(C19,Groups_Tipps!$B$7:$D$65,3,0)","v":"Belgien"},{"$f":"VLOOKUP(D19,Groups_Tipps!$B$7:$D$65,3,0)","v":"Ägypten"}]
[null,17,"I1","I2","2026-06-16T15:00:00",{"$f":"$E20-VLOOKUP($G20,Zeitzone!$L$4:$O$19,4,0)+VLOOKUP(Zeitzone!$H$1,Zeitzone!$C$4:$E$39,3,0)","v":"2026-06-16T21:00:00"},3,{"$f":"VLOOKUP($G20,Sprache_Tipps!$D$97:$E$112,2,0)","v":"New York/New Jersey"},{"$f":"VLOOKUP(C20,Groups_Tipps!$B$7:$D$65,3,0)","v":"Frankreich"},{"$f":"VLOOKUP(D20,Groups_Tipps!$B$7:$D$65,3,0)","v":"Senegal"}]
[null,18,"I3","I4","2026-06-16T18:00:00",{"$f":"$E21-VLOOKUP($G21,Zeitzone!$L$4:$O$19,4,0)+VLOOKUP(Zeitzone!$H$1,Zeitzone!$C$4:$E$39,3,0)","v":"2026-06-17"},12,{"$f":"VLOOKUP($G21,Sprache_Tipps!$D$97:$E$112,2,0)","v":"Boston"},{"$f":"VLOOKUP(C21,Groups_Tipps!$B$7:$D$65,3,0)","v":"Irak"},{"$f":"VLOOKUP(D21,Groups_Tipps!$B$7:$D$65,3,0)","v":"Norwegen"}]
[null,19,"J1","J2","2026-06-16T21:00:00",{"$f":"$E22-VLOOKUP($G22,Zeitzone!$L$4:$O$19,4,0)+VLOOKUP(Zeitzone!$H$1,Zeitzone!$C$4:$E$39,3,0)","v":"2026-06-17T03:00:00"},4,{"$f":"VLOOKUP($G22,Sprache_Tipps!$D$97:$E$112,2,0)","v":"Kansas City"},{"$f":"VLOOKUP(C22,Groups_Tipps!$B$7:$D$65,3,0)","v":"Argentinien"},{"$f":"VLOOKUP(D22,Groups_Tipps!$B$7:$D$65,3,0)","v":"Algerien"}]
[null,20,"J3","J4","2026-06-17",{"$f":"$E23-VLOOKUP($G23,Zeitzone!$L$4:$O$19,4,0)+VLOOKUP(Zeitzone!$H$1,Zeitzone!$C$4:$E$39,3,0)","v":"2026-06-17T06:00:00"},11,{"$f":"VLOOKUP($G23,Sprache_Tipps!$D$97:$E$112,2,0)","v":"San Francisco Bay Area"},{"$f":"VLOOKUP(C23,Groups_Tipps!$B$7:$D$65,3,0)","v":"Österreich"},{"$f":"VLOOKUP(D23,Groups_Tipps!$B$7:$D$65,3,0)","v":"Jordanien"}]
[null,21,"L3","L4","2026-06-17T19:00:00",{"$f":"$E24-VLOOKUP($G24,Zeitzone!$L$4:$O$19,4,0)+VLOOKUP(Zeitzone!$H$1,Zeitzone!$C$4:$E$39,3,0)","v":"2026-06-18T01:00:00"},2,{"$f":"VLOOKUP($G24,Sprache_Tipps!$D$97:$E$112,2,0)","v":"Toronto"},{"$f":"VLOOKUP(C24,Groups_Tipps!$B$7:$D$65,3,0)","v":"Ghana"},{"$f":"VLOOKUP(D24,Groups_Tipps!$B$7:$D$65,3,0)","v":"Panama"}]
[null,22,"L1","L2","2026-06-17T16:00:00",{"$f":"$E25-VLOOKUP($G25,Zeitzone!$L$4:$O$19,4,0)+VLOOKUP(Zeitzone!$H$1,Zeitzone!$C$4:$E$39,3,0)","v":"2026-06-17T22:00:00"},5,{"$f":"VLOOKUP($G25,Sprache_Tipps!$D$97:$E$112,2,0)","v":"Dallas"},{"$f":"VLOOKUP(C25,Groups_Tipps!$B$7:$D$65,3,0)","v":"England"},{"$f":"VLOOKUP(D25,Groups_Tipps!$B$7:$D$65,3,0)","v":"Kroatien"}]
[null,23,"K1","K2","2026-06-17T13:00:00",{"$f":"$E26-VLOOKUP($G26,Zeitzone!$L$4:$O$19,4,0)+VLOOKUP(Zeitzone!$H$1,Zeitzone!$C$4:$E$39,3,0)","v":"2026-06-17T19:00:00"},6,{"$f":"VLOOKUP($G26,Sprache_Tipps!$D$97:$E$112,2,0)","v":"Houston"},{"$f":"VLOOKUP(C26,Groups_Tipps!$B$7:$D$65,3,0)","v":"Portugal"},{"$f":"VLOOKUP(D26,Groups_Tipps!$B$7:$D$65,3,0)","v":"DR Kongo"}]
[null,24,"K3","K4","2026-06-17T22:00:00",{"$f":"$E27-VLOOKUP($G27,Zeitzone!$L$4:$O$19,4,0)+VLOOKUP(Zeitzone!$H$1,Zeitzone!$C$4:$E$39,3,0)","v":"2026-06-18T04:00:00"},14,{"$f":"VLOOKUP($G27,Sprache_Tipps!$D$97:$E$112,2,0)","v":"Mexico City"},{"$f":"VLOOKUP(C27,Groups_Tipps!$B$7:$D$65,3,0)","v":"Usbekistan"},{"$f":"VLOOKUP(D27,Groups_Tipps!$B$7:$D$65,3,0)","v":"Kolumbien"}]
[null,25,"A4","A2","2026-06-18T12:00:00",{"$f":"$E28-VLOOKUP($G28,Zeitzone!$L$4:$O$19,4,0)+VLOOKUP(Zeitzone!$H$1,Zeitzone!$C$4:$E$39,3,0)","v":"2026-06-18T18:00:00"},7,{"$f":"VLOOKUP($G28,Sprache_Tipps!$D$97:$E$112,2,0)","v":"Atlanta"},{"$f":"VLOOKUP(C28,Groups_Tipps!$B$7:$D$65,3,0)","v":"Tschechien"},{"$f":"VLOOKUP(D28,Groups_Tipps!$B$7:$D$65,3,0)","v":"Südafrika"}]
[null,26,"B4","B2","2026-06-18T15:00:00",{"$f":"$E29-VLOOKUP($G29,Zeitzone!$L$4:$O$19,4,0)+VLOOKUP(Zeitzone!$H$1,Zeitzone!$C$4:$E$39,3,0)","v":"2026-06-18T21:00:00"},8,{"$f":"VLOOKUP($G29,Sprache_Tipps!$D$97:$E$112,2,0)","v":"Los Angeles"},{"$f":"VLOOKUP(C29,Groups_Tipps!$B$7:$D$65,3,0)","v":"Schweiz"},{"$f":"VLOOKUP(D29,Groups_Tipps!$B$7:$D$65,3,0)","v":"Bosnien-Herzeg."}]
[null,27,"B1","B3","2026-06-18T18:00:00",{"$f":"$E30-VLOOKUP($G30,Zeitzone!$L$4:$O$19,4,0)+VLOOKUP(Zeitzone!$H$1,Zeitzone!$C$4:$E$39,3,0)","v":"2026-06-19"},1,{"$f":"VLOOKUP($G30,Sprache_Tipps!$D$97:$E$112,2,0)","v":"Vancouver"},{"$f":"VLOOKUP(C30,Groups_Tipps!$B$7:$D$65,3,0)","v":"Kanada"},{"$f":"VLOOKUP(D30,Groups_Tipps!$B$7:$D$65,3,0)","v":"Katar"}]
[null,28,"A1","A3","2026-06-18T21:00:00",{"$f":"$E31-VLOOKUP($G31,Zeitzone!$L$4:$O$19,4,0)+VLOOKUP(Zeitzone!$H$1,Zeitzone!$C$4:$E$39,3,0)","v":"2026-06-19T03:00:00"},15,{"$f":"VLOOKUP($G31,Sprache_Tipps!$D$97:$E$112,2,0)","v":"Guadalajara"},{"$f":"VLOOKUP(C31,Groups_Tipps!$B$7:$D$65,3,0)","v":"Mexiko"},{"$f":"VLOOKUP(D31,Groups_Tipps!$B$7:$D$65,3,0)","v":"Südkorea"}]
[null,29,"C1","C3","2026-06-19T20:30:00",{"$f":"$E32-VLOOKUP($G32,Zeitzone!$L$4:$O$19,4,0)+VLOOKUP(Zeitzone!$H$1,Zeitzone!$C$4:$E$39,3,0)","v":"2026-06-20T02:30:00"},9,{"$f":"VLOOKUP($G32,Sprache_Tipps!$D$97:$E$112,2,0)","v":"Philadelphia"},{"$f":"VLOOKUP(C32,Groups_Tipps!$B$7:$D$65,3,0)","v":"Brasilien"},{"$f":"VLOOKUP(D32,Groups_Tipps!$B$7:$D$65,3,0)","v":"Haiti"}]
[null,30,"C4","C2","2026-06-19T18:00:00",{"$f":"$E33-VLOOKUP($G33,Zeitzone!$L$4:$O$19,4,0)+VLOOKUP(Zeitzone!$H$1,Zeitzone!$C$4:$E$39,3,0)","v":"2026-06-20"},12,{"$f":"VLOOKUP($G33,Sprache_Tipps!$D$97:$E$112,2,0)","v":"Boston"},{"$f":"VLOOKUP(C33,Groups_Tipps!$B$7:$D$65,3,0)","v":"Schottland"},{"$f":"VLOOKUP(D33,Groups_Tipps!$B$7:$D$65,3,0)","v":"Marokko"}]
[null,31,"D4","D2","2026-06-19T23:00:00",{"$f":"$E34-VLOOKUP($G34,Zeitzone!$L$4:$O$19,4,0)+VLOOKUP(Zeitzone!$H$1,Zeitzone!$C$4:$E$39,3,0)","v":"2026-06-20T05:00:00"},11,{"$f":"VLOOKUP($G34,Sprache_Tipps!$D$97:$E$112,2,0)","v":"San Francisco Bay Area"},{"$f":"VLOOKUP(C34,Groups_Tipps!$B$7:$D$65,3,0)","v":"Türkei"},{"$f":"VLOOKUP(D34,Groups_Tipps!$B$7:$D$65,3,0)","v":"Paraguay"}]
[null,32,"D1","D3","2026-06-19T15:00:00",{"$f":"$E35-VLOOKUP($G35,Zeitzone!$L$4:$O$19,4,0)+VLOOKUP(Zeitzone!$H$1,Zeitzone!$C$4:$E$39,3,0)","v":"2026-06-19T21:00:00"},10,{"$f":"VLOOKUP($G35,Sprache_Tipps!$D$97:$E$112,2,0)","v":"Seattle"},{"$f":"VLOOKUP(C35,Groups_Tipps!$B$7:$D$65,3,0)","v":"USA"},{"$f":"VLOOKUP(D35,Groups_Tipps!$B$7:$D$65,3,0)","v":"Australien"}]
[null,33,"E1","E3","2026-06-20T16:00:00",{"$f":"$E36-VLOOKUP($G36,Zeitzone!$L$4:$O$19,4,0)+VLOOKUP(Zeitzone!$H$1,Zeitzone!$C$4:$E$39,3,0)","v":"2026-06-20T22:00:00"},2,{"$f":"VLOOKUP($G36,Sprache_Tipps!$D$97:$E$112,2,0)","v":"Toronto"},{"$f":"VLOOKUP(C36,Groups_Tipps!$B$7:$D$65,3,0)","v":"Deutschland"},{"$f":"VLOOKUP(D36,Groups_Tipps!$B$7:$D$65,3,0)","v":"Elfenbeinküste"}]
[null,34,"E4","E2","2026-06-20T20:00:00",{"$f":"$E37-VLOOKUP($G37,Zeitzone!$L$4:$O$19,4,0)+VLOOKUP(Zeitzone!$H$1,Zeitzone!$C$4:$E$39,3,0)","v":"2026-06-21T02:00:00"},4,{"$f":"VLOOKUP($G37,Sprache_Tipps!$D$97:$E$112,2,0)","v":"Kansas City"},{"$f":"VLOOKUP(C37,Groups_Tipps!$B$7:$D$65,3,0)","v":"Ecuador"},{"$f":"VLOOKUP(D37,Groups_Tipps!$B$7:$D$65,3,0)","v":"Curacao"}]
[null,35,"F1","F3","2026-06-20T13:00:00",{"$f":"$E38-VLOOKUP($G38,Zeitzone!$L$4:$O$19,4,0)+VLOOKUP(Zeitzone!$H$1,Zeitzone!$C$4:$E$39,3,0)","v":"2026-06-20T19:00:00"},6,{"$f":"VLOOKUP($G38,Sprache_Tipps!$D$97:$E$112,2,0)","v":"Houston"},{"$f":"VLOOKUP(C38,Groups_Tipps!$B$7:$D$65,3,0)","v":"Niederlande"},{"$f":"VLOOKUP(D38,Groups_Tipps!$B$7:$D$65,3,0)","v":"Schweden"}]
[null,36,"F4","F2","2026-06-21",{"$f":"$E39-VLOOKUP($G39,Zeitzone!$L$4:$O$19,4,0)+VLOOKUP(Zeitzone!$H$1,Zeitzone!$C$4:$E$39,3,0)","v":"2026-06-21T06:00:00"},16,{"$f":"VLOOKUP($G39,Sprache_Tipps!$D$97:$E$112,2,0)","v":"Monterrey"},{"$f":"VLOOKUP(C39,Groups_Tipps!$B$7:$D$65,3,0)","v":"Tunesien"},{"$f":"VLOOKUP(D39,Groups_Tipps!$B$7:$D$65,3,0)","v":"Japan"}]
[null,37,"H4","H2","2026-06-21T18:00:00",{"$f":"$E40-VLOOKUP($G40,Zeitzone!$L$4:$O$19,4,0)+VLOOKUP(Zeitzone!$H$1,Zeitzone!$C$4:$E$39,3,0)","v":"2026-06-22"},13,{"$f":"VLOOKUP($G40,Sprache_Tipps!$D$97:$E$112,2,0)","v":"Miami"},{"$f":"VLOOKUP(C40,Groups_Tipps!$B$7:$D$65,3,0)","v":"Uruguay"},{"$f":"VLOOKUP(D40,Groups_Tipps!$B$7:$D$65,3,0)","v":"Kapverde"}]
[null,38,"H1","H3","2026-06-21T12:00:00",{"$f":"$E41-VLOOKUP($G41,Zeitzone!$L$4:$O$19,4,0)+VLOOKUP(Zeitzone!$H$1,Zeitzone!$C$4:$E$39,3,0)","v":"2026-06-21T18:00:00"},7,{"$f":"VLOOKUP($G41,Sprache_Tipps!$D$97:$E$112,2,0)","v":"Atlanta"},{"$f":"VLOOKUP(C41,Groups_Tipps!$B$7:$D$65,3,0)","v":"Spanien"},{"$f":"VLOOKUP(D41,Groups_Tipps!$B$7:$D$65,3,0)","v":"Saudiarabien"}]
[null,39,"G1","G3","2026-06-21T15:00:00",{"$f":"$E42-VLOOKUP($G42,Zeitzone!$L$4:$O$19,4,0)+VLOOKUP(Zeitzone!$H$1,Zeitzone!$C$4:$E$39,3,0)","v":"2026-06-21T21:00:00"},8,{"$f":"VLOOKUP($G42,Sprache_Tipps!$D$97:$E$112,2,0)","v":"Los Angeles"},{"$f":"VLOOKUP(C42,Groups_Tipps!$B$7:$D$65,3,0)","v":"Belgien"},{"$f":"VLOOKUP(D42,Groups_Tipps!$B$7:$D$65,3,0)","v":"Iran"}]
[null,40,"G4","G2","2026-06-21T21:00:00",{"$f":"$E43-VLOOKUP($G43,Zeitzone!$L$4:$O$19,4,0)+VLOOKUP(Zeitzone!$H$1,Zeitzone!$C$4:$E$39,3,0)","v":"2026-06-22T03:00:00"},1,{"$f":"VLOOKUP($G43,Sprache_Tipps!$D$97:$E$112,2,0)","v":"Vancouver"},{"$f":"VLOOKUP(C43,Groups_Tipps!$B$7:$D$65,3,0)","v":"Neuseeland"},{"$f":"VLOOKUP(D43,Groups_Tipps!$B$7:$D$65,3,0)","v":"Ägypten"}]
[null,41,"I4","I2","2026-06-22T20:00:00",{"$f":"$E44-VLOOKUP($G44,Zeitzone!$L$4:$O$19,4,0)+VLOOKUP(Zeitzone!$H$1,Zeitzone!$C$4:$E$39,3,0)","v":"2026-06-23T02:00:00"},3,{"$f":"VLOOKUP($G44,Sprache_Tipps!$D$97:$E$112,2,0)","v":"New York/New Jersey"},{"$f":"VLOOKUP(C44,Groups_Tipps!$B$7:$D$65,3,0)","v":"Norwegen"},{"$f":"VLOOKUP(D44,Groups_Tipps!$B$7:$D$65,3,0)","v":"Senegal"}]
[null,42,"I1","I3","2026-06-22T17:00:00",{"$f":"$E45-VLOOKUP($G45,Zeitzone!$L$4:$O$19,4,0)+VLOOKUP(Zeitzone!$H$1,Zeitzone!$C$4:$E$39,3,0)","v":"2026-06-22T23:00:00"},9,{"$f":"VLOOKUP($G45,Sprache_Tipps!$D$97:$E$112,2,0)","v":"Philadelphia"},{"$f":"VLOOKUP(C45,Groups_Tipps!$B$7:$D$65,3,0)","v":"Frankreich"},{"$f":"VLOOKUP(D45,Groups_Tipps!$B$7:$D$65,3,0)","v":"Irak"}]
[null,43,"J1","J3","2026-06-22T13:00:00",{"$f":"$E46-VLOOKUP($G46,Zeitzone!$L$4:$O$19,4,0)+VLOOKUP(Zeitzone!$H$1,Zeitzone!$C$4:$E$39,3,0)","v":"2026-06-22T19:00:00"},5,{"$f":"VLOOKUP($G46,Sprache_Tipps!$D$97:$E$112,2,0)","v":"Dallas"},{"$f":"VLOOKUP(C46,Groups_Tipps!$B$7:$D$65,3,0)","v":"Argentinien"},{"$f":"VLOOKUP(D46,Groups_Tipps!$B$7:$D$65,3,0)","v":"Österreich"}]
[null,44,"J4","J2","2026-06-22T23:00:00",{"$f":"$E47-VLOOKUP($G47,Zeitzone!$L$4:$O$19,4,0)+VLOOKUP(Zeitzone!$H$1,Zeitzone!$C$4:$E$39,3,0)","v":"2026-06-23T05:00:00"},11,{"$f":"VLOOKUP($G47,Sprache_Tipps!$D$97:$E$112,2,0)","v":"San Francisco Bay Area"},{"$f":"VLOOKUP(C47,Groups_Tipps!$B$7:$D$65,3,0)","v":"Jordanien"},{"$f":"VLOOKUP(D47,Groups_Tipps!$B$7:$D$65,3,0)","v":"Algerien"}]
[null,45,"L1","L3","2026-06-23T16:00:00",{"$f":"$E48-VLOOKUP($G48,Zeitzone!$L$4:$O$19,4,0)+VLOOKUP(Zeitzone!$H$1,Zeitzone!$C$4:$E$39,3,0)","v":"2026-06-23T22:00:00"},12,{"$f":"VLOOKUP($G48,Sprache_Tipps!$D$97:$E$112,2,0)","v":"Boston"},{"$f":"VLOOKUP(C48,Groups_Tipps!$B$7:$D$65,3,0)","v":"England"},{"$f":"VLOOKUP(D48,Groups_Tipps!$B$7:$D$65,3,0)","v":"Ghana"}]
[null,46,"L4","L2","2026-06-23T19:00:00",{"$f":"$E49-VLOOKUP($G49,Zeitzone!$L$4:$O$19,4,0)+VLOOKUP(Zeitzone!$H$1,Zeitzone!$C$4:$E$39,3,0)","v":"2026-06-24T01:00:00"},2,{"$f":"VLOOKUP($G49,Sprache_Tipps!$D$97:$E$112,2,0)","v":"Toronto"},{"$f":"VLOOKUP(C49,Groups_Tipps!$B$7:$D$65,3,0)","v":"Panama"},{"$f":"VLOOKUP(D49,Groups_Tipps!$B$7:$D$65,3,0)","v":"Kroatien"}]
[null,47,"K1","K3","2026-06-23T13:00:00",{"$f":"$E50-VLOOKUP($G50,Zeitzone!$L$4:$O$19,4,0)+VLOOKUP(Zeitzone!$H$1,Zeitzone!$C$4:$E$39,3,0)","v":"2026-06-23T19:00:00"},6,{"$f":"VLOOKUP($G50,Sprache_Tipps!$D$97:$E$112,2,0)","v":"Houston"},{"$f":"VLOOKUP(C50,Groups_Tipps!$B$7:$D$65,3,0)","v":"Portugal"},{"$f":"VLOOKUP(D50,Groups_Tipps!$B$7:$D$65,3,0)","v":"Usbekistan"}]
[null,48,"K4","K2","2026-06-23T22:00:00",{"$f":"$E51-VLOOKUP($G51,Zeitzone!$L$4:$O$19,4,0)+VLOOKUP(Zeitzone!$H$1,Zeitzone!$C$4:$E$39,3,0)","v":"2026-06-24T04:00:00"},15,{"$f":"VLOOKUP($G51,Sprache_Tipps!$D$97:$E$112,2,0)","v":"Guadalajara"},{"$f":"VLOOKUP(C51,Groups_Tipps!$B$7:$D$65,3,0)","v":"Kolumbien"},{"$f":"VLOOKUP(D51,Groups_Tipps!$B$7:$D$65,3,0)","v":"DR Kongo"}]
[null,49,"C4","C1","2026-06-24T18:00:00",{"$f":"$E52-VLOOKUP($G52,Zeitzone!$L$4:$O$19,4,0)+VLOOKUP(Zeitzone!$H$1,Zeitzone!$C$4:$E$39,3,0)","v":"2026-06-25"},13,{"$f":"VLOOKUP($G52,Sprache_Tipps!$D$97:$E$112,2,0)","v":"Miami"},{"$f":"VLOOKUP(C52,Groups_Tipps!$B$7:$D$65,3,0)","v":"Schottland"},{"$f":"VLOOKUP(D52,Groups_Tipps!$B$7:$D$65,3,0)","v":"Brasilien"}]
[null,50,"C2","C3","2026-06-24T18:00:00",{"$f":"$E53-VLOOKUP($G53,Zeitzone!$L$4:$O$19,4,0)+VLOOKUP(Zeitzone!$H$1,Zeitzone!$C$4:$E$39,3,0)","v":"2026-06-25"},7,{"$f":"VLOOKUP($G53,Sprache_Tipps!$D$97:$E$112,2,0)","v":"Atlanta"},{"$f":"VLOOKUP(C53,Groups_Tipps!$B$7:$D$65,3,0)","v":"Marokko"},{"$f":"VLOOKUP(D53,Groups_Tipps!$B$7:$D$65,3,0)","v":"Haiti"}]
[null,51,"B4","B1","2026-06-24T15:00:00",{"$f":"$E54-VLOOKUP($G54,Zeitzone!$L$4:$O$19,4,0)+VLOOKUP(Zeitzone!$H$1,Zeitzone!$C$4:$E$39,3,0)","v":"2026-06-24T21:00:00"},1,{"$f":"VLOOKUP($G54,Sprache_Tipps!$D$97:$E$112,2,0)","v":"Vancouver"},{"$f":"VLOOKUP(C54,Groups_Tipps!$B$7:$D$65,3,0)","v":"Schweiz"},{"$f":"VLOOKUP(D54,Groups_Tipps!$B$7:$D$65,3,0)","v":"Kanada"}]
[null,52,"B2","B3","2026-06-24T15:00:00",{"$f":"$E55-VLOOKUP($G55,Zeitzone!$L$4:$O$19,4,0)+VLOOKUP(Zeitzone!$H$1,Zeitzone!$C$4:$E$39,3,0)","v":"2026-06-24T21:00:00"},10,{"$f":"VLOOKUP($G55,Sprache_Tipps!$D$97:$E$112,2,0)","v":"Seattle"},{"$f":"VLOOKUP(C55,Groups_Tipps!$B$7:$D$65,3,0)","v":"Bosnien-Herzeg."},{"$f":"VLOOKUP(D55,Groups_Tipps!$B$7:$D$65,3,0)","v":"Katar"}]
[null,53,"A4","A1","2026-06-24T21:00:00",{"$f":"$E56-VLOOKUP($G56,Zeitzone!$L$4:$O$19,4,0)+VLOOKUP(Zeitzone!$H$1,Zeitzone!$C$4:$E$39,3,0)","v":"2026-06-25T03:00:00"},14,{"$f":"VLOOKUP($G56,Sprache_Tipps!$D$97:$E$112,2,0)","v":"Mexico City"},{"$f":"VLOOKUP(C56,Groups_Tipps!$B$7:$D$65,3,0)","v":"Tschechien"},{"$f":"VLOOKUP(D56,Groups_Tipps!$B$7:$D$65,3,0)","v":"Mexiko"}]
[null,54,"A2","A3","2026-06-24T21:00:00",{"$f":"$E57-VLOOKUP($G57,Zeitzone!$L$4:$O$19,4,0)+VLOOKUP(Zeitzone!$H$1,Zeitzone!$C$4:$E$39,3,0)","v":"2026-06-25T03:00:00"},16,{"$f":"VLOOKUP($G57,Sprache_Tipps!$D$97:$E$112,2,0)","v":"Monterrey"},{"$f":"VLOOKUP(C57,Groups_Tipps!$B$7:$D$65,3,0)","v":"Südafrika"},{"$f":"VLOOKUP(D57,Groups_Tipps!$B$7:$D$65,3,0)","v":"Südkorea"}]
[null,55,"E2","E3","2026-06-25T16:00:00",{"$f":"$E58-VLOOKUP($G58,Zeitzone!$L$4:$O$19,4,0)+VLOOKUP(Zeitzone!$H$1,Zeitzone!$C$4:$E$39,3,0)","v":"2026-06-25T22:00:00"},9,{"$f":"VLOOKUP($G58,Sprache_Tipps!$D$97:$E$112,2,0)","v":"Philadelphia"},{"$f":"VLOOKUP(C58,Groups_Tipps!$B$7:$D$65,3,0)","v":"Curacao"},{"$f":"VLOOKUP(D58,Groups_Tipps!$B$7:$D$65,3,0)","v":"Elfenbeinküste"}]
[null,56,"E4","E1","2026-06-25T16:00:00",{"$f":"$E59-VLOOKUP($G59,Zeitzone!$L$4:$O$19,4,0)+VLOOKUP(Zeitzone!$H$1,Zeitzone!$C$4:$E$39,3,0)","v":"2026-06-25T22:00:00"},3,{"$f":"VLOOKUP($G59,Sprache_Tipps!$D$97:$E$112,2,0)","v":"New York/New Jersey"},{"$f":"VLOOKUP(C59,Groups_Tipps!$B$7:$D$65,3,0)","v":"Ecuador"},{"$f":"VLOOKUP(D59,Groups_Tipps!$B$7:$D$65,3,0)","v":"Deutschland"}]
[null,57,"F2","F3","2026-06-25T19:00:00",{"$f":"$E60-VLOOKUP($G60,Zeitzone!$L$4:$O$19,4,0)+VLOOKUP(Zeitzone!$H$1,Zeitzone!$C$4:$E$39,3,0)","v":"2026-06-26T01:00:00"},5,{"$f":"VLOOKUP($G60,Sprache_Tipps!$D$97:$E$112,2,0)","v":"Dallas"},{"$f":"VLOOKUP(C60,Groups_Tipps!$B$7:$D$65,3,0)","v":"Japan"},{"$f":"VLOOKUP(D60,Groups_Tipps!$B$7:$D$65,3,0)","v":"Schweden"}]
[null,58,"F4","F1","2026-06-25T19:00:00",{"$f":"$E61-VLOOKUP($G61,Zeitzone!$L$4:$O$19,4,0)+VLOOKUP(Zeitzone!$H$1,Zeitzone!$C$4:$E$39,3,0)","v":"2026-06-26T01:00:00"},4,{"$f":"VLOOKUP($G61,Sprache_Tipps!$D$97:$E$112,2,0)","v":"Kansas City"},{"$f":"VLOOKUP(C61,Groups_Tipps!$B$7:$D$65,3,0)","v":"Tunesien"},{"$f":"VLOOKUP(D61,Groups_Tipps!$B$7:$D$65,3,0)","v":"Niederlande"}]
[null,59,"D4","D1","2026-06-25T22:00:00",{"$f":"$E62-VLOOKUP($G62,Zeitzone!$L$4:$O$19,4,0)+VLOOKUP(Zeitzone!$H$1,Zeitzone!$C$4:$E$39,3,0)","v":"2026-06-26T04:00:00"},8,{"$f":"VLOOKUP($G62,Sprache_Tipps!$D$97:$E$112,2,0)","v":"Los Angeles"},{"$f":"VLOOKUP(C62,Groups_Tipps!$B$7:$D$65,3,0)","v":"Türkei"},{"$f":"VLOOKUP(D62,Groups_Tipps!$B$7:$D$65,3,0)","v":"USA"}]
[null,60,"D2","D3","2026-06-25T22:00:00",{"$f":"$E63-VLOOKUP($G63,Zeitzone!$L$4:$O$19,4,0)+VLOOKUP(Zeitzone!$H$1,Zeitzone!$C$4:$E$39,3,0)","v":"2026-06-26T04:00:00"},11,{"$f":"VLOOKUP($G63,Sprache_Tipps!$D$97:$E$112,2,0)","v":"San Francisco Bay Area"},{"$f":"VLOOKUP(C63,Groups_Tipps!$B$7:$D$65,3,0)","v":"Paraguay"},{"$f":"VLOOKUP(D63,Groups_Tipps!$B$7:$D$65,3,0)","v":"Australien"}]
[null,61,"I4","I1","2026-06-26T15:00:00",{"$f":"$E64-VLOOKUP($G64,Zeitzone!$L$4:$O$19,4,0)+VLOOKUP(Zeitzone!$H$1,Zeitzone!$C$4:$E$39,3,0)","v":"2026-06-26T21:00:00"},12,{"$f":"VLOOKUP($G64,Sprache_Tipps!$D$97:$E$112,2,0)","v":"Boston"},{"$f":"VLOOKUP(C64,Groups_Tipps!$B$7:$D$65,3,0)","v":"Norwegen"},{"$f":"VLOOKUP(D64,Groups_Tipps!$B$7:$D$65,3,0)","v":"Frankreich"}]
[null,62,"I2","I3","2026-06-26T15:00:00",{"$f":"$E65-VLOOKUP($G65,Zeitzone!$L$4:$O$19,4,0)+VLOOKUP(Zeitzone!$H$1,Zeitzone!$C$4:$E$39,3,0)","v":"2026-06-26T21:00:00"},2,{"$f":"VLOOKUP($G65,Sprache_Tipps!$D$97:$E$112,2,0)","v":"Toronto"},{"$f":"VLOOKUP(C65,Groups_Tipps!$B$7:$D$65,3,0)","v":"Senegal"},{"$f":"VLOOKUP(D65,Groups_Tipps!$B$7:$D$65,3,0)","v":"Irak"}]
[null,63,"G2","G3","2026-06-26T23:00:00",{"$f":"$E66-VLOOKUP($G66,Zeitzone!$L$4:$O$19,4,0)+VLOOKUP(Zeitzone!$H$1,Zeitzone!$C$4:$E$39,3,0)","v":"2026-06-27T05:00:00"},10,{"$f":"VLOOKUP($G66,Sprache_Tipps!$D$97:$E$112,2,0)","v":"Seattle"},{"$f":"VLOOKUP(C66,Groups_Tipps!$B$7:$D$65,3,0)","v":"Ägypten"},{"$f":"VLOOKUP(D66,Groups_Tipps!$B$7:$D$65,3,0)","v":"Iran"}]
[null,64,"G4","G1","2026-06-26T23:00:00",{"$f":"$E67-VLOOKUP($G67,Zeitzone!$L$4:$O$19,4,0)+VLOOKUP(Zeitzone!$H$1,Zeitzone!$C$4:$E$39,3,0)","v":"2026-06-27T05:00:00"},1,{"$f":"VLOOKUP($G67,Sprache_Tipps!$D$97:$E$112,2,0)","v":"Vancouver"},{"$f":"VLOOKUP(C67,Groups_Tipps!$B$7:$D$65,3,0)","v":"Neuseeland"},{"$f":"VLOOKUP(D67,Groups_Tipps!$B$7:$D$65,3,0)","v":"Belgien"}]
[null,65,"H2","H3","2026-06-26T20:00:00",{"$f":"$E68-VLOOKUP($G68,Zeitzone!$L$4:$O$19,4,0)+VLOOKUP(Zeitzone!$H$1,Zeitzone!$C$4:$E$39,3,0)","v":"2026-06-27T02:00:00"},6,{"$f":"VLOOKUP($G68,Sprache_Tipps!$D$97:$E$112,2,0)","v":"Houston"},{"$f":"VLOOKUP(C68,Groups_Tipps!$B$7:$D$65,3,0)","v":"Kapverde"},{"$f":"VLOOKUP(D68,Groups_Tipps!$B$7:$D$65,3,0)","v":"Saudiarabien"},null,"Played",null,null,"Grp"]
[null,66,"H4","H1","2026-06-26T20:00:00",{"$f":"$E69-VLOOKUP($G69,Zeitzone!$L$4:$O$19,4,0)+VLOOKUP(Zeitzone!$H$1,Zeitzone!$C$4:$E$39,3,0)","v":"2026-06-27T02:00:00"},15,{"$f":"VLOOKUP($G69,Sprache_Tipps!$D$97:$E$112,2,0)","v":"Guadalajara"},{"$f":"VLOOKUP(C69,Groups_Tipps!$B$7:$D$65,3,0)","v":"Uruguay"},{"$f":"VLOOKUP(D69,Groups_Tipps!$B$7:$D$65,3,0)","v":"Spanien"},null,{"$f":"IFERROR(VLOOKUP(N69,Groups_Tipps!$D$7:$E$65,2,0),FALSE)","v":false},{"$f":"M101","v":"3-CEFHI"},{"$f":"IF(Distinctness_Tipps!$G$17>0,VLOOKUP(O69,CHOOSE({1,2},ThirdPlaced_Tipps!$I$4:$I$15,ThirdPlaced_Tipps!$C$4:$C$15),2,0),\"\")","v":""},{"$f":"IFERROR(VLOOKUP(ThirdPlaced_Tipps!$I$30,'Zuordnung Dritte'!$C$8:$K$502,2,0),\"\")","v":""}]
[null,67,"L4","L1","2026-06-27T17:00:00",{"$f":"$E70-VLOOKUP($G70,Zeitzone!$L$4:$O$19,4,0)+VLOOKUP(Zeitzone!$H$1,Zeitzone!$C$4:$E$39,3,0)","v":"2026-06-27T23:00:00"},3,{"$f":"VLOOKUP($G70,Sprache_Tipps!$D$97:$E$112,2,0)","v":"New York/New Jersey"},{"$f":"VLOOKUP(C70,Groups_Tipps!$B$7:$D$65,3,0)","v":"Panama"},{"$f":"VLOOKUP(D70,Groups_Tipps!$B$7:$D$65,3,0)","v":"England"},null,{"$f":"IFERROR(VLOOKUP(N70,Groups_Tipps!$D$7:$E$65,2,0),FALSE)","v":false},{"$f":"M102","v":"3-EFGIJ"},{"$f":"IF(Distinctness_Tipps!$G$17>0,VLOOKUP(O70,CHOOSE({1,2},ThirdPlaced_Tipps!$I$4:$I$15,ThirdPlaced_Tipps!$C$4:$C$15),2,0),\"\")","v":""},{"$f":"IFERROR(VLOOKUP(ThirdPlaced_Tipps!$I$30,'Zuordnung Dritte'!$C$8:$K$502,3,0),\"\")","v":""}]
[null,68,"L2","L3","2026-06-27T17:00:00",{"$f":"$E71-VLOOKUP($G71,Zeitzone!$L$4:$O$19,4,0)+VLOOKUP(Zeitzone!$H$1,Zeitzone!$C$4:$E$39,3,0)","v":"2026-06-27T23:00:00"},9,{"$f":"VLOOKUP($G71,Sprache_Tipps!$D$97:$E$112,2,0)","v":"Philadelphia"},{"$f":"VLOOKUP(C71,Groups_Tipps!$B$7:$D$65,3,0)","v":"Kroatien"},{"$f":"VLOOKUP(D71,Groups_Tipps!$B$7:$D$65,3,0)","v":"Ghana"},null,{"$f":"IFERROR(VLOOKUP(N71,Groups_Tipps!$D$7:$E$65,2,0),FALSE)","v":false},"3-BEFIJ",{"$f":"IF(Distinctness_Tipps!$G$17>0,VLOOKUP(O71,CHOOSE({1,2},ThirdPlaced_Tipps!$I$4:$I$15,ThirdPlaced_Tipps!$C$4:$C$15),2,0),\"\")","v":""},{"$f":"IFERROR(VLOOKUP(ThirdPlaced_Tipps!$I$30,'Zuordnung Dritte'!$C$8:$K$502,4,0),\"\")","v":""}]
[null,69,"J2","J3","2026-06-27T22:00:00",{"$f":"$E72-VLOOKUP($G72,Zeitzone!$L$4:$O$19,4,0)+VLOOKUP(Zeitzone!$H$1,Zeitzone!$C$4:$E$39,3,0)","v":"2026-06-28T04:00:00"},4,{"$f":"VLOOKUP($G72,Sprache_Tipps!$D$97:$E$112,2,0)","v":"Kansas City"},{"$f":"VLOOKUP(C72,Groups_Tipps!$B$7:$D$65,3,0)","v":"Algerien"},{"$f":"VLOOKUP(D72,Groups_Tipps!$B$7:$D$65,3,0)","v":"Österreich"},null,{"$f":"IFERROR(VLOOKUP(N72,Groups_Tipps!$D$7:$E$65,2,0),FALSE)","v":false},"3-ABCDF",{"$f":"IF(Distinctness_Tipps!$G$17>0,VLOOKUP(O72,CHOOSE({1,2},ThirdPlaced_Tipps!$I$4:$I$15,ThirdPlaced_Tipps!$C$4:$C$15),2,0),\"\")","v":""},{"$f":"IFERROR(VLOOKUP(ThirdPlaced_Tipps!$I$30,'Zuordnung Dritte'!$C$8:$K$502,5,0),\"\")","v":""}]
[null,70,"J4","J1","2026-06-27T22:00:00",{"$f":"$E73-VLOOKUP($G73,Zeitzone!$L$4:$O$19,4,0)+VLOOKUP(Zeitzone!$H$1,Zeitzone!$C$4:$E$39,3,0)","v":"2026-06-28T04:00:00"},5,{"$f":"VLOOKUP($G73,Sprache_Tipps!$D$97:$E$112,2,0)","v":"Dallas"},{"$f":"VLOOKUP(C73,Groups_Tipps!$B$7:$D$65,3,0)","v":"Jordanien"},{"$f":"VLOOKUP(D73,Groups_Tipps!$B$7:$D$65,3,0)","v":"Argentinien"},null,{"$f":"IFERROR(VLOOKUP(N73,Groups_Tipps!$D$7:$E$65,2,0),FALSE)","v":false},"3-AEHIJ",{"$f":"IF(Distinctness_Tipps!$G$17>0,VLOOKUP(O73,CHOOSE({1,2},ThirdPlaced_Tipps!$I$4:$I$15,ThirdPlaced_Tipps!$C$4:$C$15),2,0),\"\")","v":""},{"$f":"IFERROR(VLOOKUP(ThirdPlaced_Tipps!$I$30,'Zuordnung Dritte'!$C$8:$K$502,6,0),\"\")","v":""}]
[null,71,"K4","K1","2026-06-27T19:30:00",{"$f":"$E74-VLOOKUP($G74,Zeitzone!$L$4:$O$19,4,0)+VLOOKUP(Zeitzone!$H$1,Zeitzone!$C$4:$E$39,3,0)","v":"2026-06-28T01:30:00"},13,{"$f":"VLOOKUP($G74,Sprache_Tipps!$D$97:$E$112,2,0)","v":"Miami"},{"$f":"VLOOKUP(C74,Groups_Tipps!$B$7:$D$65,3,0)","v":"Kolumbien"},{"$f":"VLOOKUP(D74,Groups_Tipps!$B$7:$D$65,3,0)","v":"Portugal"},null,{"$f":"IFERROR(VLOOKUP(N74,Groups_Tipps!$D$7:$E$65,2,0),FALSE)","v":false},"3-CDFGH",{"$f":"IF(Distinctness_Tipps!$G$17>0,VLOOKUP(O74,CHOOSE({1,2},ThirdPlaced_Tipps!$I$4:$I$15,ThirdPlaced_Tipps!$C$4:$C$15),2,0),\"\")","v":""},{"$f":"IFERROR(VLOOKUP(ThirdPlaced_Tipps!$I$30,'Zuordnung Dritte'!$C$8:$K$502,7,0),\"\")","v":""}]
[null,72,"K2","K3","2026-06-27T19:30:00",{"$f":"$E75-VLOOKUP($G75,Zeitzone!$L$4:$O$19,4,0)+VLOOKUP(Zeitzone!$H$1,Zeitzone!$C$4:$E$39,3,0)","v":"2026-06-28T01:30:00"},7,{"$f":"VLOOKUP($G75,Sprache_Tipps!$D$97:$E$112,2,0)","v":"Atlanta"},{"$f":"VLOOKUP(C75,Groups_Tipps!$B$7:$D$65,3,0)","v":"DR Kongo"},{"$f":"VLOOKUP(D75,Groups_Tipps!$B$7:$D$65,3,0)","v":"Usbekistan"},null,{"$f":"IFERROR(VLOOKUP(N75,Groups_Tipps!$D$7:$E$65,2,0),FALSE)","v":false},"3-DEIJL",{"$f":"IF(Distinctness_Tipps!$G$17>0,VLOOKUP(O75,CHOOSE({1,2},ThirdPlaced_Tipps!$I$4:$I$15,ThirdPlaced_Tipps!$C$4:$C$15),2,0),\"\")","v":""},{"$f":"IFERROR(VLOOKUP(ThirdPlaced_Tipps!$I$30,'Zuordnung Dritte'!$C$8:$K$502,8,0),\"\")","v":""}]
[null,"Round of 32",{"$nulls":9},{"$f":"IFERROR(VLOOKUP(N76,Groups_Tipps!$D$7:$E$65,2,0),FALSE)","v":false},{"$f":"M108","v":"3-EHIJK"},{"$f":"IF(Distinctness_Tipps!$G$17>0,VLOOKUP(O76,CHOOSE({1,2},ThirdPlaced_Tipps!$I$4:$I$15,ThirdPlaced_Tipps!$C$4:$C$15),2,0),\"\")","v":""},{"$f":"IFERROR(VLOOKUP(ThirdPlaced_Tipps!$I$30,'Zuordnung Dritte'!$C$8:$K$502,9,0),\"\")","v":""}]
[null,73,"2A","2B","2026-06-28T15:00:00",{"$f":"$E77-VLOOKUP($G77,Zeitzone!$L$4:$O$19,4,0)+VLOOKUP(Zeitzone!$H$1,Zeitzone!$C$4:$E$39,3,0)","v":"2026-06-28T21:00:00"},8,{"$f":"VLOOKUP($G77,Sprache_Tipps!$D$97:$E$112,2,0)","v":"Los Angeles"},{"$f":"VLOOKUP(C77,$M$77:$N$108,2,0)","v":""},{"$f":"VLOOKUP(D77,$M$77:$N$108,2,0)","v":""},1,null,"1A",{"$f":"IF(Meine_Tipps!D$40=12,Meine_Tipps!$B$42,\"\")","v":""}]
[null,74,"1E","3-ABCDF","2026-06-29T16:30:00",{"$f":"$E78-VLOOKUP($G78,Zeitzone!$L$4:$O$19,4,0)+VLOOKUP(Zeitzone!$H$1,Zeitzone!$C$4:$E$39,3,0)","v":"2026-06-29T22:30:00"},12,{"$f":"VLOOKUP($G78,Sprache_Tipps!$D$97:$E$112,2,0)","v":"Boston"},{"$f":"VLOOKUP(C78,$M$77:$N$108,2,0)","v":""},"",2,null,"2A",{"$f":"IF(Meine_Tipps!G$40=12,Meine_Tipps!$B$43,\"\")","v":""}]
[null,75,"1F","2C","2026-06-29T21:00:00",{"$f":"$E79-VLOOKUP($G79,Zeitzone!$L$4:$O$19,4,0)+VLOOKUP(Zeitzone!$H$1,Zeitzone!$C$4:$E$39,3,0)","v":"2026-06-30T03:00:00"},16,{"$f":"VLOOKUP($G79,Sprache_Tipps!$D$97:$E$112,2,0)","v":"Monterrey"},"","",3,null,"1B",{"$f":"IF(Meine_Tipps!G$40=12,Meine_Tipps!$E$42,\"\")","v":""}]
[null,76,"1C","2F","2026-06-29T13:00:00",{"$f":"$E80-VLOOKUP($G80,Zeitzone!$L$4:$O$19,4,0)+VLOOKUP(Zeitzone!$H$1,Zeitzone!$C$4:$E$39,3,0)","v":"2026-06-29T19:00:00"},6,{"$f":"VLOOKUP($G80,Sprache_Tipps!$D$97:$E$112,2,0)","v":"Houston"},"","",4,null,"2B",{"$f":"IF(Meine_Tipps!G$40=12,Meine_Tipps!$E$43,\"\")","v":""}]
[null,77,"1I","3-CDFGH","2026-06-30T17:00:00",{"$f":"$E81-VLOOKUP($G81,Zeitzone!$L$4:$O$19,4,0)+VLOOKUP(Zeitzone!$H$1,Zeitzone!$C$4:$E$39,3,0)","v":"2026-06-30T23:00:00"},3,{"$f":"VLOOKUP($G81,Sprache_Tipps!$D$97:$E$112,2,0)","v":"New York/New Jersey"},"","",5,null,"1C",{"$f":"IF(Meine_Tipps!J$40=12,Meine_Tipps!$H$42,\"\")","v":""}]
[null,78,"2E","2I","2026-06-30T13:00:00",{"$f":"$E82-VLOOKUP($G82,Zeitzone!$L$4:$O$19,4,0)+VLOOKUP(Zeitzone!$H$1,Zeitzone!$C$4:$E$39,3,0)","v":"2026-06-30T19:00:00"},5,{"$f":"VLOOKUP($G82,Sprache_Tipps!$D$97:$E$112,2,0)","v":"Dallas"},"","",6,null,"2C",{"$f":"IF(Meine_Tipps!J$40=12,Meine_Tipps!$H$43,\"\")","v":""}]
[null,79,"1A","3-CEFHI","2026-06-30T21:00:00",{"$f":"$E83-VLOOKUP($G83,Zeitzone!$L$4:$O$19,4,0)+VLOOKUP(Zeitzone!$H$1,Zeitzone!$C$4:$E$39,3,0)","v":"2026-07-01T03:00:00"},14,{"$f":"VLOOKUP($G83,Sprache_Tipps!$D$97:$E$112,2,0)","v":"Mexico City"},"","",7,null,"1D",{"$f":"IF(Meine_Tipps!M$40=12,Meine_Tipps!$K$42,\"\")","v":""}]
[null,80,"1L","3-EHIJK","2026-07-01T12:00:00",{"$f":"$E84-VLOOKUP($G84,Zeitzone!$L$4:$O$19,4,0)+VLOOKUP(Zeitzone!$H$1,Zeitzone!$C$4:$E$39,3,0)","v":"2026-07-01T18:00:00"},7,{"$f":"VLOOKUP($G84,Sprache_Tipps!$D$97:$E$112,2,0)","v":"Atlanta"},"","",8,null,"2D",{"$f":"IF(Meine_Tipps!M$40=12,Meine_Tipps!$K$43,\"\")","v":""}]
[null,81,"1D","3-BEFIJ","2026-07-01T20:00:00",{"$f":"$E85-VLOOKUP($G85,Zeitzone!$L$4:$O$19,4,0)+VLOOKUP(Zeitzone!$H$1,Zeitzone!$C$4:$E$39,3,0)","v":"2026-07-02T02:00:00"},11,{"$f":"VLOOKUP($G85,Sprache_Tipps!$D$97:$E$112,2,0)","v":"San Francisco Bay Area"},"","",9,null,"1E",{"$f":"IF(Meine_Tipps!P$40=12,Meine_Tipps!$N$42,\"\")","v":""}]
[null,82,"1G","3-AEHIJ","2026-07-01T16:00:00",{"$f":"$E86-VLOOKUP($G86,Zeitzone!$L$4:$O$19,4,0)+VLOOKUP(Zeitzone!$H$1,Zeitzone!$C$4:$E$39,3,0)","v":"2026-07-01T22:00:00"},10,{"$f":"VLOOKUP($G86,Sprache_Tipps!$D$97:$E$112,2,0)","v":"Seattle"},"","",10,null,"2E",{"$f":"IF(Meine_Tipps!P$40=12,Meine_Tipps!$N$43,\"\")","v":""}]
[null,83,"2K","2L","2026-07-02T19:00:00",{"$f":"$E87-VLOOKUP($G87,Zeitzone!$L$4:$O$19,4,0)+VLOOKUP(Zeitzone!$H$1,Zeitzone!$C$4:$E$39,3,0)","v":"2026-07-03T01:00:00"},2,{"$f":"VLOOKUP($G87,Sprache_Tipps!$D$97:$E$112,2,0)","v":"Toronto"},"","",11,null,"1F",{"$f":"IF(Meine_Tipps!S$40=12,Meine_Tipps!$Q$42,\"\")","v":""}]
[null,84,"1H","2J","2026-07-02T15:00:00",{"$f":"$E88-VLOOKUP($G88,Zeitzone!$L$4:$O$19,4,0)+VLOOKUP(Zeitzone!$H$1,Zeitzone!$C$4:$E$39,3,0)","v":"2026-07-02T21:00:00"},8,{"$f":"VLOOKUP($G88,Sprache_Tipps!$D$97:$E$112,2,0)","v":"Los Angeles"},"","",12,null,"2F",{"$f":"IF(Meine_Tipps!S$40=12,Meine_Tipps!$Q$43,\"\")","v":""}]
[null,85,"1B","3-EFGIJ","2026-07-02T23:00:00",{"$f":"$E89-VLOOKUP($G89,Zeitzone!$L$4:$O$19,4,0)+VLOOKUP(Zeitzone!$H$1,Zeitzone!$C$4:$E$39,3,0)","v":"2026-07-03T05:00:00"},1,{"$f":"VLOOKUP($G89,Sprache_Tipps!$D$97:$E$112,2,0)","v":"Vancouver"},"","",13,null,"1G",{"$f":"IF(Meine_Tipps!V$40=12,Meine_Tipps!$T$42,\"\")","v":""}]
[null,86,"1J","2H","2026-07-03T18:00:00",{"$f":"$E90-VLOOKUP($G90,Zeitzone!$L$4:$O$19,4,0)+VLOOKUP(Zeitzone!$H$1,Zeitzone!$C$4:$E$39,3,0)","v":"2026-07-04"},13,{"$f":"VLOOKUP($G90,Sprache_Tipps!$D$97:$E$112,2,0)","v":"Miami"},"","",14,null,"2G",{"$f":"IF(Meine_Tipps!V$40=12,Meine_Tipps!$T$43,\"\")","v":""}]
[null,87,"1K","3-DEIJL","2026-07-03T21:30:00",{"$f":"$E91-VLOOKUP($G91,Zeitzone!$L$4:$O$19,4,0)+VLOOKUP(Zeitzone!$H$1,Zeitzone!$C$4:$E$39,3,0)","v":"2026-07-04T03:30:00"},4,{"$f":"VLOOKUP($G91,Sprache_Tipps!$D$97:$E$112,2,0)","v":"Kansas City"},"","",15,null,"1H",{"$f":"IF(Meine_Tipps!Y$40=12,Meine_Tipps!$W$42,\"\")","v":""}]
[null,88,"2D","2G","2026-07-03T14:00:00",{"$f":"$E92-VLOOKUP($G92,Zeitzone!$L$4:$O$19,4,0)+VLOOKUP(Zeitzone!$H$1,Zeitzone!$C$4:$E$39,3,0)","v":"2026-07-03T20:00:00"},5,{"$f":"VLOOKUP($G92,Sprache_Tipps!$D$97:$E$112,2,0)","v":"Dallas"},{"$f":"VLOOKUP(C92,$M$77:$N$108,2,0)","v":""},"",16,null,"2H",{"$f":"IF(Meine_Tipps!Y$40=12,Meine_Tipps!$W$43,\"\")","v":""}]
[null,"Round of 16",{"$nulls":10},"1I",{"$f":"IF(Meine_Tipps!AB$40=12,Meine_Tipps!$Z$42,\"\")","v":""}]
[null,89,"W74","W77","2026-07-04T17:00:00",{"$f":"$E94-VLOOKUP($G94,Zeitzone!$L$4:$O$19,4,0)+VLOOKUP(Zeitzone!$H$1,Zeitzone!$C$4:$E$39,3,0)","v":"2026-07-04T23:00:00"},9,{"$f":"VLOOKUP($G94,Sprache_Tipps!$D$97:$E$112,2,0)","v":"Philadelphia"},{"$f":"Meine_Tipps!B60","v":""},{"$f":"Meine_Tipps!C60","v":""},1,null,"2I",{"$f":"IF(Meine_Tipps!AB$40=12,Meine_Tipps!$Z$43,\"\")","v":""}]
[null,90,"W73","W75","2026-07-04T13:00:00",{"$f":"$E95-VLOOKUP($G95,Zeitzone!$L$4:$O$19,4,0)+VLOOKUP(Zeitzone!$H$1,Zeitzone!$C$4:$E$39,3,0)","v":"2026-07-04T19:00:00"},6,{"$f":"VLOOKUP($G95,Sprache_Tipps!$D$97:$E$112,2,0)","v":"Houston"},{"$f":"Meine_Tipps!E60","v":""},{"$f":"Meine_Tipps!F60","v":""},2,null,"1J",{"$f":"IF(Meine_Tipps!AE$40=12,Meine_Tipps!$AC$42,\"\")","v":""}]
[null,91,"W76","W78","2026-07-05T16:00:00",{"$f":"$E96-VLOOKUP($G96,Zeitzone!$L$4:$O$19,4,0)+VLOOKUP(Zeitzone!$H$1,Zeitzone!$C$4:$E$39,3,0)","v":"2026-07-05T22:00:00"},3,{"$f":"VLOOKUP($G96,Sprache_Tipps!$D$97:$E$112,2,0)","v":"New York/New Jersey"},{"$f":"Meine_Tipps!H60","v":""},{"$f":"Meine_Tipps!I60","v":""},3,null,"2J",{"$f":"IF(Meine_Tipps!AE$40=12,Meine_Tipps!$AC$43,\"\")","v":""}]
[null,92,"W79","W80","2026-07-05T20:00:00",{"$f":"$E97-VLOOKUP($G97,Zeitzone!$L$4:$O$19,4,0)+VLOOKUP(Zeitzone!$H$1,Zeitzone!$C$4:$E$39,3,0)","v":"2026-07-06T02:00:00"},14,{"$f":"VLOOKUP($G97,Sprache_Tipps!$D$97:$E$112,2,0)","v":"Mexico City"},{"$f":"Meine_Tipps!K60","v":""},{"$f":"Meine_Tipps!L60","v":""},4,null,"1K",{"$f":"IF(Meine_Tipps!AH$40=12,Meine_Tipps!$AF$42,\"\")","v":""}]
[null,93,"W83","W84","2026-07-06T15:00:00",{"$f":"$E98-VLOOKUP($G98,Zeitzone!$L$4:$O$19,4,0)+VLOOKUP(Zeitzone!$H$1,Zeitzone!$C$4:$E$39,3,0)","v":"2026-07-06T21:00:00"},5,{"$f":"VLOOKUP($G98,Sprache_Tipps!$D$97:$E$112,2,0)","v":"Dallas"},{"$f":"Meine_Tipps!N60","v":""},{"$f":"Meine_Tipps!O60","v":""},5,null,"2K",{"$f":"IF(Meine_Tipps!AH$40=12,Meine_Tipps!$AF$43,\"\")","v":""}]
[null,94,"W81","W82","2026-07-06T20:00:00",{"$f":"$E99-VLOOKUP($G99,Zeitzone!$L$4:$O$19,4,0)+VLOOKUP(Zeitzone!$H$1,Zeitzone!$C$4:$E$39,3,0)","v":"2026-07-07T02:00:00"},10,{"$f":"VLOOKUP($G99,Sprache_Tipps!$D$97:$E$112,2,0)","v":"Seattle"},{"$f":"Meine_Tipps!Q60","v":""},{"$f":"Meine_Tipps!R60","v":""},6,null,"1L",{"$f":"IF(Meine_Tipps!AK$40=12,Meine_Tipps!$AI$42,\"\")","v":""}]
[null,95,"W86","W88","2026-07-07T12:00:00",{"$f":"$E100-VLOOKUP($G100,Zeitzone!$L$4:$O$19,4,0)+VLOOKUP(Zeitzone!$H$1,Zeitzone!$C$4:$E$39,3,0)","v":"2026-07-07T18:00:00"},7,{"$f":"VLOOKUP($G100,Sprache_Tipps!$D$97:$E$112,2,0)","v":"Atlanta"},{"$f":"Meine_Tipps!T60","v":""},{"$f":"Meine_Tipps!U60","v":""},7,null,"2L",{"$f":"IF(Meine_Tipps!AK$40=12,Meine_Tipps!$AI$43,\"\")","v":""}]
[null,96,"W85","W87","2026-07-07T16:00:00",{"$f":"$E101-VLOOKUP($G101,Zeitzone!$L$4:$O$19,4,0)+VLOOKUP(Zeitzone!$H$1,Zeitzone!$C$4:$E$39,3,0)","v":"2026-07-07T22:00:00"},1,{"$f":"VLOOKUP($G101,Sprache_Tipps!$D$97:$E$112,2,0)","v":"Vancouver"},{"$f":"Meine_Tipps!W60","v":""},{"$f":"Meine_Tipps!X60","v":""},8,null,{"$f":"'Zuordnung Dritte'!$D$4","v":"3-CEFHI"},{"$f":"IF(L69,N69,\"\")","v":""}]
[null,"1/4 finals",{"$nulls":10},{"$f":"'Zuordnung Dritte'!$E$4","v":"3-EFGIJ"},{"$f":"IF(L70,N70,\"\")","v":""}]
[null,97,"W89","W90","2026-07-09T16:00:00",{"$f":"$E103-VLOOKUP($G103,Zeitzone!$L$4:$O$19,4,0)+VLOOKUP(Zeitzone!$H$1,Zeitzone!$C$4:$E$39,3,0)","v":"2026-07-09T22:00:00"},12,{"$f":"VLOOKUP($G103,Sprache_Tipps!$D$97:$E$112,2,0)","v":"Boston"},{"$f":"Meine_Tipps!C70","v":""},{"$f":"Meine_Tipps!E70","v":""},1,null,{"$f":"'Zuordnung Dritte'!$F$4","v":"3-BEFIJ"},""]
[null,98,"W93","W94","2026-07-10T15:00:00",{"$f":"$E104-VLOOKUP($G104,Zeitzone!$L$4:$O$19,4,0)+VLOOKUP(Zeitzone!$H$1,Zeitzone!$C$4:$E$39,3,0)","v":"2026-07-10T21:00:00"},8,{"$f":"VLOOKUP($G104,Sprache_Tipps!$D$97:$E$112,2,0)","v":"Los Angeles"},{"$f":"Meine_Tipps!I70","v":""},{"$f":"Meine_Tipps!K70","v":""},2,null,{"$f":"'Zuordnung Dritte'!$G$4","v":"3-ABCDF"},""]
[null,99,"W91","W92","2026-07-11T17:00:00",{"$f":"$E105-VLOOKUP($G105,Zeitzone!$L$4:$O$19,4,0)+VLOOKUP(Zeitzone!$H$1,Zeitzone!$C$4:$E$39,3,0)","v":"2026-07-11T23:00:00"},13,{"$f":"VLOOKUP($G105,Sprache_Tipps!$D$97:$E$112,2,0)","v":"Miami"},{"$f":"Meine_Tipps!O70","v":""},{"$f":"Meine_Tipps!Q70","v":""},3,null,{"$f":"'Zuordnung Dritte'!$H$4","v":"3-AEHIJ"},""]
[null,100,"W95","W96","2026-07-11T21:00:00",{"$f":"$E106-VLOOKUP($G106,Zeitzone!$L$4:$O$19,4,0)+VLOOKUP(Zeitzone!$H$1,Zeitzone!$C$4:$E$39,3,0)","v":"2026-07-12T03:00:00"},4,{"$f":"VLOOKUP($G106,Sprache_Tipps!$D$97:$E$112,2,0)","v":"Kansas City"},{"$f":"Meine_Tipps!U70","v":""},{"$f":"Meine_Tipps!W70","v":""},4,null,{"$f":"'Zuordnung Dritte'!$I$4","v":"3-CDFGH"},""]
[null,"1/2 finals",{"$nulls":10},{"$f":"'Zuordnung Dritte'!$J$4","v":"3-DEIJL"},""]
[null,101,"W97","W98","2026-07-14T15:00:00",{"$f":"$E108-VLOOKUP($G108,Zeitzone!$L$4:$O$19,4,0)+VLOOKUP(Zeitzone!$H$1,Zeitzone!$C$4:$E$39,3,0)","v":"2026-07-14T21:00:00"},5,{"$f":"VLOOKUP($G108,Sprache_Tipps!$D$97:$E$112,2,0)","v":"Dallas"},{"$f":"Meine_Tipps!F80","v":""},{"$f":"Meine_Tipps!H80","v":""},{"$f":"Sprache_Tipps!$E$164","v":"Halbfinale 1"},null,{"$f":"'Zuordnung Dritte'!$K$4","v":"3-EHIJK"},""]
[null,102,"W99","W100","2026-07-15T15:00:00",{"$f":"$E109-VLOOKUP($G109,Zeitzone!$L$4:$O$19,4,0)+VLOOKUP(Zeitzone!$H$1,Zeitzone!$C$4:$E$39,3,0)","v":"2026-07-15T21:00:00"},7,{"$f":"VLOOKUP($G109,Sprache_Tipps!$D$97:$E$112,2,0)","v":"Atlanta"},{"$f":"Meine_Tipps!R80","v":""},{"$f":"Meine_Tipps!T80","v":""},{"$f":"Sprache_Tipps!$E$165","v":"Halbfinale 2"}]
[null,"Third Place"]
[null,103,"RU101","RU102","2026-07-18T17:00:00",{"$f":"$E111-VLOOKUP($G111,Zeitzone!$L$4:$O$19,4,0)+VLOOKUP(Zeitzone!$H$1,Zeitzone!$C$4:$E$39,3,0)","v":"2026-07-18T23:00:00"},13,{"$f":"VLOOKUP($G111,Sprache_Tipps!$D$97:$E$112,2,0)","v":"Miami"},{"$f":"Meine_Tipps!L88","v":""},{"$f":"Meine_Tipps!N88","v":""},{"$f":"Sprache_Tipps!$E$166","v":"Dritter Platz"}]
[null,"Final"]
[null,104,"W101","W102","2026-07-19T15:00:00",{"$f":"$E113-VLOOKUP($G113,Zeitzone!$L$4:$O$19,4,0)+VLOOKUP(Zeitzone!$H$1,Zeitzone!$C$4:$E$39,3,0)","v":"2026-07-19T21:00:00"},3,{"$f":"VLOOKUP($G113,Sprache_Tipps!$D$97:$E$112,2,0)","v":"New York/New Jersey"},{"$f":"Meine_Tipps!L98","v":""},{"$f":"Meine_Tipps!N98","v":""},{"$f":"Sprache_Tipps!$E$167","v":"Finale"}]

{"sheet":"Factors","index":12,"n_rows":15,"n_cols":5,"rows_kept":15,"hidden":true,"merged":[[0,1,0,2]]}
[null,"Factors"]
[]
[null,"Factors","Category"]
[null,{"v":10000000,"d":"10,000,000"},"Points"]
[null,{"v":1000000,"d":"1,000,000"},"direct Comp. 3"]
[null,{"v":100000,"d":"100,000"},"direct Comp. 2"]
[null,1000,"Goal difference",50,"Goal difference zero"]
[null,10,"Goals scored"]
[null,1,"Penalty shootout"]
[null,0.1,"direct Comp. 4.3"]
[null,0.01,"direct Comp. 4.2"]
[null,1E-3,"Wins"]
[null,1E-4,"Fair play"]
[null,1e-06,"Ranking"]
[null,1E-8,"Row"]

{"sheet":"ThirdPlaced_Tipps","index":13,"n_rows":33,"n_cols":16,"rows_kept":33,"hidden":true,"merged":[[29,6,29,7]]}
[null,null,{"$f":"Sprache_Tipps!$E$174","v":"Gruppendritte"},null,"Tipps"]
[]
[{"$nulls":3},"Pts","GD","GF","GA","Coefficient","Group",null,"Fair play","ranking"]
[null,"1.",{"$f":"GrpA_Tipps!P$13","v":"Südkorea"},{"$f":"GrpA_Tipps!Q$13","v":0},{"$f":"GrpA_Tipps!R$13","v":0},{"$f":"GrpA_Tipps!S$13","v":0},{"$f":"GrpA_Tipps!T$13","v":0},{"$f":"$D4*FactorPts+$E4*FactorGD+$F4*FactorFor+$K4*FactorFairPlay+$L4*FactorRank","v":{"v":7.5e-05,"d":"0.000075"}},"A",null,{"$f":"SUMIFS(FairPlayPoints1,FairPlayTeams1,$C4)+SUMIFS(FairPlayPoints2,FairPlayTeams2,$C4)+SUMIFS(FairPlayPoints3,FairPlayTeams3,$C4)","v":0},{"$f":"100-INDEX(Sprache_Tipps!$F$5:$F$94,MATCH($C4,Sprache_Tipps!$E$5:$E$94,0),1)","v":75}]
[null,"2.",{"$f":"GrpB_Tipps!P$13","v":"Katar"},{"$f":"GrpB_Tipps!Q$13","v":0},{"$f":"GrpB_Tipps!R$13","v":0},{"$f":"GrpB_Tipps!S$13","v":0},{"$f":"GrpB_Tipps!T$13","v":0},{"v":4.4999999999999996E-5,"d":"0.000045"},"B",null,0,{"$f":"100-INDEX(Sprache_Tipps!$F$5:$F$94,MATCH($C5,Sprache_Tipps!$E$5:$E$94,0),1)","v":45}]
[null,"3.",{"$f":"GrpC_Tipps!P$13","v":"Haiti"},{"$f":"GrpC_Tipps!Q$13","v":0},{"$f":"GrpC_Tipps!R$13","v":0},{"$f":"GrpC_Tipps!S$13","v":0},{"$f":"GrpC_Tipps!T$13","v":0},{"v":1.7E-5,"d":"0.000017"},"C",null,0,{"$f":"100-INDEX(Sprache_Tipps!$F$5:$F$94,MATCH($C6,Sprache_Tipps!$E$5:$E$94,0),1)","v":17}]
[null,"4.",{"$f":"GrpD_Tipps!P$13","v":"Australien"},{"$f":"GrpD_Tipps!Q$13","v":0},{"$f":"GrpD_Tipps!R$13","v":0},{"$f":"GrpD_Tipps!S$13","v":0},{"$f":"GrpD_Tipps!T$13","v":0},{"v":7.3e-05,"d":"0.000073"},"D",null,0,{"$f":"100-INDEX(Sprache_Tipps!$F$5:$F$94,MATCH($C7,Sprache_Tipps!$E$5:$E$94,0),1)","v":73}]
[null,"5.",{"$f":"GrpE_Tipps!P$13","v":"Elfenbeinküste"},{"$f":"GrpE_Tipps!Q$13","v":0},{"$f":"GrpE_Tipps!R$13","v":0},{"$f":"GrpE_Tipps!S$13","v":0},{"$f":"GrpE_Tipps!T$13","v":0},{"v":6.5999999999999992E-5,"d":"0.000066"},"E",null,0,{"$f":"100-INDEX(Sprache_Tipps!$F$5:$F$94,MATCH($C8,Sprache_Tipps!$E$5:$E$94,0),1)","v":66}]
[null,"6.",{"$f":"GrpF_Tipps!P$13","v":"Schweden"},{"$f":"GrpF_Tipps!Q$13","v":0},{"$f":"GrpF_Tipps!R$13","v":0},{"$f":"GrpF_Tipps!S$13","v":0},{"$f":"GrpF_Tipps!T$13","v":0},{"v":6.2e-05,"d":"0.000062"},"F",null,0,{"$f":"100-INDEX(Sprache_Tipps!$F$5:$F$94,MATCH($C9,Sprache_Tipps!$E$5:$E$94,0),1)","v":62}]
[null,"7.",{"$f":"GrpG_Tipps!P$13","v":"Iran"},{"$f":"GrpG_Tipps!Q$13","v":0},{"$f":"GrpG_Tipps!R$13","v":0},{"$f":"GrpG_Tipps!S$13","v":0},{"$f":"GrpG_Tipps!T$13","v":0},{"v":7.9e-05,"d":"0.000079"},"G",null,0,{"$f":"100-INDEX(Sprache_Tipps!$F$5:$F$94,MATCH($C10,Sprache_Tipps!$E$5:$E$94,0),1)","v":79}]
[null,"8.",{"$f":"GrpH_Tipps!P$13","v":"Saudiarabien"},{"$f":"GrpH_Tipps!Q$13","v":0},{"$f":"GrpH_Tipps!R$13","v":0},{"$f":"GrpH_Tipps!S$13","v":0},{"$f":"GrpH_Tipps!T$13","v":0},{"v":3.9e-05,"d":"0.000039"},"H",null,0,{"$f":"100-INDEX(Sprache_Tipps!$F$5:$F$94,MATCH($C11,Sprache_Tipps!$E$5:$E$94,0),1)","v":39}]
[null,"9.",{"$f":"GrpI_Tipps!P$13","v":"Irak"},{"$f":"GrpI_Tipps!Q$13","v":0},{"$f":"GrpI_Tipps!R$13","v":0},{"$f":"GrpI_Tipps!S$13","v":0},{"$f":"GrpI_Tipps!T$13","v":0},{"v":4.2999999999999995E-5,"d":"0.000043"},"I",null,0,{"$f":"100-INDEX(Sprache_Tipps!$F$5:$F$94,MATCH($C12,Sprache_Tipps!$E$5:$E$94,0),1)","v":43}]
[null,"10.",{"$f":"GrpJ_Tipps!P$13","v":"Österreich"},{"$f":"GrpJ_Tipps!Q$13","v":0},{"$f":"GrpJ_Tipps!R$13","v":0},{"$f":"GrpJ_Tipps!S$13","v":0},{"$f":"GrpJ_Tipps!T$13","v":0},{"v":7.5999999999999991E-5,"d":"0.000076"},"J",null,0,{"$f":"100-INDEX(Sprache_Tipps!$F$5:$F$94,MATCH($C13,Sprache_Tipps!$E$5:$E$94,0),1)","v":76}]
[null,"11.",{"$f":"GrpK_Tipps!P$13","v":"Usbekistan"},{"$f":"GrpK_Tipps!Q$13","v":0},{"$f":"GrpK_Tipps!R$13","v":0},{"$f":"GrpK_Tipps!S$13","v":0},{"$f":"GrpK_Tipps!T$13","v":0},{"v":4.9999999999999996E-5,"d":"0.000050"},"K",null,0,{"$f":"100-INDEX(Sprache_Tipps!$F$5:$F$94,MATCH($C14,Sprache_Tipps!$E$5:$E$94,0),1)","v":50}]
[null,"12.",{"$f":"GrpL_Tipps!P$13","v":"Ghana"},{"$f":"GrpL_Tipps!Q$13","v":0},{"$f":"GrpL_Tipps!R$13","v":0},{"$f":"GrpL_Tipps!S$13","v":0},{"$f":"GrpL_Tipps!T$13","v":0},{"v":2.6e-05,"d":"0.000026"},"L",null,0,{"$f":"100-INDEX(Sprache_Tipps!$F$5:$F$94,MATCH($C15,Sprache_Tipps!$E$5:$E$94,0),1)","v":26}]
[{"$nulls":3},"Pts","GD","GF","GA","Coefficient","Group"]
[{"$f":"C17","v":"Iran"},"1.",{"$f":"INDEX(C$4:C$15,MATCH($H17,$H$4:$H$15,0))","v":"Iran"},0,0,0,0,{"$f":"LARGE($H$4:$H$15,ROW(A1))","v":{"v":7.9e-05,"d":"0.000079"}},{"$f":"INDEX(I$4:I$15,MATCH($H17,$H$4:$H$15,0))","v":"G"},null,{"$f":"SUM(IF($I$17:$I$24 < $I17,1))","v":5},{"$f":"INDEX($I$17:$I$24,MATCH(ROW(A1)-1,$K$17:$K$24,0))","v":"A"},{"$f":"D17","v":0},{"$f":"F17","v":0},":",{"$f":"G17","v":0}]
[{"$f":"C18","v":"Österreich"},"2.","Österreich",0,0,0,0,{"v":7.5999999999999991E-5,"d":"0.000076"},"J",null,{"$f":"SUM(IF($I$17:$I$24 < $I18,1))","v":6},{"$f":"INDEX($I$17:$I$24,MATCH(ROW(A2)-1,$K$17:$K$24,0))","v":"B"},{"$f":"D18","v":0},{"$f":"F18","v":0},":",{"$f":"G18","v":0}]
["Südkorea","3.","Südkorea",0,0,0,0,{"v":7.5e-05,"d":"0.000075"},"A",null,{"$f":"SUM(IF($I$17:$I$24 < $I19,1))","v":0},{"$f":"INDEX($I$17:$I$24,MATCH(ROW(A3)-1,$K$17:$K$24,0))","v":"D"},0,0,":",0]
["Australien","4.","Australien",0,0,0,0,{"v":7.3e-05,"d":"0.000073"},"D",null,{"$f":"SUM(IF($I$17:$I$24 < $I20,1))","v":2},"E",0,0,":",0]
["Elfenbeinküste","5.","Elfenbeinküste",0,0,0,0,{"v":6.5999999999999992E-5,"d":"0.000066"},"E",null,{"$f":"SUM(IF($I$17:$I$24 < $I21,1))","v":3},"F",0,0,":",0]
["Schweden","6.","Schweden",0,0,0,0,{"v":6.2e-05,"d":"0.000062"},"F",null,{"$f":"SUM(IF($I$17:$I$24 < $I22,1))","v":4},"G",0,0,":",0]
["Usbekistan","7.","Usbekistan",0,0,0,0,{"v":4.9999999999999996E-5,"d":"0.000050"},"K",null,{"$f":"SUM(IF($I$17:$I$24 < $I23,1))","v":7},"J",0,0,":",0]
["Katar","8.","Katar",0,0,0,0,{"v":4.4999999999999996E-5,"d":"0.000045"},"B",null,{"$f":"SUM(IF($I$17:$I$24 < $I24,1))","v":1},"K",0,0,":",0]
["Irak","9.","Irak",0,0,0,0,{"v":4.2999999999999995E-5,"d":"0.000043"},"I",{"$nulls":3},0,0,":",0]
["Saudiarabien","10.","Saudiarabien",0,0,0,0,{"v":3.9e-05,"d":"0.000039"},"H",{"$nulls":3},0,0,":",0]
["Ghana","11.","Ghana",0,0,0,0,{"v":2.6e-05,"d":"0.000026"},"L",{"$nulls":3},0,0,":",0]
["Haiti","12.","Haiti",0,0,0,0,{"v":1.7E-5,"d":"0.000017"},"C",{"$nulls":3},0,0,":",0]
[]
[{"$nulls":6},"Group combination:",null,{"$f":"IF(Distinctness_Tipps!$G$17>0,L17&L18&L19&L20&L21&L22&L23&L24,\"\")","v":""}]
[]
[]
[{"$nulls":7},"Red dot:",{"$f":"IF(AND(TRUNC($H$24,4)=TRUNC($H$25,4),Distinctness_Tipps!$G$17>0),1,0)","v":0}]

{"sheet":"Distinctness_Tipps","index":14,"n_rows":17,"n_cols":11,"rows_kept":17,"hidden":true,"merged":[[3,9,3,13],[4,9,4,13],[12,10,12,13]]}
[null,"Distinctness of the ranks within the groups"]
[]
[null,"Group","Distinctness","Number","Not clear","Indicator","Position","Text"]
[null,"A",{"$f":"GrpA_Tipps!$X$11","v":0},{"$f":"COUNTIF($C$4:$C$15,\">0\")","v":0},{"$f":"IF($C4>0,$B4,\"\")","v":""},{"$f":"LEN($E4)","v":0},{"$f":"SUM($F$4:$F4)","v":0},{"$f":"IF($E4<>\"\",$E4&IF($G4=$G$15,\"\",IF($G4<$G$15-1,\", \",Sprache_Tipps!$E$185)),\"\")","v":""},null,{"$f":"Sprache_Tipps!$E$183&\"  \"&$K$13&\".\"","v":"Gruppen mit Fair-Play-Wertung:  ."}]
[null,"B",{"$f":"GrpB_Tipps!$X$11","v":0},null,"",{"$f":"LEN($E5)","v":0},{"$f":"SUM($F$4:$F5)","v":0},{"$f":"IF($E5<>\"\",$E5&IF($G5=$G$15,\"\",IF($G5<$G$15-1,\", \",Sprache_Tipps!$E$185)),\"\")","v":""},null,{"$f":"Sprache_Tipps!$E$184","v":"Die Platzierung ist in allen Gruppen geklärt."}]
[null,"C",{"$f":"GrpC_Tipps!$X$11","v":0},null,"",0,{"$f":"SUM($F$4:$F6)","v":0},{"$f":"IF($E6<>\"\",$E6&IF($G6=$G$15,\"\",IF($G6<$G$15-1,\", \",Sprache_Tipps!$E$185)),\"\")","v":""}]
[null,"D",{"$f":"GrpD_Tipps!$X$11","v":0},null,"",0,{"$f":"SUM($F$4:$F7)","v":0},{"$f":"IF($E7<>\"\",$E7&IF($G7=$G$15,\"\",IF($G7<$G$15-1,\", \",Sprache_Tipps!$E$185)),\"\")","v":""}]
[null,"E",{"$f":"GrpE_Tipps!$X$11","v":0},null,"",0,{"$f":"SUM($F$4:$F8)","v":0},{"$f":"IF($E8<>\"\",$E8&IF($G8=$G$15,\"\",IF($G8<$G$15-1,\", \",Sprache_Tipps!$E$185)),\"\")","v":""}]
[null,"F",{"$f":"GrpF_Tipps!$X$11","v":0},null,"",0,{"$f":"SUM($F$4:$F9)","v":0},{"$f":"IF($E9<>\"\",$E9&IF($G9=$G$15,\"\",IF($G9<$G$15-1,\", \",Sprache_Tipps!$E$185)),\"\")","v":""}]
[null,"G",{"$f":"GrpG_Tipps!$X$11","v":0},null,"",0,{"$f":"SUM($F$4:$F10)","v":0},{"$f":"IF($E10<>\"\",$E10&IF($G10=$G$15,\"\",IF($G10<$G$15-1,\", \",Sprache_Tipps!$E$185)),\"\")","v":""}]
[null,"H",{"$f":"GrpH_Tipps!$X$11","v":0},null,"",0,{"$f":"SUM($F$4:$F11)","v":0},{"$f":"IF($E11<>\"\",$E11&IF($G11=$G$15,\"\",IF($G11<$G$15-1,\", \",Sprache_Tipps!$E$185)),\"\")","v":""}]
[null,"I",{"$f":"GrpI_Tipps!$X$11","v":0},null,"",0,{"$f":"SUM($F$4:$F12)","v":0},{"$f":"IF($E12<>\"\",$E12&IF($G12=$G$15,\"\",IF($G12<$G$15-1,\", \",Sprache_Tipps!$E$185)),\"\")","v":""}]
[null,"J",{"$f":"GrpJ_Tipps!$X$11","v":0},null,"",0,{"$f":"SUM($F$4:$F13)","v":0},{"$f":"IF($E13<>\"\",$E13&IF($G13=$G$15,\"\",IF($G13<$G$15-1,\", \",Sprache_Tipps!$E$185)),\"\")","v":""},null,"Full text:",{"$f":"$H$4&$H$5&$H$6&$H$7&$H$8&$H$9&$H$10&$H$11&$H$12&$H$13&$H$14&$H$15","v":""}]
[null,"K",{"$f":"GrpK_Tipps!$X$11","v":0},null,"",0,{"$f":"SUM($F$4:$F14)","v":0},{"$f":"IF($E14<>\"\",$E14&IF($G14=$G$15,\"\",IF($G14<$G$15-1,\", \",Sprache_Tipps!$E$185)),\"\")","v":""}]
[null,"L",{"$f":"GrpL_Tipps!$X$11","v":0},null,"",0,{"$f":"SUM($F$4:$F15)","v":0},{"$f":"IF($E15<>\"\",$E15&IF($G15=$G$15,\"\",IF($G15<$G$15-1,\", \",Sprache_Tipps!$E$185)),\"\")","v":""}]
[]
[{"$nulls":5},"Number of all games:",{"$f":"GrpA_Tipps!$M$10+GrpB_Tipps!$M$10+GrpC_Tipps!$M$10+GrpD_Tipps!$M$10+GrpE_Tipps!$M$10+GrpF_Tipps!$M$10+GrpG_Tipps!$M$10+GrpH_Tipps!$M$10+GrpI_Tipps!$M$10+GrpJ_Tipps!$M$10+GrpK_Tipps!$M$10+GrpL_Tipps!$M$10","v":0}]

{"sheet":"GrpA_Tipps","index":15,"n_rows":36,"n_cols":33,"rows_kept":36,"hidden":true,"merged":[[2,1,2,3],[2,4,2,6],[2,7,2,8],[2,9,2,11],[8,25,8,30],[15,6,15,11],[15,22,15,25],[15,29,15,30],[16,26,16,28],[17,4,17,6],[18,4,18,6],[19,4,19,6],[20,4,20,6]]}
[null,"Group","A","Tipps"]
[]
[null,"Match",null,null,"Score",null,null,"Points",null,"Penalty",null,null,"valid",{"$nulls":3},"Points","GD","For","Against","Wins","Coefficient","Dir. Comp. (3)","Dir. Comp. (2)","Dir. Comp. (4.3)","Dir. Comp. (4.3.2)","Dir. Comp. (4.2)","Fair play","match count > 0","Pts/GD/For","Penalty","Ranking","Played"]
[null,{"$f":"INDEX(Meine_Tipps!$B$13:$AJ$38,1,1+(CODE($C$1)-65)*3)","v":"Mexiko"},"-",{"$f":"INDEX(Meine_Tipps!$B$13:$AJ$38,1,2+(CODE($C$1)-65)*3)","v":"Südafrika"},{"$f":"IF(OR(INDEX(Meine_Tipps!$B$14:$AJ$39,1,1+(CODE($C$1)-65)*3)=\"\",INDEX(Meine_Tipps!$B$14:$AJ$39,1,2+(CODE($C$1)-65)*3)=\"\"),\"\",INDEX(Meine_Tipps!$B$14:$AJ$39,1,1+(CODE($C$1)-65)*3))","v":""},"-",{"$f":"IF(OR(INDEX(Meine_Tipps!$B$14:$AJ$39,1,1+(CODE($C$1)-65)*3)=\"\",INDEX(Meine_Tipps!$B$14:$AJ$39,1,2+(CODE($C$1)-65)*3)=\"\"),\"\",INDEX(Meine_Tipps!$B$14:$AJ$39,1,2+(CODE($C$1)-65)*3))","v":""},{"$f":"IF($M4>0,IF($E4>$G4,3,IF($E4=$G4,1,0)),0)","v":0},{"$f":"IF($M4>0,IF($E4<$G4,3,IF($E4=$G4,1,0)),0)","v":0},{"$nulls":3},{"$f":"IF(AND($E4<>\"\",$G4<>\"\"),1,0)","v":0},null,"1.",{"$f":"VLOOKUP($C$1&ROW($A1),Groups_Tipps!$B$7:$D$65,3,0)","v":"Mexiko"},{"$f":"SUMIF($B$4:$B$9,P4,$H$4:$H$9)+SUMIF($D$4:$D$9,P4,$I$4:$I$9)","v":0},{"$f":"S4-T4","v":0},{"$f":"SUMIF($B$4:$B$9,$P4,$E$4:$E$9)+SUMIF($D$4:$D$9,$P4,$G$4:$G$9)","v":0},{"$f":"SUMIF($B$4:$B$9,$P4,$G$4:$G$9)+SUMIF($D$4:$D$9,$P4,$E$4:$E$9)","v":0},{"$f":"COUNTIFS($B$4:$B$9,$P4,$H$4:$H$9,\"=3\")+COUNTIFS($D$4:$D$9,$P4,$I$4:$I$9,\"=3\")","v":0},{"$f":"$Q4*FactorPts+(GDzero+$R4)*FactorGD+$S4*FactorFor+$U4*FactorWins+$W4*FactorDirC3+$X4*FactorDirC2+$Y4*FactorDirC43+$Z4*FactorDirC42+$AA4*FactorDirC42+$AB4*FactorFairPlay+$AE4*FactorPenalty+(100-$AF4)*($M$10>0)*FactorRank+(8-ROW())*FactorRow","v":{"v":50000.00000004,"d":"50,000.0000000"}},{"$f":"SUMIFS($X$18:$X$35,$P$18:$P$35,$P4)","v":0},{"$f":"IF($L18=\"\",0,$L18)+SUMIFS($Z$18:$Z$35,$P$18:$P$35,$P4)","v":0},{"$f":"SUMIFS($AD$18:$AD$35,$P$18:$P$35,$P4)","v":0},{"$f":"SUMIFS($AE$18:$AE$35,$P$18:$P$35,$P4)","v":0},{"$f":"IF($M18=\"\",0,$M18)","v":0},{"$f":"SUMIFS(FairPlayPoints1,FairPlayTeams1,P4)+SUMIFS(FairPlayPoints2,FairPlayTeams2,P4)+SUMIFS(FairPlayPoints3,FairPlayTeams3,P4)","v":0},{"$f":"(Q4+T4>0)","v":false},{"$f":"$Q4*FactorPts+(GDzero+$R4)*FactorGD+$S4*FactorFor","v":{"v":50000,"d":"50,000"}},0,{"$f":"VLOOKUP(P4,Sprache_Tipps!E:F,2,0)","v":15},{"$f":"OR($Q4>0,$T4>0)","v":false}]
[null,{"$f":"INDEX(Meine_Tipps!$B$13:$AJ$38,6,1+(CODE($C$1)-65)*3)","v":"Südkorea"},"-",{"$f":"INDEX(Meine_Tipps!$B$13:$AJ$38,6,2+(CODE($C$1)-65)*3)","v":"Tschechien"},{"$f":"IF(OR(INDEX(Meine_Tipps!$B$14:$AJ$39,6,1+(CODE($C$1)-65)*3)=\"\",INDEX(Meine_Tipps!$B$14:$AJ$39,6,2+(CODE($C$1)-65)*3)=\"\"),\"\",INDEX(Meine_Tipps!$B$14:$AJ$39,6,1+(CODE($C$1)-65)*3))","v":""},"-",{"$f":"IF(OR(INDEX(Meine_Tipps!$B$14:$AJ$39,6,1+(CODE($C$1)-65)*3)=\"\",INDEX(Meine_Tipps!$B$14:$AJ$39,6,2+(CODE($C$1)-65)*3)=\"\"),\"\",INDEX(Meine_Tipps!$B$14:$AJ$39,6,2+(CODE($C$1)-65)*3))","v":""},0,0,{"$nulls":3},0,null,"2.",{"$f":"VLOOKUP($C$1&ROW($A2),Groups_Tipps!$B$7:$D$65,3,0)","v":"Südafrika"},{"$f":"SUMIF($B$4:$B$9,P5,$H$4:$H$9)+SUMIF($D$4:$D$9,P5,$I$4:$I$9)","v":0},{"$f":"S5-T5","v":0},{"$f":"SUMIF($B$4:$B$9,$P5,$E$4:$E$9)+SUMIF($D$4:$D$9,$P5,$G$4:$G$9)","v":0},{"$f":"SUMIF($B$4:$B$9,$P5,$G$4:$G$9)+SUMIF($D$4:$D$9,$P5,$E$4:$E$9)","v":0},{"$f":"COUNTIFS($B$4:$B$9,$P5,$H$4:$H$9,\"=3\")+COUNTIFS($D$4:$D$9,$P5,$I$4:$I$9,\"=3\")","v":0},{"$f":"$Q5*FactorPts+(GDzero+$R5)*FactorGD+$S5*FactorFor+$U5*FactorWins+$W5*FactorDirC3+$X5*FactorDirC2+$Y5*FactorDirC43+$Z5*FactorDirC42+$AA5*FactorDirC42+$AB5*FactorFairPlay+$AE5*FactorPenalty+(100-$AF5)*($M$10>0)*FactorRank+(8-ROW())*FactorRow","v":{"v":50000.00000003,"d":"50,000.0000000"}},{"$f":"SUMIFS($X$18:$X$35,$P$18:$P$35,$P5)","v":0},{"$f":"IF($L19=\"\",0,$L19)+SUMIFS($Z$18:$Z$35,$P$18:$P$35,$P5)","v":0},{"$f":"SUMIFS($AD$18:$AD$35,$P$18:$P$35,$P5)","v":0},{"$f":"SUMIFS($AE$18:$AE$35,$P$18:$P$35,$P5)","v":0},{"$f":"IF($M19=\"\",0,$M19)","v":0},{"$f":"SUMIFS(FairPlayPoints1,FairPlayTeams1,P5)+SUMIFS(FairPlayPoints2,FairPlayTeams2,P5)+SUMIFS(FairPlayPoints3,FairPlayTeams3,P5)","v":0},{"$f":"(Q5+T5>0)","v":false},{"$f":"$Q5*FactorPts+(GDzero+$R5)*FactorGD+$S5*FactorFor","v":{"v":50000,"d":"50,000"}},0,{"$f":"VLOOKUP(P5,Sprache_Tipps!E:F,2,0)","v":60},{"$f":"OR($Q5>0,$T5>0)","v":false}]
[null,{"$f":"INDEX(Meine_Tipps!$B$13:$AJ$38,11,1+(CODE($C$1)-65)*3)","v":"Tschechien"},"-",{"$f":"INDEX(Meine_Tipps!$B$13:$AJ$38,11,2+(CODE($C$1)-65)*3)","v":"Südafrika"},{"$f":"IF(OR(INDEX(Meine_Tipps!$B$14:$AJ$39,11,1+(CODE($C$1)-65)*3)=\"\",INDEX(Meine_Tipps!$B$14:$AJ$39,11,2+(CODE($C$1)-65)*3)=\"\"),\"\",INDEX(Meine_Tipps!$B$14:$AJ$39,11,1+(CODE($C$1)-65)*3))","v":""},"-",{"$f":"IF(OR(INDEX(Meine_Tipps!$B$14:$AJ$39,11,1+(CODE($C$1)-65)*3)=\"\",INDEX(Meine_Tipps!$B$14:$AJ$39,11,2+(CODE($C$1)-65)*3)=\"\"),\"\",INDEX(Meine_Tipps!$B$14:$AJ$39,11,2+(CODE($C$1)-65)*3))","v":""},0,0,{"$nulls":3},0,null,"3.",{"$f":"VLOOKUP($C$1&ROW($A3),Groups_Tipps!$B$7:$D$65,3,0)","v":"Südkorea"},0,{"$f":"S6-T6","v":0},{"$f":"SUMIF($B$4:$B$9,$P6,$E$4:$E$9)+SUMIF($D$4:$D$9,$P6,$G$4:$G$9)","v":0},{"$f":"SUMIF($B$4:$B$9,$P6,$G$4:$G$9)+SUMIF($D$4:$D$9,$P6,$E$4:$E$9)","v":0},{"$f":"COUNTIFS($B$4:$B$9,$P6,$H$4:$H$9,\"=3\")+COUNTIFS($D$4:$D$9,$P6,$I$4:$I$9,\"=3\")","v":0},{"$f":"$Q6*FactorPts+(GDzero+$R6)*FactorGD+$S6*FactorFor+$U6*FactorWins+$W6*FactorDirC3+$X6*FactorDirC2+$Y6*FactorDirC43+$Z6*FactorDirC42+$AA6*FactorDirC42+$AB6*FactorFairPlay+$AE6*FactorPenalty+(100-$AF6)*($M$10>0)*FactorRank+(8-ROW())*FactorRow","v":{"v":50000.00000002,"d":"50,000.0000000"}},0,{"$f":"IF($L20=\"\",0,$L20)+SUMIFS($Z$18:$Z$35,$P$18:$P$35,$P6)","v":0},0,0,{"$f":"IF($M20=\"\",0,$M20)","v":0},{"$f":"SUMIFS(FairPlayPoints1,FairPlayTeams1,P6)+SUMIFS(FairPlayPoints2,FairPlayTeams2,P6)+SUMIFS(FairPlayPoints3,FairPlayTeams3,P6)","v":0},{"$f":"(Q6+T6>0)","v":false},{"$f":"$Q6*FactorPts+(GDzero+$R6)*FactorGD+$S6*FactorFor","v":{"v":50000,"d":"50,000"}},0,{"$f":"VLOOKUP(P6,Sprache_Tipps!E:F,2,0)","v":25},false]
[null,{"$f":"INDEX(Meine_Tipps!$B$13:$AJ$38,16,1+(CODE($C$1)-65)*3)","v":"Mexiko"},"-",{"$f":"INDEX(Meine_Tipps!$B$13:$AJ$38,16,2+(CODE($C$1)-65)*3)","v":"Südkorea"},{"$f":"IF(OR(INDEX(Meine_Tipps!$B$14:$AJ$39,16,1+(CODE($C$1)-65)*3)=\"\",INDEX(Meine_Tipps!$B$14:$AJ$39,16,2+(CODE($C$1)-65)*3)=\"\"),\"\",INDEX(Meine_Tipps!$B$14:$AJ$39,16,1+(CODE($C$1)-65)*3))","v":""},"-",{"$f":"IF(OR(INDEX(Meine_Tipps!$B$14:$AJ$39,16,1+(CODE($C$1)-65)*3)=\"\",INDEX(Meine_Tipps!$B$14:$AJ$39,16,2+(CODE($C$1)-65)*3)=\"\"),\"\",INDEX(Meine_Tipps!$B$14:$AJ$39,16,2+(CODE($C$1)-65)*3))","v":""},0,0,{"$nulls":3},0,null,"4.",{"$f":"VLOOKUP($C$1&ROW($A4),Groups_Tipps!$B$7:$D$65,3,0)","v":"Tschechien"},0,{"$f":"S7-T7","v":0},{"$f":"SUMIF($B$4:$B$9,$P7,$E$4:$E$9)+SUMIF($D$4:$D$9,$P7,$G$4:$G$9)","v":0},{"$f":"SUMIF($B$4:$B$9,$P7,$G$4:$G$9)+SUMIF($D$4:$D$9,$P7,$E$4:$E$9)","v":0},{"$f":"COUNTIFS($B$4:$B$9,$P7,$H$4:$H$9,\"=3\")+COUNTIFS($D$4:$D$9,$P7,$I$4:$I$9,\"=3\")","v":0},{"$f":"$Q7*FactorPts+(GDzero+$R7)*FactorGD+$S7*FactorFor+$U7*FactorWins+$W7*FactorDirC3+$X7*FactorDirC2+$Y7*FactorDirC43+$Z7*FactorDirC42+$AA7*FactorDirC42+$AB7*FactorFairPlay+$AE7*FactorPenalty+(100-$AF7)*($M$10>0)*FactorRank+(8-ROW())*FactorRow","v":{"v":50000.00000001,"d":"50,000.0000000"}},0,{"$f":"IF($L21=\"\",0,$L21)+SUMIFS($Z$18:$Z$35,$P$18:$P$35,$P7)","v":0},0,0,{"$f":"IF($M21=\"\",0,$M21)","v":0},{"$f":"SUMIFS(FairPlayPoints1,FairPlayTeams1,P7)+SUMIFS(FairPlayPoints2,FairPlayTeams2,P7)+SUMIFS(FairPlayPoints3,FairPlayTeams3,P7)","v":0},{"$f":"(Q7+T7>0)","v":false},{"$f":"$Q7*FactorPts+(GDzero+$R7)*FactorGD+$S7*FactorFor","v":{"v":50000,"d":"50,000"}},0,{"$f":"VLOOKUP(P7,Sprache_Tipps!E:F,2,0)","v":41},false]
[null,{"$f":"INDEX(Meine_Tipps!$B$13:$AJ$38,21,1+(CODE($C$1)-65)*3)","v":"Tschechien"},"-",{"$f":"INDEX(Meine_Tipps!$B$13:$AJ$38,21,2+(CODE($C$1)-65)*3)","v":"Mexiko"},{"$f":"IF(OR(INDEX(Meine_Tipps!$B$14:$AJ$39,21,1+(CODE($C$1)-65)*3)=\"\",INDEX(Meine_Tipps!$B$14:$AJ$39,21,2+(CODE($C$1)-65)*3)=\"\"),\"\",INDEX(Meine_Tipps!$B$14:$AJ$39,21,1+(CODE($C$1)-65)*3))","v":""},"-",{"$f":"IF(OR(INDEX(Meine_Tipps!$B$14:$AJ$39,21,1+(CODE($C$1)-65)*3)=\"\",INDEX(Meine_Tipps!$B$14:$AJ$39,21,2+(CODE($C$1)-65)*3)=\"\"),\"\",INDEX(Meine_Tipps!$B$14:$AJ$39,21,2+(CODE($C$1)-65)*3))","v":""},0,0,{"$nulls":3},0]
[null,{"$f":"INDEX(Meine_Tipps!$B$13:$AJ$38,26,1+(CODE($C$1)-65)*3)","v":"Südafrika"},"-",{"$f":"INDEX(Meine_Tipps!$B$13:$AJ$38,26,2+(CODE($C$1)-65)*3)","v":"Südkorea"},{"$f":"IF(OR(INDEX(Meine_Tipps!$B$14:$AJ$39,26,1+(CODE($C$1)-65)*3)=\"\",INDEX(Meine_Tipps!$B$14:$AJ$39,26,2+(CODE($C$1)-65)*3)=\"\"),\"\",INDEX(Meine_Tipps!$B$14:$AJ$39,26,1+(CODE($C$1)-65)*3))","v":""},"-",{"$f":"IF(OR(INDEX(Meine_Tipps!$B$14:$AJ$39,26,1+(CODE($C$1)-65)*3)=\"\",INDEX(Meine_Tipps!$B$14:$AJ$39,26,2+(CODE($C$1)-65)*3)=\"\"),\"\",INDEX(Meine_Tipps!$B$14:$AJ$39,26,2+(CODE($C$1)-65)*3))","v":""},0,0,{"$nulls":3},0,{"$nulls":12},"For showing direct comparisons of 2 on sheet \"Direct comparisons\""]
[{"$nulls":11},"Sum:",{"$f":"SUM($M$4:$M$9)","v":0},null,null,"Sorted list","Points","GD","For","Against","wins","Coefficient","Played","Red dot","Penalty (?)","DC(2) ?","DC(4.2) ?","DC(3.2) ?","DC(4.3.2) ?","All Dir.C. (2)","Penalty"]
[{"$nulls":14},"1.",{"$f":"INDEX(P$4:P$7,MATCH($V11,$V$4:$V$7,0))","v":"Mexiko"},0,0,0,0,0,{"$f":"LARGE($V$4:$V$7,ROW(A1))","v":{"v":50000.00000004,"d":"50,000.0000000"}},{"$f":"OR($Q11>0,$T11>0)","v":false},{"$f":"IF(AND(OR(TRUNC($V$11,4)=TRUNC($V$12,4),TRUNC($V$11,4)=TRUNC($V$13,4),TRUNC($V$11,4)=TRUNC($V$14,4),TRUNC($V$12,4)=TRUNC($V$13,4),TRUNC($V$12,4)=TRUNC($V$14,4),TRUNC($V$13,4)=TRUNC($V$14,4)),$M$10>0),1,0)","v":0},{"$f":"IF(AND(VLOOKUP($B$8,$P$4:$AD$7,15,0)=VLOOKUP($D$8,$P$4:$AD$7,15,0),$E$8=$G$8,COUNTIF($Q$4:$Q$7,VLOOKUP($B$8,$P$4:$Q$7,2,0))=2,$M$10=6),1,0)","v":0},{"$f":"VLOOKUP($P11,$E$18:$M$21,8,0)<>\"\"","v":false},{"$f":"VLOOKUP($P11,$E$18:$M$21,9,0)<>\"\"","v":false},{"$f":"SUMPRODUCT(1*(LEN($Z$18:$Z$35)>0)*($P$18:$P$35=$P11))>0","v":false},{"$f":"SUMPRODUCT(1*(LEN($AE$18:$AE$35)>0)*($P$18:$P$35=$P11))>0","v":false},{"$f":"IF($Z11,VLOOKUP($P11,$E$18:$M$21,8,0),IF($AA11,VLOOKUP($P11,$E$18:$M$21,9,0),IF($AB11,SUMIFS($Z$18:$Z$35,$P$18:$P$35,$P11),IF($AC11,SUMIFS($AE$18:$AE$35,$P$18:$P$35,$P11),\"\"))))","v":""},{"$f":"IF(OR(AND($Y$11>0,OR($B$8=$P11,$D$8=$P11)),AND($Y$12>0,OR($B$9=$P11,$D$9=$P11))),SUMIF($B$8:$B$9,$P11,$J$8:$J$9)+SUMIF($D$8:$D$9,$P11,$L$8:$L$9),\"\")","v":""}]
[{"$nulls":14},"2.","Südafrika",0,0,0,0,0,{"$f":"LARGE($V$4:$V$7,ROW(A2))","v":{"v":50000.00000003,"d":"50,000.0000000"}},{"$f":"OR($Q12>0,$T12>0)","v":false},null,{"$f":"IF(AND(VLOOKUP($B$9,$P$4:$AD$7,15,0)=VLOOKUP($D$9,$P$4:$AD$7,15,0),$E$9=$G$9,COUNTIF($Q$4:$Q$7,VLOOKUP($B$9,$P$4:$Q$7,2,0))=2,$M$10=6),1,0)","v":0},{"$f":"VLOOKUP($P12,$E$18:$M$21,8,0)<>\"\"","v":false},{"$f":"VLOOKUP($P12,$E$18:$M$21,9,0)<>\"\"","v":false},{"$f":"SUMPRODUCT(1*(LEN($Z$18:$Z$35)>0)*($P$18:$P$35=$P12))>0","v":false},{"$f":"SUMPRODUCT(1*(LEN($AE$18:$AE$35)>0)*($P$18:$P$35=$P12))>0","v":false},{"$f":"IF($Z12,VLOOKUP($P12,$E$18:$M$21,8,0),IF($AA12,VLOOKUP($P12,$E$18:$M$21,9,0),IF($AB12,SUMIFS($Z$18:$Z$35,$P$18:$P$35,$P12),IF($AC12,SUMIFS($AE$18:$AE$35,$P$18:$P$35,$P12),\"\"))))","v":""},{"$f":"IF(OR(AND($Y$11>0,OR($B$8=$P12,$D$8=$P12)),AND($Y$12>0,OR($B$9=$P12,$D$9=$P12))),SUMIF($B$8:$B$9,$P12,$J$8:$J$9)+SUMIF($D$8:$D$9,$P12,$L$8:$L$9),\"\")","v":""}]
[{"$nulls":14},"3.","Südkorea",0,0,0,0,0,{"$f":"LARGE($V$4:$V$7,ROW(A3))","v":{"v":50000.00000002,"d":"50,000.0000000"}},false,null,null,{"$f":"VLOOKUP($P13,$E$18:$M$21,8,0)<>\"\"","v":false},{"$f":"VLOOKUP($P13,$E$18:$M$21,9,0)<>\"\"","v":false},false,false,{"$f":"IF($Z13,VLOOKUP($P13,$E$18:$M$21,8,0),IF($AA13,VLOOKUP($P13,$E$18:$M$21,9,0),IF($AB13,SUMIFS($Z$18:$Z$35,$P$18:$P$35,$P13),IF($AC13,SUMIFS($AE$18:$AE$35,$P$18:$P$35,$P13),\"\"))))","v":""},{"$f":"IF(OR(AND($Y$11>0,OR($B$8=$P13,$D$8=$P13)),AND($Y$12>0,OR($B$9=$P13,$D$9=$P13))),SUMIF($B$8:$B$9,$P13,$J$8:$J$9)+SUMIF($D$8:$D$9,$P13,$L$8:$L$9),\"\")","v":""}]
[{"$nulls":14},"4.","Tschechien",0,0,0,0,0,{"$f":"LARGE($V$4:$V$7,ROW(A4))","v":{"v":50000.00000001,"d":"50,000.0000000"}},false,null,null,{"$f":"VLOOKUP($P14,$E$18:$M$21,8,0)<>\"\"","v":false},{"$f":"VLOOKUP($P14,$E$18:$M$21,9,0)<>\"\"","v":false},false,false,{"$f":"IF($Z14,VLOOKUP($P14,$E$18:$M$21,8,0),IF($AA14,VLOOKUP($P14,$E$18:$M$21,9,0),IF($AB14,SUMIFS($Z$18:$Z$35,$P$18:$P$35,$P14),IF($AC14,SUMIFS($AE$18:$AE$35,$P$18:$P$35,$P14),\"\"))))","v":""},{"$f":"IF(OR(AND($Y$11>0,OR($B$8=$P14,$D$8=$P14)),AND($Y$12>0,OR($B$9=$P14,$D$9=$P14))),SUMIF($B$8:$B$9,$P14,$J$8:$J$9)+SUMIF($D$8:$D$9,$P14,$L$8:$L$9),\"\")","v":""}]
[]
[{"$nulls":6},"Direct Comparison of 2",{"$nulls":15},"Direct Comparison of 3",{"$nulls":6},"Direct Comparison of 4",null,{"$f":"AND($Q$4=$Q$5,$Q$4=$Q$6,$Q$4=$Q$7)","v":true}]
[{"$nulls":7},{"$f":"LEFT($P$4,3)","v":"Mex"},{"$f":"LEFT($P$5,3)","v":"Süd"},{"$f":"LEFT($P$6,3)","v":"Süd"},{"$f":"LEFT($P$7,3)","v":"Tsc"},"DC(2)","DC(4.2)",{"$nulls":3},"Points","GD","For","Against",null,"Pts/GD/For","Rank Col. V","DC(3)","DC(3.2)","DC(3.2)","Results of direct encounters",null,null,"DC(4.3)","DC(4.3.2)"]
[{"$nulls":4},{"$f":"$P$4","v":"Mexiko"},{"$nulls":3},{"$f":"SUMIFS($E$4:$E$9,$B$4:$B$9,$P$4,$D$4:$D$9,$P$5)+SUMIFS($G$4:$G$9,$B$4:$B$9,$P$5,$D$4:$D$9,$P$4)","v":0},{"$f":"SUMIFS($E$4:$E$9,$B$4:$B$9,$P$4,$D$4:$D$9,$P$6)+SUMIFS($G$4:$G$9,$B$4:$B$9,$P$6,$D$4:$D$9,$P$4)","v":0},{"$f":"SUMIFS($E$4:$E$9,$B$4:$B$9,$P$4,$D$4:$D$9,$P$7)+SUMIFS($G$4:$G$9,$B$4:$B$9,$P$7,$D$4:$D$9,$P$4)","v":0},{"$f":"IF(AND($Q$4=$Q$5,$Q$4<>$Q$6,$Q$4<>$Q$7),IF(I18>H19,3,IF(I18=H19,1,0)),IF(AND($Q$4=$Q$6,$Q$4<>$Q$5,$Q$4<>$Q$7),IF(J18>H20,3,IF(J18=H20,1,0)),IF(AND($Q$4=$Q$7,$Q$4<>$Q$5,$Q$4<>$Q$6),IF(K18>H21,3,IF(K18=H21,1,0)),\"\")))","v":""},{"$f":"IF($AF$16,IF(AND($AD$4=$AD$5,$AD$4<>$AD$6,$AD$4<>$AD$7),IF(I18>H19,3,IF(I18=H19,1,0)),IF(AND($AD$4<>$AD$5,$AD$4=$AD$6,$AD$4<>$AD$7),IF(J18>H20,3,IF(J18=H20,1,0)),IF(AND($AD$4<>$AD$5,$AD$4<>$AD$6,$AD$4=$AD$7),IF(K18>H21,3,IF(K18=H21,1,0)),\"\"))),\"\")","v":""},null,"1.",{"$f":"$P$4","v":"Mexiko"},{"$f":"SUMIFS($H$4:$H$9,$B$4:$B$9,$P18,$D$4:$D$9,\"<>\"&$P$21)+SUMIFS($I$4:$I$9,$B$4:$B$9,\"<>\"&$P$21,$D$4:$D$9,$P18)","v":0},{"$f":"S18-T18","v":0},{"$f":"SUMIFS($E$4:$E$9,$B$4:$B$9,$P18,$D$4:$D$9,\"<>\"&$P$21)+SUMIFS($G$4:$G$9,$B$4:$B$9,\"<>\"&$P$21,$D$4:$D$9,$P18)","v":0},{"$f":"SUMIFS($G$4:$G$9,$B$4:$B$9,$P18,$D$4:$D$9,\"<>\"&$P$21)+SUMIFS($E$4:$E$9,$B$4:$B$9,\"<>\"&$P$21,$D$4:$D$9,$P18)","v":0},null,{"$f":"Q18*FactorPts+(GDzero+R18)*FactorGD+S18*FactorFor","v":{"v":50000,"d":"50,000"}},{"$f":"RANK(V18,V$18:V$20,1)","v":1},{"$f":"IF(AND($Q$4=$Q$5,$Q$4=$Q$6,$Q$4<>$Q$7),W18,0)","v":0},{"$f":"IF(AND(V18=V19,V18<>V20),IF(AA18>AA19,3,IF(AA18=AA19,1,0)),IF(AND(V18=V20,V18<>V19),IF(AB18>AB20,3,IF(AB18=AB20,1,0)),\"\"))","v":""},{"$f":"IF(X18>0,Y18,\"\")","v":""},{"$f":"$I$18","v":0},{"$f":"$J$18","v":0},null,{"$f":"IF(AND($AF$16,$AD$4=$AD$5,$AD$4=$AD$6,$AD$4<>$AD$7),W18,0)","v":0},{"$f":"IF(AD18>0,Y18,\"\")","v":""}]
[{"$nulls":4},{"$f":"$P$5","v":"Südafrika"},null,null,{"$f":"SUMIFS($E$4:$E$9,$B$4:$B$9,$P$5,$D$4:$D$9,$P$4)+SUMIFS($G$4:$G$9,$B$4:$B$9,$P$4,$D$4:$D$9,$P$5)","v":0},null,{"$f":"SUMIFS($E$4:$E$9,$B$4:$B$9,$P$5,$D$4:$D$9,$P$6)+SUMIFS($G$4:$G$9,$B$4:$B$9,$P$6,$D$4:$D$9,$P$5)","v":0},{"$f":"SUMIFS($E$4:$E$9,$B$4:$B$9,$P$5,$D$4:$D$9,$P$7)+SUMIFS($G$4:$G$9,$B$4:$B$9,$P$7,$D$4:$D$9,$P$5)","v":0},{"$f":"IF(AND($Q$5=$Q$4,$Q$5<>$Q$6,$Q$5<>$Q$7),IF(H19>I18,3,IF(H19=I18,1,0)),IF(AND($Q$5=$Q$6,$Q$5<>$Q$4,$Q$5<>$Q$7),IF(J19>I20,3,IF(J19=I20,1,0)),IF(AND($Q$5=$Q$7,$Q$5<>$Q$4,$Q$5<>$Q$6),IF(K19>I21,3,IF(K19=I21,1,0)),\"\")))","v":""},{"$f":"IF($AF$16,IF(AND($AD$5=$AD$4,$AD$5<>$AD$6,$AD$5<>$AD$7),IF(H19>I18,3,IF(H19=I18,1,0)),IF(AND($AD$5<>$AD$4,$AD$5=$AD$6,$AD$5<>$AD$7),IF(J19>I20,3,IF(J19=I20,1,0)),IF(AND($AD$5<>$AD$4,$AD$5<>$AD$6,$AD$5=$AD$7),IF(K19>I21,3,IF(K19=I21,1,0)),\"\"))),\"\")","v":""},null,"2.",{"$f":"$P$5","v":"Südafrika"},{"$f":"SUMIFS($H$4:$H$9,$B$4:$B$9,$P19,$D$4:$D$9,\"<>\"&$P$21)+SUMIFS($I$4:$I$9,$B$4:$B$9,\"<>\"&$P$21,$D$4:$D$9,$P19)","v":0},{"$f":"S19-T19","v":0},{"$f":"SUMIFS($E$4:$E$9,$B$4:$B$9,$P19,$D$4:$D$9,\"<>\"&$P$21)+SUMIFS($G$4:$G$9,$B$4:$B$9,\"<>\"&$P$21,$D$4:$D$9,$P19)","v":0},{"$f":"SUMIFS($G$4:$G$9,$B$4:$B$9,$P19,$D$4:$D$9,\"<>\"&$P$21)+SUMIFS($E$4:$E$9,$B$4:$B$9,\"<>\"&$P$21,$D$4:$D$9,$P19)","v":0},null,{"$f":"Q19*FactorPts+(GDzero+R19)*FactorGD+S19*FactorFor","v":{"v":50000,"d":"50,000"}},{"$f":"RANK(V19,V$18:V$20,1)","v":1},{"$f":"IF(AND($Q$4=$Q$5,$Q$4=$Q$6,$Q$4<>$Q$7),W19,0)","v":0},{"$f":"IF(AND(V19=V18,V19<>V20),IF(AA19>AA18,3,IF(AA19=AA18,1,0)),IF(AND(V19=V20,V19<>V18),IF(AC19>AC20,3,IF(AC19=AC20,1,0)),\"\"))","v":""},{"$f":"IF(X19>0,Y19,\"\")","v":""},{"$f":"$H$19","v":0},null,{"$f":"$J$19","v":0},{"$f":"IF(AND($AF$16,$AD$4=$AD$5,$AD$4=$AD$6,$AD$4<>$AD$7),W19,0)","v":0},{"$f":"IF(AD19>0,Y19,\"\")","v":""}]
[{"$nulls":4},{"$f":"$P$6","v":"Südkorea"},null,null,{"$f":"SUMIFS($E$4:$E$9,$B$4:$B$9,$P$6,$D$4:$D$9,$P$4)+SUMIFS($G$4:$G$9,$B$4:$B$9,$P$4,$D$4:$D$9,$P$6)","v":0},{"$f":"SUMIFS($E$4:$E$9,$B$4:$B$9,$P$6,$D$4:$D$9,$P$5)+SUMIFS($G$4:$G$9,$B$4:$B$9,$P$5,$D$4:$D$9,$P$6)","v":0},null,{"$f":"SUMIFS($E$4:$E$9,$B$4:$B$9,$P$6,$D$4:$D$9,$P$7)+SUMIFS($G$4:$G$9,$B$4:$B$9,$P$7,$D$4:$D$9,$P$6)","v":0},{"$f":"IF(AND($Q$6=$Q$4,$Q$6<>$Q$5,$Q$6<>$Q$7),IF(H20>J18,3,IF(H20=J18,1,0)),IF(AND($Q$6=$Q$5,$Q$6<>$Q$4,$Q$6<>$Q$7),IF(I20>J19,3,IF(I20=J19,1,0)),IF(AND($Q$6=$Q$7,$Q$6<>$Q$4,$Q$6<>$Q$5),IF(K20>J21,3,IF(K20=J21,1,0)),\"\")))","v":""},{"$f":"IF($AF$16,IF(AND($AD$6=$AD$4,$AD$6<>$AD$5,$AD$6<>$AD$7),IF(H20>J18,3,IF(H20=J18,1,0)),IF(AND($AD$6<>$AD$4,$AD$6=$AD$5,$AD$6<>$AD$7),IF(I20>J19,3,IF(I20=J19,1,0)),IF(AND($AD$6<>$AD$4,$AD$6<>$AD$5,$AD$6=$AD$7),IF(K20>J21,3,IF(K20=J21,1,0)),\"\"))),\"\")","v":""},null,"3.",{"$f":"$P$6","v":"Südkorea"},{"$f":"SUMIFS($H$4:$H$9,$B$4:$B$9,$P20,$D$4:$D$9,\"<>\"&$P$21)+SUMIFS($I$4:$I$9,$B$4:$B$9,\"<>\"&$P$21,$D$4:$D$9,$P20)","v":0},{"$f":"S20-T20","v":0},{"$f":"SUMIFS($E$4:$E$9,$B$4:$B$9,$P20,$D$4:$D$9,\"<>\"&$P$21)+SUMIFS($G$4:$G$9,$B$4:$B$9,\"<>\"&$P$21,$D$4:$D$9,$P20)","v":0},{"$f":"SUMIFS($G$4:$G$9,$B$4:$B$9,$P20,$D$4:$D$9,\"<>\"&$P$21)+SUMIFS($E$4:$E$9,$B$4:$B$9,\"<>\"&$P$21,$D$4:$D$9,$P20)","v":0},null,{"$f":"Q20*FactorPts+(GDzero+R20)*FactorGD+S20*FactorFor","v":{"v":50000,"d":"50,000"}},{"$f":"RANK(V20,V$18:V$20,1)","v":1},{"$f":"IF(AND($Q$4=$Q$5,$Q$4=$Q$6,$Q$4<>$Q$7),W20,0)","v":0},{"$f":"IF(AND(V20=V18,V20<>V19),IF(AB20>AB18,3,IF(AB20=AB18,1,0)),IF(AND(V20=V19,V20<>V18),IF(AC20>AC19,3,IF(AC20=AC19,1,0)),\"\"))","v":""},"",null,{"$f":"$H$20","v":0},{"$f":"$I$20","v":0},{"$f":"IF(AND($AF$16,$AD$4=$AD$5,$AD$4=$AD$6,$AD$4<>$AD$7),W20,0)","v":0},""]
[{"$nulls":4},{"$f":"$P$7","v":"Tschechien"},null,null,{"$f":"SUMIFS($E$4:$E$9,$B$4:$B$9,$P$7,$D$4:$D$9,$P$4)+SUMIFS($G$4:$G$9,$B$4:$B$9,$P$4,$D$4:$D$9,$P$7)","v":0},{"$f":"SUMIFS($E$4:$E$9,$B$4:$B$9,$P$7,$D$4:$D$9,$P$5)+SUMIFS($G$4:$G$9,$B$4:$B$9,$P$5,$D$4:$D$9,$P$7)","v":0},{"$f":"SUMIFS($E$4:$E$9,$B$4:$B$9,$P$7,$D$4:$D$9,$P$6)+SUMIFS($G$4:$G$9,$B$4:$B$9,$P$6,$D$4:$D$9,$P$7)","v":0},null,{"$f":"IF(AND($Q$7=$Q$4,$Q$7<>$Q$5,$Q$7<>$Q$6),IF(H21>K18,3,IF(H21=K18,1,0)),IF(AND($Q$7=$Q$5,$Q$7<>$Q$4,$Q$7<>$Q$6),IF(I21>K19,3,IF(I21=K19,1,0)),IF(AND($Q$7=$Q$6,$Q$7<>$Q$4,$Q$7<>$Q$5),IF(J21>K20,3,IF(J21=K20,1,0)),\"\")))","v":""},{"$f":"IF($AF$16,IF(AND($AD$7=$AD$4,$AD$7<>$AD$5,$AD$7<>$AD$6),IF(H21>K18,3,IF(H21=K18,1,0)),IF(AND($AD$7<>$AD$4,$AD$7=$AD$5,$AD$7<>$AD$6),IF(I21>K19,3,IF(I21=K19,1,0)),IF(AND($AD$7<>$AD$4,$AD$7<>$AD$5,$AD$7=$AD$6),IF(J21>K20,3,IF(J21=K20,1,0)),\"\"))),\"\")","v":""},null,null,{"$f":"$P$7","v":"Tschechien"}]
[]
[{"$nulls":14},"1.",{"$f":"$P$4","v":"Mexiko"},{"$f":"SUMIFS($H$4:$H$9,$B$4:$B$9,$P23,$D$4:$D$9,\"<>\"&$P$26)+SUMIFS($I$4:$I$9,$B$4:$B$9,\"<>\"&$P$26,$D$4:$D$9,$P23)","v":0},{"$f":"S23-T23","v":0},{"$f":"SUMIFS($E$4:$E$9,$B$4:$B$9,$P23,$D$4:$D$9,\"<>\"&$P$26)+SUMIFS($G$4:$G$9,$B$4:$B$9,\"<>\"&$P$26,$D$4:$D$9,$P23)","v":0},{"$f":"SUMIFS($G$4:$G$9,$B$4:$B$9,$P23,$D$4:$D$9,\"<>\"&$P$26)+SUMIFS($E$4:$E$9,$B$4:$B$9,\"<>\"&$P$26,$D$4:$D$9,$P23)","v":0},null,{"$f":"Q23*FactorPts+(GDzero+R23)*FactorGD+S23*FactorFor","v":{"v":50000,"d":"50,000"}},{"$f":"RANK(V23,V$23:V$25,1)","v":1},{"$f":"IF(AND($Q$4=$Q$5,$Q$4=$Q$7,$Q$4<>$Q$6),W23,0)","v":0},{"$f":"IF(AND(V23=V24,V23<>V25),IF(AA23>AA24,3,IF(AA23=AA24,1,0)),IF(AND(V23=V25,V23<>V24),IF(AB23>AB25,3,IF(AB23=AB25,1,0)),\"\"))","v":""},{"$f":"IF(X23>0,Y23,\"\")","v":""},{"$f":"$I$18","v":0},{"$f":"$K$18","v":0},null,{"$f":"IF(AND($AF$16,$AD$4=$AD$5,$AD$4=$AD$7,$AD$4<>$AD$6),W23,0)","v":0},{"$f":"IF(AD23>0,Y23,\"\")","v":""}]
[{"$nulls":14},"2.",{"$f":"$P$5","v":"Südafrika"},{"$f":"SUMIFS($H$4:$H$9,$B$4:$B$9,$P24,$D$4:$D$9,\"<>\"&$P$26)+SUMIFS($I$4:$I$9,$B$4:$B$9,\"<>\"&$P$26,$D$4:$D$9,$P24)","v":0},{"$f":"S24-T24","v":0},{"$f":"SUMIFS($E$4:$E$9,$B$4:$B$9,$P24,$D$4:$D$9,\"<>\"&$P$26)+SUMIFS($G$4:$G$9,$B$4:$B$9,\"<>\"&$P$26,$D$4:$D$9,$P24)","v":0},{"$f":"SUMIFS($G$4:$G$9,$B$4:$B$9,$P24,$D$4:$D$9,\"<>\"&$P$26)+SUMIFS($E$4:$E$9,$B$4:$B$9,\"<>\"&$P$26,$D$4:$D$9,$P24)","v":0},null,{"$f":"Q24*FactorPts+(GDzero+R24)*FactorGD+S24*FactorFor","v":{"v":50000,"d":"50,000"}},{"$f":"RANK(V24,V$23:V$25,1)","v":1},{"$f":"IF(AND($Q$4=$Q$5,$Q$4=$Q$7,$Q$4<>$Q$6),W24,0)","v":0},{"$f":"IF(AND(V24=V23,V24<>V25),IF(AA24>AA23,3,IF(AA24=AA23,1,0)),IF(AND(V24=V25,V24<>V23),IF(AC24>AC25,3,IF(AC24=AC25,1,0)),\"\"))","v":""},{"$f":"IF(X24>0,Y24,\"\")","v":""},{"$f":"$H$19","v":0},null,{"$f":"$K$19","v":0},{"$f":"IF(AND($AF$16,$AD$4=$AD$5,$AD$4=$AD$7,$AD$4<>$AD$6),W24,0)","v":0},{"$f":"IF(AD24>0,Y24,\"\")","v":""}]
[{"$nulls":14},"3.",{"$f":"$P$7","v":"Tschechien"},{"$f":"SUMIFS($H$4:$H$9,$B$4:$B$9,$P25,$D$4:$D$9,\"<>\"&$P$26)+SUMIFS($I$4:$I$9,$B$4:$B$9,\"<>\"&$P$26,$D$4:$D$9,$P25)","v":0},{"$f":"S25-T25","v":0},{"$f":"SUMIFS($E$4:$E$9,$B$4:$B$9,$P25,$D$4:$D$9,\"<>\"&$P$26)+SUMIFS($G$4:$G$9,$B$4:$B$9,\"<>\"&$P$26,$D$4:$D$9,$P25)","v":0},{"$f":"SUMIFS($G$4:$G$9,$B$4:$B$9,$P25,$D$4:$D$9,\"<>\"&$P$26)+SUMIFS($E$4:$E$9,$B$4:$B$9,\"<>\"&$P$26,$D$4:$D$9,$P25)","v":0},null,{"$f":"Q25*FactorPts+(GDzero+R25)*FactorGD+S25*FactorFor","v":{"v":50000,"d":"50,000"}},{"$f":"RANK(V25,V$23:V$25,1)","v":1},{"$f":"IF(AND($Q$4=$Q$5,$Q$4=$Q$7,$Q$4<>$Q$6),W25,0)","v":0},{"$f":"IF(AND(V25=V23,V25<>V24),IF(AB25>AB23,3,IF(AB25=AB23,1,0)),IF(AND(V25=V24,V25<>V23),IF(AC25>AC24,3,IF(AC25=AC24,1,0)),\"\"))","v":""},"",null,{"$f":"$H$21","v":0},{"$f":"$I$21","v":0},{"$f":"IF(AND($AF$16,$AD$4=$AD$5,$AD$4=$AD$7,$AD$4<>$AD$6),W25,0)","v":0},""]
[{"$nulls":15},{"$f":"$P$6","v":"Südkorea"}]
[]
[{"$nulls":14},"1.",{"$f":"$P$4","v":"Mexiko"},{"$f":"SUMIFS($H$4:$H$9,$B$4:$B$9,$P28,$D$4:$D$9,\"<>\"&$P$31)+SUMIFS($I$4:$I$9,$B$4:$B$9,\"<>\"&$P$31,$D$4:$D$9,$P28)","v":0},{"$f":"S28-T28","v":0},{"$f":"SUMIFS($E$4:$E$9,$B$4:$B$9,$P28,$D$4:$D$9,\"<>\"&$P$31)+SUMIFS($G$4:$G$9,$B$4:$B$9,\"<>\"&$P$31,$D$4:$D$9,$P28)","v":0},{"$f":"SUMIFS($G$4:$G$9,$B$4:$B$9,$P28,$D$4:$D$9,\"<>\"&$P$31)+SUMIFS($E$4:$E$9,$B$4:$B$9,\"<>\"&$P$31,$D$4:$D$9,$P28)","v":0},null,{"$f":"Q28*FactorPts+(GDzero+R28)*FactorGD+S28*FactorFor","v":{"v":50000,"d":"50,000"}},{"$f":"RANK(V28,V$28:V$30,1)","v":1},{"$f":"IF(AND($Q$4=$Q$6,$Q$4=$Q$7,$Q$4<>$Q$5),W28,0)","v":0},{"$f":"IF(AND(V28=V29,V28<>V30),IF(AA28>AA29,3,IF(AA28=AA29,1,0)),IF(AND(V28=V30,V28<>V29),IF(AB28>AB30,3,IF(AB28=AB30,1,0)),\"\"))","v":""},{"$f":"IF(X28>0,Y28,\"\")","v":""},{"$f":"$J$18","v":0},{"$f":"$K$18","v":0},null,{"$f":"IF(AND($AF$16,$AD$4=$AD$6,$AD$4=$AD$7,$AD$4<>$AD$5),W28,0)","v":0},{"$f":"IF(AD28>0,Y28,\"\")","v":""}]
[{"$nulls":14},"2.",{"$f":"$P$6","v":"Südkorea"},{"$f":"SUMIFS($H$4:$H$9,$B$4:$B$9,$P29,$D$4:$D$9,\"<>\"&$P$31)+SUMIFS($I$4:$I$9,$B$4:$B$9,\"<>\"&$P$31,$D$4:$D$9,$P29)","v":0},{"$f":"S29-T29","v":0},{"$f":"SUMIFS($E$4:$E$9,$B$4:$B$9,$P29,$D$4:$D$9,\"<>\"&$P$31)+SUMIFS($G$4:$G$9,$B$4:$B$9,\"<>\"&$P$31,$D$4:$D$9,$P29)","v":0},{"$f":"SUMIFS($G$4:$G$9,$B$4:$B$9,$P29,$D$4:$D$9,\"<>\"&$P$31)+SUMIFS($E$4:$E$9,$B$4:$B$9,\"<>\"&$P$31,$D$4:$D$9,$P29)","v":0},null,{"$f":"Q29*FactorPts+(GDzero+R29)*FactorGD+S29*FactorFor","v":{"v":50000,"d":"50,000"}},{"$f":"RANK(V29,V$28:V$30,1)","v":1},{"$f":"IF(AND($Q$4=$Q$6,$Q$4=$Q$7,$Q$4<>$Q$5),W29,0)","v":0},{"$f":"IF(AND(V29=V28,V29<>V30),IF(AA29>AA28,3,IF(AA29=AA28,1,0)),IF(AND(V29=V30,V29<>V28),IF(AC29>AC30,3,IF(AC29=AC30,1,0)),\"\"))","v":""},{"$f":"IF(X29>0,Y29,\"\")","v":""},{"$f":"$H$20","v":0},null,{"$f":"$K$20","v":0},{"$f":"IF(AND($AF$16,$AD$4=$AD$6,$AD$4=$AD$7,$AD$4<>$AD$5),W29,0)","v":0},{"$f":"IF(AD29>0,Y29,\"\")","v":""}]
[{"$nulls":14},"3.",{"$f":"$P$7","v":"Tschechien"},{"$f":"SUMIFS($H$4:$H$9,$B$4:$B$9,$P30,$D$4:$D$9,\"<>\"&$P$31)+SUMIFS($I$4:$I$9,$B$4:$B$9,\"<>\"&$P$31,$D$4:$D$9,$P30)","v":0},{"$f":"S30-T30","v":0},{"$f":"SUMIFS($E$4:$E$9,$B$4:$B$9,$P30,$D$4:$D$9,\"<>\"&$P$31)+SUMIFS($G$4:$G$9,$B$4:$B$9,\"<>\"&$P$31,$D$4:$D$9,$P30)","v":0},{"$f":"SUMIFS($G$4:$G$9,$B$4:$B$9,$P30,$D$4:$D$9,\"<>\"&$P$31)+SUMIFS($E$4:$E$9,$B$4:$B$9,\"<>\"&$P$31,$D$4:$D$9,$P30)","v":0},null,{"$f":"Q30*FactorPts+(GDzero+R30)*FactorGD+S30*FactorFor","v":{"v":50000,"d":"50,000"}},1,{"$f":"IF(AND($Q$4=$Q$6,$Q$4=$Q$7,$Q$4<>$Q$5),W30,0)","v":0},{"$f":"IF(AND(V30=V28,V30<>V29),IF(AB30>AB28,3,IF(AB30=AB28,1,0)),IF(AND(V30=V29,V30<>V28),IF(AC30>AC29,3,IF(AC30=AC29,1,0)),\"\"))","v":""},"",null,{"$f":"$H$21","v":0},{"$f":"$J$21","v":0},{"$f":"IF(AND($AF$16,$AD$4=$AD$6,$AD$4=$AD$7,$AD$4<>$AD$5),W30,0)","v":0},""]
[{"$nulls":15},{"$f":"$P$5","v":"Südafrika"}]
[]
[{"$nulls":14},"1.",{"$f":"$P$5","v":"Südafrika"},{"$f":"SUMIFS($H$4:$H$9,$B$4:$B$9,$P33,$D$4:$D$9,\"<>\"&$P$36)+SUMIFS($I$4:$I$9,$B$4:$B$9,\"<>\"&$P$36,$D$4:$D$9,$P33)","v":0},{"$f":"S33-T33","v":0},{"$f":"SUMIFS($E$4:$E$9,$B$4:$B$9,$P33,$D$4:$D$9,\"<>\"&$P$36)+SUMIFS($G$4:$G$9,$B$4:$B$9,\"<>\"&$P$36,$D$4:$D$9,$P33)","v":0},{"$f":"SUMIFS($G$4:$G$9,$B$4:$B$9,$P33,$D$4:$D$9,\"<>\"&$P$36)+SUMIFS($E$4:$E$9,$B$4:$B$9,\"<>\"&$P$36,$D$4:$D$9,$P33)","v":0},null,{"$f":"Q33*FactorPts+(GDzero+R33)*FactorGD+S33*FactorFor","v":{"v":50000,"d":"50,000"}},{"$f":"RANK(V33,V$33:V$35,1)","v":1},{"$f":"IF(AND($Q$5=$Q$6,$Q$5=$Q$7,$Q$5<>$Q$4),W33,0)","v":0},{"$f":"IF(AND(V33=V34,V33<>V35),IF(AA33>AA34,3,IF(AA33=AA34,1,0)),IF(AND(V33=V35,V33<>V34),IF(AB33>AB35,3,IF(AB33=AB35,1,0)),\"\"))","v":""},{"$f":"IF(X33>0,Y33,\"\")","v":""},{"$f":"$J$19","v":0},{"$f":"$K$19","v":0},null,{"$f":"IF(AND($AF$16,$AD$5=$AD$6,$AD$5=$AD$7,$AD$5<>$AD$4),W33,0)","v":0},{"$f":"IF(AD33>0,Y33,\"\")","v":""}]
[{"$nulls":14},"2.",{"$f":"$P$6","v":"Südkorea"},{"$f":"SUMIFS($H$4:$H$9,$B$4:$B$9,$P34,$D$4:$D$9,\"<>\"&$P$36)+SUMIFS($I$4:$I$9,$B$4:$B$9,\"<>\"&$P$36,$D$4:$D$9,$P34)","v":0},{"$f":"S34-T34","v":0},{"$f":"SUMIFS($E$4:$E$9,$B$4:$B$9,$P34,$D$4:$D$9,\"<>\"&$P$36)+SUMIFS($G$4:$G$9,$B$4:$B$9,\"<>\"&$P$36,$D$4:$D$9,$P34)","v":0},{"$f":"SUMIFS($G$4:$G$9,$B$4:$B$9,$P34,$D$4:$D$9,\"<>\"&$P$36)+SUMIFS($E$4:$E$9,$B$4:$B$9,\"<>\"&$P$36,$D$4:$D$9,$P34)","v":0},null,{"$f":"Q34*FactorPts+(GDzero+R34)*FactorGD+S34*FactorFor","v":{"v":50000,"d":"50,000"}},{"$f":"RANK(V34,V$33:V$35,1)","v":1},{"$f":"IF(AND($Q$5=$Q$6,$Q$5=$Q$7,$Q$5<>$Q$4),W34,0)","v":0},{"$f":"IF(AND(V34=V33,V34<>V35),IF(AA34>AA33,3,IF(AA34=AA33,1,0)),IF(AND(V34=V35,V34<>V33),IF(AC34>AC35,3,IF(AC34=AC35,1,0)),\"\"))","v":""},{"$f":"IF(X34>0,Y34,\"\")","v":""},{"$f":"$I$20","v":0},null,{"$f":"$K$20","v":0},{"$f":"IF(AND($AF$16,$AD$5=$AD$6,$AD$5=$AD$7,$AD$5<>$AD$4),W34,0)","v":0},{"$f":"IF(AD34>0,Y34,\"\")","v":""}]
[{"$nulls":14},"3.",{"$f":"$P$7","v":"Tschechien"},{"$f":"SUMIFS($H$4:$H$9,$B$4:$B$9,$P35,$D$4:$D$9,\"<>\"&$P$36)+SUMIFS($I$4:$I$9,$B$4:$B$9,\"<>\"&$P$36,$D$4:$D$9,$P35)","v":0},{"$f":"S35-T35","v":0},{"$f":"SUMIFS($E$4:$E$9,$B$4:$B$9,$P35,$D$4:$D$9,\"<>\"&$P$36)+SUMIFS($G$4:$G$9,$B$4:$B$9,\"<>\"&$P$36,$D$4:$D$9,$P35)","v":0},{"$f":"SUMIFS($G$4:$G$9,$B$4:$B$9,$P35,$D$4:$D$9,\"<>\"&$P$36)+SUMIFS($E$4:$E$9,$B$4:$B$9,\"<>\"&$P$36,$D$4:$D$9,$P35)","v":0},null,{"$f":"Q35*FactorPts+(GDzero+R35)*FactorGD+S35*FactorFor","v":{"v":50000,"d":"50,000"}},{"$f":"RANK(V35,V$33:V$35,1)","v":1},{"$f":"IF(AND($Q$5=$Q$6,$Q$5=$Q$7,$Q$5<>$Q$4),W35,0)","v":0},{"$f":"IF(AND(V35=V33,V35<>V34),IF(AB35>AB33,3,IF(AB35=AB33,1,0)),IF(AND(V35=V34,V35<>V33),IF(AC35>AC34,3,IF(AC35=AC34,1,0)),\"\"))","v":""},"",null,{"$f":"$I$21","v":0},{"$f":"$J$21","v":0},{"$f":"IF(AND($AF$16,$AD$5=$AD$6,$AD$5=$AD$7,$AD$5<>$AD$4),W35,0)","v":0},""]
[{"$nulls":15},{"$f":"$P$4","v":"Mexiko"}]

{"sheet":"GrpB_Tipps","index":16,"n_rows":36,"n_cols":33,"rows_kept":36,"hidden":true,"merged":[[2,1,2,3],[2,4,2,6],[2,7,2,8],[2,9,2,11],[8,25,8,30],[15,6,15,11],[15,22,15,25],[15,29,15,30],[16,26,16,28],[17,4,17,6],[18,4,18,6],[19,4,19,6],[20,4,20,6]]}
[null,"Group","B","Tipps"]
[]
[null,"Match",null,null,"Score",null,null,"Points",null,"Penalty",null,null,"valid",{"$nulls":3},"Points","GD","For","Against","Wins","Coefficient","Dir. Comp. (3)","Dir. Comp. (2)","Dir. Comp. (4.3)","Dir. Comp. (4.3.2)","Dir. Comp. (4.2)","Fair play","match count > 0","Pts/GD/For","Penalty","Ranking","Played"]
[null,{"$f":"INDEX(Meine_Tipps!$B$13:$AJ$38,1,1+(CODE($C$1)-65)*3)","v":"Kanada"},"-",{"$f":"INDEX(Meine_Tipps!$B$13:$AJ$38,1,2+(CODE($C$1)-65)*3)","v":"Bosnien-Herzeg."},{"$f":"IF(OR(INDEX(Meine_Tipps!$B$14:$AJ$39,1,1+(CODE($C$1)-65)*3)=\"\",INDEX(Meine_Tipps!$B$14:$AJ$39,1,2+(CODE($C$1)-65)*3)=\"\"),\"\",INDEX(Meine_Tipps!$B$14:$AJ$39,1,1+(CODE($C$1)-65)*3))","v":""},"-",{"$f":"IF(OR(INDEX(Meine_Tipps!$B$14:$AJ$39,1,1+(CODE($C$1)-65)*3)=\"\",INDEX(Meine_Tipps!$B$14:$AJ$39,1,2+(CODE($C$1)-65)*3)=\"\"),\"\",INDEX(Meine_Tipps!$B$14:$AJ$39,1,2+(CODE($C$1)-65)*3))","v":""},{"$f":"IF($M4>0,IF($E4>$G4,3,IF($E4=$G4,1,0)),0)","v":0},{"$f":"IF($M4>0,IF($E4<$G4,3,IF($E4=$G4,1,0)),0)","v":0},{"$nulls":3},{"$f":"IF(AND($E4<>\"\",$G4<>\"\"),1,0)","v":0},null,"1.",{"$f":"VLOOKUP($C$1&ROW($A1),Groups_Tipps!$B$7:$D$65,3,0)","v":"Kanada"},{"$f":"SUMIF($B$4:$B$9,P4,$H$4:$H$9)+SUMIF($D$4:$D$9,P4,$I$4:$I$9)","v":0},{"$f":"S4-T4","v":0},{"$f":"SUMIF($B$4:$B$9,$P4,$E$4:$E$9)+SUMIF($D$4:$D$9,$P4,$G$4:$G$9)","v":0},{"$f":"SUMIF($B$4:$B$9,$P4,$G$4:$G$9)+SUMIF($D$4:$D$9,$P4,$E$4:$E$9)","v":0},{"$f":"COUNTIFS($B$4:$B$9,$P4,$H$4:$H$9,\"=3\")+COUNTIFS($D$4:$D$9,$P4,$I$4:$I$9,\"=3\")","v":0},{"$f":"$Q4*FactorPts+(GDzero+$R4)*FactorGD+$S4*FactorFor+$U4*FactorWins+$W4*FactorDirC3+$X4*FactorDirC2+$Y4*FactorDirC43+$Z4*FactorDirC42+$AA4*FactorDirC42+$AB4*FactorFairPlay+$AE4*FactorPenalty+(100-$AF4)*($M$10>0)*FactorRank+(8-ROW())*FactorRow","v":{"v":50000.00000004,"d":"50,000.0000000"}},{"$f":"SUMIFS($X$18:$X$35,$P$18:$P$35,$P4)","v":0},{"$f":"IF($L18=\"\",0,$L18)+SUMIFS($Z$18:$Z$35,$P$18:$P$35,$P4)","v":0},{"$f":"SUMIFS($AD$18:$AD$35,$P$18:$P$35,$P4)","v":0},{"$f":"SUMIFS($AE$18:$AE$35,$P$18:$P$35,$P4)","v":0},{"$f":"IF($M18=\"\",0,$M18)","v":0},{"$f":"SUMIFS(FairPlayPoints1,FairPlayTeams1,P4)+SUMIFS(FairPlayPoints2,FairPlayTeams2,P4)+SUMIFS(FairPlayPoints3,FairPlayTeams3,P4)","v":0},{"$f":"(Q4+T4>0)","v":false},{"$f":"$Q4*FactorPts+(GDzero+$R4)*FactorGD+$S4*FactorFor","v":{"v":50000,"d":"50,000"}},0,{"$f":"VLOOKUP(P4,Sprache_Tipps!E:F,2,0)","v":30},{"$f":"OR($Q4>0,$T4>0)","v":false}]
[null,{"$f":"INDEX(Meine_Tipps!$B$13:$AJ$38,6,1+(CODE($C$1)-65)*3)","v":"Katar"},"-",{"$f":"INDEX(Meine_Tipps!$B$13:$AJ$38,6,2+(CODE($C$1)-65)*3)","v":"Schweiz"},{"$f":"IF(OR(INDEX(Meine_Tipps!$B$14:$AJ$39,6,1+(CODE($C$1)-65)*3)=\"\",INDEX(Meine_Tipps!$B$14:$AJ$39,6,2+(CODE($C$1)-65)*3)=\"\"),\"\",INDEX(Meine_Tipps!$B$14:$AJ$39,6,1+(CODE($C$1)-65)*3))","v":""},"-",{"$f":"IF(OR(INDEX(Meine_Tipps!$B$14:$AJ$39,6,1+(CODE($C$1)-65)*3)=\"\",INDEX(Meine_Tipps!$B$14:$AJ$39,6,2+(CODE($C$1)-65)*3)=\"\"),\"\",INDEX(Meine_Tipps!$B$14:$AJ$39,6,2+(CODE($C$1)-65)*3))","v":""},0,0,{"$nulls":3},0,null,"2.",{"$f":"VLOOKUP($C$1&ROW($A2),Groups_Tipps!$B$7:$D$65,3,0)","v":"Bosnien-Herzeg."},{"$f":"SUMIF($B$4:$B$9,P5,$H$4:$H$9)+SUMIF($D$4:$D$9,P5,$I$4:$I$9)","v":0},{"$f":"S5-T5","v":0},{"$f":"SUMIF($B$4:$B$9,$P5,$E$4:$E$9)+SUMIF($D$4:$D$9,$P5,$G$4:$G$9)","v":0},{"$f":"SUMIF($B$4:$B$9,$P5,$G$4:$G$9)+SUMIF($D$4:$D$9,$P5,$E$4:$E$9)","v":0},{"$f":"COUNTIFS($B$4:$B$9,$P5,$H$4:$H$9,\"=3\")+COUNTIFS($D$4:$D$9,$P5,$I$4:$I$9,\"=3\")","v":0},{"$f":"$Q5*FactorPts+(GDzero+$R5)*FactorGD+$S5*FactorFor+$U5*FactorWins+$W5*FactorDirC3+$X5*FactorDirC2+$Y5*FactorDirC43+$Z5*FactorDirC42+$AA5*FactorDirC42+$AB5*FactorFairPlay+$AE5*FactorPenalty+(100-$AF5)*($M$10>0)*FactorRank+(8-ROW())*FactorRow","v":{"v":50000.00000003,"d":"50,000.0000000"}},{"$f":"SUMIFS($X$18:$X$35,$P$18:$P$35,$P5)","v":0},{"$f":"IF($L19=\"\",0,$L19)+SUMIFS($Z$18:$Z$35,$P$18:$P$35,$P5)","v":0},{"$f":"SUMIFS($AD$18:$AD$35,$P$18:$P$35,$P5)","v":0},{"$f":"SUMIFS($AE$18:$AE$35,$P$18:$P$35,$P5)","v":0},{"$f":"IF($M19=\"\",0,$M19)","v":0},{"$f":"SUMIFS(FairPlayPoints1,FairPlayTeams1,P5)+SUMIFS(FairPlayPoints2,FairPlayTeams2,P5)+SUMIFS(FairPlayPoints3,FairPlayTeams3,P5)","v":0},{"$f":"(Q5+T5>0)","v":false},{"$f":"$Q5*FactorPts+(GDzero+$R5)*FactorGD+$S5*FactorFor","v":{"v":50000,"d":"50,000"}},0,{"$f":"VLOOKUP(P5,Sprache_Tipps!E:F,2,0)","v":65},{"$f":"OR($Q5>0,$T5>0)","v":false}]
[null,{"$f":"INDEX(Meine_Tipps!$B$13:$AJ$38,11,1+(CODE($C$1)-65)*3)","v":"Schweiz"},"-",{"$f":"INDEX(Meine_Tipps!$B$13:$AJ$38,11,2+(CODE($C$1)-65)*3)","v":"Bosnien-Herzeg."},{"$f":"IF(OR(INDEX(Meine_Tipps!$B$14:$AJ$39,11,1+(CODE($C$1)-65)*3)=\"\",INDEX(Meine_Tipps!$B$14:$AJ$39,11,2+(CODE($C$1)-65)*3)=\"\"),\"\",INDEX(Meine_Tipps!$B$14:$AJ$39,11,1+(CODE($C$1)-65)*3))","v":""},"-",{"$f":"IF(OR(INDEX(Meine_Tipps!$B$14:$AJ$39,11,1+(CODE($C$1)-65)*3)=\"\",INDEX(Meine_Tipps!$B$14:$AJ$39,11,2+(CODE($C$1)-65)*3)=\"\"),\"\",INDEX(Meine_Tipps!$B$14:$AJ$39,11,2+(CODE($C$1)-65)*3))","v":""},0,0,{"$nulls":3},0,null,"3.",{"$f":"VLOOKUP($C$1&ROW($A3),Groups_Tipps!$B$7:$D$65,3,0)","v":"Katar"},0,{"$f":"S6-T6","v":0},{"$f":"SUMIF($B$4:$B$9,$P6,$E$4:$E$9)+SUMIF($D$4:$D$9,$P6,$G$4:$G$9)","v":0},{"$f":"SUMIF($B$4:$B$9,$P6,$G$4:$G$9)+SUMIF($D$4:$D$9,$P6,$E$4:$E$9)","v":0},{"$f":"COUNTIFS($B$4:$B$9,$P6,$H$4:$H$9,\"=3\")+COUNTIFS($D$4:$D$9,$P6,$I$4:$I$9,\"=3\")","v":0},{"$f":"$Q6*FactorPts+(GDzero+$R6)*FactorGD+$S6*FactorFor+$U6*FactorWins+$W6*FactorDirC3+$X6*FactorDirC2+$Y6*FactorDirC43+$Z6*FactorDirC42+$AA6*FactorDirC42+$AB6*FactorFairPlay+$AE6*FactorPenalty+(100-$AF6)*($M$10>0)*FactorRank+(8-ROW())*FactorRow","v":{"v":50000.00000002,"d":"50,000.0000000"}},0,{"$f":"IF($L20=\"\",0,$L20)+SUMIFS($Z$18:$Z$35,$P$18:$P$35,$P6)","v":0},0,0,{"$f":"IF($M20=\"\",0,$M20)","v":0},{"$f":"SUMIFS(FairPlayPoints1,FairPlayTeams1,P6)+SUMIFS(FairPlayPoints2,FairPlayTeams2,P6)+SUMIFS(FairPlayPoints3,FairPlayTeams3,P6)","v":0},{"$f":"(Q6+T6>0)","v":false},{"$f":"$Q6*FactorPts+(GDzero+$R6)*FactorGD+$S6*FactorFor","v":{"v":50000,"d":"50,000"}},0,{"$f":"VLOOKUP(P6,Sprache_Tipps!E:F,2,0)","v":55},false]
[null,{"$f":"INDEX(Meine_Tipps!$B$13:$AJ$38,16,1+(CODE($C$1)-65)*3)","v":"Kanada"},"-",{"$f":"INDEX(Meine_Tipps!$B$13:$AJ$38,16,2+(CODE($C$1)-65)*3)","v":"Katar"},{"$f":"IF(OR(INDEX(Meine_Tipps!$B$14:$AJ$39,16,1+(CODE($C$1)-65)*3)=\"\",INDEX(Meine_Tipps!$B$14:$AJ$39,16,2+(CODE($C$1)-65)*3)=\"\"),\"\",INDEX(Meine_Tipps!$B$14:$AJ$39,16,1+(CODE($C$1)-65)*3))","v":""},"-",{"$f":"IF(OR(INDEX(Meine_Tipps!$B$14:$AJ$39,16,1+(CODE($C$1)-65)*3)=\"\",INDEX(Meine_Tipps!$B$14:$AJ$39,16,2+(CODE($C$1)-65)*3)=\"\"),\"\",INDEX(Meine_Tipps!$B$14:$AJ$39,16,2+(CODE($C$1)-65)*3))","v":""},0,0,{"$nulls":3},0,null,"4.",{"$f":"VLOOKUP($C$1&ROW($A4),Groups_Tipps!$B$7:$D$65,3,0)","v":"Schweiz"},0,{"$f":"S7-T7","v":0},{"$f":"SUMIF($B$4:$B$9,$P7,$E$4:$E$9)+SUMIF($D$4:$D$9,$P7,$G$4:$G$9)","v":0},{"$f":"SUMIF($B$4:$B$9,$P7,$G$4:$G$9)+SUMIF($D$4:$D$9,$P7,$E$4:$E$9)","v":0},{"$f":"COUNTIFS($B$4:$B$9,$P7,$H$4:$H$9,\"=3\")+COUNTIFS($D$4:$D$9,$P7,$I$4:$I$9,\"=3\")","v":0},{"$f":"$Q7*FactorPts+(GDzero+$R7)*FactorGD+$S7*FactorFor+$U7*FactorWins+$W7*FactorDirC3+$X7*FactorDirC2+$Y7*FactorDirC43+$Z7*FactorDirC42+$AA7*FactorDirC42+$AB7*FactorFairPlay+$AE7*FactorPenalty+(100-$AF7)*($M$10>0)*FactorRank+(8-ROW())*FactorRow","v":{"v":50000.00000001,"d":"50,000.0000000"}},0,{"$f":"IF($L21=\"\",0,$L21)+SUMIFS($Z$18:$Z$35,$P$18:$P$35,$P7)","v":0},0,0,{"$f":"IF($M21=\"\",0,$M21)","v":0},{"$f":"SUMIFS(FairPlayPoints1,FairPlayTeams1,P7)+SUMIFS(FairPlayPoints2,FairPlayTeams2,P7)+SUMIFS(FairPlayPoints3,FairPlayTeams3,P7)","v":0},{"$f":"(Q7+T7>0)","v":false},{"$f":"$Q7*FactorPts+(GDzero+$R7)*FactorGD+$S7*FactorFor","v":{"v":50000,"d":"50,000"}},0,{"$f":"VLOOKUP(P7,Sprache_Tipps!E:F,2,0)","v":19},false]
[null,{"$f":"INDEX(Meine_Tipps!$B$13:$AJ$38,21,1+(CODE($C$1)-65)*3)","v":"Schweiz"},"-",{"$f":"INDEX(Meine_Tipps!$B$13:$AJ$38,21,2+(CODE($C$1)-65)*3)","v":"Kanada"},{"$f":"IF(OR(INDEX(Meine_Tipps!$B$14:$AJ$39,21,1+(CODE($C$1)-65)*3)=\"\",INDEX(Meine_Tipps!$B$14:$AJ$39,21,2+(CODE($C$1)-65)*3)=\"\"),\"\",INDEX(Meine_Tipps!$B$14:$AJ$39,21,1+(CODE($C$1)-65)*3))","v":""},"-",{"$f":"IF(OR(INDEX(Meine_Tipps!$B$14:$AJ$39,21,1+(CODE($C$1)-65)*3)=\"\",INDEX(Meine_Tipps!$B$14:$AJ$39,21,2+(CODE($C$1)-65)*3)=\"\"),\"\",INDEX(Meine_Tipps!$B$14:$AJ$39,21,2+(CODE($C$1)-65)*3))","v":""},0,0,{"$nulls":3},0]
[null,{"$f":"INDEX(Meine_Tipps!$B$13:$AJ$38,26,1+(CODE($C$1)-65)*3)","v":"Bosnien-Herzeg."},"-",{"$f":"INDEX(Meine_Tipps!$B$13:$AJ$38,26,2+(CODE($C$1)-65)*3)","v":"Katar"},{"$f":"IF(OR(INDEX(Meine_Tipps!$B$14:$AJ$39,26,1+(CODE($C$1)-65)*3)=\"\",INDEX(Meine_Tipps!$B$14:$AJ$39,26,2+(CODE($C$1)-65)*3)=\"\"),\"\",INDEX(Meine_Tipps!$B$14:$AJ$39,26,1+(CODE($C$1)-65)*3))","v":""},"-",{"$f":"IF(OR(INDEX(Meine_Tipps!$B$14:$AJ$39,26,1+(CODE($C$1)-65)*3)=\"\",INDEX(Meine_Tipps!$B$14:$AJ$39,26,2+(CODE($C$1)-65)*3)=\"\"),\"\",INDEX(Meine_Tipps!$B$14:$AJ$39,26,2+(CODE($C$1)-65)*3))","v":""},0,0,{"$nulls":3},0,{"$nulls":12},"For showing direct comparisons of 2 on sheet \"Direct comparisons\""]
[{"$nulls":11},"Sum:",{"$f":"SUM($M$4:$M$9)","v":0},null,null,"Sorted list","Points","GD","For","Against","wins","Coefficient","Played","Red dot","Penalty (?)","DC(2) ?","DC(4.2) ?","DC(3.2) ?","DC(4.3.2) ?","All Dir.C. (2)","Penalty"]
[{"$nulls":14},"1.",{"$f":"INDEX(P$4:P$7,MATCH($V11,$V$4:$V$7,0))","v":"Kanada"},0,0,0,0,0,{"$f":"LARGE($V$4:$V$7,ROW(A1))","v":{"v":50000.00000004,"d":"50,000.0000000"}},{"$f":"OR($Q11>0,$T11>0)","v":false},{"$f":"IF(AND(OR(TRUNC($V$11,4)=TRUNC($V$12,4),TRUNC($V$11,4)=TRUNC($V$13,4),TRUNC($V$11,4)=TRUNC($V$14,4),TRUNC($V$12,4)=TRUNC($V$13,4),TRUNC($V$12,4)=TRUNC($V$14,4),TRUNC($V$13,4)=TRUNC($V$14,4)),$M$10>0),1,0)","v":0},{"$f":"IF(AND(VLOOKUP($B$8,$P$4:$AD$7,15,0)=VLOOKUP($D$8,$P$4:$AD$7,15,0),$E$8=$G$8,COUNTIF($Q$4:$Q$7,VLOOKUP($B$8,$P$4:$Q$7,2,0))=2,$M$10=6),1,0)","v":0},{"$f":"VLOOKUP($P11,$E$18:$M$21,8,0)<>\"\"","v":false},{"$f":"VLOOKUP($P11,$E$18:$M$21,9,0)<>\"\"","v":false},{"$f":"SUMPRODUCT(1*(LEN($Z$18:$Z$35)>0)*($P$18:$P$35=$P11))>0","v":false},{"$f":"SUMPRODUCT(1*(LEN($AE$18:$AE$35)>0)*($P$18:$P$35=$P11))>0","v":false},{"$f":"IF($Z11,VLOOKUP($P11,$E$18:$M$21,8,0),IF($AA11,VLOOKUP($P11,$E$18:$M$21,9,0),IF($AB11,SUMIFS($Z$18:$Z$35,$P$18:$P$35,$P11),IF($AC11,SUMIFS($AE$18:$AE$35,$P$18:$P$35,$P11),\"\"))))","v":""},{"$f":"IF(OR(AND($Y$11>0,OR($B$8=$P11,$D$8=$P11)),AND($Y$12>0,OR($B$9=$P11,$D$9=$P11))),SUMIF($B$8:$B$9,$P11,$J$8:$J$9)+SUMIF($D$8:$D$9,$P11,$L$8:$L$9),\"\")","v":""}]
[{"$nulls":14},"2.","Bosnien-Herzeg.",0,0,0,0,0,{"$f":"LARGE($V$4:$V$7,ROW(A2))","v":{"v":50000.00000003,"d":"50,000.0000000"}},{"$f":"OR($Q12>0,$T12>0)","v":false},null,{"$f":"IF(AND(VLOOKUP($B$9,$P$4:$AD$7,15,0)=VLOOKUP($D$9,$P$4:$AD$7,15,0),$E$9=$G$9,COUNTIF($Q$4:$Q$7,VLOOKUP($B$9,$P$4:$Q$7,2,0))=2,$M$10=6),1,0)","v":0},{"$f":"VLOOKUP($P12,$E$18:$M$21,8,0)<>\"\"","v":false},{"$f":"VLOOKUP($P12,$E$18:$M$21,9,0)<>\"\"","v":false},{"$f":"SUMPRODUCT(1*(LEN($Z$18:$Z$35)>0)*($P$18:$P$35=$P12))>0","v":false},{"$f":"SUMPRODUCT(1*(LEN($AE$18:$AE$35)>0)*($P$18:$P$35=$P12))>0","v":false},{"$f":"IF($Z12,VLOOKUP($P12,$E$18:$M$21,8,0),IF($AA12,VLOOKUP($P12,$E$18:$M$21,9,0),IF($AB12,SUMIFS($Z$18:$Z$35,$P$18:$P$35,$P12),IF($AC12,SUMIFS($AE$18:$AE$35,$P$18:$P$35,$P12),\"\"))))","v":""},{"$f":"IF(OR(AND($Y$11>0,OR($B$8=$P12,$D$8=$P12)),AND($Y$12>0,OR($B$9=$P12,$D$9=$P12))),SUMIF($B$8:$B$9,$P12,$J$8:$J$9)+SUMIF($D$8:$D$9,$P12,$L$8:$L$9),\"\")","v":""}]
[{"$nulls":14},"3.","Katar",0,0,0,0,0,{"$f":"LARGE($V$4:$V$7,ROW(A3))","v":{"v":50000.00000002,"d":"50,000.0000000"}},false,null,null,{"$f":"VLOOKUP($P13,$E$18:$M$21,8,0)<>\"\"","v":false},{"$f":"VLOOKUP($P13,$E$18:$M$21,9,0)<>\"\"","v":false},false,false,{"$f":"IF($Z13,VLOOKUP($P13,$E$18:$M$21,8,0),IF($AA13,VLOOKUP($P13,$E$18:$M$21,9,0),IF($AB13,SUMIFS($Z$18:$Z$35,$P$18:$P$35,$P13),IF($AC13,SUMIFS($AE$18:$AE$35,$P$18:$P$35,$P13),\"\"))))","v":""},{"$f":"IF(OR(AND($Y$11>0,OR($B$8=$P13,$D$8=$P13)),AND($Y$12>0,OR($B$9=$P13,$D$9=$P13))),SUMIF($B$8:$B$9,$P13,$J$8:$J$9)+SUMIF($D$8:$D$9,$P13,$L$8:$L$9),\"\")","v":""}]
[{"$nulls":14},"4.","Schweiz",0,0,0,0,0,{"$f":"LARGE($V$4:$V$7,ROW(A4))","v":{"v":50000.00000001,"d":"50,000.0000000"}},false,null,null,{"$f":"VLOOKUP($P14,$E$18:$M$21,8,0)<>\"\"","v":false},{"$f":"VLOOKUP($P14,$E$18:$M$21,9,0)<>\"\"","v":false},false,false,{"$f":"IF($Z14,VLOOKUP($P14,$E$18:$M$21,8,0),IF($AA14,VLOOKUP($P14,$E$18:$M$21,9,0),IF($AB14,SUMIFS($Z$18:$Z$35,$P$18:$P$35,$P14),IF($AC14,SUMIFS($AE$18:$AE$35,$P$18:$P$35,$P14),\"\"))))","v":""},{"$f":"IF(OR(AND($Y$11>0,OR($B$8=$P14,$D$8=$P14)),AND($Y$12>0,OR($B$9=$P14,$D$9=$P14))),SUMIF($B$8:$B$9,$P14,$J$8:$J$9)+SUMIF($D$8:$D$9,$P14,$L$8:$L$9),\"\")","v":""}]
[]
[{"$nulls":6},"Direct Comparison of 2",{"$nulls":15},"Direct Comparison of 3",{"$nulls":6},"Direct Comparison of 4",null,{"$f":"AND($Q$4=$Q$5,$Q$4=$Q$6,$Q$4=$Q$7)","v":true}]
[{"$nulls":7},{"$f":"LEFT($P$4,3)","v":"Kan"},{"$f":"LEFT($P$5,3)","v":"Bos"},{"$f":"LEFT($P$6,3)","v":"Kat"},{"$f":"LEFT($P$7,3)","v":"Sch"},"DC(2)","DC(4.2)",{"$nulls":3},"Points","GD","For","Against",null,"Pts/GD/For","Rank Col. V","DC(3)","DC(3.2)","DC(3.2)","Results of direct encounters",null,null,"DC(4.3)","DC(4.3.2)"]
[{"$nulls":4},{"$f":"$P$4","v":"Kanada"},{"$nulls":3},{"$f":"SUMIFS($E$4:$E$9,$B$4:$B$9,$P$4,$D$4:$D$9,$P$5)+SUMIFS($G$4:$G$9,$B$4:$B$9,$P$5,$D$4:$D$9,$P$4)","v":0},{"$f":"SUMIFS($E$4:$E$9,$B$4:$B$9,$P$4,$D$4:$D$9,$P$6)+SUMIFS($G$4:$G$9,$B$4:$B$9,$P$6,$D$4:$D$9,$P$4)","v":0},{"$f":"SUMIFS($E$4:$E$9,$B$4:$B$9,$P$4,$D$4:$D$9,$P$7)+SUMIFS($G$4:$G$9,$B$4:$B$9,$P$7,$D$4:$D$9,$P$4)","v":0},{"$f":"IF(AND($Q$4=$Q$5,$Q$4<>$Q$6,$Q$4<>$Q$7),IF(I18>H19,3,IF(I18=H19,1,0)),IF(AND($Q$4=$Q$6,$Q$4<>$Q$5,$Q$4<>$Q$7),IF(J18>H20,3,IF(J18=H20,1,0)),IF(AND($Q$4=$Q$7,$Q$4<>$Q$5,$Q$4<>$Q$6),IF(K18>H21,3,IF(K18=H21,1,0)),\"\")))","v":""},{"$f":"IF($AF$16,IF(AND($AD$4=$AD$5,$AD$4<>$AD$6,$AD$4<>$AD$7),IF(I18>H19,3,IF(I18=H19,1,0)),IF(AND($AD$4<>$AD$5,$AD$4=$AD$6,$AD$4<>$AD$7),IF(J18>H20,3,IF(J18=H20,1,0)),IF(AND($AD$4<>$AD$5,$AD$4<>$AD$6,$AD$4=$AD$7),IF(K18>H21,3,IF(K18=H21,1,0)),\"\"))),\"\")","v":""},null,"1.",{"$f":"$P$4","v":"Kanada"},{"$f":"SUMIFS($H$4:$H$9,$B$4:$B$9,$P18,$D$4:$D$9,\"<>\"&$P$21)+SUMIFS($I$4:$I$9,$B$4:$B$9,\"<>\"&$P$21,$D$4:$D$9,$P18)","v":0},{"$f":"S18-T18","v":0},{"$f":"SUMIFS($E$4:$E$9,$B$4:$B$9,$P18,$D$4:$D$9,\"<>\"&$P$21)+SUMIFS($G$4:$G$9,$B$4:$B$9,\"<>\"&$P$21,$D$4:$D$9,$P18)","v":0},{"$f":"SUMIFS($G$4:$G$9,$B$4:$B$9,$P18,$D$4:$D$9,\"<>\"&$P$21)+SUMIFS($E$4:$E$9,$B$4:$B$9,\"<>\"&$P$21,$D$4:$D$9,$P18)","v":0},null,{"$f":"Q18*FactorPts+(GDzero+R18)*FactorGD+S18*FactorFor","v":{"v":50000,"d":"50,000"}},{"$f":"RANK(V18,V$18:V$20,1)","v":1},{"$f":"IF(AND($Q$4=$Q$5,$Q$4=$Q$6,$Q$4<>$Q$7),W18,0)","v":0},{"$f":"IF(AND(V18=V19,V18<>V20),IF(AA18>AA19,3,IF(AA18=AA19,1,0)),IF(AND(V18=V20,V18<>V19),IF(AB18>AB20,3,IF(AB18=AB20,1,0)),\"\"))","v":""},{"$f":"IF(X18>0,Y18,\"\")","v":""},{"$f":"$I$18","v":0},{"$f":"$J$18","v":0},null,{"$f":"IF(AND($AF$16,$AD$4=$AD$5,$AD$4=$AD$6,$AD$4<>$AD$7),W18,0)","v":0},{"$f":"IF(AD18>0,Y18,\"\")","v":""}]
[{"$nulls":4},{"$f":"$P$5","v":"Bosnien-Herzeg."},null,null,{"$f":"SUMIFS($E$4:$E$9,$B$4:$B$9,$P$5,$D$4:$D$9,$P$4)+SUMIFS($G$4:$G$9,$B$4:$B$9,$P$4,$D$4:$D$9,$P$5)","v":0},null,{"$f":"SUMIFS($E$4:$E$9,$B$4:$B$9,$P$5,$D$4:$D$9,$P$6)+SUMIFS($G$4:$G$9,$B$4:$B$9,$P$6,$D$4:$D$9,$P$5)","v":0},{"$f":"SUMIFS($E$4:$E$9,$B$4:$B$9,$P$5,$D$4:$D$9,$P$7)+SUMIFS($G$4:$G$9,$B$4:$B$9,$P$7,$D$4:$D$9,$P$5)","v":0},{"$f":"IF(AND($Q$5=$Q$4,$Q$5<>$Q$6,$Q$5<>$Q$7),IF(H19>I18,3,IF(H19=I18,1,0)),IF(AND($Q$5=$Q$6,$Q$5<>$Q$4,$Q$5<>$Q$7),IF(J19>I20,3,IF(J19=I20,1,0)),IF(AND($Q$5=$Q$7,$Q$5<>$Q$4,$Q$5<>$Q$6),IF(K19>I21,3,IF(K19=I21,1,0)),\"\")))","v":""},{"$f":"IF($AF$16,IF(AND($AD$5=$AD$4,$AD$5<>$AD$6,$AD$5<>$AD$7),IF(H19>I18,3,IF(H19=I18,1,0)),IF(AND($AD$5<>$AD$4,$AD$5=$AD$6,$AD$5<>$AD$7),IF(J19>I20,3,IF(J19=I20,1,0)),IF(AND($AD$5<>$AD$4,$AD$5<>$AD$6,$AD$5=$AD$7),IF(K19>I21,3,IF(K19=I21,1,0)),\"\"))),\"\")","v":""},null,"2.",{"$f":"$P$5","v":"Bosnien-Herzeg."},{"$f":"SUMIFS($H$4:$H$9,$B$4:$B$9,$P19,$D$4:$D$9,\"<>\"&$P$21)+SUMIFS($I$4:$I$9,$B$4:$B$9,\"<>\"&$P$21,$D$4:$D$9,$P19)","v":0},{"$f":"S19-T19","v":0},{"$f":"SUMIFS($E$4:$E$9,$B$4:$B$9,$P19,$D$4:$D$9,\"<>\"&$P$21)+SUMIFS($G$4:$G$9,$B$4:$B$9,\"<>\"&$P$21,$D$4:$D$9,$P19)","v":0},{"$f":"SUMIFS($G$4:$G$9,$B$4:$B$9,$P19,$D$4:$D$9,\"<>\"&$P$21)+SUMIFS($E$4:$E$9,$B$4:$B$9,\"<>\"&$P$21,$D$4:$D$9,$P19)","v":0},null,{"$f":"Q19*FactorPts+(GDzero+R19)*FactorGD+S19*FactorFor","v":{"v":50000,"d":"50,000"}},{"$f":"RANK(V19,V$18:V$20,1)","v":1},{"$f":"IF(AND($Q$4=$Q$5,$Q$4=$Q$6,$Q$4<>$Q$7),W19,0)","v":0},{"$f":"IF(AND(V19=V18,V19<>V20),IF(AA19>AA18,3,IF(AA19=AA18,1,0)),IF(AND(V19=V20,V19<>V18),IF(AC19>AC20,3,IF(AC19=AC20,1,0)),\"\"))","v":""},{"$f":"IF(X19>0,Y19,\"\")","v":""},{"$f":"$H$19","v":0},null,{"$f":"$J$19","v":0},{"$f":"IF(AND($AF$16,$AD$4=$AD$5,$AD$4=$AD$6,$AD$4<>$AD$7),W19,0)","v":0},{"$f":"IF(AD19>0,Y19,\"\")","v":""}]
[{"$nulls":4},{"$f":"$P$6","v":"Katar"},null,null,{"$f":"SUMIFS($E$4:$E$9,$B$4:$B$9,$P$6,$D$4:$D$9,$P$4)+SUMIFS($G$4:$G$9,$B$4:$B$9,$P$4,$D$4:$D$9,$P$6)","v":0},{"$f":"SUMIFS($E$4:$E$9,$B$4:$B$9,$P$6,$D$4:$D$9,$P$5)+SUMIFS($G$4:$G$9,$B$4:$B$9,$P$5,$D$4:$D$9,$P$6)","v":0},null,{"$f":"SUMIFS($E$4:$E$9,$B$4:$B$9,$P$6,$D$4:$D$9,$P$7)+SUMIFS($G$4:$G$9,$B$4:$B$9,$P$7,$D$4:$D$9,$P$6)","v":0},{"$f":"IF(AND($Q$6=$Q$4,$Q$6<>$Q$5,$Q$6<>$Q$7),IF(H20>J18,3,IF(H20=J18,1,0)),IF(AND($Q$6=$Q$5,$Q$6<>$Q$4,$Q$6<>$Q$7),IF(I20>J19,3,IF(I20=J19,1,0)),IF(AND($Q$6=$Q$7,$Q$6<>$Q$4,$Q$6<>$Q$5),IF(K20>J21,3,IF(K20=J21,1,0)),\"\")))","v":""},{"$f":"IF($AF$16,IF(AND($AD$6=$AD$4,$AD$6<>$AD$5,$AD$6<>$AD$7),IF(H20>J18,3,IF(H20=J18,1,0)),IF(AND($AD$6<>$AD$4,$AD$6=$AD$5,$AD$6<>$AD$7),IF(I20>J19,3,IF(I20=J19,1,0)),IF(AND($AD$6<>$AD$4,$AD$6<>$AD$5,$AD$6=$AD$7),IF(K20>J21,3,IF(K20=J21,1,0)),\"\"))),\"\")","v":""},null,"3.",{"$f":"$P$6","v":"Katar"},{"$f":"SUMIFS($H$4:$H$9,$B$4:$B$9,$P20,$D$4:$D$9,\"<>\"&$P$21)+SUMIFS($I$4:$I$9,$B$4:$B$9,\"<>\"&$P$21,$D$4:$D$9,$P20)","v":0},{"$f":"S20-T20","v":0},{"$f":"SUMIFS($E$4:$E$9,$B$4:$B$9,$P20,$D$4:$D$9,\"<>\"&$P$21)+SUMIFS($G$4:$G$9,$B$4:$B$9,\"<>\"&$P$21,$D$4:$D$9,$P20)","v":0},{"$f":"SUMIFS($G$4:$G$9,$B$4:$B$9,$P20,$D$4:$D$9,\"<>\"&$P$21)+SUMIFS($E$4:$E$9,$B$4:$B$9,\"<>\"&$P$21,$D$4:$D$9,$P20)","v":0},null,{"$f":"Q20*FactorPts+(GDzero+R20)*FactorGD+S20*FactorFor","v":{"v":50000,"d":"50,000"}},{"$f":"RANK(V20,V$18:V$20,1)","v":1},{"$f":"IF(AND($Q$4=$Q$5,$Q$4=$Q$6,$Q$4<>$Q$7),W20,0)","v":0},{"$f":"IF(AND(V20=V18,V20<>V19),IF(AB20>AB18,3,IF(AB20=AB18,1,0)),IF(AND(V20=V19,V20<>V18),IF(AC20>AC19,3,IF(AC20=AC19,1,0)),\"\"))","v":""},"",null,{"$f":"$H$20","v":0},{"$f":"$I$20","v":0},{"$f":"IF(AND($AF$16,$AD$4=$AD$5,$AD$4=$AD$6,$AD$4<>$AD$7),W20,0)","v":0},""]
[{"$nulls":4},{"$f":"$P$7","v":"Schweiz"},null,null,{"$f":"SUMIFS($E$4:$E$9,$B$4:$B$9,$P$7,$D$4:$D$9,$P$4)+SUMIFS($G$4:$G$9,$B$4:$B$9,$P$4,$D$4:$D$9,$P$7)","v":0},{"$f":"SUMIFS($E$4:$E$9,$B$4:$B$9,$P$7,$D$4:$D$9,$P$5)+SUMIFS($G$4:$G$9,$B$4:$B$9,$P$5,$D$4:$D$9,$P$7)","v":0},{"$f":"SUMIFS($E$4:$E$9,$B$4:$B$9,$P$7,$D$4:$D$9,$P$6)+SUMIFS($G$4:$G$9,$B$4:$B$9,$P$6,$D$4:$D$9,$P$7)","v":0},null,{"$f":"IF(AND($Q$7=$Q$4,$Q$7<>$Q$5,$Q$7<>$Q$6),IF(H21>K18,3,IF(H21=K18,1,0)),IF(AND($Q$7=$Q$5,$Q$7<>$Q$4,$Q$7<>$Q$6),IF(I21>K19,3,IF(I21=K19,1,0)),IF(AND($Q$7=$Q$6,$Q$7<>$Q$4,$Q$7<>$Q$5),IF(J21>K20,3,IF(J21=K20,1,0)),\"\")))","v":""},{"$f":"IF($AF$16,IF(AND($AD$7=$AD$4,$AD$7<>$AD$5,$AD$7<>$AD$6),IF(H21>K18,3,IF(H21=K18,1,0)),IF(AND($AD$7<>$AD$4,$AD$7=$AD$5,$AD$7<>$AD$6),IF(I21>K19,3,IF(I21=K19,1,0)),IF(AND($AD$7<>$AD$4,$AD$7<>$AD$5,$AD$7=$AD$6),IF(J21>K20,3,IF(J21=K20,1,0)),\"\"))),\"\")","v":""},null,null,{"$f":"$P$7","v":"Schweiz"}]
[]
[{"$nulls":14},"1.",{"$f":"$P$4","v":"Kanada"},{"$f":"SUMIFS($H$4:$H$9,$B$4:$B$9,$P23,$D$4:$D$9,\"<>\"&$P$26)+SUMIFS($I$4:$I$9,$B$4:$B$9,\"<>\"&$P$26,$D$4:$D$9,$P23)","v":0},{"$f":"S23-T23","v":0},{"$f":"SUMIFS($E$4:$E$9,$B$4:$B$9,$P23,$D$4:$D$9,\"<>\"&$P$26)+SUMIFS($G$4:$G$9,$B$4:$B$9,\"<>\"&$P$26,$D$4:$D$9,$P23)","v":0},{"$f":"SUMIFS($G$4:$G$9,$B$4:$B$9,$P23,$D$4:$D$9,\"<>\"&$P$26)+SUMIFS($E$4:$E$9,$B$4:$B$9,\"<>\"&$P$26,$D$4:$D$9,$P23)","v":0},null,{"$f":"Q23*FactorPts+(GDzero+R23)*FactorGD+S23*FactorFor","v":{"v":50000,"d":"50,000"}},{"$f":"RANK(V23,V$23:V$25,1)","v":1},{"$f":"IF(AND($Q$4=$Q$5,$Q$4=$Q$7,$Q$4<>$Q$6),W23,0)","v":0},{"$f":"IF(AND(V23=V24,V23<>V25),IF(AA23>AA24,3,IF(AA23=AA24,1,0)),IF(AND(V23=V25,V23<>V24),IF(AB23>AB25,3,IF(AB23=AB25,1,0)),\"\"))","v":""},{"$f":"IF(X23>0,Y23,\"\")","v":""},{"$f":"$I$18","v":0},{"$f":"$K$18","v":0},null,{"$f":"IF(AND($AF$16,$AD$4=$AD$5,$AD$4=$AD$7,$AD$4<>$AD$6),W23,0)","v":0},{"$f":"IF(AD23>0,Y23,\"\")","v":""}]
[{"$nulls":14},"2.",{"$f":"$P$5","v":"Bosnien-Herzeg."},{"$f":"SUMIFS($H$4:$H$9,$B$4:$B$9,$P24,$D$4:$D$9,\"<>\"&$P$26)+SUMIFS($I$4:$I$9,$B$4:$B$9,\"<>\"&$P$26,$D$4:$D$9,$P24)","v":0},{"$f":"S24-T24","v":0},{"$f":"SUMIFS($E$4:$E$9,$B$4:$B$9,$P24,$D$4:$D$9,\"<>\"&$P$26)+SUMIFS($G$4:$G$9,$B$4:$B$9,\"<>\"&$P$26,$D$4:$D$9,$P24)","v":0},{"$f":"SUMIFS($G$4:$G$9,$B$4:$B$9,$P24,$D$4:$D$9,\"<>\"&$P$26)+SUMIFS($E$4:$E$9,$B$4:$B$9,\"<>\"&$P$26,$D$4:$D$9,$P24)","v":0},null,{"$f":"Q24*FactorPts+(GDzero+R24)*FactorGD+S24*FactorFor","v":{"v":50000,"d":"50,000"}},{"$f":"RANK(V24,V$23:V$25,1)","v":1},{"$f":"IF(AND($Q$4=$Q$5,$Q$4=$Q$7,$Q$4<>$Q$6),W24,0)","v":0},{"$f":"IF(AND(V24=V23,V24<>V25),IF(AA24>AA23,3,IF(AA24=AA23,1,0)),IF(AND(V24=V25,V24<>V23),IF(AC24>AC25,3,IF(AC24=AC25,1,0)),\"\"))","v":""},{"$f":"IF(X24>0,Y24,\"\")","v":""},{"$f":"$H$19","v":0},null,{"$f":"$K$19","v":0},{"$f":"IF(AND($AF$16,$AD$4=$AD$5,$AD$4=$AD$7,$AD$4<>$AD$6),W24,0)","v":0},{"$f":"IF(AD24>0,Y24,\"\")","v":""}]
[{"$nulls":14},"3.",{"$f":"$P$7","v":"Schweiz"},{"$f":"SUMIFS($H$4:$H$9,$B$4:$B$9,$P25,$D$4:$D$9,\"<>\"&$P$26)+SUMIFS($I$4:$I$9,$B$4:$B$9,\"<>\"&$P$26,$D$4:$D$9,$P25)","v":0},{"$f":"S25-T25","v":0},{"$f":"SUMIFS($E$4:$E$9,$B$4:$B$9,$P25,$D$4:$D$9,\"<>\"&$P$26)+SUMIFS($G$4:$G$9,$B$4:$B$9,\"<>\"&$P$26,$D$4:$D$9,$P25)","v":0},{"$f":"SUMIFS($G$4:$G$9,$B$4:$B$9,$P25,$D$4:$D$9,\"<>\"&$P$26)+SUMIFS($E$4:$E$9,$B$4:$B$9,\"<>\"&$P$26,$D$4:$D$9,$P25)","v":0},null,{"$f":"Q25*FactorPts+(GDzero+R25)*FactorGD+S25*FactorFor","v":{"v":50000,"d":"50,000"}},{"$f":"RANK(V25,V$23:V$25,1)","v":1},{"$f":"IF(AND($Q$4=$Q$5,$Q$4=$Q$7,$Q$4<>$Q$6),W25,0)","v":0},{"$f":"IF(AND(V25=V23,V25<>V24),IF(AB25>AB23,3,IF(AB25=AB23,1,0)),IF(AND(V25=V24,V25<>V23),IF(AC25>AC24,3,IF(AC25=AC24,1,0)),\"\"))","v":""},"",null,{"$f":"$H$21","v":0},{"$f":"$I$21","v":0},{"$f":"IF(AND($AF$16,$AD$4=$AD$5,$AD$4=$AD$7,$AD$4<>$AD$6),W25,0)","v":0},""]
[{"$nulls":15},{"$f":"$P$6","v":"Katar"}]
[]
[{"$nulls":14},"1.",{"$f":"$P$4","v":"Kanada"},{"$f":"SUMIFS($H$4:$H$9,$B$4:$B$9,$P28,$D$4:$D$9,\"<>\"&$P$31)+SUMIFS($I$4:$I$9,$B$4:$B$9,\"<>\"&$P$31,$D$4:$D$9,$P28)","v":0},{"$f":"S28-T28","v":0},{"$f":"SUMIFS($E$4:$E$9,$B$4:$B$9,$P28,$D$4:$D$9,\"<>\"&$P$31)+SUMIFS($G$4:$G$9,$B$4:$B$9,\"<>\"&$P$31,$D$4:$D$9,$P28)","v":0},{"$f":"SUMIFS($G$4:$G$9,$B$4:$B$9,$P28,$D$4:$D$9,\"<>\"&$P$31)+SUMIFS($E$4:$E$9,$B$4:$B$9,\"<>\"&$P$31,$D$4:$D$9,$P28)","v":0},null,{"$f":"Q28*FactorPts+(GDzero+R28)*FactorGD+S28*FactorFor","v":{"v":50000,"d":"50,000"}},{"$f":"RANK(V28,V$28:V$30,1)","v":1},{"$f":"IF(AND($Q$4=$Q$6,$Q$4=$Q$7,$Q$4<>$Q$5),W28,0)","v":0},{"$f":"IF(AND(V28=V29,V28<>V30),IF(AA28>AA29,3,IF(AA28=AA29,1,0)),IF(AND(V28=V30,V28<>V29),IF(AB28>AB30,3,IF(AB28=AB30,1,0)),\"\"))","v":""},{"$f":"IF(X28>0,Y28,\"\")","v":""},{"$f":"$J$18","v":0},{"$f":"$K$18","v":0},null,{"$f":"IF(AND($AF$16,$AD$4=$AD$6,$AD$4=$AD$7,$AD$4<>$AD$5),W28,0)","v":0},{"$f":"IF(AD28>0,Y28,\"\")","v":""}]
[{"$nulls":14},"2.",{"$f":"$P$6","v":"Katar"},{"$f":"SUMIFS($H$4:$H$9,$B$4:$B$9,$P29,$D$4:$D$9,\"<>\"&$P$31)+SUMIFS($I$4:$I$9,$B$4:$B$9,\"<>\"&$P$31,$D$4:$D$9,$P29)","v":0},{"$f":"S29-T29","v":0},{"$f":"SUMIFS($E$4:$E$9,$B$4:$B$9,$P29,$D$4:$D$9,\"<>\"&$P$31)+SUMIFS($G$4:$G$9,$B$4:$B$9,\"<>\"&$P$31,$D$4:$D$9,$P29)","v":0},{"$f":"SUMIFS($G$4:$G$9,$B$4:$B$9,$P29,$D$4:$D$9,\"<>\"&$P$31)+SUMIFS($E$4:$E$9,$B$4:$B$9,\"<>\"&$P$31,$D$4:$D$9,$P29)","v":0},null,{"$f":"Q29*FactorPts+(GDzero+R29)*FactorGD+S29*FactorFor","v":{"v":50000,"d":"50,000"}},{"$f":"RANK(V29,V$28:V$30,1)","v":1},{"$f":"IF(AND($Q$4=$Q$6,$Q$4=$Q$7,$Q$4<>$Q$5),W29,0)","v":0},{"$f":"IF(AND(V29=V28,V29<>V30),IF(AA29>AA28,3,IF(AA29=AA28,1,0)),IF(AND(V29=V30,V29<>V28),IF(AC29>AC30,3,IF(AC29=AC30,1,0)),\"\"))","v":""},{"$f":"IF(X29>0,Y29,\"\")","v":""},{"$f":"$H$20","v":0},null,{"$f":"$K$20","v":0},{"$f":"IF(AND($AF$16,$AD$4=$AD$6,$AD$4=$AD$7,$AD$4<>$AD$5),W29,0)","v":0},{"$f":"IF(AD29>0,Y29,\"\")","v":""}]
[{"$nulls":14},"3.",{"$f":"$P$7","v":"Schweiz"},{"$f":"SUMIFS($H$4:$H$9,$B$4:$B$9,$P30,$D$4:$D$9,\"<>\"&$P$31)+SUMIFS($I$4:$I$9,$B$4:$B$9,\"<>\"&$P$31,$D$4:$D$9,$P30)","v":0},{"$f":"S30-T30","v":0},{"$f":"SUMIFS($E$4:$E$9,$B$4:$B$9,$P30,$D$4:$D$9,\"<>\"&$P$31)+SUMIFS($G$4:$G$9,$B$4:$B$9,\"<>\"&$P$31,$D$4:$D$9,$P30)","v":0},{"$f":"SUMIFS($G$4:$G$9,$B$4:$B$9,$P30,$D$4:$D$9,\"<>\"&$P$31)+SUMIFS($E$4:$E$9,$B$4:$B$9,\"<>\"&$P$31,$D$4:$D$9,$P30)","v":0},null,{"$f":"Q30*FactorPts+(GDzero+R30)*FactorGD+S30*FactorFor","v":{"v":50000,"d":"50,000"}},1,{"$f":"IF(AND($Q$4=$Q$6,$Q$4=$Q$7,$Q$4<>$Q$5),W30,0)","v":0},{"$f":"IF(AND(V30=V28,V30<>V29),IF(AB30>AB28,3,IF(AB30=AB28,1,0)),IF(AND(V30=V29,V30<>V28),IF(AC30>AC29,3,IF(AC30=AC29,1,0)),\"\"))","v":""},"",null,{"$f":"$H$21","v":0},{"$f":"$J$21","v":0},{"$f":"IF(AND($AF$16,$AD$4=$AD$6,$AD$4=$AD$7,$AD$4<>$AD$5),W30,0)","v":0},""]
[{"$nulls":15},{"$f":"$P$5","v":"Bosnien-Herzeg."}]
[]
[{"$nulls":14},"1.",{"$f":"$P$5","v":"Bosnien-Herzeg."},{"$f":"SUMIFS($H$4:$H$9,$B$4:$B$9,$P33,$D$4:$D$9,\"<>\"&$P$36)+SUMIFS($I$4:$I$9,$B$4:$B$9,\"<>\"&$P$36,$D$4:$D$9,$P33)","v":0},{"$f":"S33-T33","v":0},{"$f":"SUMIFS($E$4:$E$9,$B$4:$B$9,$P33,$D$4:$D$9,\"<>\"&$P$36)+SUMIFS($G$4:$G$9,$B$4:$B$9,\"<>\"&$P$36,$D$4:$D$9,$P33)","v":0},{"$f":"SUMIFS($G$4:$G$9,$B$4:$B$9,$P33,$D$4:$D$9,\"<>\"&$P$36)+SUMIFS($E$4:$E$9,$B$4:$B$9,\"<>\"&$P$36,$D$4:$D$9,$P33)","v":0},null,{"$f":"Q33*FactorPts+(GDzero+R33)*FactorGD+S33*FactorFor","v":{"v":50000,"d":"50,000"}},{"$f":"RANK(V33,V$33:V$35,1)","v":1},{"$f":"IF(AND($Q$5=$Q$6,$Q$5=$Q$7,$Q$5<>$Q$4),W33,0)","v":0},{"$f":"IF(AND(V33=V34,V33<>V35),IF(AA33>AA34,3,IF(AA33=AA34,1,0)),IF(AND(V33=V35,V33<>V34),IF(AB33>AB35,3,IF(AB33=AB35,1,0)),\"\"))","v":""},{"$f":"IF(X33>0,Y33,\"\")","v":""},{"$f":"$J$19","v":0},{"$f":"$K$19","v":0},null,{"$f":"IF(AND($AF$16,$AD$5=$AD$6,$AD$5=$AD$7,$AD$5<>$AD$4),W33,0)","v":0},{"$f":"IF(AD33>0,Y33,\"\")","v":""}]
[{"$nulls":14},"2.",{"$f":"$P$6","v":"Katar"},{"$f":"SUMIFS($H$4:$H$9,$B$4:$B$9,$P34,$D$4:$D$9,\"<>\"&$P$36)+SUMIFS($I$4:$I$9,$B$4:$B$9,\"<>\"&$P$36,$D$4:$D$9,$P34)","v":0},{"$f":"S34-T34","v":0},{"$f":"SUMIFS($E$4:$E$9,$B$4:$B$9,$P34,$D$4:$D$9,\"<>\"&$P$36)+SUMIFS($G$4:$G$9,$B$4:$B$9,\"<>\"&$P$36,$D$4:$D$9,$P34)","v":0},{"$f":"SUMIFS($G$4:$G$9,$B$4:$B$9,$P34,$D$4:$D$9,\"<>\"&$P$36)+SUMIFS($E$4:$E$9,$B$4:$B$9,\"<>\"&$P$36,$D$4:$D$9,$P34)","v":0},null,{"$f":"Q34*FactorPts+(GDzero+R34)*FactorGD+S34*FactorFor","v":{"v":50000,"d":"50,000"}},{"$f":"RANK(V34,V$33:V$35,1)","v":1},{"$f":"IF(AND($Q$5=$Q$6,$Q$5=$Q$7,$Q$5<>$Q$4),W34,0)","v":0},{"$f":"IF(AND(V34=V33,V34<>V35),IF(AA34>AA33,3,IF(AA34=AA33,1,0)),IF(AND(V34=V35,V34<>V33),IF(AC34>AC35,3,IF(AC34=AC35,1,0)),\"\"))","v":""},{"$f":"IF(X34>0,Y34,\"\")","v":""},{"$f":"$I$20","v":0},null,{"$f":"$K$20","v":0},{"$f":"IF(AND($AF$16,$AD$5=$AD$6,$AD$5=$AD$7,$AD$5<>$AD$4),W34,0)","v":0},{"$f":"IF(AD34>0,Y34,\"\")","v":""}]
[{"$nulls":14},"3.",{"$f":"$P$7","v":"Schweiz"},{"$f":"SUMIFS($H$4:$H$9,$B$4:$B$9,$P35,$D$4:$D$9,\"<>\"&$P$36)+SUMIFS($I$4:$I$9,$B$4:$B$9,\"<>\"&$P$36,$D$4:$D$9,$P35)","v":0},{"$f":"S35-T35","v":0},{"$f":"SUMIFS($E$4:$E$9,$B$4:$B$9,$P35,$D$4:$D$9,\"<>\"&$P$36)+SUMIFS($G$4:$G$9,$B$4:$B$9,\"<>\"&$P$36,$D$4:$D$9,$P35)","v":0},{"$f":"SUMIFS($G$4:$G$9,$B$4:$B$9,$P35,$D$4:$D$9,\"<>\"&$P$36)+SUMIFS($E$4:$E$9,$B$4:$B$9,\"<>\"&$P$36,$D$4:$D$9,$P35)","v":0},null,{"$f":"Q35*FactorPts+(GDzero+R35)*FactorGD+S35*FactorFor","v":{"v":50000,"d":"50,000"}},{"$f":"RANK(V35,V$33:V$35,1)","v":1},{"$f":"IF(AND($Q$5=$Q$6,$Q$5=$Q$7,$Q$5<>$Q$4),W35,0)","v":0},{"$f":"IF(AND(V35=V33,V35<>V34),IF(AB35>AB33,3,IF(AB35=AB33,1,0)),IF(AND(V35=V34,V35<>V33),IF(AC35>AC34,3,IF(AC35=AC34,1,0)),\"\"))","v":""},"",null,{"$f":"$I$21","v":0},{"$f":"$J$21","v":0},{"$f":"IF(AND($AF$16,$AD$5=$AD$6,$AD$5=$AD$7,$AD$5<>$AD$4),W35,0)","v":0},""]
[{"$nulls":15},{"$f":"$P$4","v":"Kanada"}]

{"sheet":"GrpC_Tipps","index":17,"n_rows":36,"n_cols":33,"rows_kept":36,"hidden":true,"merged":[[2,1,2,3],[2,4,2,6],[2,7,2,8],[2,9,2,11],[8,25,8,30],[15,6,15,11],[15,22,15,25],[15,29,15,30],[16,26,16,28],[17,4,17,6],[18,4,18,6],[19,4,19,6],[20,4,20,6]]}
[null,"Group","C","Tipps"]
[]
[null,"Match",null,null,"Score",null,null,"Points",null,"Penalty",null,null,"valid",{"$nulls":3},"Points","GD","For","Against","Wins","Coefficient","Dir. Comp. (3)","Dir. Comp. (2)","Dir. Comp. (4.3)","Dir. Comp. (4.3.2)","Dir. Comp. (4.2)","Fair play","match count > 0","Pts/GD/For","Penalty","Ranking","Played"]
[null,{"$f":"INDEX(Meine_Tipps!$B$13:$AJ$38,1,1+(CODE($C$1)-65)*3)","v":"Haiti"},"-",{"$f":"INDEX(Meine_Tipps!$B$13:$AJ$38,1,2+(CODE($C$1)-65)*3)","v":"Schottland"},{"$f":"IF(OR(INDEX(Meine_Tipps!$B$14:$AJ$39,1,1+(CODE($C$1)-65)*3)=\"\",INDEX(Meine_Tipps!$B$14:$AJ$39,1,2+(CODE($C$1)-65)*3)=\"\"),\"\",INDEX(Meine_Tipps!$B$14:$AJ$39,1,1+(CODE($C$1)-65)*3))","v":""},"-",{"$f":"IF(OR(INDEX(Meine_Tipps!$B$14:$AJ$39,1,1+(CODE($C$1)-65)*3)=\"\",INDEX(Meine_Tipps!$B$14:$AJ$39,1,2+(CODE($C$1)-65)*3)=\"\"),\"\",INDEX(Meine_Tipps!$B$14:$AJ$39,1,2+(CODE($C$1)-65)*3))","v":""},{"$f":"IF($M4>0,IF($E4>$G4,3,IF($E4=$G4,1,0)),0)","v":0},{"$f":"IF($M4>0,IF($E4<$G4,3,IF($E4=$G4,1,0)),0)","v":0},{"$nulls":3},{"$f":"IF(AND($E4<>\"\",$G4<>\"\"),1,0)","v":0},null,"1.",{"$f":"VLOOKUP($C$1&ROW($A1),Groups_Tipps!$B$7:$D$65,3,0)","v":"Brasilien"},{"$f":"SUMIF($B$4:$B$9,P4,$H$4:$H$9)+SUMIF($D$4:$D$9,P4,$I$4:$I$9)","v":0},{"$f":"S4-T4","v":0},{"$f":"SUMIF($B$4:$B$9,$P4,$E$4:$E$9)+SUMIF($D$4:$D$9,$P4,$G$4:$G$9)","v":0},{"$f":"SUMIF($B$4:$B$9,$P4,$G$4:$G$9)+SUMIF($D$4:$D$9,$P4,$E$4:$E$9)","v":0},{"$f":"COUNTIFS($B$4:$B$9,$P4,$H$4:$H$9,\"=3\")+COUNTIFS($D$4:$D$9,$P4,$I$4:$I$9,\"=3\")","v":0},{"$f":"$Q4*FactorPts+(GDzero+$R4)*FactorGD+$S4*FactorFor+$U4*FactorWins+$W4*FactorDirC3+$X4*FactorDirC2+$Y4*FactorDirC43+$Z4*FactorDirC42+$AA4*FactorDirC42+$AB4*FactorFairPlay+$AE4*FactorPenalty+(100-$AF4)*($M$10>0)*FactorRank+(8-ROW())*FactorRow","v":{"v":50000.00000004,"d":"50,000.0000000"}},{"$f":"SUMIFS($X$18:$X$35,$P$18:$P$35,$P4)","v":0},{"$f":"IF($L18=\"\",0,$L18)+SUMIFS($Z$18:$Z$35,$P$18:$P$35,$P4)","v":0},{"$f":"SUMIFS($AD$18:$AD$35,$P$18:$P$35,$P4)","v":0},{"$f":"SUMIFS($AE$18:$AE$35,$P$18:$P$35,$P4)","v":0},{"$f":"IF($M18=\"\",0,$M18)","v":0},{"$f":"SUMIFS(FairPlayPoints1,FairPlayTeams1,P4)+SUMIFS(FairPlayPoints2,FairPlayTeams2,P4)+SUMIFS(FairPlayPoints3,FairPlayTeams3,P4)","v":0},{"$f":"(Q4+T4>0)","v":false},{"$f":"$Q4*FactorPts+(GDzero+$R4)*FactorGD+$S4*FactorFor","v":{"v":50000,"d":"50,000"}},0,{"$f":"VLOOKUP(P4,Sprache_Tipps!E:F,2,0)","v":6},{"$f":"OR($Q4>0,$T4>0)","v":false}]
[null,{"$f":"INDEX(Meine_Tipps!$B$13:$AJ$38,6,1+(CODE($C$1)-65)*3)","v":"Brasilien"},"-",{"$f":"INDEX(Meine_Tipps!$B$13:$AJ$38,6,2+(CODE($C$1)-65)*3)","v":"Marokko"},{"$f":"IF(OR(INDEX(Meine_Tipps!$B$14:$AJ$39,6,1+(CODE($C$1)-65)*3)=\"\",INDEX(Meine_Tipps!$B$14:$AJ$39,6,2+(CODE($C$1)-65)*3)=\"\"),\"\",INDEX(Meine_Tipps!$B$14:$AJ$39,6,1+(CODE($C$1)-65)*3))","v":""},"-",{"$f":"IF(OR(INDEX(Meine_Tipps!$B$14:$AJ$39,6,1+(CODE($C$1)-65)*3)=\"\",INDEX(Meine_Tipps!$B$14:$AJ$39,6,2+(CODE($C$1)-65)*3)=\"\"),\"\",INDEX(Meine_Tipps!$B$14:$AJ$39,6,2+(CODE($C$1)-65)*3))","v":""},0,0,{"$nulls":3},0,null,"2.",{"$f":"VLOOKUP($C$1&ROW($A2),Groups_Tipps!$B$7:$D$65,3,0)","v":"Marokko"},{"$f":"SUMIF($B$4:$B$9,P5,$H$4:$H$9)+SUMIF($D$4:$D$9,P5,$I$4:$I$9)","v":0},{"$f":"S5-T5","v":0},{"$f":"SUMIF($B$4:$B$9,$P5,$E$4:$E$9)+SUMIF($D$4:$D$9,$P5,$G$4:$G$9)","v":0},{"$f":"SUMIF($B$4:$B$9,$P5,$G$4:$G$9)+SUMIF($D$4:$D$9,$P5,$E$4:$E$9)","v":0},{"$f":"COUNTIFS($B$4:$B$9,$P5,$H$4:$H$9,\"=3\")+COUNTIFS($D$4:$D$9,$P5,$I$4:$I$9,\"=3\")","v":0},{"$f":"$Q5*FactorPts+(GDzero+$R5)*FactorGD+$S5*FactorFor+$U5*FactorWins+$W5*FactorDirC3+$X5*FactorDirC2+$Y5*FactorDirC43+$Z5*FactorDirC42+$AA5*FactorDirC42+$AB5*FactorFairPlay+$AE5*FactorPenalty+(100-$AF5)*($M$10>0)*FactorRank+(8-ROW())*FactorRow","v":{"v":50000.00000003,"d":"50,000.0000000"}},{"$f":"SUMIFS($X$18:$X$35,$P$18:$P$35,$P5)","v":0},{"$f":"IF($L19=\"\",0,$L19)+SUMIFS($Z$18:$Z$35,$P$18:$P$35,$P5)","v":0},{"$f":"SUMIFS($AD$18:$AD$35,$P$18:$P$35,$P5)","v":0},{"$f":"SUMIFS($AE$18:$AE$35,$P$18:$P$35,$P5)","v":0},{"$f":"IF($M19=\"\",0,$M19)","v":0},{"$f":"SUMIFS(FairPlayPoints1,FairPlayTeams1,P5)+SUMIFS(FairPlayPoints2,FairPlayTeams2,P5)+SUMIFS(FairPlayPoints3,FairPlayTeams3,P5)","v":0},{"$f":"(Q5+T5>0)","v":false},{"$f":"$Q5*FactorPts+(GDzero+$R5)*FactorGD+$S5*FactorFor","v":{"v":50000,"d":"50,000"}},0,{"$f":"VLOOKUP(P5,Sprache_Tipps!E:F,2,0)","v":8},{"$f":"OR($Q5>0,$T5>0)","v":false}]
[null,{"$f":"INDEX(Meine_Tipps!$B$13:$AJ$38,11,1+(CODE($C$1)-65)*3)","v":"Brasilien"},"-",{"$f":"INDEX(Meine_Tipps!$B$13:$AJ$38,11,2+(CODE($C$1)-65)*3)","v":"Haiti"},{"$f":"IF(OR(INDEX(Meine_Tipps!$B$14:$AJ$39,11,1+(CODE($C$1)-65)*3)=\"\",INDEX(Meine_Tipps!$B$14:$AJ$39,11,2+(CODE($C$1)-65)*3)=\"\"),\"\",INDEX(Meine_Tipps!$B$14:$AJ$39,11,1+(CODE($C$1)-65)*3))","v":""},"-",{"$f":"IF(OR(INDEX(Meine_Tipps!$B$14:$AJ$39,11,1+(CODE($C$1)-65)*3)=\"\",INDEX(Meine_Tipps!$B$14:$AJ$39,11,2+(CODE($C$1)-65)*3)=\"\"),\"\",INDEX(Meine_Tipps!$B$14:$AJ$39,11,2+(CODE($C$1)-65)*3))","v":""},0,0,{"$nulls":3},0,null,"3.",{"$f":"VLOOKUP($C$1&ROW($A3),Groups_Tipps!$B$7:$D$65,3,0)","v":"Haiti"},0,{"$f":"S6-T6","v":0},{"$f":"SUMIF($B$4:$B$9,$P6,$E$4:$E$9)+SUMIF($D$4:$D$9,$P6,$G$4:$G$9)","v":0},{"$f":"SUMIF($B$4:$B$9,$P6,$G$4:$G$9)+SUMIF($D$4:$D$9,$P6,$E$4:$E$9)","v":0},{"$f":"COUNTIFS($B$4:$B$9,$P6,$H$4:$H$9,\"=3\")+COUNTIFS($D$4:$D$9,$P6,$I$4:$I$9,\"=3\")","v":0},{"$f":"$Q6*FactorPts+(GDzero+$R6)*FactorGD+$S6*FactorFor+$U6*FactorWins+$W6*FactorDirC3+$X6*FactorDirC2+$Y6*FactorDirC43+$Z6*FactorDirC42+$AA6*FactorDirC42+$AB6*FactorFairPlay+$AE6*FactorPenalty+(100-$AF6)*($M$10>0)*FactorRank+(8-ROW())*FactorRow","v":{"v":50000.00000002,"d":"50,000.0000000"}},0,{"$f":"IF($L20=\"\",0,$L20)+SUMIFS($Z$18:$Z$35,$P$18:$P$35,$P6)","v":0},0,0,{"$f":"IF($M20=\"\",0,$M20)","v":0},{"$f":"SUMIFS(FairPlayPoints1,FairPlayTeams1,P6)+SUMIFS(FairPlayPoints2,FairPlayTeams2,P6)+SUMIFS(FairPlayPoints3,FairPlayTeams3,P6)","v":0},{"$f":"(Q6+T6>0)","v":false},{"$f":"$Q6*FactorPts+(GDzero+$R6)*FactorGD+$S6*FactorFor","v":{"v":50000,"d":"50,000"}},0,{"$f":"VLOOKUP(P6,Sprache_Tipps!E:F,2,0)","v":83},false]
[null,{"$f":"INDEX(Meine_Tipps!$B$13:$AJ$38,16,1+(CODE($C$1)-65)*3)","v":"Schottland"},"-",{"$f":"INDEX(Meine_Tipps!$B$13:$AJ$38,16,2+(CODE($C$1)-65)*3)","v":"Marokko"},{"$f":"IF(OR(INDEX(Meine_Tipps!$B$14:$AJ$39,16,1+(CODE($C$1)-65)*3)=\"\",INDEX(Meine_Tipps!$B$14:$AJ$39,16,2+(CODE($C$1)-65)*3)=\"\"),\"\",INDEX(Meine_Tipps!$B$14:$AJ$39,16,1+(CODE($C$1)-65)*3))","v":""},"-",{"$f":"IF(OR(INDEX(Meine_Tipps!$B$14:$AJ$39,16,1+(CODE($C$1)-65)*3)=\"\",INDEX(Meine_Tipps!$B$14:$AJ$39,16,2+(CODE($C$1)-65)*3)=\"\"),\"\",INDEX(Meine_Tipps!$B$14:$AJ$39,16,2+(CODE($C$1)-65)*3))","v":""},0,0,{"$nulls":3},0,null,"4.",{"$f":"VLOOKUP($C$1&ROW($A4),Groups_Tipps!$B$7:$D$65,3,0)","v":"Schottland"},0,{"$f":"S7-T7","v":0},{"$f":"SUMIF($B$4:$B$9,$P7,$E$4:$E$9)+SUMIF($D$4:$D$9,$P7,$G$4:$G$9)","v":0},{"$f":"SUMIF($B$4:$B$9,$P7,$G$4:$G$9)+SUMIF($D$4:$D$9,$P7,$E$4:$E$9)","v":0},{"$f":"COUNTIFS($B$4:$B$9,$P7,$H$4:$H$9,\"=3\")+COUNTIFS($D$4:$D$9,$P7,$I$4:$I$9,\"=3\")","v":0},{"$f":"$Q7*FactorPts+(GDzero+$R7)*FactorGD+$S7*FactorFor+$U7*FactorWins+$W7*FactorDirC3+$X7*FactorDirC2+$Y7*FactorDirC43+$Z7*FactorDirC42+$AA7*FactorDirC42+$AB7*FactorFairPlay+$AE7*FactorPenalty+(100-$AF7)*($M$10>0)*FactorRank+(8-ROW())*FactorRow","v":{"v":50000.00000001,"d":"50,000.0000000"}},0,{"$f":"IF($L21=\"\",0,$L21)+SUMIFS($Z$18:$Z$35,$P$18:$P$35,$P7)","v":0},0,0,{"$f":"IF($M21=\"\",0,$M21)","v":0},{"$f":"SUMIFS(FairPlayPoints1,FairPlayTeams1,P7)+SUMIFS(FairPlayPoints2,FairPlayTeams2,P7)+SUMIFS(FairPlayPoints3,FairPlayTeams3,P7)","v":0},{"$f":"(Q7+T7>0)","v":false},{"$f":"$Q7*FactorPts+(GDzero+$R7)*FactorGD+$S7*FactorFor","v":{"v":50000,"d":"50,000"}},0,{"$f":"VLOOKUP(P7,Sprache_Tipps!E:F,2,0)","v":43},false]
[null,{"$f":"INDEX(Meine_Tipps!$B$13:$AJ$38,21,1+(CODE($C$1)-65)*3)","v":"Schottland"},"-",{"$f":"INDEX(Meine_Tipps!$B$13:$AJ$38,21,2+(CODE($C$1)-65)*3)","v":"Brasilien"},{"$f":"IF(OR(INDEX(Meine_Tipps!$B$14:$AJ$39,21,1+(CODE($C$1)-65)*3)=\"\",INDEX(Meine_Tipps!$B$14:$AJ$39,21,2+(CODE($C$1)-65)*3)=\"\"),\"\",INDEX(Meine_Tipps!$B$14:$AJ$39,21,1+(CODE($C$1)-65)*3))","v":""},"-",{"$f":"IF(OR(INDEX(Meine_Tipps!$B$14:$AJ$39,21,1+(CODE($C$1)-65)*3)=\"\",INDEX(Meine_Tipps!$B$14:$AJ$39,21,2+(CODE($C$1)-65)*3)=\"\"),\"\",INDEX(Meine_Tipps!$B$14:$AJ$39,21,2+(CODE($C$1)-65)*3))","v":""},0,0,{"$nulls":3},0]
[null,{"$f":"INDEX(Meine_Tipps!$B$13:$AJ$38,26,1+(CODE($C$1)-65)*3)","v":"Marokko"},"-",{"$f":"INDEX(Meine_Tipps!$B$13:$AJ$38,26,2+(CODE($C$1)-65)*3)","v":"Haiti"},{"$f":"IF(OR(INDEX(Meine_Tipps!$B$14:$AJ$39,26,1+(CODE($C$1)-65)*3)=\"\",INDEX(Meine_Tipps!$B$14:$AJ$39,26,2+(CODE($C$1)-65)*3)=\"\"),\"\",INDEX(Meine_Tipps!$B$14:$AJ$39,26,1+(CODE($C$1)-65)*3))","v":""},"-",{"$f":"IF(OR(INDEX(Meine_Tipps!$B$14:$AJ$39,26,1+(CODE($C$1)-65)*3)=\"\",INDEX(Meine_Tipps!$B$14:$AJ$39,26,2+(CODE($C$1)-65)*3)=\"\"),\"\",INDEX(Meine_Tipps!$B$14:$AJ$39,26,2+(CODE($C$1)-65)*3))","v":""},0,0,{"$nulls":3},0,{"$nulls":12},"For showing direct comparisons of 2 on sheet \"Direct comparisons\""]
[{"$nulls":11},"Sum:",{"$f":"SUM($M$4:$M$9)","v":0},null,null,"Sorted list","Points","GD","For","Against","wins","Coefficient","Played","Red dot","Penalty (?)","DC(2) ?","DC(4.2) ?","DC(3.2) ?","DC(4.3.2) ?","All Dir.C. (2)","Penalty"]
[{"$nulls":14},"1.",{"$f":"INDEX(P$4:P$7,MATCH($V11,$V$4:$V$7,0))","v":"Brasilien"},0,0,0,0,0,{"$f":"LARGE($V$4:$V$7,ROW(A1))","v":{"v":50000.00000004,"d":"50,000.0000000"}},{"$f":"OR($Q11>0,$T11>0)","v":false},{"$f":"IF(AND(OR(TRUNC($V$11,4)=TRUNC($V$12,4),TRUNC($V$11,4)=TRUNC($V$13,4),TRUNC($V$11,4)=TRUNC($V$14,4),TRUNC($V$12,4)=TRUNC($V$13,4),TRUNC($V$12,4)=TRUNC($V$14,4),TRUNC($V$13,4)=TRUNC($V$14,4)),$M$10>0),1,0)","v":0},{"$f":"IF(AND(VLOOKUP($B$8,$P$4:$AD$7,15,0)=VLOOKUP($D$8,$P$4:$AD$7,15,0),$E$8=$G$8,COUNTIF($Q$4:$Q$7,VLOOKUP($B$8,$P$4:$Q$7,2,0))=2,$M$10=6),1,0)","v":0},{"$f":"VLOOKUP($P11,$E$18:$M$21,8,0)<>\"\"","v":false},{"$f":"VLOOKUP($P11,$E$18:$M$21,9,0)<>\"\"","v":false},{"$f":"SUMPRODUCT(1*(LEN($Z$18:$Z$35)>0)*($P$18:$P$35=$P11))>0","v":false},{"$f":"SUMPRODUCT(1*(LEN($AE$18:$AE$35)>0)*($P$18:$P$35=$P11))>0","v":false},{"$f":"IF($Z11,VLOOKUP($P11,$E$18:$M$21,8,0),IF($AA11,VLOOKUP($P11,$E$18:$M$21,9,0),IF($AB11,SUMIFS($Z$18:$Z$35,$P$18:$P$35,$P11),IF($AC11,SUMIFS($AE$18:$AE$35,$P$18:$P$35,$P11),\"\"))))","v":""},{"$f":"IF(OR(AND($Y$11>0,OR($B$8=$P11,$D$8=$P11)),AND($Y$12>0,OR($B$9=$P11,$D$9=$P11))),SUMIF($B$8:$B$9,$P11,$J$8:$J$9)+SUMIF($D$8:$D$9,$P11,$L$8:$L$9),\"\")","v":""}]
[{"$nulls":14},"2.","Marokko",0,0,0,0,0,{"$f":"LARGE($V$4:$V$7,ROW(A2))","v":{"v":50000.00000003,"d":"50,000.0000000"}},{"$f":"OR($Q12>0,$T12>0)","v":false},null,{"$f":"IF(AND(VLOOKUP($B$9,$P$4:$AD$7,15,0)=VLOOKUP($D$9,$P$4:$AD$7,15,0),$E$9=$G$9,COUNTIF($Q$4:$Q$7,VLOOKUP($B$9,$P$4:$Q$7,2,0))=2,$M$10=6),1,0)","v":0},{"$f":"VLOOKUP($P12,$E$18:$M$21,8,0)<>\"\"","v":false},{"$f":"VLOOKUP($P12,$E$18:$M$21,9,0)<>\"\"","v":false},{"$f":"SUMPRODUCT(1*(LEN($Z$18:$Z$35)>0)*($P$18:$P$35=$P12))>0","v":false},{"$f":"SUMPRODUCT(1*(LEN($AE$18:$AE$35)>0)*($P$18:$P$35=$P12))>0","v":false},{"$f":"IF($Z12,VLOOKUP($P12,$E$18:$M$21,8,0),IF($AA12,VLOOKUP($P12,$E$18:$M$21,9,0),IF($AB12,SUMIFS($Z$18:$Z$35,$P$18:$P$35,$P12),IF($AC12,SUMIFS($AE$18:$AE$35,$P$18:$P$35,$P12),\"\"))))","v":""},{"$f":"IF(OR(AND($Y$11>0,OR($B$8=$P12,$D$8=$P12)),AND($Y$12>0,OR($B$9=$P12,$D$9=$P12))),SUMIF($B$8:$B$9,$P12,$J$8:$J$9)+SUMIF($D$8:$D$9,$P12,$L$8:$L$9),\"\")","v":""}]
[{"$nulls":14},"3.","Haiti",0,0,0,0,0,{"$f":"LARGE($V$4:$V$7,ROW(A3))","v":{"v":50000.00000002,"d":"50,000.0000000"}},false,null,null,{"$f":"VLOOKUP($P13,$E$18:$M$21,8,0)<>\"\"","v":false},{"$f":"VLOOKUP($P13,$E$18:$M$21,9,0)<>\"\"","v":false},false,false,{"$f":"IF($Z13,VLOOKUP($P13,$E$18:$M$21,8,0),IF($AA13,VLOOKUP($P13,$E$18:$M$21,9,0),IF($AB13,SUMIFS($Z$18:$Z$35,$P$18:$P$35,$P13),IF($AC13,SUMIFS($AE$18:$AE$35,$P$18:$P$35,$P13),\"\"))))","v":""},{"$f":"IF(OR(AND($Y$11>0,OR($B$8=$P13,$D$8=$P13)),AND($Y$12>0,OR($B$9=$P13,$D$9=$P13))),SUMIF($B$8:$B$9,$P13,$J$8:$J$9)+SUMIF($D$8:$D$9,$P13,$L$8:$L$9),\"\")","v":""}]
[{"$nulls":14},"4.","Schottland",0,0,0,0,0,{"$f":"LARGE($V$4:$V$7,ROW(A4))","v":{"v":50000.00000001,"d":"50,000.0000000"}},false,null,null,{"$f":"VLOOKUP($P14,$E$18:$M$21,8,0)<>\"\"","v":false},{"$f":"VLOOKUP($P14,$E$18:$M$21,9,0)<>\"\"","v":false},false,false,{"$f":"IF($Z14,VLOOKUP($P14,$E$18:$M$21,8,0),IF($AA14,VLOOKUP($P14,$E$18:$M$21,9,0),IF($AB14,SUMIFS($Z$18:$Z$35,$P$18:$P$35,$P14),IF($AC14,SUMIFS($AE$18:$AE$35,$P$18:$P$35,$P14),\"\"))))","v":""},{"$f":"IF(OR(AND($Y$11>0,OR($B$8=$P14,$D$8=$P14)),AND($Y$12>0,OR($B$9=$P14,$D$9=$P14))),SUMIF($B$8:$B$9,$P14,$J$8:$J$9)+SUMIF($D$8:$D$9,$P14,$L$8:$L$9),\"\")","v":""}]
[]
[{"$nulls":6},"Direct Comparison of 2",{"$nulls":15},"Direct Comparison of 3",{"$nulls":6},"Direct Comparison of 4",null,{"$f":"AND($Q$4=$Q$5,$Q$4=$Q$6,$Q$4=$Q$7)","v":true}]
[{"$nulls":7},{"$f":"LEFT($P$4,3)","v":"Bra"},{"$f":"LEFT($P$5,3)","v":"Mar"},{"$f":"LEFT($P$6,3)","v":"Hai"},{"$f":"LEFT($P$7,3)","v":"Sch"},"DC(2)","DC(4.2)",{"$nulls":3},"Points","GD","For","Against",null,"Pts/GD/For","Rank Col. V","DC(3)","DC(3.2)","DC(3.2)","Results of direct encounters",null,null,"DC(4.3)","DC(4.3.2)"]
[{"$nulls":4},{"$f":"$P$4","v":"Brasilien"},{"$nulls":3},{"$f":"SUMIFS($E$4:$E$9,$B$4:$B$9,$P$4,$D$4:$D$9,$P$5)+SUMIFS($G$4:$G$9,$B$4:$B$9,$P$5,$D$4:$D$9,$P$4)","v":0},{"$f":"SUMIFS($E$4:$E$9,$B$4:$B$9,$P$4,$D$4:$D$9,$P$6)+SUMIFS($G$4:$G$9,$B$4:$B$9,$P$6,$D$4:$D$9,$P$4)","v":0},{"$f":"SUMIFS($E$4:$E$9,$B$4:$B$9,$P$4,$D$4:$D$9,$P$7)+SUMIFS($G$4:$G$9,$B$4:$B$9,$P$7,$D$4:$D$9,$P$4)","v":0},{"$f":"IF(AND($Q$4=$Q$5,$Q$4<>$Q$6,$Q$4<>$Q$7),IF(I18>H19,3,IF(I18=H19,1,0)),IF(AND($Q$4=$Q$6,$Q$4<>$Q$5,$Q$4<>$Q$7),IF(J18>H20,3,IF(J18=H20,1,0)),IF(AND($Q$4=$Q$7,$Q$4<>$Q$5,$Q$4<>$Q$6),IF(K18>H21,3,IF(K18=H21,1,0)),\"\")))","v":""},{"$f":"IF($AF$16,IF(AND($AD$4=$AD$5,$AD$4<>$AD$6,$AD$4<>$AD$7),IF(I18>H19,3,IF(I18=H19,1,0)),IF(AND($AD$4<>$AD$5,$AD$4=$AD$6,$AD$4<>$AD$7),IF(J18>H20,3,IF(J18=H20,1,0)),IF(AND($AD$4<>$AD$5,$AD$4<>$AD$6,$AD$4=$AD$7),IF(K18>H21,3,IF(K18=H21,1,0)),\"\"))),\"\")","v":""},null,"1.",{"$f":"$P$4","v":"Brasilien"},{"$f":"SUMIFS($H$4:$H$9,$B$4:$B$9,$P18,$D$4:$D$9,\"<>\"&$P$21)+SUMIFS($I$4:$I$9,$B$4:$B$9,\"<>\"&$P$21,$D$4:$D$9,$P18)","v":0},{"$f":"S18-T18","v":0},{"$f":"SUMIFS($E$4:$E$9,$B$4:$B$9,$P18,$D$4:$D$9,\"<>\"&$P$21)+SUMIFS($G$4:$G$9,$B$4:$B$9,\"<>\"&$P$21,$D$4:$D$9,$P18)","v":0},{"$f":"SUMIFS($G$4:$G$9,$B$4:$B$9,$P18,$D$4:$D$9,\"<>\"&$P$21)+SUMIFS($E$4:$E$9,$B$4:$B$9,\"<>\"&$P$21,$D$4:$D$9,$P18)","v":0},null,{"$f":"Q18*FactorPts+(GDzero+R18)*FactorGD+S18*FactorFor","v":{"v":50000,"d":"50,000"}},{"$f":"RANK(V18,V$18:V$20,1)","v":1},{"$f":"IF(AND($Q$4=$Q$5,$Q$4=$Q$6,$Q$4<>$Q$7),W18,0)","v":0},{"$f":"IF(AND(V18=V19,V18<>V20),IF(AA18>AA19,3,IF(AA18=AA19,1,0)),IF(AND(V18=V20,V18<>V19),IF(AB18>AB20,3,IF(AB18=AB20,1,0)),\"\"))","v":""},{"$f":"IF(X18>0,Y18,\"\")","v":""},{"$f":"$I$18","v":0},{"$f":"$J$18","v":0},null,{"$f":"IF(AND($AF$16,$AD$4=$AD$5,$AD$4=$AD$6,$AD$4<>$AD$7),W18,0)","v":0},{"$f":"IF(AD18>0,Y18,\"\")","v":""}]
[{"$nulls":4},{"$f":"$P$5","v":"Marokko"},null,null,{"$f":"SUMIFS($E$4:$E$9,$B$4:$B$9,$P$5,$D$4:$D$9,$P$4)+SUMIFS($G$4:$G$9,$B$4:$B$9,$P$4,$D$4:$D$9,$P$5)","v":0},null,{"$f":"SUMIFS($E$4:$E$9,$B$4:$B$9,$P$5,$D$4:$D$9,$P$6)+SUMIFS($G$4:$G$9,$B$4:$B$9,$P$6,$D$4:$D$9,$P$5)","v":0},{"$f":"SUMIFS($E$4:$E$9,$B$4:$B$9,$P$5,$D$4:$D$9,$P$7)+SUMIFS($G$4:$G$9,$B$4:$B$9,$P$7,$D$4:$D$9,$P$5)","v":0},{"$f":"IF(AND($Q$5=$Q$4,$Q$5<>$Q$6,$Q$5<>$Q$7),IF(H19>I18,3,IF(H19=I18,1,0)),IF(AND($Q$5=$Q$6,$Q$5<>$Q$4,$Q$5<>$Q$7),IF(J19>I20,3,IF(J19=I20,1,0)),IF(AND($Q$5=$Q$7,$Q$5<>$Q$4,$Q$5<>$Q$6),IF(K19>I21,3,IF(K19=I21,1,0)),\"\")))","v":""},{"$f":"IF($AF$16,IF(AND($AD$5=$AD$4,$AD$5<>$AD$6,$AD$5<>$AD$7),IF(H19>I18,3,IF(H19=I18,1,0)),IF(AND($AD$5<>$AD$4,$AD$5=$AD$6,$AD$5<>$AD$7),IF(J19>I20,3,IF(J19=I20,1,0)),IF(AND($AD$5<>$AD$4,$AD$5<>$AD$6,$AD$5=$AD$7),IF(K19>I21,3,IF(K19=I21,1,0)),\"\"))),\"\")","v":""},null,"2.",{"$f":"$P$5","v":"Marokko"},{"$f":"SUMIFS($H$4:$H$9,$B$4:$B$9,$P19,$D$4:$D$9,\"<>\"&$P$21)+SUMIFS($I$4:$I$9,$B$4:$B$9,\"<>\"&$P$21,$D$4:$D$9,$P19)","v":0},{"$f":"S19-T19","v":0},{"$f":"SUMIFS($E$4:$E$9,$B$4:$B$9,$P19,$D$4:$D$9,\"<>\"&$P$21)+SUMIFS($G$4:$G$9,$B$4:$B$9,\"<>\"&$P$21,$D$4:$D$9,$P19)","v":0},{"$f":"SUMIFS($G$4:$G$9,$B$4:$B$9,$P19,$D$4:$D$9,\"<>\"&$P$21)+SUMIFS($E$4:$E$9,$B$4:$B$9,\"<>\"&$P$21,$D$4:$D$9,$P19)","v":0},null,{"$f":"Q19*FactorPts+(GDzero+R19)*FactorGD+S19*FactorFor","v":{"v":50000,"d":"50,000"}},{"$f":"RANK(V19,V$18:V$20,1)","v":1},{"$f":"IF(AND($Q$4=$Q$5,$Q$4=$Q$6,$Q$4<>$Q$7),W19,0)","v":0},{"$f":"IF(AND(V19=V18,V19<>V20),IF(AA19>AA18,3,IF(AA19=AA18,1,0)),IF(AND(V19=V20,V19<>V18),IF(AC19>AC20,3,IF(AC19=AC20,1,0)),\"\"))","v":""},{"$f":"IF(X19>0,Y19,\"\")","v":""},{"$f":"$H$19","v":0},null,{"$f":"$J$19","v":0},{"$f":"IF(AND($AF$16,$AD$4=$AD$5,$AD$4=$AD$6,$AD$4<>$AD$7),W19,0)","v":0},{"$f":"IF(AD19>0,Y19,\"\")","v":""}]
[{"$nulls":4},{"$f":"$P$6","v":"Haiti"},null,null,{"$f":"SUMIFS($E$4:$E$9,$B$4:$B$9,$P$6,$D$4:$D$9,$P$4)+SUMIFS($G$4:$G$9,$B$4:$B$9,$P$4,$D$4:$D$9,$P$6)","v":0},{"$f":"SUMIFS($E$4:$E$9,$B$4:$B$9,$P$6,$D$4:$D$9,$P$5)+SUMIFS($G$4:$G$9,$B$4:$B$9,$P$5,$D$4:$D$9,$P$6)","v":0},null,{"$f":"SUMIFS($E$4:$E$9,$B$4:$B$9,$P$6,$D$4:$D$9,$P$7)+SUMIFS($G$4:$G$9,$B$4:$B$9,$P$7,$D$4:$D$9,$P$6)","v":0},{"$f":"IF(AND($Q$6=$Q$4,$Q$6<>$Q$5,$Q$6<>$Q$7),IF(H20>J18,3,IF(H20=J18,1,0)),IF(AND($Q$6=$Q$5,$Q$6<>$Q$4,$Q$6<>$Q$7),IF(I20>J19,3,IF(I20=J19,1,0)),IF(AND($Q$6=$Q$7,$Q$6<>$Q$4,$Q$6<>$Q$5),IF(K20>J21,3,IF(K20=J21,1,0)),\"\")))","v":""},{"$f":"IF($AF$16,IF(AND($AD$6=$AD$4,$AD$6<>$AD$5,$AD$6<>$AD$7),IF(H20>J18,3,IF(H20=J18,1,0)),IF(AND($AD$6<>$AD$4,$AD$6=$AD$5,$AD$6<>$AD$7),IF(I20>J19,3,IF(I20=J19,1,0)),IF(AND($AD$6<>$AD$4,$AD$6<>$AD$5,$AD$6=$AD$7),IF(K20>J21,3,IF(K20=J21,1,0)),\"\"))),\"\")","v":""},null,"3.",{"$f":"$P$6","v":"Haiti"},{"$f":"SUMIFS($H$4:$H$9,$B$4:$B$9,$P20,$D$4:$D$9,\"<>\"&$P$21)+SUMIFS($I$4:$I$9,$B$4:$B$9,\"<>\"&$P$21,$D$4:$D$9,$P20)","v":0},{"$f":"S20-T20","v":0},{"$f":"SUMIFS($E$4:$E$9,$B$4:$B$9,$P20,$D$4:$D$9,\"<>\"&$P$21)+SUMIFS($G$4:$G$9,$B$4:$B$9,\"<>\"&$P$21,$D$4:$D$9,$P20)","v":0},{"$f":"SUMIFS($G$4:$G$9,$B$4:$B$9,$P20,$D$4:$D$9,\"<>\"&$P$21)+SUMIFS($E$4:$E$9,$B$4:$B$9,\"<>\"&$P$21,$D$4:$D$9,$P20)","v":0},null,{"$f":"Q20*FactorPts+(GDzero+R20)*FactorGD+S20*FactorFor","v":{"v":50000,"d":"50,000"}},{"$f":"RANK(V20,V$18:V$20,1)","v":1},{"$f":"IF(AND($Q$4=$Q$5,$Q$4=$Q$6,$Q$4<>$Q$7),W20,0)","v":0},{"$f":"IF(AND(V20=V18,V20<>V19),IF(AB20>AB18,3,IF(AB20=AB18,1,0)),IF(AND(V20=V19,V20<>V18),IF(AC20>AC19,3,IF(AC20=AC19,1,0)),\"\"))","v":""},"",null,{"$f":"$H$20","v":0},{"$f":"$I$20","v":0},{"$f":"IF(AND($AF$16,$AD$4=$AD$5,$AD$4=$AD$6,$AD$4<>$AD$7),W20,0)","v":0},""]
[{"$nulls":4},{"$f":"$P$7","v":"Schottland"},null,null,{"$f":"SUMIFS($E$4:$E$9,$B$4:$B$9,$P$7,$D$4:$D$9,$P$4)+SUMIFS($G$4:$G$9,$B$4:$B$9,$P$4,$D$4:$D$9,$P$7)","v":0},{"$f":"SUMIFS($E$4:$E$9,$B$4:$B$9,$P$7,$D$4:$D$9,$P$5)+SUMIFS($G$4:$G$9,$B$4:$B$9,$P$5,$D$4:$D$9,$P$7)","v":0},{"$f":"SUMIFS($E$4:$E$9,$B$4:$B$9,$P$7,$D$4:$D$9,$P$6)+SUMIFS($G$4:$G$9,$B$4:$B$9,$P$6,$D$4:$D$9,$P$7)","v":0},null,{"$f":"IF(AND($Q$7=$Q$4,$Q$7<>$Q$5,$Q$7<>$Q$6),IF(H21>K18,3,IF(H21=K18,1,0)),IF(AND($Q$7=$Q$5,$Q$7<>$Q$4,$Q$7<>$Q$6),IF(I21>K19,3,IF(I21=K19,1,0)),IF(AND($Q$7=$Q$6,$Q$7<>$Q$4,$Q$7<>$Q$5),IF(J21>K20,3,IF(J21=K20,1,0)),\"\")))","v":""},{"$f":"IF($AF$16,IF(AND($AD$7=$AD$4,$AD$7<>$AD$5,$AD$7<>$AD$6),IF(H21>K18,3,IF(H21=K18,1,0)),IF(AND($AD$7<>$AD$4,$AD$7=$AD$5,$AD$7<>$AD$6),IF(I21>K19,3,IF(I21=K19,1,0)),IF(AND($AD$7<>$AD$4,$AD$7<>$AD$5,$AD$7=$AD$6),IF(J21>K20,3,IF(J21=K20,1,0)),\"\"))),\"\")","v":""},null,null,{"$f":"$P$7","v":"Schottland"}]
[]
[{"$nulls":14},"1.",{"$f":"$P$4","v":"Brasilien"},{"$f":"SUMIFS($H$4:$H$9,$B$4:$B$9,$P23,$D$4:$D$9,\"<>\"&$P$26)+SUMIFS($I$4:$I$9,$B$4:$B$9,\"<>\"&$P$26,$D$4:$D$9,$P23)","v":0},{"$f":"S23-T23","v":0},{"$f":"SUMIFS($E$4:$E$9,$B$4:$B$9,$P23,$D$4:$D$9,\"<>\"&$P$26)+SUMIFS($G$4:$G$9,$B$4:$B$9,\"<>\"&$P$26,$D$4:$D$9,$P23)","v":0},{"$f":"SUMIFS($G$4:$G$9,$B$4:$B$9,$P23,$D$4:$D$9,\"<>\"&$P$26)+SUMIFS($E$4:$E$9,$B$4:$B$9,\"<>\"&$P$26,$D$4:$D$9,$P23)","v":0},null,{"$f":"Q23*FactorPts+(GDzero+R23)*FactorGD+S23*FactorFor","v":{"v":50000,"d":"50,000"}},{"$f":"RANK(V23,V$23:V$25,1)","v":1},{"$f":"IF(AND($Q$4=$Q$5,$Q$4=$Q$7,$Q$4<>$Q$6),W23,0)","v":0},{"$f":"IF(AND(V23=V24,V23<>V25),IF(AA23>AA24,3,IF(AA23=AA24,1,0)),IF(AND(V23=V25,V23<>V24),IF(AB23>AB25,3,IF(AB23=AB25,1,0)),\"\"))","v":""},{"$f":"IF(X23>0,Y23,\"\")","v":""},{"$f":"$I$18","v":0},{"$f":"$K$18","v":0},null,{"$f":"IF(AND($AF$16,$AD$4=$AD$5,$AD$4=$AD$7,$AD$4<>$AD$6),W23,0)","v":0},{"$f":"IF(AD23>0,Y23,\"\")","v":""}]
[{"$nulls":14},"2.",{"$f":"$P$5","v":"Marokko"},{"$f":"SUMIFS($H$4:$H$9,$B$4:$B$9,$P24,$D$4:$D$9,\"<>\"&$P$26)+SUMIFS($I$4:$I$9,$B$4:$B$9,\"<>\"&$P$26,$D$4:$D$9,$P24)","v":0},{"$f":"S24-T24","v":0},{"$f":"SUMIFS($E$4:$E$9,$B$4:$B$9,$P24,$D$4:$D$9,\"<>\"&$P$26)+SUMIFS($G$4:$G$9,$B$4:$B$9,\"<>\"&$P$26,$D$4:$D$9,$P24)","v":0},{"$f":"SUMIFS($G$4:$G$9,$B$4:$B$9,$P24,$D$4:$D$9,\"<>\"&$P$26)+SUMIFS($E$4:$E$9,$B$4:$B$9,\"<>\"&$P$26,$D$4:$D$9,$P24)","v":0},null,{"$f":"Q24*FactorPts+(GDzero+R24)*FactorGD+S24*FactorFor","v":{"v":50000,"d":"50,000"}},{"$f":"RANK(V24,V$23:V$25,1)","v":1},{"$f":"IF(AND($Q$4=$Q$5,$Q$4=$Q$7,$Q$4<>$Q$6),W24,0)","v":0},{"$f":"IF(AND(V24=V23,V24<>V25),IF(AA24>AA23,3,IF(AA24=AA23,1,0)),IF(AND(V24=V25,V24<>V23),IF(AC24>AC25,3,IF(AC24=AC25,1,0)),\"\"))","v":""},{"$f":"IF(X24>0,Y24,\"\")","v":""},{"$f":"$H$19","v":0},null,{"$f":"$K$19","v":0},{"$f":"IF(AND($AF$16,$AD$4=$AD$5,$AD$4=$AD$7,$AD$4<>$AD$6),W24,0)","v":0},{"$f":"IF(AD24>0,Y24,\"\")","v":""}]
[{"$nulls":14},"3.",{"$f":"$P$7","v":"Schottland"},{"$f":"SUMIFS($H$4:$H$9,$B$4:$B$9,$P25,$D$4:$D$9,\"<>\"&$P$26)+SUMIFS($I$4:$I$9,$B$4:$B$9,\"<>\"&$P$26,$D$4:$D$9,$P25)","v":0},{"$f":"S25-T25","v":0},{"$f":"SUMIFS($E$4:$E$9,$B$4:$B$9,$P25,$D$4:$D$9,\"<>\"&$P$26)+SUMIFS($G$4:$G$9,$B$4:$B$9,\"<>\"&$P$26,$D$4:$D$9,$P25)","v":0},{"$f":"SUMIFS($G$4:$G$9,$B$4:$B$9,$P25,$D$4:$D$9,\"<>\"&$P$26)+SUMIFS($E$4:$E$9,$B$4:$B$9,\"<>\"&$P$26,$D$4:$D$9,$P25)","v":0},null,{"$f":"Q25*FactorPts+(GDzero+R25)*FactorGD+S25*FactorFor","v":{"v":50000,"d":"50,000"}},{"$f":"RANK(V25,V$23:V$25,1)","v":1},{"$f":"IF(AND($Q$4=$Q$5,$Q$4=$Q$7,$Q$4<>$Q$6),W25,0)","v":0},{"$f":"IF(AND(V25=V23,V25<>V24),IF(AB25>AB23,3,IF(AB25=AB23,1,0)),IF(AND(V25=V24,V25<>V23),IF(AC25>AC24,3,IF(AC25=AC24,1,0)),\"\"))","v":""},"",null,{"$f":"$H$21","v":0},{"$f":"$I$21","v":0},{"$f":"IF(AND($AF$16,$AD$4=$AD$5,$AD$4=$AD$7,$AD$4<>$AD$6),W25,0)","v":0},""]
[{"$nulls":15},{"$f":"$P$6","v":"Haiti"}]
[]
[{"$nulls":14},"1.",{"$f":"$P$4","v":"Brasilien"},{"$f":"SUMIFS($H$4:$H$9,$B$4:$B$9,$P28,$D$4:$D$9,\"<>\"&$P$31)+SUMIFS($I$4:$I$9,$B$4:$B$9,\"<>\"&$P$31,$D$4:$D$9,$P28)","v":0},{"$f":"S28-T28","v":0},{"$f":"SUMIFS($E$4:$E$9,$B$4:$B$9,$P28,$D$4:$D$9,\"<>\"&$P$31)+SUMIFS($G$4:$G$9,$B$4:$B$9,\"<>\"&$P$31,$D$4:$D$9,$P28)","v":0},{"$f":"SUMIFS($G$4:$G$9,$B$4:$B$9,$P28,$D$4:$D$9,\"<>\"&$P$31)+SUMIFS($E$4:$E$9,$B$4:$B$9,\"<>\"&$P$31,$D$4:$D$9,$P28)","v":0},null,{"$f":"Q28*FactorPts+(GDzero+R28)*FactorGD+S28*FactorFor","v":{"v":50000,"d":"50,000"}},{"$f":"RANK(V28,V$28:V$30,1)","v":1},{"$f":"IF(AND($Q$4=$Q$6,$Q$4=$Q$7,$Q$4<>$Q$5),W28,0)","v":0},{"$f":"IF(AND(V28=V29,V28<>V30),IF(AA28>AA29,3,IF(AA28=AA29,1,0)),IF(AND(V28=V30,V28<>V29),IF(AB28>AB30,3,IF(AB28=AB30,1,0)),\"\"))","v":""},{"$f":"IF(X28>0,Y28,\"\")","v":""},{"$f":"$J$18","v":0},{"$f":"$K$18","v":0},null,{"$f":"IF(AND($AF$16,$AD$4=$AD$6,$AD$4=$AD$7,$AD$4<>$AD$5),W28,0)","v":0},{"$f":"IF(AD28>0,Y28,\"\")","v":""}]
[{"$nulls":14},"2.",{"$f":"$P$6","v":"Haiti"},{"$f":"SUMIFS($H$4:$H$9,$B$4:$B$9,$P29,$D$4:$D$9,\"<>\"&$P$31)+SUMIFS($I$4:$I$9,$B$4:$B$9,\"<>\"&$P$31,$D$4:$D$9,$P29)","v":0},{"$f":"S29-T29","v":0},{"$f":"SUMIFS($E$4:$E$9,$B$4:$B$9,$P29,$D$4:$D$9,\"<>\"&$P$31)+SUMIFS($G$4:$G$9,$B$4:$B$9,\"<>\"&$P$31,$D$4:$D$9,$P29)","v":0},{"$f":"SUMIFS($G$4:$G$9,$B$4:$B$9,$P29,$D$4:$D$9,\"<>\"&$P$31)+SUMIFS($E$4:$E$9,$B$4:$B$9,\"<>\"&$P$31,$D$4:$D$9,$P29)","v":0},null,{"$f":"Q29*FactorPts+(GDzero+R29)*FactorGD+S29*FactorFor","v":{"v":50000,"d":"50,000"}},{"$f":"RANK(V29,V$28:V$30,1)","v":1},{"$f":"IF(AND($Q$4=$Q$6,$Q$4=$Q$7,$Q$4<>$Q$5),W29,0)","v":0},{"$f":"IF(AND(V29=V28,V29<>V30),IF(AA29>AA28,3,IF(AA29=AA28,1,0)),IF(AND(V29=V30,V29<>V28),IF(AC29>AC30,3,IF(AC29=AC30,1,0)),\"\"))","v":""},{"$f":"IF(X29>0,Y29,\"\")","v":""},{"$f":"$H$20","v":0},null,{"$f":"$K$20","v":0},{"$f":"IF(AND($AF$16,$AD$4=$AD$6,$AD$4=$AD$7,$AD$4<>$AD$5),W29,0)","v":0},{"$f":"IF(AD29>0,Y29,\"\")","v":""}]
[{"$nulls":14},"3.",{"$f":"$P$7","v":"Schottland"},{"$f":"SUMIFS($H$4:$H$9,$B$4:$B$9,$P30,$D$4:$D$9,\"<>\"&$P$31)+SUMIFS($I$4:$I$9,$B$4:$B$9,\"<>\"&$P$31,$D$4:$D$9,$P30)","v":0},{"$f":"S30-T30","v":0},{"$f":"SUMIFS($E$4:$E$9,$B$4:$B$9,$P30,$D$4:$D$9,\"<>\"&$P$31)+SUMIFS($G$4:$G$9,$B$4:$B$9,\"<>\"&$P$31,$D$4:$D$9,$P30)","v":0},{"$f":"SUMIFS($G$4:$G$9,$B$4:$B$9,$P30,$D$4:$D$9,\"<>\"&$P$31)+SUMIFS($E$4:$E$9,$B$4:$B$9,\"<>\"&$P$31,$D$4:$D$9,$P30)","v":0},null,{"$f":"Q30*FactorPts+(GDzero+R30)*FactorGD+S30*FactorFor","v":{"v":50000,"d":"50,000"}},1,{"$f":"IF(AND($Q$4=$Q$6,$Q$4=$Q$7,$Q$4<>$Q$5),W30,0)","v":0},{"$f":"IF(AND(V30=V28,V30<>V29),IF(AB30>AB28,3,IF(AB30=AB28,1,0)),IF(AND(V30=V29,V30<>V28),IF(AC30>AC29,3,IF(AC30=AC29,1,0)),\"\"))","v":""},"",null,{"$f":"$H$21","v":0},{"$f":"$J$21","v":0},{"$f":"IF(AND($AF$16,$AD$4=$AD$6,$AD$4=$AD$7,$AD$4<>$AD$5),W30,0)","v":0},""]
[{"$nulls":15},{"$f":"$P$5","v":"Marokko"}]
[]
[{"$nulls":14},"1.",{"$f":"$P$5","v":"Marokko"},{"$f":"SUMIFS($H$4:$H$9,$B$4:$B$9,$P33,$D$4:$D$9,\"<>\"&$P$36)+SUMIFS($I$4:$I$9,$B$4:$B$9,\"<>\"&$P$36,$D$4:$D$9,$P33)","v":0},{"$f":"S33-T33","v":0},{"$f":"SUMIFS($E$4:$E$9,$B$4:$B$9,$P33,$D$4:$D$9,\"<>\"&$P$36)+SUMIFS($G$4:$G$9,$B$4:$B$9,\"<>\"&$P$36,$D$4:$D$9,$P33)","v":0},{"$f":"SUMIFS($G$4:$G$9,$B$4:$B$9,$P33,$D$4:$D$9,\"<>\"&$P$36)+SUMIFS($E$4:$E$9,$B$4:$B$9,\"<>\"&$P$36,$D$4:$D$9,$P33)","v":0},null,{"$f":"Q33*FactorPts+(GDzero+R33)*FactorGD+S33*FactorFor","v":{"v":50000,"d":"50,000"}},{"$f":"RANK(V33,V$33:V$35,1)","v":1},{"$f":"IF(AND($Q$5=$Q$6,$Q$5=$Q$7,$Q$5<>$Q$4),W33,0)","v":0},{"$f":"IF(AND(V33=V34,V33<>V35),IF(AA33>AA34,3,IF(AA33=AA34,1,0)),IF(AND(V33=V35,V33<>V34),IF(AB33>AB35,3,IF(AB33=AB35,1,0)),\"\"))","v":""},{"$f":"IF(X33>0,Y33,\"\")","v":""},{"$f":"$J$19","v":0},{"$f":"$K$19","v":0},null,{"$f":"IF(AND($AF$16,$AD$5=$AD$6,$AD$5=$AD$7,$AD$5<>$AD$4),W33,0)","v":0},{"$f":"IF(AD33>0,Y33,\"\")","v":""}]
[{"$nulls":14},"2.",{"$f":"$P$6","v":"Haiti"},{"$f":"SUMIFS($H$4:$H$9,$B$4:$B$9,$P34,$D$4:$D$9,\"<>\"&$P$36)+SUMIFS($I$4:$I$9,$B$4:$B$9,\"<>\"&$P$36,$D$4:$D$9,$P34)","v":0},{"$f":"S34-T34","v":0},{"$f":"SUMIFS($E$4:$E$9,$B$4:$B$9,$P34,$D$4:$D$9,\"<>\"&$P$36)+SUMIFS($G$4:$G$9,$B$4:$B$9,\"<>\"&$P$36,$D$4:$D$9,$P34)","v":0},{"$f":"SUMIFS($G$4:$G$9,$B$4:$B$9,$P34,$D$4:$D$9,\"<>\"&$P$36)+SUMIFS($E$4:$E$9,$B$4:$B$9,\"<>\"&$P$36,$D$4:$D$9,$P34)","v":0},null,{"$f":"Q34*FactorPts+(GDzero+R34)*FactorGD+S34*FactorFor","v":{"v":50000,"d":"50,000"}},{"$f":"RANK(V34,V$33:V$35,1)","v":1},{"$f":"IF(AND($Q$5=$Q$6,$Q$5=$Q$7,$Q$5<>$Q$4),W34,0)","v":0},{"$f":"IF(AND(V34=V33,V34<>V35),IF(AA34>AA33,3,IF(AA34=AA33,1,0)),IF(AND(V34=V35,V34<>V33),IF(AC34>AC35,3,IF(AC34=AC35,1,0)),\"\"))","v":""},{"$f":"IF(X34>0,Y34,\"\")","v":""},{"$f":"$I$20","v":0},null,{"$f":"$K$20","v":0},{"$f":"IF(AND($AF$16,$AD$5=$AD$6,$AD$5=$AD$7,$AD$5<>$AD$4),W34,0)","v":0},{"$f":"IF(AD34>0,Y34,\"\")","v":""}]
[{"$nulls":14},"3.",{"$f":"$P$7","v":"Schottland"},{"$f":"SUMIFS($H$4:$H$9,$B$4:$B$9,$P35,$D$4:$D$9,\"<>\"&$P$36)+SUMIFS($I$4:$I$9,$B$4:$B$9,\"<>\"&$P$36,$D$4:$D$9,$P35)","v":0},{"$f":"S35-T35","v":0},{"$f":"SUMIFS($E$4:$E$9,$B$4:$B$9,$P35,$D$4:$D$9,\"<>\"&$P$36)+SUMIFS($G$4:$G$9,$B$4:$B$9,\"<>\"&$P$36,$D$4:$D$9,$P35)","v":0},{"$f":"SUMIFS($G$4:$G$9,$B$4:$B$9,$P35,$D$4:$D$9,\"<>\"&$P$36)+SUMIFS($E$4:$E$9,$B$4:$B$9,\"<>\"&$P$36,$D$4:$D$9,$P35)","v":0},null,{"$f":"Q35*FactorPts+(GDzero+R35)*FactorGD+S35*FactorFor","v":{"v":50000,"d":"50,000"}},{"$f":"RANK(V35,V$33:V$35,1)","v":1},{"$f":"IF(AND($Q$5=$Q$6,$Q$5=$Q$7,$Q$5<>$Q$4),W35,0)","v":0},{"$f":"IF(AND(V35=V33,V35<>V34),IF(AB35>AB33,3,IF(AB35=AB33,1,0)),IF(AND(V35=V34,V35<>V33),IF(AC35>AC34,3,IF(AC35=AC34,1,0)),\"\"))","v":""},"",null,{"$f":"$I$21","v":0},{"$f":"$J$21","v":0},{"$f":"IF(AND($AF$16,$AD$5=$AD$6,$AD$5=$AD$7,$AD$5<>$AD$4),W35,0)","v":0},""]
[{"$nulls":15},{"$f":"$P$4","v":"Brasilien"}]

{"sheet":"GrpD_Tipps","index":18,"n_rows":36,"n_cols":33,"rows_kept":36,"hidden":true,"merged":[[2,1,2,3],[2,4,2,6],[2,7,2,8],[2,9,2,11],[8,25,8,30],[15,6,15,11],[15,22,15,25],[15,29,15,30],[16,26,16,28],[17,4,17,6],[18,4,18,6],[19,4,19,6],[20,4,20,6]]}
[null,"Group","D","Tipps"]
[]
[null,"Match",null,null,"Score",null,null,"Points",null,"Penalty",null,null,"valid",{"$nulls":3},"Points","GD","For","Against","Wins","Coefficient","Dir. Comp. (3)","Dir. Comp. (2)","Dir. Comp. (4.3)","Dir. Comp. (4.3.2)","Dir. Comp. (4.2)","Fair play","match count > 0","Pts/GD/For","Penalty","Ranking","Played"]
[null,{"$f":"INDEX(Meine_Tipps!$B$13:$AJ$38,1,1+(CODE($C$1)-65)*3)","v":"USA"},"-",{"$f":"INDEX(Meine_Tipps!$B$13:$AJ$38,1,2+(CODE($C$1)-65)*3)","v":"Paraguay"},{"$f":"IF(OR(INDEX(Meine_Tipps!$B$14:$AJ$39,1,1+(CODE($C$1)-65)*3)=\"\",INDEX(Meine_Tipps!$B$14:$AJ$39,1,2+(CODE($C$1)-65)*3)=\"\"),\"\",INDEX(Meine_Tipps!$B$14:$AJ$39,1,1+(CODE($C$1)-65)*3))","v":""},"-",{"$f":"IF(OR(INDEX(Meine_Tipps!$B$14:$AJ$39,1,1+(CODE($C$1)-65)*3)=\"\",INDEX(Meine_Tipps!$B$14:$AJ$39,1,2+(CODE($C$1)-65)*3)=\"\"),\"\",INDEX(Meine_Tipps!$B$14:$AJ$39,1,2+(CODE($C$1)-65)*3))","v":""},{"$f":"IF($M4>0,IF($E4>$G4,3,IF($E4=$G4,1,0)),0)","v":0},{"$f":"IF($M4>0,IF($E4<$G4,3,IF($E4=$G4,1,0)),0)","v":0},{"$nulls":3},{"$f":"IF(AND($E4<>\"\",$G4<>\"\"),1,0)","v":0},null,"1.",{"$f":"VLOOKUP($C$1&ROW($A1),Groups_Tipps!$B$7:$D$65,3,0)","v":"USA"},{"$f":"SUMIF($B$4:$B$9,P4,$H$4:$H$9)+SUMIF($D$4:$D$9,P4,$I$4:$I$9)","v":0},{"$f":"S4-T4","v":0},{"$f":"SUMIF($B$4:$B$9,$P4,$E$4:$E$9)+SUMIF($D$4:$D$9,$P4,$G$4:$G$9)","v":0},{"$f":"SUMIF($B$4:$B$9,$P4,$G$4:$G$9)+SUMIF($D$4:$D$9,$P4,$E$4:$E$9)","v":0},{"$f":"COUNTIFS($B$4:$B$9,$P4,$H$4:$H$9,\"=3\")+COUNTIFS($D$4:$D$9,$P4,$I$4:$I$9,\"=3\")","v":0},{"$f":"$Q4*FactorPts+(GDzero+$R4)*FactorGD+$S4*FactorFor+$U4*FactorWins+$W4*FactorDirC3+$X4*FactorDirC2+$Y4*FactorDirC43+$Z4*FactorDirC42+$AA4*FactorDirC42+$AB4*FactorFairPlay+$AE4*FactorPenalty+(100-$AF4)*($M$10>0)*FactorRank+(8-ROW())*FactorRow","v":{"v":50000.00000004,"d":"50,000.0000000"}},{"$f":"SUMIFS($X$18:$X$35,$P$18:$P$35,$P4)","v":0},{"$f":"IF($L18=\"\",0,$L18)+SUMIFS($Z$18:$Z$35,$P$18:$P$35,$P4)","v":0},{"$f":"SUMIFS($AD$18:$AD$35,$P$18:$P$35,$P4)","v":0},{"$f":"SUMIFS($AE$18:$AE$35,$P$18:$P$35,$P4)","v":0},{"$f":"IF($M18=\"\",0,$M18)","v":0},{"$f":"SUMIFS(FairPlayPoints1,FairPlayTeams1,P4)+SUMIFS(FairPlayPoints2,FairPlayTeams2,P4)+SUMIFS(FairPlayPoints3,FairPlayTeams3,P4)","v":0},{"$f":"(Q4+T4>0)","v":false},{"$f":"$Q4*FactorPts+(GDzero+$R4)*FactorGD+$S4*FactorFor","v":{"v":50000,"d":"50,000"}},0,{"$f":"VLOOKUP(P4,Sprache_Tipps!E:F,2,0)","v":16},{"$f":"OR($Q4>0,$T4>0)","v":false}]
[null,{"$f":"INDEX(Meine_Tipps!$B$13:$AJ$38,6,1+(CODE($C$1)-65)*3)","v":"Australien"},"-",{"$f":"INDEX(Meine_Tipps!$B$13:$AJ$38,6,2+(CODE($C$1)-65)*3)","v":"Türkei"},{"$f":"IF(OR(INDEX(Meine_Tipps!$B$14:$AJ$39,6,1+(CODE($C$1)-65)*3)=\"\",INDEX(Meine_Tipps!$B$14:$AJ$39,6,2+(CODE($C$1)-65)*3)=\"\"),\"\",INDEX(Meine_Tipps!$B$14:$AJ$39,6,1+(CODE($C$1)-65)*3))","v":""},"-",{"$f":"IF(OR(INDEX(Meine_Tipps!$B$14:$AJ$39,6,1+(CODE($C$1)-65)*3)=\"\",INDEX(Meine_Tipps!$B$14:$AJ$39,6,2+(CODE($C$1)-65)*3)=\"\"),\"\",INDEX(Meine_Tipps!$B$14:$AJ$39,6,2+(CODE($C$1)-65)*3))","v":""},0,0,{"$nulls":3},0,null,"2.",{"$f":"VLOOKUP($C$1&ROW($A2),Groups_Tipps!$B$7:$D$65,3,0)","v":"Paraguay"},{"$f":"SUMIF($B$4:$B$9,P5,$H$4:$H$9)+SUMIF($D$4:$D$9,P5,$I$4:$I$9)","v":0},{"$f":"S5-T5","v":0},{"$f":"SUMIF($B$4:$B$9,$P5,$E$4:$E$9)+SUMIF($D$4:$D$9,$P5,$G$4:$G$9)","v":0},{"$f":"SUMIF($B$4:$B$9,$P5,$G$4:$G$9)+SUMIF($D$4:$D$9,$P5,$E$4:$E$9)","v":0},{"$f":"COUNTIFS($B$4:$B$9,$P5,$H$4:$H$9,\"=3\")+COUNTIFS($D$4:$D$9,$P5,$I$4:$I$9,\"=3\")","v":0},{"$f":"$Q5*FactorPts+(GDzero+$R5)*FactorGD+$S5*FactorFor+$U5*FactorWins+$W5*FactorDirC3+$X5*FactorDirC2+$Y5*FactorDirC43+$Z5*FactorDirC42+$AA5*FactorDirC42+$AB5*FactorFairPlay+$AE5*FactorPenalty+(100-$AF5)*($M$10>0)*FactorRank+(8-ROW())*FactorRow","v":{"v":50000.00000003,"d":"50,000.0000000"}},{"$f":"SUMIFS($X$18:$X$35,$P$18:$P$35,$P5)","v":0},{"$f":"IF($L19=\"\",0,$L19)+SUMIFS($Z$18:$Z$35,$P$18:$P$35,$P5)","v":0},{"$f":"SUMIFS($AD$18:$AD$35,$P$18:$P$35,$P5)","v":0},{"$f":"SUMIFS($AE$18:$AE$35,$P$18:$P$35,$P5)","v":0},{"$f":"IF($M19=\"\",0,$M19)","v":0},{"$f":"SUMIFS(FairPlayPoints1,FairPlayTeams1,P5)+SUMIFS(FairPlayPoints2,FairPlayTeams2,P5)+SUMIFS(FairPlayPoints3,FairPlayTeams3,P5)","v":0},{"$f":"(Q5+T5>0)","v":false},{"$f":"$Q5*FactorPts+(GDzero+$R5)*FactorGD+$S5*FactorFor","v":{"v":50000,"d":"50,000"}},0,{"$f":"VLOOKUP(P5,Sprache_Tipps!E:F,2,0)","v":40},{"$f":"OR($Q5>0,$T5>0)","v":false}]
[null,{"$f":"INDEX(Meine_Tipps!$B$13:$AJ$38,11,1+(CODE($C$1)-65)*3)","v":"Türkei"},"-",{"$f":"INDEX(Meine_Tipps!$B$13:$AJ$38,11,2+(CODE($C$1)-65)*3)","v":"Paraguay"},{"$f":"IF(OR(INDEX(Meine_Tipps!$B$14:$AJ$39,11,1+(CODE($C$1)-65)*3)=\"\",INDEX(Meine_Tipps!$B$14:$AJ$39,11,2+(CODE($C$1)-65)*3)=\"\"),\"\",INDEX(Meine_Tipps!$B$14:$AJ$39,11,1+(CODE($C$1)-65)*3))","v":""},"-",{"$f":"IF(OR(INDEX(Meine_Tipps!$B$14:$AJ$39,11,1+(CODE($C$1)-65)*3)=\"\",INDEX(Meine_Tipps!$B$14:$AJ$39,11,2+(CODE($C$1)-65)*3)=\"\"),\"\",INDEX(Meine_Tipps!$B$14:$AJ$39,11,2+(CODE($C$1)-65)*3))","v":""},0,0,{"$nulls":3},0,null,"3.",{"$f":"VLOOKUP($C$1&ROW($A3),Groups_Tipps!$B$7:$D$65,3,0)","v":"Australien"},0,{"$f":"S6-T6","v":0},{"$f":"SUMIF($B$4:$B$9,$P6,$E$4:$E$9)+SUMIF($D$4:$D$9,$P6,$G$4:$G$9)","v":0},{"$f":"SUMIF($B$4:$B$9,$P6,$G$4:$G$9)+SUMIF($D$4:$D$9,$P6,$E$4:$E$9)","v":0},{"$f":"COUNTIFS($B$4:$B$9,$P6,$H$4:$H$9,\"=3\")+COUNTIFS($D$4:$D$9,$P6,$I$4:$I$9,\"=3\")","v":0},{"$f":"$Q6*FactorPts+(GDzero+$R6)*FactorGD+$S6*FactorFor+$U6*FactorWins+$W6*FactorDirC3+$X6*FactorDirC2+$Y6*FactorDirC43+$Z6*FactorDirC42+$AA6*FactorDirC42+$AB6*FactorFairPlay+$AE6*FactorPenalty+(100-$AF6)*($M$10>0)*FactorRank+(8-ROW())*FactorRow","v":{"v":50000.00000002,"d":"50,000.0000000"}},0,{"$f":"IF($L20=\"\",0,$L20)+SUMIFS($Z$18:$Z$35,$P$18:$P$35,$P6)","v":0},0,0,{"$f":"IF($M20=\"\",0,$M20)","v":0},{"$f":"SUMIFS(FairPlayPoints1,FairPlayTeams1,P6)+SUMIFS(FairPlayPoints2,FairPlayTeams2,P6)+SUMIFS(FairPlayPoints3,FairPlayTeams3,P6)","v":0},{"$f":"(Q6+T6>0)","v":false},{"$f":"$Q6*FactorPts+(GDzero+$R6)*FactorGD+$S6*FactorFor","v":{"v":50000,"d":"50,000"}},0,{"$f":"VLOOKUP(P6,Sprache_Tipps!E:F,2,0)","v":27},false]
[null,{"$f":"INDEX(Meine_Tipps!$B$13:$AJ$38,16,1+(CODE($C$1)-65)*3)","v":"USA"},"-",{"$f":"INDEX(Meine_Tipps!$B$13:$AJ$38,16,2+(CODE($C$1)-65)*3)","v":"Australien"},{"$f":"IF(OR(INDEX(Meine_Tipps!$B$14:$AJ$39,16,1+(CODE($C$1)-65)*3)=\"\",INDEX(Meine_Tipps!$B$14:$AJ$39,16,2+(CODE($C$1)-65)*3)=\"\"),\"\",INDEX(Meine_Tipps!$B$14:$AJ$39,16,1+(CODE($C$1)-65)*3))","v":""},"-",{"$f":"IF(OR(INDEX(Meine_Tipps!$B$14:$AJ$39,16,1+(CODE($C$1)-65)*3)=\"\",INDEX(Meine_Tipps!$B$14:$AJ$39,16,2+(CODE($C$1)-65)*3)=\"\"),\"\",INDEX(Meine_Tipps!$B$14:$AJ$39,16,2+(CODE($C$1)-65)*3))","v":""},0,0,{"$nulls":3},0,null,"4.",{"$f":"VLOOKUP($C$1&ROW($A4),Groups_Tipps!$B$7:$D$65,3,0)","v":"Türkei"},0,{"$f":"S7-T7","v":0},{"$f":"SUMIF($B$4:$B$9,$P7,$E$4:$E$9)+SUMIF($D$4:$D$9,$P7,$G$4:$G$9)","v":0},{"$f":"SUMIF($B$4:$B$9,$P7,$G$4:$G$9)+SUMIF($D$4:$D$9,$P7,$E$4:$E$9)","v":0},{"$f":"COUNTIFS($B$4:$B$9,$P7,$H$4:$H$9,\"=3\")+COUNTIFS($D$4:$D$9,$P7,$I$4:$I$9,\"=3\")","v":0},{"$f":"$Q7*FactorPts+(GDzero+$R7)*FactorGD+$S7*FactorFor+$U7*FactorWins+$W7*FactorDirC3+$X7*FactorDirC2+$Y7*FactorDirC43+$Z7*FactorDirC42+$AA7*FactorDirC42+$AB7*FactorFairPlay+$AE7*FactorPenalty+(100-$AF7)*($M$10>0)*FactorRank+(8-ROW())*FactorRow","v":{"v":50000.00000001,"d":"50,000.0000000"}},0,{"$f":"IF($L21=\"\",0,$L21)+SUMIFS($Z$18:$Z$35,$P$18:$P$35,$P7)","v":0},0,0,{"$f":"IF($M21=\"\",0,$M21)","v":0},{"$f":"SUMIFS(FairPlayPoints1,FairPlayTeams1,P7)+SUMIFS(FairPlayPoints2,FairPlayTeams2,P7)+SUMIFS(FairPlayPoints3,FairPlayTeams3,P7)","v":0},{"$f":"(Q7+T7>0)","v":false},{"$f":"$Q7*FactorPts+(GDzero+$R7)*FactorGD+$S7*FactorFor","v":{"v":50000,"d":"50,000"}},0,{"$f":"VLOOKUP(P7,Sprache_Tipps!E:F,2,0)","v":22},false]
[null,{"$f":"INDEX(Meine_Tipps!$B$13:$AJ$38,21,1+(CODE($C$1)-65)*3)","v":"Türkei"},"-",{"$f":"INDEX(Meine_Tipps!$B$13:$AJ$38,21,2+(CODE($C$1)-65)*3)","v":"USA"},{"$f":"IF(OR(INDEX(Meine_Tipps!$B$14:$AJ$39,21,1+(CODE($C$1)-65)*3)=\"\",INDEX(Meine_Tipps!$B$14:$AJ$39,21,2+(CODE($C$1)-65)*3)=\"\"),\"\",INDEX(Meine_Tipps!$B$14:$AJ$39,21,1+(CODE($C$1)-65)*3))","v":""},"-",{"$f":"IF(OR(INDEX(Meine_Tipps!$B$14:$AJ$39,21,1+(CODE($C$1)-65)*3)=\"\",INDEX(Meine_Tipps!$B$14:$AJ$39,21,2+(CODE($C$1)-65)*3)=\"\"),\"\",INDEX(Meine_Tipps!$B$14:$AJ$39,21,2+(CODE($C$1)-65)*3))","v":""},0,0,{"$nulls":3},0]
[null,{"$f":"INDEX(Meine_Tipps!$B$13:$AJ$38,26,1+(CODE($C$1)-65)*3)","v":"Paraguay"},"-",{"$f":"INDEX(Meine_Tipps!$B$13:$AJ$38,26,2+(CODE($C$1)-65)*3)","v":"Australien"},{"$f":"IF(OR(INDEX(Meine_Tipps!$B$14:$AJ$39,26,1+(CODE($C$1)-65)*3)=\"\",INDEX(Meine_Tipps!$B$14:$AJ$39,26,2+(CODE($C$1)-65)*3)=\"\"),\"\",INDEX(Meine_Tipps!$B$14:$AJ$39,26,1+(CODE($C$1)-65)*3))","v":""},"-",{"$f":"IF(OR(INDEX(Meine_Tipps!$B$14:$AJ$39,26,1+(CODE($C$1)-65)*3)=\"\",INDEX(Meine_Tipps!$B$14:$AJ$39,26,2+(CODE($C$1)-65)*3)=\"\"),\"\",INDEX(Meine_Tipps!$B$14:$AJ$39,26,2+(CODE($C$1)-65)*3))","v":""},0,0,{"$nulls":3},0,{"$nulls":12},"For showing direct comparisons of 2 on sheet \"Direct comparisons\""]
[{"$nulls":11},"Sum:",{"$f":"SUM($M$4:$M$9)","v":0},null,null,"Sorted list","Points","GD","For","Against","wins","Coefficient","Played","Red dot","Penalty (?)","DC(2) ?","DC(4.2) ?","DC(3.2) ?","DC(4.3.2) ?","All Dir.C. (2)","Penalty"]
[{"$nulls":14},"1.",{"$f":"INDEX(P$4:P$7,MATCH($V11,$V$4:$V$7,0))","v":"USA"},0,0,0,0,0,{"$f":"LARGE($V$4:$V$7,ROW(A1))","v":{"v":50000.00000004,"d":"50,000.0000000"}},{"$f":"OR($Q11>0,$T11>0)","v":false},{"$f":"IF(AND(OR(TRUNC($V$11,4)=TRUNC($V$12,4),TRUNC($V$11,4)=TRUNC($V$13,4),TRUNC($V$11,4)=TRUNC($V$14,4),TRUNC($V$12,4)=TRUNC($V$13,4),TRUNC($V$12,4)=TRUNC($V$14,4),TRUNC($V$13,4)=TRUNC($V$14,4)),$M$10>0),1,0)","v":0},{"$f":"IF(AND(VLOOKUP($B$8,$P$4:$AD$7,15,0)=VLOOKUP($D$8,$P$4:$AD$7,15,0),$E$8=$G$8,COUNTIF($Q$4:$Q$7,VLOOKUP($B$8,$P$4:$Q$7,2,0))=2,$M$10=6),1,0)","v":0},{"$f":"VLOOKUP($P11,$E$18:$M$21,8,0)<>\"\"","v":false},{"$f":"VLOOKUP($P11,$E$18:$M$21,9,0)<>\"\"","v":false},{"$f":"SUMPRODUCT(1*(LEN($Z$18:$Z$35)>0)*($P$18:$P$35=$P11))>0","v":false},{"$f":"SUMPRODUCT(1*(LEN($AE$18:$AE$35)>0)*($P$18:$P$35=$P11))>0","v":false},{"$f":"IF($Z11,VLOOKUP($P11,$E$18:$M$21,8,0),IF($AA11,VLOOKUP($P11,$E$18:$M$21,9,0),IF($AB11,SUMIFS($Z$18:$Z$35,$P$18:$P$35,$P11),IF($AC11,SUMIFS($AE$18:$AE$35,$P$18:$P$35,$P11),\"\"))))","v":""},{"$f":"IF(OR(AND($Y$11>0,OR($B$8=$P11,$D$8=$P11)),AND($Y$12>0,OR($B$9=$P11,$D$9=$P11))),SUMIF($B$8:$B$9,$P11,$J$8:$J$9)+SUMIF($D$8:$D$9,$P11,$L$8:$L$9),\"\")","v":""}]
[{"$nulls":14},"2.","Paraguay",0,0,0,0,0,{"$f":"LARGE($V$4:$V$7,ROW(A2))","v":{"v":50000.00000003,"d":"50,000.0000000"}},{"$f":"OR($Q12>0,$T12>0)","v":false},null,{"$f":"IF(AND(VLOOKUP($B$9,$P$4:$AD$7,15,0)=VLOOKUP($D$9,$P$4:$AD$7,15,0),$E$9=$G$9,COUNTIF($Q$4:$Q$7,VLOOKUP($B$9,$P$4:$Q$7,2,0))=2,$M$10=6),1,0)","v":0},{"$f":"VLOOKUP($P12,$E$18:$M$21,8,0)<>\"\"","v":false},{"$f":"VLOOKUP($P12,$E$18:$M$21,9,0)<>\"\"","v":false},{"$f":"SUMPRODUCT(1*(LEN($Z$18:$Z$35)>0)*($P$18:$P$35=$P12))>0","v":false},{"$f":"SUMPRODUCT(1*(LEN($AE$18:$AE$35)>0)*($P$18:$P$35=$P12))>0","v":false},{"$f":"IF($Z12,VLOOKUP($P12,$E$18:$M$21,8,0),IF($AA12,VLOOKUP($P12,$E$18:$M$21,9,0),IF($AB12,SUMIFS($Z$18:$Z$35,$P$18:$P$35,$P12),IF($AC12,SUMIFS($AE$18:$AE$35,$P$18:$P$35,$P12),\"\"))))","v":""},{"$f":"IF(OR(AND($Y$11>0,OR($B$8=$P12,$D$8=$P12)),AND($Y$12>0,OR($B$9=$P12,$D$9=$P12))),SUMIF($B$8:$B$9,$P12,$J$8:$J$9)+SUMIF($D$8:$D$9,$P12,$L$8:$L$9),\"\")","v":""}]
[{"$nulls":14},"3.","Australien",0,0,0,0,0,{"$f":"LARGE($V$4:$V$7,ROW(A3))","v":{"v":50000.00000002,"d":"50,000.0000000"}},false,null,null,{"$f":"VLOOKUP($P13,$E$18:$M$21,8,0)<>\"\"","v":false},{"$f":"VLOOKUP($P13,$E$18:$M$21,9,0)<>\"\"","v":false},false,false,{"$f":"IF($Z13,VLOOKUP($P13,$E$18:$M$21,8,0),IF($AA13,VLOOKUP($P13,$E$18:$M$21,9,0),IF($AB13,SUMIFS($Z$18:$Z$35,$P$18:$P$35,$P13),IF($AC13,SUMIFS($AE$18:$AE$35,$P$18:$P$35,$P13),\"\"))))","v":""},{"$f":"IF(OR(AND($Y$11>0,OR($B$8=$P13,$D$8=$P13)),AND($Y$12>0,OR($B$9=$P13,$D$9=$P13))),SUMIF($B$8:$B$9,$P13,$J$8:$J$9)+SUMIF($D$8:$D$9,$P13,$L$8:$L$9),\"\")","v":""}]
[{"$nulls":14},"4.","Türkei",0,0,0,0,0,{"$f":"LARGE($V$4:$V$7,ROW(A4))","v":{"v":50000.00000001,"d":"50,000.0000000"}},false,null,null,{"$f":"VLOOKUP($P14,$E$18:$M$21,8,0)<>\"\"","v":false},{"$f":"VLOOKUP($P14,$E$18:$M$21,9,0)<>\"\"","v":false},false,false,{"$f":"IF($Z14,VLOOKUP($P14,$E$18:$M$21,8,0),IF($AA14,VLOOKUP($P14,$E$18:$M$21,9,0),IF($AB14,SUMIFS($Z$18:$Z$35,$P$18:$P$35,$P14),IF($AC14,SUMIFS($AE$18:$AE$35,$P$18:$P$35,$P14),\"\"))))","v":""},{"$f":"IF(OR(AND($Y$11>0,OR($B$8=$P14,$D$8=$P14)),AND($Y$12>0,OR($B$9=$P14,$D$9=$P14))),SUMIF($B$8:$B$9,$P14,$J$8:$J$9)+SUMIF($D$8:$D$9,$P14,$L$8:$L$9),\"\")","v":""}]
[]
[{"$nulls":6},"Direct Comparison of 2",{"$nulls":15},"Direct Comparison of 3",{"$nulls":6},"Direct Comparison of 4",null,{"$f":"AND($Q$4=$Q$5,$Q$4=$Q$6,$Q$4=$Q$7)","v":true}]
[{"$nulls":7},{"$f":"LEFT($P$4,3)","v":"USA"},{"$f":"LEFT($P$5,3)","v":"Par"},{"$f":"LEFT($P$6,3)","v":"Aus"},{"$f":"LEFT($P$7,3)","v":"Tür"},"DC(2)","DC(4.2)",{"$nulls":3},"Points","GD","For","Against",null,"Pts/GD/For","Rank Col. V","DC(3)","DC(3.2)","DC(3.2)","Results of direct encounters",null,null,"DC(4.3)","DC(4.3.2)"]
[{"$nulls":4},{"$f":"$P$4","v":"USA"},{"$nulls":3},{"$f":"SUMIFS($E$4:$E$9,$B$4:$B$9,$P$4,$D$4:$D$9,$P$5)+SUMIFS($G$4:$G$9,$B$4:$B$9,$P$5,$D$4:$D$9,$P$4)","v":0},{"$f":"SUMIFS($E$4:$E$9,$B$4:$B$9,$P$4,$D$4:$D$9,$P$6)+SUMIFS($G$4:$G$9,$B$4:$B$9,$P$6,$D$4:$D$9,$P$4)","v":0},{"$f":"SUMIFS($E$4:$E$9,$B$4:$B$9,$P$4,$D$4:$D$9,$P$7)+SUMIFS($G$4:$G$9,$B$4:$B$9,$P$7,$D$4:$D$9,$P$4)","v":0},{"$f":"IF(AND($Q$4=$Q$5,$Q$4<>$Q$6,$Q$4<>$Q$7),IF(I18>H19,3,IF(I18=H19,1,0)),IF(AND($Q$4=$Q$6,$Q$4<>$Q$5,$Q$4<>$Q$7),IF(J18>H20,3,IF(J18=H20,1,0)),IF(AND($Q$4=$Q$7,$Q$4<>$Q$5,$Q$4<>$Q$6),IF(K18>H21,3,IF(K18=H21,1,0)),\"\")))","v":""},{"$f":"IF($AF$16,IF(AND($AD$4=$AD$5,$AD$4<>$AD$6,$AD$4<>$AD$7),IF(I18>H19,3,IF(I18=H19,1,0)),IF(AND($AD$4<>$AD$5,$AD$4=$AD$6,$AD$4<>$AD$7),IF(J18>H20,3,IF(J18=H20,1,0)),IF(AND($AD$4<>$AD$5,$AD$4<>$AD$6,$AD$4=$AD$7),IF(K18>H21,3,IF(K18=H21,1,0)),\"\"))),\"\")","v":""},null,"1.",{"$f":"$P$4","v":"USA"},{"$f":"SUMIFS($H$4:$H$9,$B$4:$B$9,$P18,$D$4:$D$9,\"<>\"&$P$21)+SUMIFS($I$4:$I$9,$B$4:$B$9,\"<>\"&$P$21,$D$4:$D$9,$P18)","v":0},{"$f":"S18-T18","v":0},{"$f":"SUMIFS($E$4:$E$9,$B$4:$B$9,$P18,$D$4:$D$9,\"<>\"&$P$21)+SUMIFS($G$4:$G$9,$B$4:$B$9,\"<>\"&$P$21,$D$4:$D$9,$P18)","v":0},{"$f":"SUMIFS($G$4:$G$9,$B$4:$B$9,$P18,$D$4:$D$9,\"<>\"&$P$21)+SUMIFS($E$4:$E$9,$B$4:$B$9,\"<>\"&$P$21,$D$4:$D$9,$P18)","v":0},null,{"$f":"Q18*FactorPts+(GDzero+R18)*FactorGD+S18*FactorFor","v":{"v":50000,"d":"50,000"}},{"$f":"RANK(V18,V$18:V$20,1)","v":1},{"$f":"IF(AND($Q$4=$Q$5,$Q$4=$Q$6,$Q$4<>$Q$7),W18,0)","v":0},{"$f":"IF(AND(V18=V19,V18<>V20),IF(AA18>AA19,3,IF(AA18=AA19,1,0)),IF(AND(V18=V20,V18<>V19),IF(AB18>AB20,3,IF(AB18=AB20,1,0)),\"\"))","v":""},{"$f":"IF(X18>0,Y18,\"\")","v":""},{"$f":"$I$18","v":0},{"$f":"$J$18","v":0},null,{"$f":"IF(AND($AF$16,$AD$4=$AD$5,$AD$4=$AD$6,$AD$4<>$AD$7),W18,0)","v":0},{"$f":"IF(AD18>0,Y18,\"\")","v":""}]
[{"$nulls":4},{"$f":"$P$5","v":"Paraguay"},null,null,{"$f":"SUMIFS($E$4:$E$9,$B$4:$B$9,$P$5,$D$4:$D$9,$P$4)+SUMIFS($G$4:$G$9,$B$4:$B$9,$P$4,$D$4:$D$9,$P$5)","v":0},null,{"$f":"SUMIFS($E$4:$E$9,$B$4:$B$9,$P$5,$D$4:$D$9,$P$6)+SUMIFS($G$4:$G$9,$B$4:$B$9,$P$6,$D$4:$D$9,$P$5)","v":0},{"$f":"SUMIFS($E$4:$E$9,$B$4:$B$9,$P$5,$D$4:$D$9,$P$7)+SUMIFS($G$4:$G$9,$B$4:$B$9,$P$7,$D$4:$D$9,$P$5)","v":0},{"$f":"IF(AND($Q$5=$Q$4,$Q$5<>$Q$6,$Q$5<>$Q$7),IF(H19>I18,3,IF(H19=I18,1,0)),IF(AND($Q$5=$Q$6,$Q$5<>$Q$4,$Q$5<>$Q$7),IF(J19>I20,3,IF(J19=I20,1,0)),IF(AND($Q$5=$Q$7,$Q$5<>$Q$4,$Q$5<>$Q$6),IF(K19>I21,3,IF(K19=I21,1,0)),\"\")))","v":""},{"$f":"IF($AF$16,IF(AND($AD$5=$AD$4,$AD$5<>$AD$6,$AD$5<>$AD$7),IF(H19>I18,3,IF(H19=I18,1,0)),IF(AND($AD$5<>$AD$4,$AD$5=$AD$6,$AD$5<>$AD$7),IF(J19>I20,3,IF(J19=I20,1,0)),IF(AND($AD$5<>$AD$4,$AD$5<>$AD$6,$AD$5=$AD$7),IF(K19>I21,3,IF(K19=I21,1,0)),\"\"))),\"\")","v":""},null,"2.",{"$f":"$P$5","v":"Paraguay"},{"$f":"SUMIFS($H$4:$H$9,$B$4:$B$9,$P19,$D$4:$D$9,\"<>\"&$P$21)+SUMIFS($I$4:$I$9,$B$4:$B$9,\"<>\"&$P$21,$D$4:$D$9,$P19)","v":0},{"$f":"S19-T19","v":0},{"$f":"SUMIFS($E$4:$E$9,$B$4:$B$9,$P19,$D$4:$D$9,\"<>\"&$P$21)+SUMIFS($G$4:$G$9,$B$4:$B$9,\"<>\"&$P$21,$D$4:$D$9,$P19)","v":0},{"$f":"SUMIFS($G$4:$G$9,$B$4:$B$9,$P19,$D$4:$D$9,\"<>\"&$P$21)+SUMIFS($E$4:$E$9,$B$4:$B$9,\"<>\"&$P$21,$D$4:$D$9,$P19)","v":0},null,{"$f":"Q19*FactorPts+(GDzero+R19)*FactorGD+S19*FactorFor","v":{"v":50000,"d":"50,000"}},{"$f":"RANK(V19,V$18:V$20,1)","v":1},{"$f":"IF(AND($Q$4=$Q$5,$Q$4=$Q$6,$Q$4<>$Q$7),W19,0)","v":0},{"$f":"IF(AND(V19=V18,V19<>V20),IF(AA19>AA18,3,IF(AA19=AA18,1,0)),IF(AND(V19=V20,V19<>V18),IF(AC19>AC20,3,IF(AC19=AC20,1,0)),\"\"))","v":""},{"$f":"IF(X19>0,Y19,\"\")","v":""},{"$f":"$H$19","v":0},null,{"$f":"$J$19","v":0},{"$f":"IF(AND($AF$16,$AD$4=$AD$5,$AD$4=$AD$6,$AD$4<>$AD$7),W19,0)","v":0},{"$f":"IF(AD19>0,Y19,\"\")","v":""}]
[{"$nulls":4},{"$f":"$P$6","v":"Australien"},null,null,{"$f":"SUMIFS($E$4:$E$9,$B$4:$B$9,$P$6,$D$4:$D$9,$P$4)+SUMIFS($G$4:$G$9,$B$4:$B$9,$P$4,$D$4:$D$9,$P$6)","v":0},{"$f":"SUMIFS($E$4:$E$9,$B$4:$B$9,$P$6,$D$4:$D$9,$P$5)+SUMIFS($G$4:$G$9,$B$4:$B$9,$P$5,$D$4:$D$9,$P$6)","v":0},null,{"$f":"SUMIFS($E$4:$E$9,$B$4:$B$9,$P$6,$D$4:$D$9,$P$7)+SUMIFS($G$4:$G$9,$B$4:$B$9,$P$7,$D$4:$D$9,$P$6)","v":0},{"$f":"IF(AND($Q$6=$Q$4,$Q$6<>$Q$5,$Q$6<>$Q$7),IF(H20>J18,3,IF(H20=J18,1,0)),IF(AND($Q$6=$Q$5,$Q$6<>$Q$4,$Q$6<>$Q$7),IF(I20>J19,3,IF(I20=J19,1,0)),IF(AND($Q$6=$Q$7,$Q$6<>$Q$4,$Q$6<>$Q$5),IF(K20>J21,3,IF(K20=J21,1,0)),\"\")))","v":""},{"$f":"IF($AF$16,IF(AND($AD$6=$AD$4,$AD$6<>$AD$5,$AD$6<>$AD$7),IF(H20>J18,3,IF(H20=J18,1,0)),IF(AND($AD$6<>$AD$4,$AD$6=$AD$5,$AD$6<>$AD$7),IF(I20>J19,3,IF(I20=J19,1,0)),IF(AND($AD$6<>$AD$4,$AD$6<>$AD$5,$AD$6=$AD$7),IF(K20>J21,3,IF(K20=J21,1,0)),\"\"))),\"\")","v":""},null,"3.",{"$f":"$P$6","v":"Australien"},{"$f":"SUMIFS($H$4:$H$9,$B$4:$B$9,$P20,$D$4:$D$9,\"<>\"&$P$21)+SUMIFS($I$4:$I$9,$B$4:$B$9,\"<>\"&$P$21,$D$4:$D$9,$P20)","v":0},{"$f":"S20-T20","v":0},{"$f":"SUMIFS($E$4:$E$9,$B$4:$B$9,$P20,$D$4:$D$9,\"<>\"&$P$21)+SUMIFS($G$4:$G$9,$B$4:$B$9,\"<>\"&$P$21,$D$4:$D$9,$P20)","v":0},{"$f":"SUMIFS($G$4:$G$9,$B$4:$B$9,$P20,$D$4:$D$9,\"<>\"&$P$21)+SUMIFS($E$4:$E$9,$B$4:$B$9,\"<>\"&$P$21,$D$4:$D$9,$P20)","v":0},null,{"$f":"Q20*FactorPts+(GDzero+R20)*FactorGD+S20*FactorFor","v":{"v":50000,"d":"50,000"}},{"$f":"RANK(V20,V$18:V$20,1)","v":1},{"$f":"IF(AND($Q$4=$Q$5,$Q$4=$Q$6,$Q$4<>$Q$7),W20,0)","v":0},{"$f":"IF(AND(V20=V18,V20<>V19),IF(AB20>AB18,3,IF(AB20=AB18,1,0)),IF(AND(V20=V19,V20<>V18),IF(AC20>AC19,3,IF(AC20=AC19,1,0)),\"\"))","v":""},"",null,{"$f":"$H$20","v":0},{"$f":"$I$20","v":0},{"$f":"IF(AND($AF$16,$AD$4=$AD$5,$AD$4=$AD$6,$AD$4<>$AD$7),W20,0)","v":0},""]
[{"$nulls":4},{"$f":"$P$7","v":"Türkei"},null,null,{"$f":"SUMIFS($E$4:$E$9,$B$4:$B$9,$P$7,$D$4:$D$9,$P$4)+SUMIFS($G$4:$G$9,$B$4:$B$9,$P$4,$D$4:$D$9,$P$7)","v":0},{"$f":"SUMIFS($E$4:$E$9,$B$4:$B$9,$P$7,$D$4:$D$9,$P$5)+SUMIFS($G$4:$G$9,$B$4:$B$9,$P$5,$D$4:$D$9,$P$7)","v":0},{"$f":"SUMIFS($E$4:$E$9,$B$4:$B$9,$P$7,$D$4:$D$9,$P$6)+SUMIFS($G$4:$G$9,$B$4:$B$9,$P$6,$D$4:$D$9,$P$7)","v":0},null,{"$f":"IF(AND($Q$7=$Q$4,$Q$7<>$Q$5,$Q$7<>$Q$6),IF(H21>K18,3,IF(H21=K18,1,0)),IF(AND($Q$7=$Q$5,$Q$7<>$Q$4,$Q$7<>$Q$6),IF(I21>K19,3,IF(I21=K19,1,0)),IF(AND($Q$7=$Q$6,$Q$7<>$Q$4,$Q$7<>$Q$5),IF(J21>K20,3,IF(J21=K20,1,0)),\"\")))","v":""},{"$f":"IF($AF$16,IF(AND($AD$7=$AD$4,$AD$7<>$AD$5,$AD$7<>$AD$6),IF(H21>K18,3,IF(H21=K18,1,0)),IF(AND($AD$7<>$AD$4,$AD$7=$AD$5,$AD$7<>$AD$6),IF(I21>K19,3,IF(I21=K19,1,0)),IF(AND($AD$7<>$AD$4,$AD$7<>$AD$5,$AD$7=$AD$6),IF(J21>K20,3,IF(J21=K20,1,0)),\"\"))),\"\")","v":""},null,null,{"$f":"$P$7","v":"Türkei"}]
[]
[{"$nulls":14},"1.",{"$f":"$P$4","v":"USA"},{"$f":"SUMIFS($H$4:$H$9,$B$4:$B$9,$P23,$D$4:$D$9,\"<>\"&$P$26)+SUMIFS($I$4:$I$9,$B$4:$B$9,\"<>\"&$P$26,$D$4:$D$9,$P23)","v":0},{"$f":"S23-T23","v":0},{"$f":"SUMIFS($E$4:$E$9,$B$4:$B$9,$P23,$D$4:$D$9,\"<>\"&$P$26)+SUMIFS($G$4:$G$9,$B$4:$B$9,\"<>\"&$P$26,$D$4:$D$9,$P23)","v":0},{"$f":"SUMIFS($G$4:$G$9,$B$4:$B$9,$P23,$D$4:$D$9,\"<>\"&$P$26)+SUMIFS($E$4:$E$9,$B$4:$B$9,\"<>\"&$P$26,$D$4:$D$9,$P23)","v":0},null,{"$f":"Q23*FactorPts+(GDzero+R23)*FactorGD+S23*FactorFor","v":{"v":50000,"d":"50,000"}},{"$f":"RANK(V23,V$23:V$25,1)","v":1},{"$f":"IF(AND($Q$4=$Q$5,$Q$4=$Q$7,$Q$4<>$Q$6),W23,0)","v":0},{"$f":"IF(AND(V23=V24,V23<>V25),IF(AA23>AA24,3,IF(AA23=AA24,1,0)),IF(AND(V23=V25,V23<>V24),IF(AB23>AB25,3,IF(AB23=AB25,1,0)),\"\"))","v":""},{"$f":"IF(X23>0,Y23,\"\")","v":""},{"$f":"$I$18","v":0},{"$f":"$K$18","v":0},null,{"$f":"IF(AND($AF$16,$AD$4=$AD$5,$AD$4=$AD$7,$AD$4<>$AD$6),W23,0)","v":0},{"$f":"IF(AD23>0,Y23,\"\")","v":""}]
[{"$nulls":14},"2.",{"$f":"$P$5","v":"Paraguay"},{"$f":"SUMIFS($H$4:$H$9,$B$4:$B$9,$P24,$D$4:$D$9,\"<>\"&$P$26)+SUMIFS($I$4:$I$9,$B$4:$B$9,\"<>\"&$P$26,$D$4:$D$9,$P24)","v":0},{"$f":"S24-T24","v":0},{"$f":"SUMIFS($E$4:$E$9,$B$4:$B$9,$P24,$D$4:$D$9,\"<>\"&$P$26)+SUMIFS($G$4:$G$9,$B$4:$B$9,\"<>\"&$P$26,$D$4:$D$9,$P24)","v":0},{"$f":"SUMIFS($G$4:$G$9,$B$4:$B$9,$P24,$D$4:$D$9,\"<>\"&$P$26)+SUMIFS($E$4:$E$9,$B$4:$B$9,\"<>\"&$P$26,$D$4:$D$9,$P24)","v":0},null,{"$f":"Q24*FactorPts+(GDzero+R24)*FactorGD+S24*FactorFor","v":{"v":50000,"d":"50,000"}},{"$f":"RANK(V24,V$23:V$25,1)","v":1},{"$f":"IF(AND($Q$4=$Q$5,$Q$4=$Q$7,$Q$4<>$Q$6),W24,0)","v":0},{"$f":"IF(AND(V24=V23,V24<>V25),IF(AA24>AA23,3,IF(AA24=AA23,1,0)),IF(AND(V24=V25,V24<>V23),IF(AC24>AC25,3,IF(AC24=AC25,1,0)),\"\"))","v":""},{"$f":"IF(X24>0,Y24,\"\")","v":""},{"$f":"$H$19","v":0},null,{"$f":"$K$19","v":0},{"$f":"IF(AND($AF$16,$AD$4=$AD$5,$AD$4=$AD$7,$AD$4<>$AD$6),W24,0)","v":0},{"$f":"IF(AD24>0,Y24,\"\")","v":""}]
[{"$nulls":14},"3.",{"$f":"$P$7","v":"Türkei"},{"$f":"SUMIFS($H$4:$H$9,$B$4:$B$9,$P25,$D$4:$D$9,\"<>\"&$P$26)+SUMIFS($I$4:$I$9,$B$4:$B$9,\"<>\"&$P$26,$D$4:$D$9,$P25)","v":0},{"$f":"S25-T25","v":0},{"$f":"SUMIFS($E$4:$E$9,$B$4:$B$9,$P25,$D$4:$D$9,\"<>\"&$P$26)+SUMIFS($G$4:$G$9,$B$4:$B$9,\"<>\"&$P$26,$D$4:$D$9,$P25)","v":0},{"$f":"SUMIFS($G$4:$G$9,$B$4:$B$9,$P25,$D$4:$D$9,\"<>\"&$P$26)+SUMIFS($E$4:$E$9,$B$4:$B$9,\"<>\"&$P$26,$D$4:$D$9,$P25)","v":0},null,{"$f":"Q25*FactorPts+(GDzero+R25)*FactorGD+S25*FactorFor","v":{"v":50000,"d":"50,000"}},{"$f":"RANK(V25,V$23:V$25,1)","v":1},{"$f":"IF(AND($Q$4=$Q$5,$Q$4=$Q$7,$Q$4<>$Q$6),W25,0)","v":0},{"$f":"IF(AND(V25=V23,V25<>V24),IF(AB25>AB23,3,IF(AB25=AB23,1,0)),IF(AND(V25=V24,V25<>V23),IF(AC25>AC24,3,IF(AC25=AC24,1,0)),\"\"))","v":""},"",null,{"$f":"$H$21","v":0},{"$f":"$I$21","v":0},{"$f":"IF(AND($AF$16,$AD$4=$AD$5,$AD$4=$AD$7,$AD$4<>$AD$6),W25,0)","v":0},""]
[{"$nulls":15},{"$f":"$P$6","v":"Australien"}]
[]
[{"$nulls":14},"1.",{"$f":"$P$4","v":"USA"},{"$f":"SUMIFS($H$4:$H$9,$B$4:$B$9,$P28,$D$4:$D$9,\"<>\"&$P$31)+SUMIFS($I$4:$I$9,$B$4:$B$9,\"<>\"&$P$31,$D$4:$D$9,$P28)","v":0},{"$f":"S28-T28","v":0},{"$f":"SUMIFS($E$4:$E$9,$B$4:$B$9,$P28,$D$4:$D$9,\"<>\"&$P$31)+SUMIFS($G$4:$G$9,$B$4:$B$9,\"<>\"&$P$31,$D$4:$D$9,$P28)","v":0},{"$f":"SUMIFS($G$4:$G$9,$B$4:$B$9,$P28,$D$4:$D$9,\"<>\"&$P$31)+SUMIFS($E$4:$E$9,$B$4:$B$9,\"<>\"&$P$31,$D$4:$D$9,$P28)","v":0},null,{"$f":"Q28*FactorPts+(GDzero+R28)*FactorGD+S28*FactorFor","v":{"v":50000,"d":"50,000"}},{"$f":"RANK(V28,V$28:V$30,1)","v":1},{"$f":"IF(AND($Q$4=$Q$6,$Q$4=$Q$7,$Q$4<>$Q$5),W28,0)","v":0},{"$f":"IF(AND(V28=V29,V28<>V30),IF(AA28>AA29,3,IF(AA28=AA29,1,0)),IF(AND(V28=V30,V28<>V29),IF(AB28>AB30,3,IF(AB28=AB30,1,0)),\"\"))","v":""},{"$f":"IF(X28>0,Y28,\"\")","v":""},{"$f":"$J$18","v":0},{"$f":"$K$18","v":0},null,{"$f":"IF(AND($AF$16,$AD$4=$AD$6,$AD$4=$AD$7,$AD$4<>$AD$5),W28,0)","v":0},{"$f":"IF(AD28>0,Y28,\"\")","v":""}]
[{"$nulls":14},"2.",{"$f":"$P$6","v":"Australien"},{"$f":"SUMIFS($H$4:$H$9,$B$4:$B$9,$P29,$D$4:$D$9,\"<>\"&$P$31)+SUMIFS($I$4:$I$9,$B$4:$B$9,\"<>\"&$P$31,$D$4:$D$9,$P29)","v":0},{"$f":"S29-T29","v":0},{"$f":"SUMIFS($E$4:$E$9,$B$4:$B$9,$P29,$D$4:$D$9,\"<>\"&$P$31)+SUMIFS($G$4:$G$9,$B$4:$B$9,\"<>\"&$P$31,$D$4:$D$9,$P29)","v":0},{"$f":"SUMIFS($G$4:$G$9,$B$4:$B$9,$P29,$D$4:$D$9,\"<>\"&$P$31)+SUMIFS($E$4:$E$9,$B$4:$B$9,\"<>\"&$P$31,$D$4:$D$9,$P29)","v":0},null,{"$f":"Q29*FactorPts+(GDzero+R29)*FactorGD+S29*FactorFor","v":{"v":50000,"d":"50,000"}},{"$f":"RANK(V29,V$28:V$30,1)","v":1},{"$f":"IF(AND($Q$4=$Q$6,$Q$4=$Q$7,$Q$4<>$Q$5),W29,0)","v":0},{"$f":"IF(AND(V29=V28,V29<>V30),IF(AA29>AA28,3,IF(AA29=AA28,1,0)),IF(AND(V29=V30,V29<>V28),IF(AC29>AC30,3,IF(AC29=AC30,1,0)),\"\"))","v":""},{"$f":"IF(X29>0,Y29,\"\")","v":""},{"$f":"$H$20","v":0},null,{"$f":"$K$20","v":0},{"$f":"IF(AND($AF$16,$AD$4=$AD$6,$AD$4=$AD$7,$AD$4<>$AD$5),W29,0)","v":0},{"$f":"IF(AD29>0,Y29,\"\")","v":""}]
[{"$nulls":14},"3.",{"$f":"$P$7","v":"Türkei"},{"$f":"SUMIFS($H$4:$H$9,$B$4:$B$9,$P30,$D$4:$D$9,\"<>\"&$P$31)+SUMIFS($I$4:$I$9,$B$4:$B$9,\"<>\"&$P$31,$D$4:$D$9,$P30)","v":0},{"$f":"S30-T30","v":0},{"$f":"SUMIFS($E$4:$E$9,$B$4:$B$9,$P30,$D$4:$D$9,\"<>\"&$P$31)+SUMIFS($G$4:$G$9,$B$4:$B$9,\"<>\"&$P$31,$D$4:$D$9,$P30)","v":0},{"$f":"SUMIFS($G$4:$G$9,$B$4:$B$9,$P30,$D$4:$D$9,\"<>\"&$P$31)+SUMIFS($E$4:$E$9,$B$4:$B$9,\"<>\"&$P$31,$D$4:$D$9,$P30)","v":0},null,{"$f":"Q30*FactorPts+(GDzero+R30)*FactorGD+S30*FactorFor","v":{"v":50000,"d":"50,000"}},1,{"$f":"IF(AND($Q$4=$Q$6,$Q$4=$Q$7,$Q$4<>$Q$5),W30,0)","v":0},{"$f":"IF(AND(V30=V28,V30<>V29),IF(AB30>AB28,3,IF(AB30=AB28,1,0)),IF(AND(V30=V29,V30<>V28),IF(AC30>AC29,3,IF(AC30=AC29,1,0)),\"\"))","v":""},"",null,{"$f":"$H$21","v":0},{"$f":"$J$21","v":0},{"$f":"IF(AND($AF$16,$AD$4=$AD$6,$AD$4=$AD$7,$AD$4<>$AD$5),W30,0)","v":0},""]
[{"$nulls":15},{"$f":"$P$5","v":"Paraguay"}]
[]
[{"$nulls":14},"1.",{"$f":"$P$5","v":"Paraguay"},{"$f":"SUMIFS($H$4:$H$9,$B$4:$B$9,$P33,$D$4:$D$9,\"<>\"&$P$36)+SUMIFS($I$4:$I$9,$B$4:$B$9,\"<>\"&$P$36,$D$4:$D$9,$P33)","v":0},{"$f":"S33-T33","v":0},{"$f":"SUMIFS($E$4:$E$9,$B$4:$B$9,$P33,$D$4:$D$9,\"<>\"&$P$36)+SUMIFS($G$4:$G$9,$B$4:$B$9,\"<>\"&$P$36,$D$4:$D$9,$P33)","v":0},{"$f":"SUMIFS($G$4:$G$9,$B$4:$B$9,$P33,$D$4:$D$9,\"<>\"&$P$36)+SUMIFS($E$4:$E$9,$B$4:$B$9,\"<>\"&$P$36,$D$4:$D$9,$P33)","v":0},null,{"$f":"Q33*FactorPts+(GDzero+R33)*FactorGD+S33*FactorFor","v":{"v":50000,"d":"50,000"}},{"$f":"RANK(V33,V$33:V$35,1)","v":1},{"$f":"IF(AND($Q$5=$Q$6,$Q$5=$Q$7,$Q$5<>$Q$4),W33,0)","v":0},{"$f":"IF(AND(V33=V34,V33<>V35),IF(AA33>AA34,3,IF(AA33=AA34,1,0)),IF(AND(V33=V35,V33<>V34),IF(AB33>AB35,3,IF(AB33=AB35,1,0)),\"\"))","v":""},{"$f":"IF(X33>0,Y33,\"\")","v":""},{"$f":"$J$19","v":0},{"$f":"$K$19","v":0},null,{"$f":"IF(AND($AF$16,$AD$5=$AD$6,$AD$5=$AD$7,$AD$5<>$AD$4),W33,0)","v":0},{"$f":"IF(AD33>0,Y33,\"\")","v":""}]
[{"$nulls":14},"2.",{"$f":"$P$6","v":"Australien"},{"$f":"SUMIFS($H$4:$H$9,$B$4:$B$9,$P34,$D$4:$D$9,\"<>\"&$P$36)+SUMIFS($I$4:$I$9,$B$4:$B$9,\"<>\"&$P$36,$D$4:$D$9,$P34)","v":0},{"$f":"S34-T34","v":0},{"$f":"SUMIFS($E$4:$E$9,$B$4:$B$9,$P34,$D$4:$D$9,\"<>\"&$P$36)+SUMIFS($G$4:$G$9,$B$4:$B$9,\"<>\"&$P$36,$D$4:$D$9,$P34)","v":0},{"$f":"SUMIFS($G$4:$G$9,$B$4:$B$9,$P34,$D$4:$D$9,\"<>\"&$P$36)+SUMIFS($E$4:$E$9,$B$4:$B$9,\"<>\"&$P$36,$D$4:$D$9,$P34)","v":0},null,{"$f":"Q34*FactorPts+(GDzero+R34)*FactorGD+S34*FactorFor","v":{"v":50000,"d":"50,000"}},{"$f":"RANK(V34,V$33:V$35,1)","v":1},{"$f":"IF(AND($Q$5=$Q$6,$Q$5=$Q$7,$Q$5<>$Q$4),W34,0)","v":0},{"$f":"IF(AND(V34=V33,V34<>V35),IF(AA34>AA33,3,IF(AA34=AA33,1,0)),IF(AND(V34=V35,V34<>V33),IF(AC34>AC35,3,IF(AC34=AC35,1,0)),\"\"))","v":""},{"$f":"IF(X34>0,Y34,\"\")","v":""},{"$f":"$I$20","v":0},null,{"$f":"$K$20","v":0},{"$f":"IF(AND($AF$16,$AD$5=$AD$6,$AD$5=$AD$7,$AD$5<>$AD$4),W34,0)","v":0},{"$f":"IF(AD34>0,Y34,\"\")","v":""}]
[{"$nulls":14},"3.",{"$f":"$P$7","v":"Türkei"},{"$f":"SUMIFS($H$4:$H$9,$B$4:$B$9,$P35,$D$4:$D$9,\"<>\"&$P$36)+SUMIFS($I$4:$I$9,$B$4:$B$9,\"<>\"&$P$36,$D$4:$D$9,$P35)","v":0},{"$f":"S35-T35","v":0},{"$f":"SUMIFS($E$4:$E$9,$B$4:$B$9,$P35,$D$4:$D$9,\"<>\"&$P$36)+SUMIFS($G$4:$G$9,$B$4:$B$9,\"<>\"&$P$36,$D$4:$D$9,$P35)","v":0},{"$f":"SUMIFS($G$4:$G$9,$B$4:$B$9,$P35,$D$4:$D$9,\"<>\"&$P$36)+SUMIFS($E$4:$E$9,$B$4:$B$9,\"<>\"&$P$36,$D$4:$D$9,$P35)","v":0},null,{"$f":"Q35*FactorPts+(GDzero+R35)*FactorGD+S35*FactorFor","v":{"v":50000,"d":"50,000"}},{"$f":"RANK(V35,V$33:V$35,1)","v":1},{"$f":"IF(AND($Q$5=$Q$6,$Q$5=$Q$7,$Q$5<>$Q$4),W35,0)","v":0},{"$f":"IF(AND(V35=V33,V35<>V34),IF(AB35>AB33,3,IF(AB35=AB33,1,0)),IF(AND(V35=V34,V35<>V33),IF(AC35>AC34,3,IF(AC35=AC34,1,0)),\"\"))","v":""},"",null,{"$f":"$I$21","v":0},{"$f":"$J$21","v":0},{"$f":"IF(AND($AF$16,$AD$5=$AD$6,$AD$5=$AD$7,$AD$5<>$AD$4),W35,0)","v":0},""]
[{"$nulls":15},{"$f":"$P$4","v":"USA"}]

{"sheet":"GrpE_Tipps","index":19,"n_rows":36,"n_cols":33,"rows_kept":36,"hidden":true,"merged":[[2,1,2,3],[2,4,2,6],[2,7,2,8],[2,9,2,11],[8,25,8,30],[15,6,15,11],[15,22,15,25],[15,29,15,30],[16,26,16,28],[17,4,17,6],[18,4,18,6],[19,4,19,6],[20,4,20,6]]}
[null,"Group","E","Tipps"]
[]
[null,"Match",null,null,"Score",null,null,"Points",null,"Penalty",null,null,"valid",{"$nulls":3},"Points","GD","For","Against","Wins","Coefficient","Dir. Comp. (3)","Dir. Comp. (2)","Dir. Comp. (4.3)","Dir. Comp. (4.3.2)","Dir. Comp. (4.2)","Fair play","match count > 0","Pts/GD/For","Penalty","Ranking","Played"]
[null,{"$f":"INDEX(Meine_Tipps!$B$13:$AJ$38,1,1+(CODE($C$1)-65)*3)","v":"Elfenbeinküste"},"-",{"$f":"INDEX(Meine_Tipps!$B$13:$AJ$38,1,2+(CODE($C$1)-65)*3)","v":"Ecuador"},{"$f":"IF(OR(INDEX(Meine_Tipps!$B$14:$AJ$39,1,1+(CODE($C$1)-65)*3)=\"\",INDEX(Meine_Tipps!$B$14:$AJ$39,1,2+(CODE($C$1)-65)*3)=\"\"),\"\",INDEX(Meine_Tipps!$B$14:$AJ$39,1,1+(CODE($C$1)-65)*3))","v":""},"-",{"$f":"IF(OR(INDEX(Meine_Tipps!$B$14:$AJ$39,1,1+(CODE($C$1)-65)*3)=\"\",INDEX(Meine_Tipps!$B$14:$AJ$39,1,2+(CODE($C$1)-65)*3)=\"\"),\"\",INDEX(Meine_Tipps!$B$14:$AJ$39,1,2+(CODE($C$1)-65)*3))","v":""},{"$f":"IF($M4>0,IF($E4>$G4,3,IF($E4=$G4,1,0)),0)","v":0},{"$f":"IF($M4>0,IF($E4<$G4,3,IF($E4=$G4,1,0)),0)","v":0},{"$nulls":3},{"$f":"IF(AND($E4<>\"\",$G4<>\"\"),1,0)","v":0},null,"1.",{"$f":"VLOOKUP($C$1&ROW($A1),Groups_Tipps!$B$7:$D$65,3,0)","v":"Deutschland"},{"$f":"SUMIF($B$4:$B$9,P4,$H$4:$H$9)+SUMIF($D$4:$D$9,P4,$I$4:$I$9)","v":0},{"$f":"S4-T4","v":0},{"$f":"SUMIF($B$4:$B$9,$P4,$E$4:$E$9)+SUMIF($D$4:$D$9,$P4,$G$4:$G$9)","v":0},{"$f":"SUMIF($B$4:$B$9,$P4,$G$4:$G$9)+SUMIF($D$4:$D$9,$P4,$E$4:$E$9)","v":0},{"$f":"COUNTIFS($B$4:$B$9,$P4,$H$4:$H$9,\"=3\")+COUNTIFS($D$4:$D$9,$P4,$I$4:$I$9,\"=3\")","v":0},{"$f":"$Q4*FactorPts+(GDzero+$R4)*FactorGD+$S4*FactorFor+$U4*FactorWins+$W4*FactorDirC3+$X4*FactorDirC2+$Y4*FactorDirC43+$Z4*FactorDirC42+$AA4*FactorDirC42+$AB4*FactorFairPlay+$AE4*FactorPenalty+(100-$AF4)*($M$10>0)*FactorRank+(8-ROW())*FactorRow","v":{"v":50000.00000004,"d":"50,000.0000000"}},{"$f":"SUMIFS($X$18:$X$35,$P$18:$P$35,$P4)","v":0},{"$f":"IF($L18=\"\",0,$L18)+SUMIFS($Z$18:$Z$35,$P$18:$P$35,$P4)","v":0},{"$f":"SUMIFS($AD$18:$AD$35,$P$18:$P$35,$P4)","v":0},{"$f":"SUMIFS($AE$18:$AE$35,$P$18:$P$35,$P4)","v":0},{"$f":"IF($M18=\"\",0,$M18)","v":0},{"$f":"SUMIFS(FairPlayPoints1,FairPlayTeams1,P4)+SUMIFS(FairPlayPoints2,FairPlayTeams2,P4)+SUMIFS(FairPlayPoints3,FairPlayTeams3,P4)","v":0},{"$f":"(Q4+T4>0)","v":false},{"$f":"$Q4*FactorPts+(GDzero+$R4)*FactorGD+$S4*FactorFor","v":{"v":50000,"d":"50,000"}},0,{"$f":"VLOOKUP(P4,Sprache_Tipps!E:F,2,0)","v":10},{"$f":"OR($Q4>0,$T4>0)","v":false}]
[null,{"$f":"INDEX(Meine_Tipps!$B$13:$AJ$38,6,1+(CODE($C$1)-65)*3)","v":"Deutschland"},"-",{"$f":"INDEX(Meine_Tipps!$B$13:$AJ$38,6,2+(CODE($C$1)-65)*3)","v":"Curacao"},{"$f":"IF(OR(INDEX(Meine_Tipps!$B$14:$AJ$39,6,1+(CODE($C$1)-65)*3)=\"\",INDEX(Meine_Tipps!$B$14:$AJ$39,6,2+(CODE($C$1)-65)*3)=\"\"),\"\",INDEX(Meine_Tipps!$B$14:$AJ$39,6,1+(CODE($C$1)-65)*3))","v":""},"-",{"$f":"IF(OR(INDEX(Meine_Tipps!$B$14:$AJ$39,6,1+(CODE($C$1)-65)*3)=\"\",INDEX(Meine_Tipps!$B$14:$AJ$39,6,2+(CODE($C$1)-65)*3)=\"\"),\"\",INDEX(Meine_Tipps!$B$14:$AJ$39,6,2+(CODE($C$1)-65)*3))","v":""},0,0,{"$nulls":3},0,null,"2.",{"$f":"VLOOKUP($C$1&ROW($A2),Groups_Tipps!$B$7:$D$65,3,0)","v":"Curacao"},{"$f":"SUMIF($B$4:$B$9,P5,$H$4:$H$9)+SUMIF($D$4:$D$9,P5,$I$4:$I$9)","v":0},{"$f":"S5-T5","v":0},{"$f":"SUMIF($B$4:$B$9,$P5,$E$4:$E$9)+SUMIF($D$4:$D$9,$P5,$G$4:$G$9)","v":0},{"$f":"SUMIF($B$4:$B$9,$P5,$G$4:$G$9)+SUMIF($D$4:$D$9,$P5,$E$4:$E$9)","v":0},{"$f":"COUNTIFS($B$4:$B$9,$P5,$H$4:$H$9,\"=3\")+COUNTIFS($D$4:$D$9,$P5,$I$4:$I$9,\"=3\")","v":0},{"$f":"$Q5*FactorPts+(GDzero+$R5)*FactorGD+$S5*FactorFor+$U5*FactorWins+$W5*FactorDirC3+$X5*FactorDirC2+$Y5*FactorDirC43+$Z5*FactorDirC42+$AA5*FactorDirC42+$AB5*FactorFairPlay+$AE5*FactorPenalty+(100-$AF5)*($M$10>0)*FactorRank+(8-ROW())*FactorRow","v":{"v":50000.00000003,"d":"50,000.0000000"}},{"$f":"SUMIFS($X$18:$X$35,$P$18:$P$35,$P5)","v":0},{"$f":"IF($L19=\"\",0,$L19)+SUMIFS($Z$18:$Z$35,$P$18:$P$35,$P5)","v":0},{"$f":"SUMIFS($AD$18:$AD$35,$P$18:$P$35,$P5)","v":0},{"$f":"SUMIFS($AE$18:$AE$35,$P$18:$P$35,$P5)","v":0},{"$f":"IF($M19=\"\",0,$M19)","v":0},{"$f":"SUMIFS(FairPlayPoints1,FairPlayTeams1,P5)+SUMIFS(FairPlayPoints2,FairPlayTeams2,P5)+SUMIFS(FairPlayPoints3,FairPlayTeams3,P5)","v":0},{"$f":"(Q5+T5>0)","v":false},{"$f":"$Q5*FactorPts+(GDzero+$R5)*FactorGD+$S5*FactorFor","v":{"v":50000,"d":"50,000"}},0,{"$f":"VLOOKUP(P5,Sprache_Tipps!E:F,2,0)","v":82},{"$f":"OR($Q5>0,$T5>0)","v":false}]
[null,{"$f":"INDEX(Meine_Tipps!$B$13:$AJ$38,11,1+(CODE($C$1)-65)*3)","v":"Deutschland"},"-",{"$f":"INDEX(Meine_Tipps!$B$13:$AJ$38,11,2+(CODE($C$1)-65)*3)","v":"Elfenbeinküste"},{"$f":"IF(OR(INDEX(Meine_Tipps!$B$14:$AJ$39,11,1+(CODE($C$1)-65)*3)=\"\",INDEX(Meine_Tipps!$B$14:$AJ$39,11,2+(CODE($C$1)-65)*3)=\"\"),\"\",INDEX(Meine_Tipps!$B$14:$AJ$39,11,1+(CODE($C$1)-65)*3))","v":""},"-",{"$f":"IF(OR(INDEX(Meine_Tipps!$B$14:$AJ$39,11,1+(CODE($C$1)-65)*3)=\"\",INDEX(Meine_Tipps!$B$14:$AJ$39,11,2+(CODE($C$1)-65)*3)=\"\"),\"\",INDEX(Meine_Tipps!$B$14:$AJ$39,11,2+(CODE($C$1)-65)*3))","v":""},0,0,{"$nulls":3},0,null,"3.",{"$f":"VLOOKUP($C$1&ROW($A3),Groups_Tipps!$B$7:$D$65,3,0)","v":"Elfenbeinküste"},0,{"$f":"S6-T6","v":0},{"$f":"SUMIF($B$4:$B$9,$P6,$E$4:$E$9)+SUMIF($D$4:$D$9,$P6,$G$4:$G$9)","v":0},{"$f":"SUMIF($B$4:$B$9,$P6,$G$4:$G$9)+SUMIF($D$4:$D$9,$P6,$E$4:$E$9)","v":0},{"$f":"COUNTIFS($B$4:$B$9,$P6,$H$4:$H$9,\"=3\")+COUNTIFS($D$4:$D$9,$P6,$I$4:$I$9,\"=3\")","v":0},{"$f":"$Q6*FactorPts+(GDzero+$R6)*FactorGD+$S6*FactorFor+$U6*FactorWins+$W6*FactorDirC3+$X6*FactorDirC2+$Y6*FactorDirC43+$Z6*FactorDirC42+$AA6*FactorDirC42+$AB6*FactorFairPlay+$AE6*FactorPenalty+(100-$AF6)*($M$10>0)*FactorRank+(8-ROW())*FactorRow","v":{"v":50000.00000002,"d":"50,000.0000000"}},0,{"$f":"IF($L20=\"\",0,$L20)+SUMIFS($Z$18:$Z$35,$P$18:$P$35,$P6)","v":0},0,0,{"$f":"IF($M20=\"\",0,$M20)","v":0},{"$f":"SUMIFS(FairPlayPoints1,FairPlayTeams1,P6)+SUMIFS(FairPlayPoints2,FairPlayTeams2,P6)+SUMIFS(FairPlayPoints3,FairPlayTeams3,P6)","v":0},{"$f":"(Q6+T6>0)","v":false},{"$f":"$Q6*FactorPts+(GDzero+$R6)*FactorGD+$S6*FactorFor","v":{"v":50000,"d":"50,000"}},0,{"$f":"VLOOKUP(P6,Sprache_Tipps!E:F,2,0)","v":34},false]
[null,{"$f":"INDEX(Meine_Tipps!$B$13:$AJ$38,16,1+(CODE($C$1)-65)*3)","v":"Ecuador"},"-",{"$f":"INDEX(Meine_Tipps!$B$13:$AJ$38,16,2+(CODE($C$1)-65)*3)","v":"Curacao"},{"$f":"IF(OR(INDEX(Meine_Tipps!$B$14:$AJ$39,16,1+(CODE($C$1)-65)*3)=\"\",INDEX(Meine_Tipps!$B$14:$AJ$39,16,2+(CODE($C$1)-65)*3)=\"\"),\"\",INDEX(Meine_Tipps!$B$14:$AJ$39,16,1+(CODE($C$1)-65)*3))","v":""},"-",{"$f":"IF(OR(INDEX(Meine_Tipps!$B$14:$AJ$39,16,1+(CODE($C$1)-65)*3)=\"\",INDEX(Meine_Tipps!$B$14:$AJ$39,16,2+(CODE($C$1)-65)*3)=\"\"),\"\",INDEX(Meine_Tipps!$B$14:$AJ$39,16,2+(CODE($C$1)-65)*3))","v":""},0,0,{"$nulls":3},0,null,"4.",{"$f":"VLOOKUP($C$1&ROW($A4),Groups_Tipps!$B$7:$D$65,3,0)","v":"Ecuador"},0,{"$f":"S7-T7","v":0},{"$f":"SUMIF($B$4:$B$9,$P7,$E$4:$E$9)+SUMIF($D$4:$D$9,$P7,$G$4:$G$9)","v":0},{"$f":"SUMIF($B$4:$B$9,$P7,$G$4:$G$9)+SUMIF($D$4:$D$9,$P7,$E$4:$E$9)","v":0},{"$f":"COUNTIFS($B$4:$B$9,$P7,$H$4:$H$9,\"=3\")+COUNTIFS($D$4:$D$9,$P7,$I$4:$I$9,\"=3\")","v":0},{"$f":"$Q7*FactorPts+(GDzero+$R7)*FactorGD+$S7*FactorFor+$U7*FactorWins+$W7*FactorDirC3+$X7*FactorDirC2+$Y7*FactorDirC43+$Z7*FactorDirC42+$AA7*FactorDirC42+$AB7*FactorFairPlay+$AE7*FactorPenalty+(100-$AF7)*($M$10>0)*FactorRank+(8-ROW())*FactorRow","v":{"v":50000.00000001,"d":"50,000.0000000"}},0,{"$f":"IF($L21=\"\",0,$L21)+SUMIFS($Z$18:$Z$35,$P$18:$P$35,$P7)","v":0},0,0,{"$f":"IF($M21=\"\",0,$M21)","v":0},{"$f":"SUMIFS(FairPlayPoints1,FairPlayTeams1,P7)+SUMIFS(FairPlayPoints2,FairPlayTeams2,P7)+SUMIFS(FairPlayPoints3,FairPlayTeams3,P7)","v":0},{"$f":"(Q7+T7>0)","v":false},{"$f":"$Q7*FactorPts+(GDzero+$R7)*FactorGD+$S7*FactorFor","v":{"v":50000,"d":"50,000"}},0,{"$f":"VLOOKUP(P7,Sprache_Tipps!E:F,2,0)","v":23},false]
[null,{"$f":"INDEX(Meine_Tipps!$B$13:$AJ$38,21,1+(CODE($C$1)-65)*3)","v":"Curacao"},"-",{"$f":"INDEX(Meine_Tipps!$B$13:$AJ$38,21,2+(CODE($C$1)-65)*3)","v":"Elfenbeinküste"},{"$f":"IF(OR(INDEX(Meine_Tipps!$B$14:$AJ$39,21,1+(CODE($C$1)-65)*3)=\"\",INDEX(Meine_Tipps!$B$14:$AJ$39,21,2+(CODE($C$1)-65)*3)=\"\"),\"\",INDEX(Meine_Tipps!$B$14:$AJ$39,21,1+(CODE($C$1)-65)*3))","v":""},"-",{"$f":"IF(OR(INDEX(Meine_Tipps!$B$14:$AJ$39,21,1+(CODE($C$1)-65)*3)=\"\",INDEX(Meine_Tipps!$B$14:$AJ$39,21,2+(CODE($C$1)-65)*3)=\"\"),\"\",INDEX(Meine_Tipps!$B$14:$AJ$39,21,2+(CODE($C$1)-65)*3))","v":""},0,0,{"$nulls":3},0]
[null,{"$f":"INDEX(Meine_Tipps!$B$13:$AJ$38,26,1+(CODE($C$1)-65)*3)","v":"Ecuador"},"-",{"$f":"INDEX(Meine_Tipps!$B$13:$AJ$38,26,2+(CODE($C$1)-65)*3)","v":"Deutschland"},{"$f":"IF(OR(INDEX(Meine_Tipps!$B$14:$AJ$39,26,1+(CODE($C$1)-65)*3)=\"\",INDEX(Meine_Tipps!$B$14:$AJ$39,26,2+(CODE($C$1)-65)*3)=\"\"),\"\",INDEX(Meine_Tipps!$B$14:$AJ$39,26,1+(CODE($C$1)-65)*3))","v":""},"-",{"$f":"IF(OR(INDEX(Meine_Tipps!$B$14:$AJ$39,26,1+(CODE($C$1)-65)*3)=\"\",INDEX(Meine_Tipps!$B$14:$AJ$39,26,2+(CODE($C$1)-65)*3)=\"\"),\"\",INDEX(Meine_Tipps!$B$14:$AJ$39,26,2+(CODE($C$1)-65)*3))","v":""},0,0,{"$nulls":3},0,{"$nulls":12},"For showing direct comparisons of 2 on sheet \"Direct comparisons\""]
[{"$nulls":11},"Sum:",{"$f":"SUM($M$4:$M$9)","v":0},null,null,"Sorted list","Points","GD","For","Against","wins","Coefficient","Played","Red dot","Penalty (?)","DC(2) ?","DC(4.2) ?","DC(3.2) ?","DC(4.3.2) ?","All Dir.C. (2)","Penalty"]
[{"$nulls":14},"1.",{"$f":"INDEX(P$4:P$7,MATCH($V11,$V$4:$V$7,0))","v":"Deutschland"},0,0,0,0,0,{"$f":"LARGE($V$4:$V$7,ROW(A1))","v":{"v":50000.00000004,"d":"50,000.0000000"}},{"$f":"OR($Q11>0,$T11>0)","v":false},{"$f":"IF(AND(OR(TRUNC($V$11,4)=TRUNC($V$12,4),TRUNC($V$11,4)=TRUNC($V$13,4),TRUNC($V$11,4)=TRUNC($V$14,4),TRUNC($V$12,4)=TRUNC($V$13,4),TRUNC($V$12,4)=TRUNC($V$14,4),TRUNC($V$13,4)=TRUNC($V$14,4)),$M$10>0),1,0)","v":0},{"$f":"IF(AND(VLOOKUP($B$8,$P$4:$AD$7,15,0)=VLOOKUP($D$8,$P$4:$AD$7,15,0),$E$8=$G$8,COUNTIF($Q$4:$Q$7,VLOOKUP($B$8,$P$4:$Q$7,2,0))=2,$M$10=6),1,0)","v":0},{"$f":"VLOOKUP($P11,$E$18:$M$21,8,0)<>\"\"","v":false},{"$f":"VLOOKUP($P11,$E$18:$M$21,9,0)<>\"\"","v":false},{"$f":"SUMPRODUCT(1*(LEN($Z$18:$Z$35)>0)*($P$18:$P$35=$P11))>0","v":false},{"$f":"SUMPRODUCT(1*(LEN($AE$18:$AE$35)>0)*($P$18:$P$35=$P11))>0","v":false},{"$f":"IF($Z11,VLOOKUP($P11,$E$18:$M$21,8,0),IF($AA11,VLOOKUP($P11,$E$18:$M$21,9,0),IF($AB11,SUMIFS($Z$18:$Z$35,$P$18:$P$35,$P11),IF($AC11,SUMIFS($AE$18:$AE$35,$P$18:$P$35,$P11),\"\"))))","v":""},{"$f":"IF(OR(AND($Y$11>0,OR($B$8=$P11,$D$8=$P11)),AND($Y$12>0,OR($B$9=$P11,$D$9=$P11))),SUMIF($B$8:$B$9,$P11,$J$8:$J$9)+SUMIF($D$8:$D$9,$P11,$L$8:$L$9),\"\")","v":""}]
[{"$nulls":14},"2.","Curacao",0,0,0,0,0,{"$f":"LARGE($V$4:$V$7,ROW(A2))","v":{"v":50000.00000003,"d":"50,000.0000000"}},{"$f":"OR($Q12>0,$T12>0)","v":false},null,{"$f":"IF(AND(VLOOKUP($B$9,$P$4:$AD$7,15,0)=VLOOKUP($D$9,$P$4:$AD$7,15,0),$E$9=$G$9,COUNTIF($Q$4:$Q$7,VLOOKUP($B$9,$P$4:$Q$7,2,0))=2,$M$10=6),1,0)","v":0},{"$f":"VLOOKUP($P12,$E$18:$M$21,8,0)<>\"\"","v":false},{"$f":"VLOOKUP($P12,$E$18:$M$21,9,0)<>\"\"","v":false},{"$f":"SUMPRODUCT(1*(LEN($Z$18:$Z$35)>0)*($P$18:$P$35=$P12))>0","v":false},{"$f":"SUMPRODUCT(1*(LEN($AE$18:$AE$35)>0)*($P$18:$P$35=$P12))>0","v":false},{"$f":"IF($Z12,VLOOKUP($P12,$E$18:$M$21,8,0),IF($AA12,VLOOKUP($P12,$E$18:$M$21,9,0),IF($AB12,SUMIFS($Z$18:$Z$35,$P$18:$P$35,$P12),IF($AC12,SUMIFS($AE$18:$AE$35,$P$18:$P$35,$P12),\"\"))))","v":""},{"$f":"IF(OR(AND($Y$11>0,OR($B$8=$P12,$D$8=$P12)),AND($Y$12>0,OR($B$9=$P12,$D$9=$P12))),SUMIF($B$8:$B$9,$P12,$J$8:$J$9)+SUMIF($D$8:$D$9,$P12,$L$8:$L$9),\"\")","v":""}]
[{"$nulls":14},"3.","Elfenbeinküste",0,0,0,0,0,{"$f":"LARGE($V$4:$V$7,ROW(A3))","v":{"v":50000.00000002,"d":"50,000.0000000"}},false,null,null,{"$f":"VLOOKUP($P13,$E$18:$M$21,8,0)<>\"\"","v":false},{"$f":"VLOOKUP($P13,$E$18:$M$21,9,0)<>\"\"","v":false},false,false,{"$f":"IF($Z13,VLOOKUP($P13,$E$18:$M$21,8,0),IF($AA13,VLOOKUP($P13,$E$18:$M$21,9,0),IF($AB13,SUMIFS($Z$18:$Z$35,$P$18:$P$35,$P13),IF($AC13,SUMIFS($AE$18:$AE$35,$P$18:$P$35,$P13),\"\"))))","v":""},{"$f":"IF(OR(AND($Y$11>0,OR($B$8=$P13,$D$8=$P13)),AND($Y$12>0,OR($B$9=$P13,$D$9=$P13))),SUMIF($B$8:$B$9,$P13,$J$8:$J$9)+SUMIF($D$8:$D$9,$P13,$L$8:$L$9),\"\")","v":""}]
[{"$nulls":14},"4.","Ecuador",0,0,0,0,0,{"$f":"LARGE($V$4:$V$7,ROW(A4))","v":{"v":50000.00000001,"d":"50,000.0000000"}},false,null,null,{"$f":"VLOOKUP($P14,$E$18:$M$21,8,0)<>\"\"","v":false},{"$f":"VLOOKUP($P14,$E$18:$M$21,9,0)<>\"\"","v":false},false,false,{"$f":"IF($Z14,VLOOKUP($P14,$E$18:$M$21,8,0),IF($AA14,VLOOKUP($P14,$E$18:$M$21,9,0),IF($AB14,SUMIFS($Z$18:$Z$35,$P$18:$P$35,$P14),IF($AC14,SUMIFS($AE$18:$AE$35,$P$18:$P$35,$P14),\"\"))))","v":""},{"$f":"IF(OR(AND($Y$11>0,OR($B$8=$P14,$D$8=$P14)),AND($Y$12>0,OR($B$9=$P14,$D$9=$P14))),SUMIF($B$8:$B$9,$P14,$J$8:$J$9)+SUMIF($D$8:$D$9,$P14,$L$8:$L$9),\"\")","v":""}]
[]
[{"$nulls":6},"Direct Comparison of 2",{"$nulls":15},"Direct Comparison of 3",{"$nulls":6},"Direct Comparison of 4",null,{"$f":"AND($Q$4=$Q$5,$Q$4=$Q$6,$Q$4=$Q$7)","v":true}]
[{"$nulls":7},{"$f":"LEFT($P$4,3)","v":"Deu"},{"$f":"LEFT($P$5,3)","v":"Cur"},{"$f":"LEFT($P$6,3)","v":"Elf"},{"$f":"LEFT($P$7,3)","v":"Ecu"},"DC(2)","DC(4.2)",{"$nulls":3},"Points","GD","For","Against",null,"Pts/GD/For","Rank Col. V","DC(3)","DC(3.2)","DC(3.2)","Results of direct encounters",null,null,"DC(4.3)","DC(4.3.2)"]
[{"$nulls":4},{"$f":"$P$4","v":"Deutschland"},{"$nulls":3},{"$f":"SUMIFS($E$4:$E$9,$B$4:$B$9,$P$4,$D$4:$D$9,$P$5)+SUMIFS($G$4:$G$9,$B$4:$B$9,$P$5,$D$4:$D$9,$P$4)","v":0},{"$f":"SUMIFS($E$4:$E$9,$B$4:$B$9,$P$4,$D$4:$D$9,$P$6)+SUMIFS($G$4:$G$9,$B$4:$B$9,$P$6,$D$4:$D$9,$P$4)","v":0},{"$f":"SUMIFS($E$4:$E$9,$B$4:$B$9,$P$4,$D$4:$D$9,$P$7)+SUMIFS($G$4:$G$9,$B$4:$B$9,$P$7,$D$4:$D$9,$P$4)","v":0},{"$f":"IF(AND($Q$4=$Q$5,$Q$4<>$Q$6,$Q$4<>$Q$7),IF(I18>H19,3,IF(I18=H19,1,0)),IF(AND($Q$4=$Q$6,$Q$4<>$Q$5,$Q$4<>$Q$7),IF(J18>H20,3,IF(J18=H20,1,0)),IF(AND($Q$4=$Q$7,$Q$4<>$Q$5,$Q$4<>$Q$6),IF(K18>H21,3,IF(K18=H21,1,0)),\"\")))","v":""},{"$f":"IF($AF$16,IF(AND($AD$4=$AD$5,$AD$4<>$AD$6,$AD$4<>$AD$7),IF(I18>H19,3,IF(I18=H19,1,0)),IF(AND($AD$4<>$AD$5,$AD$4=$AD$6,$AD$4<>$AD$7),IF(J18>H20,3,IF(J18=H20,1,0)),IF(AND($AD$4<>$AD$5,$AD$4<>$AD$6,$AD$4=$AD$7),IF(K18>H21,3,IF(K18=H21,1,0)),\"\"))),\"\")","v":""},null,"1.",{"$f":"$P$4","v":"Deutschland"},{"$f":"SUMIFS($H$4:$H$9,$B$4:$B$9,$P18,$D$4:$D$9,\"<>\"&$P$21)+SUMIFS($I$4:$I$9,$B$4:$B$9,\"<>\"&$P$21,$D$4:$D$9,$P18)","v":0},{"$f":"S18-T18","v":0},{"$f":"SUMIFS($E$4:$E$9,$B$4:$B$9,$P18,$D$4:$D$9,\"<>\"&$P$21)+SUMIFS($G$4:$G$9,$B$4:$B$9,\"<>\"&$P$21,$D$4:$D$9,$P18)","v":0},{"$f":"SUMIFS($G$4:$G$9,$B$4:$B$9,$P18,$D$4:$D$9,\"<>\"&$P$21)+SUMIFS($E$4:$E$9,$B$4:$B$9,\"<>\"&$P$21,$D$4:$D$9,$P18)","v":0},null,{"$f":"Q18*FactorPts+(GDzero+R18)*FactorGD+S18*FactorFor","v":{"v":50000,"d":"50,000"}},{"$f":"RANK(V18,V$18:V$20,1)","v":1},{"$f":"IF(AND($Q$4=$Q$5,$Q$4=$Q$6,$Q$4<>$Q$7),W18,0)","v":0},{"$f":"IF(AND(V18=V19,V18<>V20),IF(AA18>AA19,3,IF(AA18=AA19,1,0)),IF(AND(V18=V20,V18<>V19),IF(AB18>AB20,3,IF(AB18=AB20,1,0)),\"\"))","v":""},{"$f":"IF(X18>0,Y18,\"\")","v":""},{"$f":"$I$18","v":0},{"$f":"$J$18","v":0},null,{"$f":"IF(AND($AF$16,$AD$4=$AD$5,$AD$4=$AD$6,$AD$4<>$AD$7),W18,0)","v":0},{"$f":"IF(AD18>0,Y18,\"\")","v":""}]
[{"$nulls":4},{"$f":"$P$5","v":"Curacao"},null,null,{"$f":"SUMIFS($E$4:$E$9,$B$4:$B$9,$P$5,$D$4:$D$9,$P$4)+SUMIFS($G$4:$G$9,$B$4:$B$9,$P$4,$D$4:$D$9,$P$5)","v":0},null,{"$f":"SUMIFS($E$4:$E$9,$B$4:$B$9,$P$5,$D$4:$D$9,$P$6)+SUMIFS($G$4:$G$9,$B$4:$B$9,$P$6,$D$4:$D$9,$P$5)","v":0},{"$f":"SUMIFS($E$4:$E$9,$B$4:$B$9,$P$5,$D$4:$D$9,$P$7)+SUMIFS($G$4:$G$9,$B$4:$B$9,$P$7,$D$4:$D$9,$P$5)","v":0},{"$f":"IF(AND($Q$5=$Q$4,$Q$5<>$Q$6,$Q$5<>$Q$7),IF(H19>I18,3,IF(H19=I18,1,0)),IF(AND($Q$5=$Q$6,$Q$5<>$Q$4,$Q$5<>$Q$7),IF(J19>I20,3,IF(J19=I20,1,0)),IF(AND($Q$5=$Q$7,$Q$5<>$Q$4,$Q$5<>$Q$6),IF(K19>I21,3,IF(K19=I21,1,0)),\"\")))","v":""},{"$f":"IF($AF$16,IF(AND($AD$5=$AD$4,$AD$5<>$AD$6,$AD$5<>$AD$7),IF(H19>I18,3,IF(H19=I18,1,0)),IF(AND($AD$5<>$AD$4,$AD$5=$AD$6,$AD$5<>$AD$7),IF(J19>I20,3,IF(J19=I20,1,0)),IF(AND($AD$5<>$AD$4,$AD$5<>$AD$6,$AD$5=$AD$7),IF(K19>I21,3,IF(K19=I21,1,0)),\"\"))),\"\")","v":""},null,"2.",{"$f":"$P$5","v":"Curacao"},{"$f":"SUMIFS($H$4:$H$9,$B$4:$B$9,$P19,$D$4:$D$9,\"<>\"&$P$21)+SUMIFS($I$4:$I$9,$B$4:$B$9,\"<>\"&$P$21,$D$4:$D$9,$P19)","v":0},{"$f":"S19-T19","v":0},{"$f":"SUMIFS($E$4:$E$9,$B$4:$B$9,$P19,$D$4:$D$9,\"<>\"&$P$21)+SUMIFS($G$4:$G$9,$B$4:$B$9,\"<>\"&$P$21,$D$4:$D$9,$P19)","v":0},{"$f":"SUMIFS($G$4:$G$9,$B$4:$B$9,$P19,$D$4:$D$9,\"<>\"&$P$21)+SUMIFS($E$4:$E$9,$B$4:$B$9,\"<>\"&$P$21,$D$4:$D$9,$P19)","v":0},null,{"$f":"Q19*FactorPts+(GDzero+R19)*FactorGD+S19*FactorFor","v":{"v":50000,"d":"50,000"}},{"$f":"RANK(V19,V$18:V$20,1)","v":1},{"$f":"IF(AND($Q$4=$Q$5,$Q$4=$Q$6,$Q$4<>$Q$7),W19,0)","v":0},{"$f":"IF(AND(V19=V18,V19<>V20),IF(AA19>AA18,3,IF(AA19=AA18,1,0)),IF(AND(V19=V20,V19<>V18),IF(AC19>AC20,3,IF(AC19=AC20,1,0)),\"\"))","v":""},{"$f":"IF(X19>0,Y19,\"\")","v":""},{"$f":"$H$19","v":0},null,{"$f":"$J$19","v":0},{"$f":"IF(AND($AF$16,$AD$4=$AD$5,$AD$4=$AD$6,$AD$4<>$AD$7),W19,0)","v":0},{"$f":"IF(AD19>0,Y19,\"\")","v":""}]
[{"$nulls":4},{"$f":"$P$6","v":"Elfenbeinküste"},null,null,{"$f":"SUMIFS($E$4:$E$9,$B$4:$B$9,$P$6,$D$4:$D$9,$P$4)+SUMIFS($G$4:$G$9,$B$4:$B$9,$P$4,$D$4:$D$9,$P$6)","v":0},{"$f":"SUMIFS($E$4:$E$9,$B$4:$B$9,$P$6,$D$4:$D$9,$P$5)+SUMIFS($G$4:$G$9,$B$4:$B$9,$P$5,$D$4:$D$9,$P$6)","v":0},null,{"$f":"SUMIFS($E$4:$E$9,$B$4:$B$9,$P$6,$D$4:$D$9,$P$7)+SUMIFS($G$4:$G$9,$B$4:$B$9,$P$7,$D$4:$D$9,$P$6)","v":0},{"$f":"IF(AND($Q$6=$Q$4,$Q$6<>$Q$5,$Q$6<>$Q$7),IF(H20>J18,3,IF(H20=J18,1,0)),IF(AND($Q$6=$Q$5,$Q$6<>$Q$4,$Q$6<>$Q$7),IF(I20>J19,3,IF(I20=J19,1,0)),IF(AND($Q$6=$Q$7,$Q$6<>$Q$4,$Q$6<>$Q$5),IF(K20>J21,3,IF(K20=J21,1,0)),\"\")))","v":""},{"$f":"IF($AF$16,IF(AND($AD$6=$AD$4,$AD$6<>$AD$5,$AD$6<>$AD$7),IF(H20>J18,3,IF(H20=J18,1,0)),IF(AND($AD$6<>$AD$4,$AD$6=$AD$5,$AD$6<>$AD$7),IF(I20>J19,3,IF(I20=J19,1,0)),IF(AND($AD$6<>$AD$4,$AD$6<>$AD$5,$AD$6=$AD$7),IF(K20>J21,3,IF(K20=J21,1,0)),\"\"))),\"\")","v":""},null,"3.",{"$f":"$P$6","v":"Elfenbeinküste"},{"$f":"SUMIFS($H$4:$H$9,$B$4:$B$9,$P20,$D$4:$D$9,\"<>\"&$P$21)+SUMIFS($I$4:$I$9,$B$4:$B$9,\"<>\"&$P$21,$D$4:$D$9,$P20)","v":0},{"$f":"S20-T20","v":0},{"$f":"SUMIFS($E$4:$E$9,$B$4:$B$9,$P20,$D$4:$D$9,\"<>\"&$P$21)+SUMIFS($G$4:$G$9,$B$4:$B$9,\"<>\"&$P$21,$D$4:$D$9,$P20)","v":0},{"$f":"SUMIFS($G$4:$G$9,$B$4:$B$9,$P20,$D$4:$D$9,\"<>\"&$P$21)+SUMIFS($E$4:$E$9,$B$4:$B$9,\"<>\"&$P$21,$D$4:$D$9,$P20)","v":0},null,{"$f":"Q20*FactorPts+(GDzero+R20)*FactorGD+S20*FactorFor","v":{"v":50000,"d":"50,000"}},{"$f":"RANK(V20,V$18:V$20,1)","v":1},{"$f":"IF(AND($Q$4=$Q$5,$Q$4=$Q$6,$Q$4<>$Q$7),W20,0)","v":0},{"$f":"IF(AND(V20=V18,V20<>V19),IF(AB20>AB18,3,IF(AB20=AB18,1,0)),IF(AND(V20=V19,V20<>V18),IF(AC20>AC19,3,IF(AC20=AC19,1,0)),\"\"))","v":""},"",null,{"$f":"$H$20","v":0},{"$f":"$I$20","v":0},{"$f":"IF(AND($AF$16,$AD$4=$AD$5,$AD$4=$AD$6,$AD$4<>$AD$7),W20,0)","v":0},""]
[{"$nulls":4},{"$f":"$P$7","v":"Ecuador"},null,null,{"$f":"SUMIFS($E$4:$E$9,$B$4:$B$9,$P$7,$D$4:$D$9,$P$4)+SUMIFS($G$4:$G$9,$B$4:$B$9,$P$4,$D$4:$D$9,$P$7)","v":0},{"$f":"SUMIFS($E$4:$E$9,$B$4:$B$9,$P$7,$D$4:$D$9,$P$5)+SUMIFS($G$4:$G$9,$B$4:$B$9,$P$5,$D$4:$D$9,$P$7)","v":0},{"$f":"SUMIFS($E$4:$E$9,$B$4:$B$9,$P$7,$D$4:$D$9,$P$6)+SUMIFS($G$4:$G$9,$B$4:$B$9,$P$6,$D$4:$D$9,$P$7)","v":0},null,{"$f":"IF(AND($Q$7=$Q$4,$Q$7<>$Q$5,$Q$7<>$Q$6),IF(H21>K18,3,IF(H21=K18,1,0)),IF(AND($Q$7=$Q$5,$Q$7<>$Q$4,$Q$7<>$Q$6),IF(I21>K19,3,IF(I21=K19,1,0)),IF(AND($Q$7=$Q$6,$Q$7<>$Q$4,$Q$7<>$Q$5),IF(J21>K20,3,IF(J21=K20,1,0)),\"\")))","v":""},{"$f":"IF($AF$16,IF(AND($AD$7=$AD$4,$AD$7<>$AD$5,$AD$7<>$AD$6),IF(H21>K18,3,IF(H21=K18,1,0)),IF(AND($AD$7<>$AD$4,$AD$7=$AD$5,$AD$7<>$AD$6),IF(I21>K19,3,IF(I21=K19,1,0)),IF(AND($AD$7<>$AD$4,$AD$7<>$AD$5,$AD$7=$AD$6),IF(J21>K20,3,IF(J21=K20,1,0)),\"\"))),\"\")","v":""},null,null,{"$f":"$P$7","v":"Ecuador"}]
[]
[{"$nulls":14},"1.",{"$f":"$P$4","v":"Deutschland"},{"$f":"SUMIFS($H$4:$H$9,$B$4:$B$9,$P23,$D$4:$D$9,\"<>\"&$P$26)+SUMIFS($I$4:$I$9,$B$4:$B$9,\"<>\"&$P$26,$D$4:$D$9,$P23)","v":0},{"$f":"S23-T23","v":0},{"$f":"SUMIFS($E$4:$E$9,$B$4:$B$9,$P23,$D$4:$D$9,\"<>\"&$P$26)+SUMIFS($G$4:$G$9,$B$4:$B$9,\"<>\"&$P$26,$D$4:$D$9,$P23)","v":0},{"$f":"SUMIFS($G$4:$G$9,$B$4:$B$9,$P23,$D$4:$D$9,\"<>\"&$P$26)+SUMIFS($E$4:$E$9,$B$4:$B$9,\"<>\"&$P$26,$D$4:$D$9,$P23)","v":0},null,{"$f":"Q23*FactorPts+(GDzero+R23)*FactorGD+S23*FactorFor","v":{"v":50000,"d":"50,000"}},{"$f":"RANK(V23,V$23:V$25,1)","v":1},{"$f":"IF(AND($Q$4=$Q$5,$Q$4=$Q$7,$Q$4<>$Q$6),W23,0)","v":0},{"$f":"IF(AND(V23=V24,V23<>V25),IF(AA23>AA24,3,IF(AA23=AA24,1,0)),IF(AND(V23=V25,V23<>V24),IF(AB23>AB25,3,IF(AB23=AB25,1,0)),\"\"))","v":""},{"$f":"IF(X23>0,Y23,\"\")","v":""},{"$f":"$I$18","v":0},{"$f":"$K$18","v":0},null,{"$f":"IF(AND($AF$16,$AD$4=$AD$5,$AD$4=$AD$7,$AD$4<>$AD$6),W23,0)","v":0},{"$f":"IF(AD23>0,Y23,\"\")","v":""}]
[{"$nulls":14},"2.",{"$f":"$P$5","v":"Curacao"},{"$f":"SUMIFS($H$4:$H$9,$B$4:$B$9,$P24,$D$4:$D$9,\"<>\"&$P$26)+SUMIFS($I$4:$I$9,$B$4:$B$9,\"<>\"&$P$26,$D$4:$D$9,$P24)","v":0},{"$f":"S24-T24","v":0},{"$f":"SUMIFS($E$4:$E$9,$B$4:$B$9,$P24,$D$4:$D$9,\"<>\"&$P$26)+SUMIFS($G$4:$G$9,$B$4:$B$9,\"<>\"&$P$26,$D$4:$D$9,$P24)","v":0},{"$f":"SUMIFS($G$4:$G$9,$B$4:$B$9,$P24,$D$4:$D$9,\"<>\"&$P$26)+SUMIFS($E$4:$E$9,$B$4:$B$9,\"<>\"&$P$26,$D$4:$D$9,$P24)","v":0},null,{"$f":"Q24*FactorPts+(GDzero+R24)*FactorGD+S24*FactorFor","v":{"v":50000,"d":"50,000"}},{"$f":"RANK(V24,V$23:V$25,1)","v":1},{"$f":"IF(AND($Q$4=$Q$5,$Q$4=$Q$7,$Q$4<>$Q$6),W24,0)","v":0},{"$f":"IF(AND(V24=V23,V24<>V25),IF(AA24>AA23,3,IF(AA24=AA23,1,0)),IF(AND(V24=V25,V24<>V23),IF(AC24>AC25,3,IF(AC24=AC25,1,0)),\"\"))","v":""},{"$f":"IF(X24>0,Y24,\"\")","v":""},{"$f":"$H$19","v":0},null,{"$f":"$K$19","v":0},{"$f":"IF(AND($AF$16,$AD$4=$AD$5,$AD$4=$AD$7,$AD$4<>$AD$6),W24,0)","v":0},{"$f":"IF(AD24>0,Y24,\"\")","v":""}]
[{"$nulls":14},"3.",{"$f":"$P$7","v":"Ecuador"},{"$f":"SUMIFS($H$4:$H$9,$B$4:$B$9,$P25,$D$4:$D$9,\"<>\"&$P$26)+SUMIFS($I$4:$I$9,$B$4:$B$9,\"<>\"&$P$26,$D$4:$D$9,$P25)","v":0},{"$f":"S25-T25","v":0},{"$f":"SUMIFS($E$4:$E$9,$B$4:$B$9,$P25,$D$4:$D$9,\"<>\"&$P$26)+SUMIFS($G$4:$G$9,$B$4:$B$9,\"<>\"&$P$26,$D$4:$D$9,$P25)","v":0},{"$f":"SUMIFS($G$4:$G$9,$B$4:$B$9,$P25,$D$4:$D$9,\"<>\"&$P$26)+SUMIFS($E$4:$E$9,$B$4:$B$9,\"<>\"&$P$26,$D$4:$D$9,$P25)","v":0},null,{"$f":"Q25*FactorPts+(GDzero+R25)*FactorGD+S25*FactorFor","v":{"v":50000,"d":"50,000"}},{"$f":"RANK(V25,V$23:V$25,1)","v":1},{"$f":"IF(AND($Q$4=$Q$5,$Q$4=$Q$7,$Q$4<>$Q$6),W25,0)","v":0},{"$f":"IF(AND(V25=V23,V25<>V24),IF(AB25>AB23,3,IF(AB25=AB23,1,0)),IF(AND(V25=V24,V25<>V23),IF(AC25>AC24,3,IF(AC25=AC24,1,0)),\"\"))","v":""},"",null,{"$f":"$H$21","v":0},{"$f":"$I$21","v":0},{"$f":"IF(AND($AF$16,$AD$4=$AD$5,$AD$4=$AD$7,$AD$4<>$AD$6),W25,0)","v":0},""]
[{"$nulls":15},{"$f":"$P$6","v":"Elfenbeinküste"}]
[]
[{"$nulls":14},"1.",{"$f":"$P$4","v":"Deutschland"},{"$f":"SUMIFS($H$4:$H$9,$B$4:$B$9,$P28,$D$4:$D$9,\"<>\"&$P$31)+SUMIFS($I$4:$I$9,$B$4:$B$9,\"<>\"&$P$31,$D$4:$D$9,$P28)","v":0},{"$f":"S28-T28","v":0},{"$f":"SUMIFS($E$4:$E$9,$B$4:$B$9,$P28,$D$4:$D$9,\"<>\"&$P$31)+SUMIFS($G$4:$G$9,$B$4:$B$9,\"<>\"&$P$31,$D$4:$D$9,$P28)","v":0},{"$f":"SUMIFS($G$4:$G$9,$B$4:$B$9,$P28,$D$4:$D$9,\"<>\"&$P$31)+SUMIFS($E$4:$E$9,$B$4:$B$9,\"<>\"&$P$31,$D$4:$D$9,$P28)","v":0},null,{"$f":"Q28*FactorPts+(GDzero+R28)*FactorGD+S28*FactorFor","v":{"v":50000,"d":"50,000"}},{"$f":"RANK(V28,V$28:V$30,1)","v":1},{"$f":"IF(AND($Q$4=$Q$6,$Q$4=$Q$7,$Q$4<>$Q$5),W28,0)","v":0},{"$f":"IF(AND(V28=V29,V28<>V30),IF(AA28>AA29,3,IF(AA28=AA29,1,0)),IF(AND(V28=V30,V28<>V29),IF(AB28>AB30,3,IF(AB28=AB30,1,0)),\"\"))","v":""},{"$f":"IF(X28>0,Y28,\"\")","v":""},{"$f":"$J$18","v":0},{"$f":"$K$18","v":0},null,{"$f":"IF(AND($AF$16,$AD$4=$AD$6,$AD$4=$AD$7,$AD$4<>$AD$5),W28,0)","v":0},{"$f":"IF(AD28>0,Y28,\"\")","v":""}]
[{"$nulls":14},"2.",{"$f":"$P$6","v":"Elfenbeinküste"},{"$f":"SUMIFS($H$4:$H$9,$B$4:$B$9,$P29,$D$4:$D$9,\"<>\"&$P$31)+SUMIFS($I$4:$I$9,$B$4:$B$9,\"<>\"&$P$31,$D$4:$D$9,$P29)","v":0},{"$f":"S29-T29","v":0},{"$f":"SUMIFS($E$4:$E$9,$B$4:$B$9,$P29,$D$4:$D$9,\"<>\"&$P$31)+SUMIFS($G$4:$G$9,$B$4:$B$9,\"<>\"&$P$31,$D$4:$D$9,$P29)","v":0},{"$f":"SUMIFS($G$4:$G$9,$B$4:$B$9,$P29,$D$4:$D$9,\"<>\"&$P$31)+SUMIFS($E$4:$E$9,$B$4:$B$9,\"<>\"&$P$31,$D$4:$D$9,$P29)","v":0},null,{"$f":"Q29*FactorPts+(GDzero+R29)*FactorGD+S29*FactorFor","v":{"v":50000,"d":"50,000"}},{"$f":"RANK(V29,V$28:V$30,1)","v":1},{"$f":"IF(AND($Q$4=$Q$6,$Q$4=$Q$7,$Q$4<>$Q$5),W29,0)","v":0},{"$f":"IF(AND(V29=V28,V29<>V30),IF(AA29>AA28,3,IF(AA29=AA28,1,0)),IF(AND(V29=V30,V29<>V28),IF(AC29>AC30,3,IF(AC29=AC30,1,0)),\"\"))","v":""},{"$f":"IF(X29>0,Y29,\"\")","v":""},{"$f":"$H$20","v":0},null,{"$f":"$K$20","v":0},{"$f":"IF(AND($AF$16,$AD$4=$AD$6,$AD$4=$AD$7,$AD$4<>$AD$5),W29,0)","v":0},{"$f":"IF(AD29>0,Y29,\"\")","v":""}]
[{"$nulls":14},"3.",{"$f":"$P$7","v":"Ecuador"},{"$f":"SUMIFS($H$4:$H$9,$B$4:$B$9,$P30,$D$4:$D$9,\"<>\"&$P$31)+SUMIFS($I$4:$I$9,$B$4:$B$9,\"<>\"&$P$31,$D$4:$D$9,$P30)","v":0},{"$f":"S30-T30","v":0},{"$f":"SUMIFS($E$4:$E$9,$B$4:$B$9,$P30,$D$4:$D$9,\"<>\"&$P$31)+SUMIFS($G$4:$G$9,$B$4:$B$9,\"<>\"&$P$31,$D$4:$D$9,$P30)","v":0},{"$f":"SUMIFS($G$4:$G$9,$B$4:$B$9,$P30,$D$4:$D$9,\"<>\"&$P$31)+SUMIFS($E$4:$E$9,$B$4:$B$9,\"<>\"&$P$31,$D$4:$D$9,$P30)","v":0},null,{"$f":"Q30*FactorPts+(GDzero+R30)*FactorGD+S30*FactorFor","v":{"v":50000,"d":"50,000"}},1,{"$f":"IF(AND($Q$4=$Q$6,$Q$4=$Q$7,$Q$4<>$Q$5),W30,0)","v":0},{"$f":"IF(AND(V30=V28,V30<>V29),IF(AB30>AB28,3,IF(AB30=AB28,1,0)),IF(AND(V30=V29,V30<>V28),IF(AC30>AC29,3,IF(AC30=AC29,1,0)),\"\"))","v":""},"",null,{"$f":"$H$21","v":0},{"$f":"$J$21","v":0},{"$f":"IF(AND($AF$16,$AD$4=$AD$6,$AD$4=$AD$7,$AD$4<>$AD$5),W30,0)","v":0},""]
[{"$nulls":15},{"$f":"$P$5","v":"Curacao"}]
[]
[{"$nulls":14},"1.",{"$f":"$P$5","v":"Curacao"},{"$f":"SUMIFS($H$4:$H$9,$B$4:$B$9,$P33,$D$4:$D$9,\"<>\"&$P$36)+SUMIFS($I$4:$I$9,$B$4:$B$9,\"<>\"&$P$36,$D$4:$D$9,$P33)","v":0},{"$f":"S33-T33","v":0},{"$f":"SUMIFS($E$4:$E$9,$B$4:$B$9,$P33,$D$4:$D$9,\"<>\"&$P$36)+SUMIFS($G$4:$G$9,$B$4:$B$9,\"<>\"&$P$36,$D$4:$D$9,$P33)","v":0},{"$f":"SUMIFS($G$4:$G$9,$B$4:$B$9,$P33,$D$4:$D$9,\"<>\"&$P$36)+SUMIFS($E$4:$E$9,$B$4:$B$9,\"<>\"&$P$36,$D$4:$D$9,$P33)","v":0},null,{"$f":"Q33*FactorPts+(GDzero+R33)*FactorGD+S33*FactorFor","v":{"v":50000,"d":"50,000"}},{"$f":"RANK(V33,V$33:V$35,1)","v":1},{"$f":"IF(AND($Q$5=$Q$6,$Q$5=$Q$7,$Q$5<>$Q$4),W33,0)","v":0},{"$f":"IF(AND(V33=V34,V33<>V35),IF(AA33>AA34,3,IF(AA33=AA34,1,0)),IF(AND(V33=V35,V33<>V34),IF(AB33>AB35,3,IF(AB33=AB35,1,0)),\"\"))","v":""},{"$f":"IF(X33>0,Y33,\"\")","v":""},{"$f":"$J$19","v":0},{"$f":"$K$19","v":0},null,{"$f":"IF(AND($AF$16,$AD$5=$AD$6,$AD$5=$AD$7,$AD$5<>$AD$4),W33,0)","v":0},{"$f":"IF(AD33>0,Y33,\"\")","v":""}]
[{"$nulls":14},"2.",{"$f":"$P$6","v":"Elfenbeinküste"},{"$f":"SUMIFS($H$4:$H$9,$B$4:$B$9,$P34,$D$4:$D$9,\"<>\"&$P$36)+SUMIFS($I$4:$I$9,$B$4:$B$9,\"<>\"&$P$36,$D$4:$D$9,$P34)","v":0},{"$f":"S34-T34","v":0},{"$f":"SUMIFS($E$4:$E$9,$B$4:$B$9,$P34,$D$4:$D$9,\"<>\"&$P$36)+SUMIFS($G$4:$G$9,$B$4:$B$9,\"<>\"&$P$36,$D$4:$D$9,$P34)","v":0},{"$f":"SUMIFS($G$4:$G$9,$B$4:$B$9,$P34,$D$4:$D$9,\"<>\"&$P$36)+SUMIFS($E$4:$E$9,$B$4:$B$9,\"<>\"&$P$36,$D$4:$D$9,$P34)","v":0},null,{"$f":"Q34*FactorPts+(GDzero+R34)*FactorGD+S34*FactorFor","v":{"v":50000,"d":"50,000"}},{"$f":"RANK(V34,V$33:V$35,1)","v":1},{"$f":"IF(AND($Q$5=$Q$6,$Q$5=$Q$7,$Q$5<>$Q$4),W34,0)","v":0},{"$f":"IF(AND(V34=V33,V34<>V35),IF(AA34>AA33,3,IF(AA34=AA33,1,0)),IF(AND(V34=V35,V34<>V33),IF(AC34>AC35,3,IF(AC34=AC35,1,0)),\"\"))","v":""},{"$f":"IF(X34>0,Y34,\"\")","v":""},{"$f":"$I$20","v":0},null,{"$f":"$K$20","v":0},{"$f":"IF(AND($AF$16,$AD$5=$AD$6,$AD$5=$AD$7,$AD$5<>$AD$4),W34,0)","v":0},{"$f":"IF(AD34>0,Y34,\"\")","v":""}]
[{"$nulls":14},"3.",{"$f":"$P$7","v":"Ecuador"},{"$f":"SUMIFS($H$4:$H$9,$B$4:$B$9,$P35,$D$4:$D$9,\"<>\"&$P$36)+SUMIFS($I$4:$I$9,$B$4:$B$9,\"<>\"&$P$36,$D$4:$D$9,$P35)","v":0},{"$f":"S35-T35","v":0},{"$f":"SUMIFS($E$4:$E$9,$B$4:$B$9,$P35,$D$4:$D$9,\"<>\"&$P$36)+SUMIFS($G$4:$G$9,$B$4:$B$9,\"<>\"&$P$36,$D$4:$D$9,$P35)","v":0},{"$f":"SUMIFS($G$4:$G$9,$B$4:$B$9,$P35,$D$4:$D$9,\"<>\"&$P$36)+SUMIFS($E$4:$E$9,$B$4:$B$9,\"<>\"&$P$36,$D$4:$D$9,$P35)","v":0},null,{"$f":"Q35*FactorPts+(GDzero+R35)*FactorGD+S35*FactorFor","v":{"v":50000,"d":"50,000"}},{"$f":"RANK(V35,V$33:V$35,1)","v":1},{"$f":"IF(AND($Q$5=$Q$6,$Q$5=$Q$7,$Q$5<>$Q$4),W35,0)","v":0},{"$f":"IF(AND(V35=V33,V35<>V34),IF(AB35>AB33,3,IF(AB35=AB33,1,0)),IF(AND(V35=V34,V35<>V33),IF(AC35>AC34,3,IF(AC35=AC34,1,0)),\"\"))","v":""},"",null,{"$f":"$I$21","v":0},{"$f":"$J$21","v":0},{"$f":"IF(AND($AF$16,$AD$5=$AD$6,$AD$5=$AD$7,$AD$5<>$AD$4),W35,0)","v":0},""]
[{"$nulls":15},{"$f":"$P$4","v":"Deutschland"}]

{"sheet":"GrpF_Tipps","index":20,"n_rows":36,"n_cols":33,"rows_kept":36,"hidden":true,"merged":[[2,1,2,3],[2,4,2,6],[2,7,2,8],[2,9,2,11],[8,25,8,30],[15,6,15,11],[15,22,15,25],[15,29,15,30],[16,26,16,28],[17,4,17,6],[18,4,18,6],[19,4,19,6],[20,4,20,6]]}
[null,"Group","F","Tipps"]
[]
[null,"Match",null,null,"Score",null,null,"Points",null,"Penalty",null,null,"valid",{"$nulls":3},"Points","GD","For","Against","Wins","Coefficient","Dir. Comp. (3)","Dir. Comp. (2)","Dir. Comp. (4.3)","Dir. Comp. (4.3.2)","Dir. Comp. (4.2)","Fair play","match count > 0","Pts/GD/For","Penalty","Ranking","Played"]
[null,{"$f":"INDEX(Meine_Tipps!$B$13:$AJ$38,1,1+(CODE($C$1)-65)*3)","v":"Niederlande"},"-",{"$f":"INDEX(Meine_Tipps!$B$13:$AJ$38,1,2+(CODE($C$1)-65)*3)","v":"Japan"},{"$f":"IF(OR(INDEX(Meine_Tipps!$B$14:$AJ$39,1,1+(CODE($C$1)-65)*3)=\"\",INDEX(Meine_Tipps!$B$14:$AJ$39,1,2+(CODE($C$1)-65)*3)=\"\"),\"\",INDEX(Meine_Tipps!$B$14:$AJ$39,1,1+(CODE($C$1)-65)*3))","v":""},"-",{"$f":"IF(OR(INDEX(Meine_Tipps!$B$14:$AJ$39,1,1+(CODE($C$1)-65)*3)=\"\",INDEX(Meine_Tipps!$B$14:$AJ$39,1,2+(CODE($C$1)-65)*3)=\"\"),\"\",INDEX(Meine_Tipps!$B$14:$AJ$39,1,2+(CODE($C$1)-65)*3))","v":""},{"$f":"IF($M4>0,IF($E4>$G4,3,IF($E4=$G4,1,0)),0)","v":0},{"$f":"IF($M4>0,IF($E4<$G4,3,IF($E4=$G4,1,0)),0)","v":0},{"$nulls":3},{"$f":"IF(AND($E4<>\"\",$G4<>\"\"),1,0)","v":0},null,"1.",{"$f":"VLOOKUP($C$1&ROW($A1),Groups_Tipps!$B$7:$D$65,3,0)","v":"Niederlande"},{"$f":"SUMIF($B$4:$B$9,P4,$H$4:$H$9)+SUMIF($D$4:$D$9,P4,$I$4:$I$9)","v":0},{"$f":"S4-T4","v":0},{"$f":"SUMIF($B$4:$B$9,$P4,$E$4:$E$9)+SUMIF($D$4:$D$9,$P4,$G$4:$G$9)","v":0},{"$f":"SUMIF($B$4:$B$9,$P4,$G$4:$G$9)+SUMIF($D$4:$D$9,$P4,$E$4:$E$9)","v":0},{"$f":"COUNTIFS($B$4:$B$9,$P4,$H$4:$H$9,\"=3\")+COUNTIFS($D$4:$D$9,$P4,$I$4:$I$9,\"=3\")","v":0},{"$f":"$Q4*FactorPts+(GDzero+$R4)*FactorGD+$S4*FactorFor+$U4*FactorWins+$W4*FactorDirC3+$X4*FactorDirC2+$Y4*FactorDirC43+$Z4*FactorDirC42+$AA4*FactorDirC42+$AB4*FactorFairPlay+$AE4*FactorPenalty+(100-$AF4)*($M$10>0)*FactorRank+(8-ROW())*FactorRow","v":{"v":50000.00000004,"d":"50,000.0000000"}},{"$f":"SUMIFS($X$18:$X$35,$P$18:$P$35,$P4)","v":0},{"$f":"IF($L18=\"\",0,$L18)+SUMIFS($Z$18:$Z$35,$P$18:$P$35,$P4)","v":0},{"$f":"SUMIFS($AD$18:$AD$35,$P$18:$P$35,$P4)","v":0},{"$f":"SUMIFS($AE$18:$AE$35,$P$18:$P$35,$P4)","v":0},{"$f":"IF($M18=\"\",0,$M18)","v":0},{"$f":"SUMIFS(FairPlayPoints1,FairPlayTeams1,P4)+SUMIFS(FairPlayPoints2,FairPlayTeams2,P4)+SUMIFS(FairPlayPoints3,FairPlayTeams3,P4)","v":0},{"$f":"(Q4+T4>0)","v":false},{"$f":"$Q4*FactorPts+(GDzero+$R4)*FactorGD+$S4*FactorFor","v":{"v":50000,"d":"50,000"}},0,{"$f":"VLOOKUP(P4,Sprache_Tipps!E:F,2,0)","v":7},{"$f":"OR($Q4>0,$T4>0)","v":false}]
[null,{"$f":"INDEX(Meine_Tipps!$B$13:$AJ$38,6,1+(CODE($C$1)-65)*3)","v":"Schweden"},"-",{"$f":"INDEX(Meine_Tipps!$B$13:$AJ$38,6,2+(CODE($C$1)-65)*3)","v":"Tunesien"},{"$f":"IF(OR(INDEX(Meine_Tipps!$B$14:$AJ$39,6,1+(CODE($C$1)-65)*3)=\"\",INDEX(Meine_Tipps!$B$14:$AJ$39,6,2+(CODE($C$1)-65)*3)=\"\"),\"\",INDEX(Meine_Tipps!$B$14:$AJ$39,6,1+(CODE($C$1)-65)*3))","v":""},"-",{"$f":"IF(OR(INDEX(Meine_Tipps!$B$14:$AJ$39,6,1+(CODE($C$1)-65)*3)=\"\",INDEX(Meine_Tipps!$B$14:$AJ$39,6,2+(CODE($C$1)-65)*3)=\"\"),\"\",INDEX(Meine_Tipps!$B$14:$AJ$39,6,2+(CODE($C$1)-65)*3))","v":""},0,0,{"$nulls":3},0,null,"2.",{"$f":"VLOOKUP($C$1&ROW($A2),Groups_Tipps!$B$7:$D$65,3,0)","v":"Japan"},{"$f":"SUMIF($B$4:$B$9,P5,$H$4:$H$9)+SUMIF($D$4:$D$9,P5,$I$4:$I$9)","v":0},{"$f":"S5-T5","v":0},{"$f":"SUMIF($B$4:$B$9,$P5,$E$4:$E$9)+SUMIF($D$4:$D$9,$P5,$G$4:$G$9)","v":0},{"$f":"SUMIF($B$4:$B$9,$P5,$G$4:$G$9)+SUMIF($D$4:$D$9,$P5,$E$4:$E$9)","v":0},{"$f":"COUNTIFS($B$4:$B$9,$P5,$H$4:$H$9,\"=3\")+COUNTIFS($D$4:$D$9,$P5,$I$4:$I$9,\"=3\")","v":0},{"$f":"$Q5*FactorPts+(GDzero+$R5)*FactorGD+$S5*FactorFor+$U5*FactorWins+$W5*FactorDirC3+$X5*FactorDirC2+$Y5*FactorDirC43+$Z5*FactorDirC42+$AA5*FactorDirC42+$AB5*FactorFairPlay+$AE5*FactorPenalty+(100-$AF5)*($M$10>0)*FactorRank+(8-ROW())*FactorRow","v":{"v":50000.00000003,"d":"50,000.0000000"}},{"$f":"SUMIFS($X$18:$X$35,$P$18:$P$35,$P5)","v":0},{"$f":"IF($L19=\"\",0,$L19)+SUMIFS($Z$18:$Z$35,$P$18:$P$35,$P5)","v":0},{"$f":"SUMIFS($AD$18:$AD$35,$P$18:$P$35,$P5)","v":0},{"$f":"SUMIFS($AE$18:$AE$35,$P$18:$P$35,$P5)","v":0},{"$f":"IF($M19=\"\",0,$M19)","v":0},{"$f":"SUMIFS(FairPlayPoints1,FairPlayTeams1,P5)+SUMIFS(FairPlayPoints2,FairPlayTeams2,P5)+SUMIFS(FairPlayPoints3,FairPlayTeams3,P5)","v":0},{"$f":"(Q5+T5>0)","v":false},{"$f":"$Q5*FactorPts+(GDzero+$R5)*FactorGD+$S5*FactorFor","v":{"v":50000,"d":"50,000"}},0,{"$f":"VLOOKUP(P5,Sprache_Tipps!E:F,2,0)","v":18},{"$f":"OR($Q5>0,$T5>0)","v":false}]
[null,{"$f":"INDEX(Meine_Tipps!$B$13:$AJ$38,11,1+(CODE($C$1)-65)*3)","v":"Niederlande"},"-",{"$f":"INDEX(Meine_Tipps!$B$13:$AJ$38,11,2+(CODE($C$1)-65)*3)","v":"Schweden"},{"$f":"IF(OR(INDEX(Meine_Tipps!$B$14:$AJ$39,11,1+(CODE($C$1)-65)*3)=\"\",INDEX(Meine_Tipps!$B$14:$AJ$39,11,2+(CODE($C$1)-65)*3)=\"\"),\"\",INDEX(Meine_Tipps!$B$14:$AJ$39,11,1+(CODE($C$1)-65)*3))","v":""},"-",{"$f":"IF(OR(INDEX(Meine_Tipps!$B$14:$AJ$39,11,1+(CODE($C$1)-65)*3)=\"\",INDEX(Meine_Tipps!$B$14:$AJ$39,11,2+(CODE($C$1)-65)*3)=\"\"),\"\",INDEX(Meine_Tipps!$B$14:$AJ$39,11,2+(CODE($C$1)-65)*3))","v":""},0,0,{"$nulls":3},0,null,"3.",{"$f":"VLOOKUP($C$1&ROW($A3),Groups_Tipps!$B$7:$D$65,3,0)","v":"Schweden"},0,{"$f":"S6-T6","v":0},{"$f":"SUMIF($B$4:$B$9,$P6,$E$4:$E$9)+SUMIF($D$4:$D$9,$P6,$G$4:$G$9)","v":0},{"$f":"SUMIF($B$4:$B$9,$P6,$G$4:$G$9)+SUMIF($D$4:$D$9,$P6,$E$4:$E$9)","v":0},{"$f":"COUNTIFS($B$4:$B$9,$P6,$H$4:$H$9,\"=3\")+COUNTIFS($D$4:$D$9,$P6,$I$4:$I$9,\"=3\")","v":0},{"$f":"$Q6*FactorPts+(GDzero+$R6)*FactorGD+$S6*FactorFor+$U6*FactorWins+$W6*FactorDirC3+$X6*FactorDirC2+$Y6*FactorDirC43+$Z6*FactorDirC42+$AA6*FactorDirC42+$AB6*FactorFairPlay+$AE6*FactorPenalty+(100-$AF6)*($M$10>0)*FactorRank+(8-ROW())*FactorRow","v":{"v":50000.00000002,"d":"50,000.0000000"}},0,{"$f":"IF($L20=\"\",0,$L20)+SUMIFS($Z$18:$Z$35,$P$18:$P$35,$P6)","v":0},0,0,{"$f":"IF($M20=\"\",0,$M20)","v":0},{"$f":"SUMIFS(FairPlayPoints1,FairPlayTeams1,P6)+SUMIFS(FairPlayPoints2,FairPlayTeams2,P6)+SUMIFS(FairPlayPoints3,FairPlayTeams3,P6)","v":0},{"$f":"(Q6+T6>0)","v":false},{"$f":"$Q6*FactorPts+(GDzero+$R6)*FactorGD+$S6*FactorFor","v":{"v":50000,"d":"50,000"}},0,{"$f":"VLOOKUP(P6,Sprache_Tipps!E:F,2,0)","v":38},false]
[null,{"$f":"INDEX(Meine_Tipps!$B$13:$AJ$38,16,1+(CODE($C$1)-65)*3)","v":"Tunesien"},"-",{"$f":"INDEX(Meine_Tipps!$B$13:$AJ$38,16,2+(CODE($C$1)-65)*3)","v":"Japan"},{"$f":"IF(OR(INDEX(Meine_Tipps!$B$14:$AJ$39,16,1+(CODE($C$1)-65)*3)=\"\",INDEX(Meine_Tipps!$B$14:$AJ$39,16,2+(CODE($C$1)-65)*3)=\"\"),\"\",INDEX(Meine_Tipps!$B$14:$AJ$39,16,1+(CODE($C$1)-65)*3))","v":""},"-",{"$f":"IF(OR(INDEX(Meine_Tipps!$B$14:$AJ$39,16,1+(CODE($C$1)-65)*3)=\"\",INDEX(Meine_Tipps!$B$14:$AJ$39,16,2+(CODE($C$1)-65)*3)=\"\"),\"\",INDEX(Meine_Tipps!$B$14:$AJ$39,16,2+(CODE($C$1)-65)*3))","v":""},0,0,{"$nulls":3},0,null,"4.",{"$f":"VLOOKUP($C$1&ROW($A4),Groups_Tipps!$B$7:$D$65,3,0)","v":"Tunesien"},0,{"$f":"S7-T7","v":0},{"$f":"SUMIF($B$4:$B$9,$P7,$E$4:$E$9)+SUMIF($D$4:$D$9,$P7,$G$4:$G$9)","v":0},{"$f":"SUMIF($B$4:$B$9,$P7,$G$4:$G$9)+SUMIF($D$4:$D$9,$P7,$E$4:$E$9)","v":0},{"$f":"COUNTIFS($B$4:$B$9,$P7,$H$4:$H$9,\"=3\")+COUNTIFS($D$4:$D$9,$P7,$I$4:$I$9,\"=3\")","v":0},{"$f":"$Q7*FactorPts+(GDzero+$R7)*FactorGD+$S7*FactorFor+$U7*FactorWins+$W7*FactorDirC3+$X7*FactorDirC2+$Y7*FactorDirC43+$Z7*FactorDirC42+$AA7*FactorDirC42+$AB7*FactorFairPlay+$AE7*FactorPenalty+(100-$AF7)*($M$10>0)*FactorRank+(8-ROW())*FactorRow","v":{"v":50000.00000001,"d":"50,000.0000000"}},0,{"$f":"IF($L21=\"\",0,$L21)+SUMIFS($Z$18:$Z$35,$P$18:$P$35,$P7)","v":0},0,0,{"$f":"IF($M21=\"\",0,$M21)","v":0},{"$f":"SUMIFS(FairPlayPoints1,FairPlayTeams1,P7)+SUMIFS(FairPlayPoints2,FairPlayTeams2,P7)+SUMIFS(FairPlayPoints3,FairPlayTeams3,P7)","v":0},{"$f":"(Q7+T7>0)","v":false},{"$f":"$Q7*FactorPts+(GDzero+$R7)*FactorGD+$S7*FactorFor","v":{"v":50000,"d":"50,000"}},0,{"$f":"VLOOKUP(P7,Sprache_Tipps!E:F,2,0)","v":44},false]
[null,{"$f":"INDEX(Meine_Tipps!$B$13:$AJ$38,21,1+(CODE($C$1)-65)*3)","v":"Japan"},"-",{"$f":"INDEX(Meine_Tipps!$B$13:$AJ$38,21,2+(CODE($C$1)-65)*3)","v":"Schweden"},{"$f":"IF(OR(INDEX(Meine_Tipps!$B$14:$AJ$39,21,1+(CODE($C$1)-65)*3)=\"\",INDEX(Meine_Tipps!$B$14:$AJ$39,21,2+(CODE($C$1)-65)*3)=\"\"),\"\",INDEX(Meine_Tipps!$B$14:$AJ$39,21,1+(CODE($C$1)-65)*3))","v":""},"-",{"$f":"IF(OR(INDEX(Meine_Tipps!$B$14:$AJ$39,21,1+(CODE($C$1)-65)*3)=\"\",INDEX(Meine_Tipps!$B$14:$AJ$39,21,2+(CODE($C$1)-65)*3)=\"\"),\"\",INDEX(Meine_Tipps!$B$14:$AJ$39,21,2+(CODE($C$1)-65)*3))","v":""},0,0,{"$nulls":3},0]
[null,{"$f":"INDEX(Meine_Tipps!$B$13:$AJ$38,26,1+(CODE($C$1)-65)*3)","v":"Tunesien"},"-",{"$f":"INDEX(Meine_Tipps!$B$13:$AJ$38,26,2+(CODE($C$1)-65)*3)","v":"Niederlande"},{"$f":"IF(OR(INDEX(Meine_Tipps!$B$14:$AJ$39,26,1+(CODE($C$1)-65)*3)=\"\",INDEX(Meine_Tipps!$B$14:$AJ$39,26,2+(CODE($C$1)-65)*3)=\"\"),\"\",INDEX(Meine_Tipps!$B$14:$AJ$39,26,1+(CODE($C$1)-65)*3))","v":""},"-",{"$f":"IF(OR(INDEX(Meine_Tipps!$B$14:$AJ$39,26,1+(CODE($C$1)-65)*3)=\"\",INDEX(Meine_Tipps!$B$14:$AJ$39,26,2+(CODE($C$1)-65)*3)=\"\"),\"\",INDEX(Meine_Tipps!$B$14:$AJ$39,26,2+(CODE($C$1)-65)*3))","v":""},0,0,{"$nulls":3},0,{"$nulls":12},"For showing direct comparisons of 2 on sheet \"Direct comparisons\""]
[{"$nulls":11},"Sum:",{"$f":"SUM($M$4:$M$9)","v":0},null,null,"Sorted list","Points","GD","For","Against","wins","Coefficient","Played","Red dot","Penalty (?)","DC(2) ?","DC(4.2) ?","DC(3.2) ?","DC(4.3.2) ?","All Dir.C. (2)","Penalty"]
[{"$nulls":14},"1.",{"$f":"INDEX(P$4:P$7,MATCH($V11,$V$4:$V$7,0))","v":"Niederlande"},0,0,0,0,0,{"$f":"LARGE($V$4:$V$7,ROW(A1))","v":{"v":50000.00000004,"d":"50,000.0000000"}},{"$f":"OR($Q11>0,$T11>0)","v":false},{"$f":"IF(AND(OR(TRUNC($V$11,4)=TRUNC($V$12,4),TRUNC($V$11,4)=TRUNC($V$13,4),TRUNC($V$11,4)=TRUNC($V$14,4),TRUNC($V$12,4)=TRUNC($V$13,4),TRUNC($V$12,4)=TRUNC($V$14,4),TRUNC($V$13,4)=TRUNC($V$14,4)),$M$10>0),1,0)","v":0},{"$f":"IF(AND(VLOOKUP($B$8,$P$4:$AD$7,15,0)=VLOOKUP($D$8,$P$4:$AD$7,15,0),$E$8=$G$8,COUNTIF($Q$4:$Q$7,VLOOKUP($B$8,$P$4:$Q$7,2,0))=2,$M$10=6),1,0)","v":0},{"$f":"VLOOKUP($P11,$E$18:$M$21,8,0)<>\"\"","v":false},{"$f":"VLOOKUP($P11,$E$18:$M$21,9,0)<>\"\"","v":false},{"$f":"SUMPRODUCT(1*(LEN($Z$18:$Z$35)>0)*($P$18:$P$35=$P11))>0","v":false},{"$f":"SUMPRODUCT(1*(LEN($AE$18:$AE$35)>0)*($P$18:$P$35=$P11))>0","v":false},{"$f":"IF($Z11,VLOOKUP($P11,$E$18:$M$21,8,0),IF($AA11,VLOOKUP($P11,$E$18:$M$21,9,0),IF($AB11,SUMIFS($Z$18:$Z$35,$P$18:$P$35,$P11),IF($AC11,SUMIFS($AE$18:$AE$35,$P$18:$P$35,$P11),\"\"))))","v":""},{"$f":"IF(OR(AND($Y$11>0,OR($B$8=$P11,$D$8=$P11)),AND($Y$12>0,OR($B$9=$P11,$D$9=$P11))),SUMIF($B$8:$B$9,$P11,$J$8:$J$9)+SUMIF($D$8:$D$9,$P11,$L$8:$L$9),\"\")","v":""}]
[{"$nulls":14},"2.","Japan",0,0,0,0,0,{"$f":"LARGE($V$4:$V$7,ROW(A2))","v":{"v":50000.00000003,"d":"50,000.0000000"}},{"$f":"OR($Q12>0,$T12>0)","v":false},null,{"$f":"IF(AND(VLOOKUP($B$9,$P$4:$AD$7,15,0)=VLOOKUP($D$9,$P$4:$AD$7,15,0),$E$9=$G$9,COUNTIF($Q$4:$Q$7,VLOOKUP($B$9,$P$4:$Q$7,2,0))=2,$M$10=6),1,0)","v":0},{"$f":"VLOOKUP($P12,$E$18:$M$21,8,0)<>\"\"","v":false},{"$f":"VLOOKUP($P12,$E$18:$M$21,9,0)<>\"\"","v":false},{"$f":"SUMPRODUCT(1*(LEN($Z$18:$Z$35)>0)*($P$18:$P$35=$P12))>0","v":false},{"$f":"SUMPRODUCT(1*(LEN($AE$18:$AE$35)>0)*($P$18:$P$35=$P12))>0","v":false},{"$f":"IF($Z12,VLOOKUP($P12,$E$18:$M$21,8,0),IF($AA12,VLOOKUP($P12,$E$18:$M$21,9,0),IF($AB12,SUMIFS($Z$18:$Z$35,$P$18:$P$35,$P12),IF($AC12,SUMIFS($AE$18:$AE$35,$P$18:$P$35,$P12),\"\"))))","v":""},{"$f":"IF(OR(AND($Y$11>0,OR($B$8=$P12,$D$8=$P12)),AND($Y$12>0,OR($B$9=$P12,$D$9=$P12))),SUMIF($B$8:$B$9,$P12,$J$8:$J$9)+SUMIF($D$8:$D$9,$P12,$L$8:$L$9),\"\")","v":""}]
[{"$nulls":14},"3.","Schweden",0,0,0,0,0,{"$f":"LARGE($V$4:$V$7,ROW(A3))","v":{"v":50000.00000002,"d":"50,000.0000000"}},false,null,null,{"$f":"VLOOKUP($P13,$E$18:$M$21,8,0)<>\"\"","v":false},{"$f":"VLOOKUP($P13,$E$18:$M$21,9,0)<>\"\"","v":false},false,false,{"$f":"IF($Z13,VLOOKUP($P13,$E$18:$M$21,8,0),IF($AA13,VLOOKUP($P13,$E$18:$M$21,9,0),IF($AB13,SUMIFS($Z$18:$Z$35,$P$18:$P$35,$P13),IF($AC13,SUMIFS($AE$18:$AE$35,$P$18:$P$35,$P13),\"\"))))","v":""},{"$f":"IF(OR(AND($Y$11>0,OR($B$8=$P13,$D$8=$P13)),AND($Y$12>0,OR($B$9=$P13,$D$9=$P13))),SUMIF($B$8:$B$9,$P13,$J$8:$J$9)+SUMIF($D$8:$D$9,$P13,$L$8:$L$9),\"\")","v":""}]
[{"$nulls":14},"4.","Tunesien",0,0,0,0,0,{"$f":"LARGE($V$4:$V$7,ROW(A4))","v":{"v":50000.00000001,"d":"50,000.0000000"}},false,null,null,{"$f":"VLOOKUP($P14,$E$18:$M$21,8,0)<>\"\"","v":false},{"$f":"VLOOKUP($P14,$E$18:$M$21,9,0)<>\"\"","v":false},false,false,{"$f":"IF($Z14,VLOOKUP($P14,$E$18:$M$21,8,0),IF($AA14,VLOOKUP($P14,$E$18:$M$21,9,0),IF($AB14,SUMIFS($Z$18:$Z$35,$P$18:$P$35,$P14),IF($AC14,SUMIFS($AE$18:$AE$35,$P$18:$P$35,$P14),\"\"))))","v":""},{"$f":"IF(OR(AND($Y$11>0,OR($B$8=$P14,$D$8=$P14)),AND($Y$12>0,OR($B$9=$P14,$D$9=$P14))),SUMIF($B$8:$B$9,$P14,$J$8:$J$9)+SUMIF($D$8:$D$9,$P14,$L$8:$L$9),\"\")","v":""}]
[]
[{"$nulls":6},"Direct Comparison of 2",{"$nulls":15},"Direct Comparison of 3",{"$nulls":6},"Direct Comparison of 4",null,{"$f":"AND($Q$4=$Q$5,$Q$4=$Q$6,$Q$4=$Q$7)","v":true}]
[{"$nulls":7},{"$f":"LEFT($P$4,3)","v":"Nie"},{"$f":"LEFT($P$5,3)","v":"Jap"},{"$f":"LEFT($P$6,3)","v":"Sch"},{"$f":"LEFT($P$7,3)","v":"Tun"},"DC(2)","DC(4.2)",{"$nulls":3},"Points","GD","For","Against",null,"Pts/GD/For","Rank Col. V","DC(3)","DC(3.2)","DC(3.2)","Results of direct encounters",null,null,"DC(4.3)","DC(4.3.2)"]
[{"$nulls":4},{"$f":"$P$4","v":"Niederlande"},{"$nulls":3},{"$f":"SUMIFS($E$4:$E$9,$B$4:$B$9,$P$4,$D$4:$D$9,$P$5)+SUMIFS($G$4:$G$9,$B$4:$B$9,$P$5,$D$4:$D$9,$P$4)","v":0},{"$f":"SUMIFS($E$4:$E$9,$B$4:$B$9,$P$4,$D$4:$D$9,$P$6)+SUMIFS($G$4:$G$9,$B$4:$B$9,$P$6,$D$4:$D$9,$P$4)","v":0},{"$f":"SUMIFS($E$4:$E$9,$B$4:$B$9,$P$4,$D$4:$D$9,$P$7)+SUMIFS($G$4:$G$9,$B$4:$B$9,$P$7,$D$4:$D$9,$P$4)","v":0},{"$f":"IF(AND($Q$4=$Q$5,$Q$4<>$Q$6,$Q$4<>$Q$7),IF(I18>H19,3,IF(I18=H19,1,0)),IF(AND($Q$4=$Q$6,$Q$4<>$Q$5,$Q$4<>$Q$7),IF(J18>H20,3,IF(J18=H20,1,0)),IF(AND($Q$4=$Q$7,$Q$4<>$Q$5,$Q$4<>$Q$6),IF(K18>H21,3,IF(K18=H21,1,0)),\"\")))","v":""},{"$f":"IF($AF$16,IF(AND($AD$4=$AD$5,$AD$4<>$AD$6,$AD$4<>$AD$7),IF(I18>H19,3,IF(I18=H19,1,0)),IF(AND($AD$4<>$AD$5,$AD$4=$AD$6,$AD$4<>$AD$7),IF(J18>H20,3,IF(J18=H20,1,0)),IF(AND($AD$4<>$AD$5,$AD$4<>$AD$6,$AD$4=$AD$7),IF(K18>H21,3,IF(K18=H21,1,0)),\"\"))),\"\")","v":""},null,"1.",{"$f":"$P$4","v":"Niederlande"},{"$f":"SUMIFS($H$4:$H$9,$B$4:$B$9,$P18,$D$4:$D$9,\"<>\"&$P$21)+SUMIFS($I$4:$I$9,$B$4:$B$9,\"<>\"&$P$21,$D$4:$D$9,$P18)","v":0},{"$f":"S18-T18","v":0},{"$f":"SUMIFS($E$4:$E$9,$B$4:$B$9,$P18,$D$4:$D$9,\"<>\"&$P$21)+SUMIFS($G$4:$G$9,$B$4:$B$9,\"<>\"&$P$21,$D$4:$D$9,$P18)","v":0},{"$f":"SUMIFS($G$4:$G$9,$B$4:$B$9,$P18,$D$4:$D$9,\"<>\"&$P$21)+SUMIFS($E$4:$E$9,$B$4:$B$9,\"<>\"&$P$21,$D$4:$D$9,$P18)","v":0},null,{"$f":"Q18*FactorPts+(GDzero+R18)*FactorGD+S18*FactorFor","v":{"v":50000,"d":"50,000"}},{"$f":"RANK(V18,V$18:V$20,1)","v":1},{"$f":"IF(AND($Q$4=$Q$5,$Q$4=$Q$6,$Q$4<>$Q$7),W18,0)","v":0},{"$f":"IF(AND(V18=V19,V18<>V20),IF(AA18>AA19,3,IF(AA18=AA19,1,0)),IF(AND(V18=V20,V18<>V19),IF(AB18>AB20,3,IF(AB18=AB20,1,0)),\"\"))","v":""},{"$f":"IF(X18>0,Y18,\"\")","v":""},{"$f":"$I$18","v":0},{"$f":"$J$18","v":0},null,{"$f":"IF(AND($AF$16,$AD$4=$AD$5,$AD$4=$AD$6,$AD$4<>$AD$7),W18,0)","v":0},{"$f":"IF(AD18>0,Y18,\"\")","v":""}]
[{"$nulls":4},{"$f":"$P$5","v":"Japan"},null,null,{"$f":"SUMIFS($E$4:$E$9,$B$4:$B$9,$P$5,$D$4:$D$9,$P$4)+SUMIFS($G$4:$G$9,$B$4:$B$9,$P$4,$D$4:$D$9,$P$5)","v":0},null,{"$f":"SUMIFS($E$4:$E$9,$B$4:$B$9,$P$5,$D$4:$D$9,$P$6)+SUMIFS($G$4:$G$9,$B$4:$B$9,$P$6,$D$4:$D$9,$P$5)","v":0},{"$f":"SUMIFS($E$4:$E$9,$B$4:$B$9,$P$5,$D$4:$D$9,$P$7)+SUMIFS($G$4:$G$9,$B$4:$B$9,$P$7,$D$4:$D$9,$P$5)","v":0},{"$f":"IF(AND($Q$5=$Q$4,$Q$5<>$Q$6,$Q$5<>$Q$7),IF(H19>I18,3,IF(H19=I18,1,0)),IF(AND($Q$5=$Q$6,$Q$5<>$Q$4,$Q$5<>$Q$7),IF(J19>I20,3,IF(J19=I20,1,0)),IF(AND($Q$5=$Q$7,$Q$5<>$Q$4,$Q$5<>$Q$6),IF(K19>I21,3,IF(K19=I21,1,0)),\"\")))","v":""},{"$f":"IF($AF$16,IF(AND($AD$5=$AD$4,$AD$5<>$AD$6,$AD$5<>$AD$7),IF(H19>I18,3,IF(H19=I18,1,0)),IF(AND($AD$5<>$AD$4,$AD$5=$AD$6,$AD$5<>$AD$7),IF(J19>I20,3,IF(J19=I20,1,0)),IF(AND($AD$5<>$AD$4,$AD$5<>$AD$6,$AD$5=$AD$7),IF(K19>I21,3,IF(K19=I21,1,0)),\"\"))),\"\")","v":""},null,"2.",{"$f":"$P$5","v":"Japan"},{"$f":"SUMIFS($H$4:$H$9,$B$4:$B$9,$P19,$D$4:$D$9,\"<>\"&$P$21)+SUMIFS($I$4:$I$9,$B$4:$B$9,\"<>\"&$P$21,$D$4:$D$9,$P19)","v":0},{"$f":"S19-T19","v":0},{"$f":"SUMIFS($E$4:$E$9,$B$4:$B$9,$P19,$D$4:$D$9,\"<>\"&$P$21)+SUMIFS($G$4:$G$9,$B$4:$B$9,\"<>\"&$P$21,$D$4:$D$9,$P19)","v":0},{"$f":"SUMIFS($G$4:$G$9,$B$4:$B$9,$P19,$D$4:$D$9,\"<>\"&$P$21)+SUMIFS($E$4:$E$9,$B$4:$B$9,\"<>\"&$P$21,$D$4:$D$9,$P19)","v":0},null,{"$f":"Q19*FactorPts+(GDzero+R19)*FactorGD+S19*FactorFor","v":{"v":50000,"d":"50,000"}},{"$f":"RANK(V19,V$18:V$20,1)","v":1},{"$f":"IF(AND($Q$4=$Q$5,$Q$4=$Q$6,$Q$4<>$Q$7),W19,0)","v":0},{"$f":"IF(AND(V19=V18,V19<>V20),IF(AA19>AA18,3,IF(AA19=AA18,1,0)),IF(AND(V19=V20,V19<>V18),IF(AC19>AC20,3,IF(AC19=AC20,1,0)),\"\"))","v":""},{"$f":"IF(X19>0,Y19,\"\")","v":""},{"$f":"$H$19","v":0},null,{"$f":"$J$19","v":0},{"$f":"IF(AND($AF$16,$AD$4=$AD$5,$AD$4=$AD$6,$AD$4<>$AD$7),W19,0)","v":0},{"$f":"IF(AD19>0,Y19,\"\")","v":""}]
[{"$nulls":4},{"$f":"$P$6","v":"Schweden"},null,null,{"$f":"SUMIFS($E$4:$E$9,$B$4:$B$9,$P$6,$D$4:$D$9,$P$4)+SUMIFS($G$4:$G$9,$B$4:$B$9,$P$4,$D$4:$D$9,$P$6)","v":0},{"$f":"SUMIFS($E$4:$E$9,$B$4:$B$9,$P$6,$D$4:$D$9,$P$5)+SUMIFS($G$4:$G$9,$B$4:$B$9,$P$5,$D$4:$D$9,$P$6)","v":0},null,{"$f":"SUMIFS($E$4:$E$9,$B$4:$B$9,$P$6,$D$4:$D$9,$P$7)+SUMIFS($G$4:$G$9,$B$4:$B$9,$P$7,$D$4:$D$9,$P$6)","v":0},{"$f":"IF(AND($Q$6=$Q$4,$Q$6<>$Q$5,$Q$6<>$Q$7),IF(H20>J18,3,IF(H20=J18,1,0)),IF(AND($Q$6=$Q$5,$Q$6<>$Q$4,$Q$6<>$Q$7),IF(I20>J19,3,IF(I20=J19,1,0)),IF(AND($Q$6=$Q$7,$Q$6<>$Q$4,$Q$6<>$Q$5),IF(K20>J21,3,IF(K20=J21,1,0)),\"\")))","v":""},{"$f":"IF($AF$16,IF(AND($AD$6=$AD$4,$AD$6<>$AD$5,$AD$6<>$AD$7),IF(H20>J18,3,IF(H20=J18,1,0)),IF(AND($AD$6<>$AD$4,$AD$6=$AD$5,$AD$6<>$AD$7),IF(I20>J19,3,IF(I20=J19,1,0)),IF(AND($AD$6<>$AD$4,$AD$6<>$AD$5,$AD$6=$AD$7),IF(K20>J21,3,IF(K20=J21,1,0)),\"\"))),\"\")","v":""},null,"3.",{"$f":"$P$6","v":"Schweden"},{"$f":"SUMIFS($H$4:$H$9,$B$4:$B$9,$P20,$D$4:$D$9,\"<>\"&$P$21)+SUMIFS($I$4:$I$9,$B$4:$B$9,\"<>\"&$P$21,$D$4:$D$9,$P20)","v":0},{"$f":"S20-T20","v":0},{"$f":"SUMIFS($E$4:$E$9,$B$4:$B$9,$P20,$D$4:$D$9,\"<>\"&$P$21)+SUMIFS($G$4:$G$9,$B$4:$B$9,\"<>\"&$P$21,$D$4:$D$9,$P20)","v":0},{"$f":"SUMIFS($G$4:$G$9,$B$4:$B$9,$P20,$D$4:$D$9,\"<>\"&$P$21)+SUMIFS($E$4:$E$9,$B$4:$B$9,\"<>\"&$P$21,$D$4:$D$9,$P20)","v":0},null,{"$f":"Q20*FactorPts+(GDzero+R20)*FactorGD+S20*FactorFor","v":{"v":50000,"d":"50,000"}},{"$f":"RANK(V20,V$18:V$20,1)","v":1},{"$f":"IF(AND($Q$4=$Q$5,$Q$4=$Q$6,$Q$4<>$Q$7),W20,0)","v":0},{"$f":"IF(AND(V20=V18,V20<>V19),IF(AB20>AB18,3,IF(AB20=AB18,1,0)),IF(AND(V20=V19,V20<>V18),IF(AC20>AC19,3,IF(AC20=AC19,1,0)),\"\"))","v":""},"",null,{"$f":"$H$20","v":0},{"$f":"$I$20","v":0},{"$f":"IF(AND($AF$16,$AD$4=$AD$5,$AD$4=$AD$6,$AD$4<>$AD$7),W20,0)","v":0},""]
[{"$nulls":4},{"$f":"$P$7","v":"Tunesien"},null,null,{"$f":"SUMIFS($E$4:$E$9,$B$4:$B$9,$P$7,$D$4:$D$9,$P$4)+SUMIFS($G$4:$G$9,$B$4:$B$9,$P$4,$D$4:$D$9,$P$7)","v":0},{"$f":"SUMIFS($E$4:$E$9,$B$4:$B$9,$P$7,$D$4:$D$9,$P$5)+SUMIFS($G$4:$G$9,$B$4:$B$9,$P$5,$D$4:$D$9,$P$7)","v":0},{"$f":"SUMIFS($E$4:$E$9,$B$4:$B$9,$P$7,$D$4:$D$9,$P$6)+SUMIFS($G$4:$G$9,$B$4:$B$9,$P$6,$D$4:$D$9,$P$7)","v":0},null,{"$f":"IF(AND($Q$7=$Q$4,$Q$7<>$Q$5,$Q$7<>$Q$6),IF(H21>K18,3,IF(H21=K18,1,0)),IF(AND($Q$7=$Q$5,$Q$7<>$Q$4,$Q$7<>$Q$6),IF(I21>K19,3,IF(I21=K19,1,0)),IF(AND($Q$7=$Q$6,$Q$7<>$Q$4,$Q$7<>$Q$5),IF(J21>K20,3,IF(J21=K20,1,0)),\"\")))","v":""},{"$f":"IF($AF$16,IF(AND($AD$7=$AD$4,$AD$7<>$AD$5,$AD$7<>$AD$6),IF(H21>K18,3,IF(H21=K18,1,0)),IF(AND($AD$7<>$AD$4,$AD$7=$AD$5,$AD$7<>$AD$6),IF(I21>K19,3,IF(I21=K19,1,0)),IF(AND($AD$7<>$AD$4,$AD$7<>$AD$5,$AD$7=$AD$6),IF(J21>K20,3,IF(J21=K20,1,0)),\"\"))),\"\")","v":""},null,null,{"$f":"$P$7","v":"Tunesien"}]
[]
[{"$nulls":14},"1.",{"$f":"$P$4","v":"Niederlande"},{"$f":"SUMIFS($H$4:$H$9,$B$4:$B$9,$P23,$D$4:$D$9,\"<>\"&$P$26)+SUMIFS($I$4:$I$9,$B$4:$B$9,\"<>\"&$P$26,$D$4:$D$9,$P23)","v":0},{"$f":"S23-T23","v":0},{"$f":"SUMIFS($E$4:$E$9,$B$4:$B$9,$P23,$D$4:$D$9,\"<>\"&$P$26)+SUMIFS($G$4:$G$9,$B$4:$B$9,\"<>\"&$P$26,$D$4:$D$9,$P23)","v":0},{"$f":"SUMIFS($G$4:$G$9,$B$4:$B$9,$P23,$D$4:$D$9,\"<>\"&$P$26)+SUMIFS($E$4:$E$9,$B$4:$B$9,\"<>\"&$P$26,$D$4:$D$9,$P23)","v":0},null,{"$f":"Q23*FactorPts+(GDzero+R23)*FactorGD+S23*FactorFor","v":{"v":50000,"d":"50,000"}},{"$f":"RANK(V23,V$23:V$25,1)","v":1},{"$f":"IF(AND($Q$4=$Q$5,$Q$4=$Q$7,$Q$4<>$Q$6),W23,0)","v":0},{"$f":"IF(AND(V23=V24,V23<>V25),IF(AA23>AA24,3,IF(AA23=AA24,1,0)),IF(AND(V23=V25,V23<>V24),IF(AB23>AB25,3,IF(AB23=AB25,1,0)),\"\"))","v":""},{"$f":"IF(X23>0,Y23,\"\")","v":""},{"$f":"$I$18","v":0},{"$f":"$K$18","v":0},null,{"$f":"IF(AND($AF$16,$AD$4=$AD$5,$AD$4=$AD$7,$AD$4<>$AD$6),W23,0)","v":0},{"$f":"IF(AD23>0,Y23,\"\")","v":""}]
[{"$nulls":14},"2.",{"$f":"$P$5","v":"Japan"},{"$f":"SUMIFS($H$4:$H$9,$B$4:$B$9,$P24,$D$4:$D$9,\"<>\"&$P$26)+SUMIFS($I$4:$I$9,$B$4:$B$9,\"<>\"&$P$26,$D$4:$D$9,$P24)","v":0},{"$f":"S24-T24","v":0},{"$f":"SUMIFS($E$4:$E$9,$B$4:$B$9,$P24,$D$4:$D$9,\"<>\"&$P$26)+SUMIFS($G$4:$G$9,$B$4:$B$9,\"<>\"&$P$26,$D$4:$D$9,$P24)","v":0},{"$f":"SUMIFS($G$4:$G$9,$B$4:$B$9,$P24,$D$4:$D$9,\"<>\"&$P$26)+SUMIFS($E$4:$E$9,$B$4:$B$9,\"<>\"&$P$26,$D$4:$D$9,$P24)","v":0},null,{"$f":"Q24*FactorPts+(GDzero+R24)*FactorGD+S24*FactorFor","v":{"v":50000,"d":"50,000"}},{"$f":"RANK(V24,V$23:V$25,1)","v":1},{"$f":"IF(AND($Q$4=$Q$5,$Q$4=$Q$7,$Q$4<>$Q$6),W24,0)","v":0},{"$f":"IF(AND(V24=V23,V24<>V25),IF(AA24>AA23,3,IF(AA24=AA23,1,0)),IF(AND(V24=V25,V24<>V23),IF(AC24>AC25,3,IF(AC24=AC25,1,0)),\"\"))","v":""},{"$f":"IF(X24>0,Y24,\"\")","v":""},{"$f":"$H$19","v":0},null,{"$f":"$K$19","v":0},{"$f":"IF(AND($AF$16,$AD$4=$AD$5,$AD$4=$AD$7,$AD$4<>$AD$6),W24,0)","v":0},{"$f":"IF(AD24>0,Y24,\"\")","v":""}]
[{"$nulls":14},"3.",{"$f":"$P$7","v":"Tunesien"},{"$f":"SUMIFS($H$4:$H$9,$B$4:$B$9,$P25,$D$4:$D$9,\"<>\"&$P$26)+SUMIFS($I$4:$I$9,$B$4:$B$9,\"<>\"&$P$26,$D$4:$D$9,$P25)","v":0},{"$f":"S25-T25","v":0},{"$f":"SUMIFS($E$4:$E$9,$B$4:$B$9,$P25,$D$4:$D$9,\"<>\"&$P$26)+SUMIFS($G$4:$G$9,$B$4:$B$9,\"<>\"&$P$26,$D$4:$D$9,$P25)","v":0},{"$f":"SUMIFS($G$4:$G$9,$B$4:$B$9,$P25,$D$4:$D$9,\"<>\"&$P$26)+SUMIFS($E$4:$E$9,$B$4:$B$9,\"<>\"&$P$26,$D$4:$D$9,$P25)","v":0},null,{"$f":"Q25*FactorPts+(GDzero+R25)*FactorGD+S25*FactorFor","v":{"v":50000,"d":"50,000"}},{"$f":"RANK(V25,V$23:V$25,1)","v":1},{"$f":"IF(AND($Q$4=$Q$5,$Q$4=$Q$7,$Q$4<>$Q$6),W25,0)","v":0},{"$f":"IF(AND(V25=V23,V25<>V24),IF(AB25>AB23,3,IF(AB25=AB23,1,0)),IF(AND(V25=V24,V25<>V23),IF(AC25>AC24,3,IF(AC25=AC24,1,0)),\"\"))","v":""},"",null,{"$f":"$H$21","v":0},{"$f":"$I$21","v":0},{"$f":"IF(AND($AF$16,$AD$4=$AD$5,$AD$4=$AD$7,$AD$4<>$AD$6),W25,0)","v":0},""]
[{"$nulls":15},{"$f":"$P$6","v":"Schweden"}]
[]
[{"$nulls":14},"1.",{"$f":"$P$4","v":"Niederlande"},{"$f":"SUMIFS($H$4:$H$9,$B$4:$B$9,$P28,$D$4:$D$9,\"<>\"&$P$31)+SUMIFS($I$4:$I$9,$B$4:$B$9,\"<>\"&$P$31,$D$4:$D$9,$P28)","v":0},{"$f":"S28-T28","v":0},{"$f":"SUMIFS($E$4:$E$9,$B$4:$B$9,$P28,$D$4:$D$9,\"<>\"&$P$31)+SUMIFS($G$4:$G$9,$B$4:$B$9,\"<>\"&$P$31,$D$4:$D$9,$P28)","v":0},{"$f":"SUMIFS($G$4:$G$9,$B$4:$B$9,$P28,$D$4:$D$9,\"<>\"&$P$31)+SUMIFS($E$4:$E$9,$B$4:$B$9,\"<>\"&$P$31,$D$4:$D$9,$P28)","v":0},null,{"$f":"Q28*FactorPts+(GDzero+R28)*FactorGD+S28*FactorFor","v":{"v":50000,"d":"50,000"}},{"$f":"RANK(V28,V$28:V$30,1)","v":1},{"$f":"IF(AND($Q$4=$Q$6,$Q$4=$Q$7,$Q$4<>$Q$5),W28,0)","v":0},{"$f":"IF(AND(V28=V29,V28<>V30),IF(AA28>AA29,3,IF(AA28=AA29,1,0)),IF(AND(V28=V30,V28<>V29),IF(AB28>AB30,3,IF(AB28=AB30,1,0)),\"\"))","v":""},{"$f":"IF(X28>0,Y28,\"\")","v":""},{"$f":"$J$18","v":0},{"$f":"$K$18","v":0},null,{"$f":"IF(AND($AF$16,$AD$4=$AD$6,$AD$4=$AD$7,$AD$4<>$AD$5),W28,0)","v":0},{"$f":"IF(AD28>0,Y28,\"\")","v":""}]
[{"$nulls":14},"2.",{"$f":"$P$6","v":"Schweden"},{"$f":"SUMIFS($H$4:$H$9,$B$4:$B$9,$P29,$D$4:$D$9,\"<>\"&$P$31)+SUMIFS($I$4:$I$9,$B$4:$B$9,\"<>\"&$P$31,$D$4:$D$9,$P29)","v":0},{"$f":"S29-T29","v":0},{"$f":"SUMIFS($E$4:$E$9,$B$4:$B$9,$P29,$D$4:$D$9,\"<>\"&$P$31)+SUMIFS($G$4:$G$9,$B$4:$B$9,\"<>\"&$P$31,$D$4:$D$9,$P29)","v":0},{"$f":"SUMIFS($G$4:$G$9,$B$4:$B$9,$P29,$D$4:$D$9,\"<>\"&$P$31)+SUMIFS($E$4:$E$9,$B$4:$B$9,\"<>\"&$P$31,$D$4:$D$9,$P29)","v":0},null,{"$f":"Q29*FactorPts+(GDzero+R29)*FactorGD+S29*FactorFor","v":{"v":50000,"d":"50,000"}},{"$f":"RANK(V29,V$28:V$30,1)","v":1},{"$f":"IF(AND($Q$4=$Q$6,$Q$4=$Q$7,$Q$4<>$Q$5),W29,0)","v":0},{"$f":"IF(AND(V29=V28,V29<>V30),IF(AA29>AA28,3,IF(AA29=AA28,1,0)),IF(AND(V29=V30,V29<>V28),IF(AC29>AC30,3,IF(AC29=AC30,1,0)),\"\"))","v":""},{"$f":"IF(X29>0,Y29,\"\")","v":""},{"$f":"$H$20","v":0},null,{"$f":"$K$20","v":0},{"$f":"IF(AND($AF$16,$AD$4=$AD$6,$AD$4=$AD$7,$AD$4<>$AD$5),W29,0)","v":0},{"$f":"IF(AD29>0,Y29,\"\")","v":""}]
[{"$nulls":14},"3.",{"$f":"$P$7","v":"Tunesien"},{"$f":"SUMIFS($H$4:$H$9,$B$4:$B$9,$P30,$D$4:$D$9,\"<>\"&$P$31)+SUMIFS($I$4:$I$9,$B$4:$B$9,\"<>\"&$P$31,$D$4:$D$9,$P30)","v":0},{"$f":"S30-T30","v":0},{"$f":"SUMIFS($E$4:$E$9,$B$4:$B$9,$P30,$D$4:$D$9,\"<>\"&$P$31)+SUMIFS($G$4:$G$9,$B$4:$B$9,\"<>\"&$P$31,$D$4:$D$9,$P30)","v":0},{"$f":"SUMIFS($G$4:$G$9,$B$4:$B$9,$P30,$D$4:$D$9,\"<>\"&$P$31)+SUMIFS($E$4:$E$9,$B$4:$B$9,\"<>\"&$P$31,$D$4:$D$9,$P30)","v":0},null,{"$f":"Q30*FactorPts+(GDzero+R30)*FactorGD+S30*FactorFor","v":{"v":50000,"d":"50,000"}},1,{"$f":"IF(AND($Q$4=$Q$6,$Q$4=$Q$7,$Q$4<>$Q$5),W30,0)","v":0},{"$f":"IF(AND(V30=V28,V30<>V29),IF(AB30>AB28,3,IF(AB30=AB28,1,0)),IF(AND(V30=V29,V30<>V28),IF(AC30>AC29,3,IF(AC30=AC29,1,0)),\"\"))","v":""},"",null,{"$f":"$H$21","v":0},{"$f":"$J$21","v":0},{"$f":"IF(AND($AF$16,$AD$4=$AD$6,$AD$4=$AD$7,$AD$4<>$AD$5),W30,0)","v":0},""]
[{"$nulls":15},{"$f":"$P$5","v":"Japan"}]
[]
[{"$nulls":14},"1.",{"$f":"$P$5","v":"Japan"},{"$f":"SUMIFS($H$4:$H$9,$B$4:$B$9,$P33,$D$4:$D$9,\"<>\"&$P$36)+SUMIFS($I$4:$I$9,$B$4:$B$9,\"<>\"&$P$36,$D$4:$D$9,$P33)","v":0},{"$f":"S33-T33","v":0},{"$f":"SUMIFS($E$4:$E$9,$B$4:$B$9,$P33,$D$4:$D$9,\"<>\"&$P$36)+SUMIFS($G$4:$G$9,$B$4:$B$9,\"<>\"&$P$36,$D$4:$D$9,$P33)","v":0},{"$f":"SUMIFS($G$4:$G$9,$B$4:$B$9,$P33,$D$4:$D$9,\"<>\"&$P$36)+SUMIFS($E$4:$E$9,$B$4:$B$9,\"<>\"&$P$36,$D$4:$D$9,$P33)","v":0},null,{"$f":"Q33*FactorPts+(GDzero+R33)*FactorGD+S33*FactorFor","v":{"v":50000,"d":"50,000"}},{"$f":"RANK(V33,V$33:V$35,1)","v":1},{"$f":"IF(AND($Q$5=$Q$6,$Q$5=$Q$7,$Q$5<>$Q$4),W33,0)","v":0},{"$f":"IF(AND(V33=V34,V33<>V35),IF(AA33>AA34,3,IF(AA33=AA34,1,0)),IF(AND(V33=V35,V33<>V34),IF(AB33>AB35,3,IF(AB33=AB35,1,0)),\"\"))","v":""},{"$f":"IF(X33>0,Y33,\"\")","v":""},{"$f":"$J$19","v":0},{"$f":"$K$19","v":0},null,{"$f":"IF(AND($AF$16,$AD$5=$AD$6,$AD$5=$AD$7,$AD$5<>$AD$4),W33,0)","v":0},{"$f":"IF(AD33>0,Y33,\"\")","v":""}]
[{"$nulls":14},"2.",{"$f":"$P$6","v":"Schweden"},{"$f":"SUMIFS($H$4:$H$9,$B$4:$B$9,$P34,$D$4:$D$9,\"<>\"&$P$36)+SUMIFS($I$4:$I$9,$B$4:$B$9,\"<>\"&$P$36,$D$4:$D$9,$P34)","v":0},{"$f":"S34-T34","v":0},{"$f":"SUMIFS($E$4:$E$9,$B$4:$B$9,$P34,$D$4:$D$9,\"<>\"&$P$36)+SUMIFS($G$4:$G$9,$B$4:$B$9,\"<>\"&$P$36,$D$4:$D$9,$P34)","v":0},{"$f":"SUMIFS($G$4:$G$9,$B$4:$B$9,$P34,$D$4:$D$9,\"<>\"&$P$36)+SUMIFS($E$4:$E$9,$B$4:$B$9,\"<>\"&$P$36,$D$4:$D$9,$P34)","v":0},null,{"$f":"Q34*FactorPts+(GDzero+R34)*FactorGD+S34*FactorFor","v":{"v":50000,"d":"50,000"}},{"$f":"RANK(V34,V$33:V$35,1)","v":1},{"$f":"IF(AND($Q$5=$Q$6,$Q$5=$Q$7,$Q$5<>$Q$4),W34,0)","v":0},{"$f":"IF(AND(V34=V33,V34<>V35),IF(AA34>AA33,3,IF(AA34=AA33,1,0)),IF(AND(V34=V35,V34<>V33),IF(AC34>AC35,3,IF(AC34=AC35,1,0)),\"\"))","v":""},{"$f":"IF(X34>0,Y34,\"\")","v":""},{"$f":"$I$20","v":0},null,{"$f":"$K$20","v":0},{"$f":"IF(AND($AF$16,$AD$5=$AD$6,$AD$5=$AD$7,$AD$5<>$AD$4),W34,0)","v":0},{"$f":"IF(AD34>0,Y34,\"\")","v":""}]
[{"$nulls":14},"3.",{"$f":"$P$7","v":"Tunesien"},{"$f":"SUMIFS($H$4:$H$9,$B$4:$B$9,$P35,$D$4:$D$9,\"<>\"&$P$36)+SUMIFS($I$4:$I$9,$B$4:$B$9,\"<>\"&$P$36,$D$4:$D$9,$P35)","v":0},{"$f":"S35-T35","v":0},{"$f":"SUMIFS($E$4:$E$9,$B$4:$B$9,$P35,$D$4:$D$9,\"<>\"&$P$36)+SUMIFS($G$4:$G$9,$B$4:$B$9,\"<>\"&$P$36,$D$4:$D$9,$P35)","v":0},{"$f":"SUMIFS($G$4:$G$9,$B$4:$B$9,$P35,$D$4:$D$9,\"<>\"&$P$36)+SUMIFS($E$4:$E$9,$B$4:$B$9,\"<>\"&$P$36,$D$4:$D$9,$P35)","v":0},null,{"$f":"Q35*FactorPts+(GDzero+R35)*FactorGD+S35*FactorFor","v":{"v":50000,"d":"50,000"}},{"$f":"RANK(V35,V$33:V$35,1)","v":1},{"$f":"IF(AND($Q$5=$Q$6,$Q$5=$Q$7,$Q$5<>$Q$4),W35,0)","v":0},{"$f":"IF(AND(V35=V33,V35<>V34),IF(AB35>AB33,3,IF(AB35=AB33,1,0)),IF(AND(V35=V34,V35<>V33),IF(AC35>AC34,3,IF(AC35=AC34,1,0)),\"\"))","v":""},"",null,{"$f":"$I$21","v":0},{"$f":"$J$21","v":0},{"$f":"IF(AND($AF$16,$AD$5=$AD$6,$AD$5=$AD$7,$AD$5<>$AD$4),W35,0)","v":0},""]
[{"$nulls":15},{"$f":"$P$4","v":"Niederlande"}]

{"sheet":"GrpG_Tipps","index":21,"n_rows":36,"n_cols":33,"rows_kept":36,"hidden":true,"merged":[[2,1,2,3],[2,4,2,6],[2,7,2,8],[2,9,2,11],[8,25,8,30],[15,6,15,11],[15,22,15,25],[15,29,15,30],[16,26,16,28],[17,4,17,6],[18,4,18,6],[19,4,19,6],[20,4,20,6]]}
[null,"Group","G","Tipps"]
[]
[null,"Match",null,null,"Score",null,null,"Points",null,"Penalty",null,null,"valid",{"$nulls":3},"Points","GD","For","Against","Wins","Coefficient","Dir. Comp. (3)","Dir. Comp. (2)","Dir. Comp. (4.3)","Dir. Comp. (4.3.2)","Dir. Comp. (4.2)","Fair play","match count > 0","Pts/GD/For","Penalty","Ranking","Played"]
[null,{"$f":"INDEX(Meine_Tipps!$B$13:$AJ$38,1,1+(CODE($C$1)-65)*3)","v":"Iran"},"-",{"$f":"INDEX(Meine_Tipps!$B$13:$AJ$38,1,2+(CODE($C$1)-65)*3)","v":"Neuseeland"},{"$f":"IF(OR(INDEX(Meine_Tipps!$B$14:$AJ$39,1,1+(CODE($C$1)-65)*3)=\"\",INDEX(Meine_Tipps!$B$14:$AJ$39,1,2+(CODE($C$1)-65)*3)=\"\"),\"\",INDEX(Meine_Tipps!$B$14:$AJ$39,1,1+(CODE($C$1)-65)*3))","v":""},"-",{"$f":"IF(OR(INDEX(Meine_Tipps!$B$14:$AJ$39,1,1+(CODE($C$1)-65)*3)=\"\",INDEX(Meine_Tipps!$B$14:$AJ$39,1,2+(CODE($C$1)-65)*3)=\"\"),\"\",INDEX(Meine_Tipps!$B$14:$AJ$39,1,2+(CODE($C$1)-65)*3))","v":""},{"$f":"IF($M4>0,IF($E4>$G4,3,IF($E4=$G4,1,0)),0)","v":0},{"$f":"IF($M4>0,IF($E4<$G4,3,IF($E4=$G4,1,0)),0)","v":0},{"$nulls":3},{"$f":"IF(AND($E4<>\"\",$G4<>\"\"),1,0)","v":0},null,"1.",{"$f":"VLOOKUP($C$1&ROW($A1),Groups_Tipps!$B$7:$D$65,3,0)","v":"Belgien"},{"$f":"SUMIF($B$4:$B$9,P4,$H$4:$H$9)+SUMIF($D$4:$D$9,P4,$I$4:$I$9)","v":0},{"$f":"S4-T4","v":0},{"$f":"SUMIF($B$4:$B$9,$P4,$E$4:$E$9)+SUMIF($D$4:$D$9,$P4,$G$4:$G$9)","v":0},{"$f":"SUMIF($B$4:$B$9,$P4,$G$4:$G$9)+SUMIF($D$4:$D$9,$P4,$E$4:$E$9)","v":0},{"$f":"COUNTIFS($B$4:$B$9,$P4,$H$4:$H$9,\"=3\")+COUNTIFS($D$4:$D$9,$P4,$I$4:$I$9,\"=3\")","v":0},{"$f":"$Q4*FactorPts+(GDzero+$R4)*FactorGD+$S4*FactorFor+$U4*FactorWins+$W4*FactorDirC3+$X4*FactorDirC2+$Y4*FactorDirC43+$Z4*FactorDirC42+$AA4*FactorDirC42+$AB4*FactorFairPlay+$AE4*FactorPenalty+(100-$AF4)*($M$10>0)*FactorRank+(8-ROW())*FactorRow","v":{"v":50000.00000004,"d":"50,000.0000000"}},{"$f":"SUMIFS($X$18:$X$35,$P$18:$P$35,$P4)","v":0},{"$f":"IF($L18=\"\",0,$L18)+SUMIFS($Z$18:$Z$35,$P$18:$P$35,$P4)","v":0},{"$f":"SUMIFS($AD$18:$AD$35,$P$18:$P$35,$P4)","v":0},{"$f":"SUMIFS($AE$18:$AE$35,$P$18:$P$35,$P4)","v":0},{"$f":"IF($M18=\"\",0,$M18)","v":0},{"$f":"SUMIFS(FairPlayPoints1,FairPlayTeams1,P4)+SUMIFS(FairPlayPoints2,FairPlayTeams2,P4)+SUMIFS(FairPlayPoints3,FairPlayTeams3,P4)","v":0},{"$f":"(Q4+T4>0)","v":false},{"$f":"$Q4*FactorPts+(GDzero+$R4)*FactorGD+$S4*FactorFor","v":{"v":50000,"d":"50,000"}},0,{"$f":"VLOOKUP(P4,Sprache_Tipps!E:F,2,0)","v":9},{"$f":"OR($Q4>0,$T4>0)","v":false}]
[null,{"$f":"INDEX(Meine_Tipps!$B$13:$AJ$38,6,1+(CODE($C$1)-65)*3)","v":"Belgien"},"-",{"$f":"INDEX(Meine_Tipps!$B$13:$AJ$38,6,2+(CODE($C$1)-65)*3)","v":"Ägypten"},{"$f":"IF(OR(INDEX(Meine_Tipps!$B$14:$AJ$39,6,1+(CODE($C$1)-65)*3)=\"\",INDEX(Meine_Tipps!$B$14:$AJ$39,6,2+(CODE($C$1)-65)*3)=\"\"),\"\",INDEX(Meine_Tipps!$B$14:$AJ$39,6,1+(CODE($C$1)-65)*3))","v":""},"-",{"$f":"IF(OR(INDEX(Meine_Tipps!$B$14:$AJ$39,6,1+(CODE($C$1)-65)*3)=\"\",INDEX(Meine_Tipps!$B$14:$AJ$39,6,2+(CODE($C$1)-65)*3)=\"\"),\"\",INDEX(Meine_Tipps!$B$14:$AJ$39,6,2+(CODE($C$1)-65)*3))","v":""},0,0,{"$nulls":3},0,null,"2.",{"$f":"VLOOKUP($C$1&ROW($A2),Groups_Tipps!$B$7:$D$65,3,0)","v":"Ägypten"},{"$f":"SUMIF($B$4:$B$9,P5,$H$4:$H$9)+SUMIF($D$4:$D$9,P5,$I$4:$I$9)","v":0},{"$f":"S5-T5","v":0},{"$f":"SUMIF($B$4:$B$9,$P5,$E$4:$E$9)+SUMIF($D$4:$D$9,$P5,$G$4:$G$9)","v":0},{"$f":"SUMIF($B$4:$B$9,$P5,$G$4:$G$9)+SUMIF($D$4:$D$9,$P5,$E$4:$E$9)","v":0},{"$f":"COUNTIFS($B$4:$B$9,$P5,$H$4:$H$9,\"=3\")+COUNTIFS($D$4:$D$9,$P5,$I$4:$I$9,\"=3\")","v":0},{"$f":"$Q5*FactorPts+(GDzero+$R5)*FactorGD+$S5*FactorFor+$U5*FactorWins+$W5*FactorDirC3+$X5*FactorDirC2+$Y5*FactorDirC43+$Z5*FactorDirC42+$AA5*FactorDirC42+$AB5*FactorFairPlay+$AE5*FactorPenalty+(100-$AF5)*($M$10>0)*FactorRank+(8-ROW())*FactorRow","v":{"v":50000.00000003,"d":"50,000.0000000"}},{"$f":"SUMIFS($X$18:$X$35,$P$18:$P$35,$P5)","v":0},{"$f":"IF($L19=\"\",0,$L19)+SUMIFS($Z$18:$Z$35,$P$18:$P$35,$P5)","v":0},{"$f":"SUMIFS($AD$18:$AD$35,$P$18:$P$35,$P5)","v":0},{"$f":"SUMIFS($AE$18:$AE$35,$P$18:$P$35,$P5)","v":0},{"$f":"IF($M19=\"\",0,$M19)","v":0},{"$f":"SUMIFS(FairPlayPoints1,FairPlayTeams1,P5)+SUMIFS(FairPlayPoints2,FairPlayTeams2,P5)+SUMIFS(FairPlayPoints3,FairPlayTeams3,P5)","v":0},{"$f":"(Q5+T5>0)","v":false},{"$f":"$Q5*FactorPts+(GDzero+$R5)*FactorGD+$S5*FactorFor","v":{"v":50000,"d":"50,000"}},0,{"$f":"VLOOKUP(P5,Sprache_Tipps!E:F,2,0)","v":29},{"$f":"OR($Q5>0,$T5>0)","v":false}]
[null,{"$f":"INDEX(Meine_Tipps!$B$13:$AJ$38,11,1+(CODE($C$1)-65)*3)","v":"Belgien"},"-",{"$f":"INDEX(Meine_Tipps!$B$13:$AJ$38,11,2+(CODE($C$1)-65)*3)","v":"Iran"},{"$f":"IF(OR(INDEX(Meine_Tipps!$B$14:$AJ$39,11,1+(CODE($C$1)-65)*3)=\"\",INDEX(Meine_Tipps!$B$14:$AJ$39,11,2+(CODE($C$1)-65)*3)=\"\"),\"\",INDEX(Meine_Tipps!$B$14:$AJ$39,11,1+(CODE($C$1)-65)*3))","v":""},"-",{"$f":"IF(OR(INDEX(Meine_Tipps!$B$14:$AJ$39,11,1+(CODE($C$1)-65)*3)=\"\",INDEX(Meine_Tipps!$B$14:$AJ$39,11,2+(CODE($C$1)-65)*3)=\"\"),\"\",INDEX(Meine_Tipps!$B$14:$AJ$39,11,2+(CODE($C$1)-65)*3))","v":""},0,0,{"$nulls":3},0,null,"3.",{"$f":"VLOOKUP($C$1&ROW($A3),Groups_Tipps!$B$7:$D$65,3,0)","v":"Iran"},0,{"$f":"S6-T6","v":0},{"$f":"SUMIF($B$4:$B$9,$P6,$E$4:$E$9)+SUMIF($D$4:$D$9,$P6,$G$4:$G$9)","v":0},{"$f":"SUMIF($B$4:$B$9,$P6,$G$4:$G$9)+SUMIF($D$4:$D$9,$P6,$E$4:$E$9)","v":0},{"$f":"COUNTIFS($B$4:$B$9,$P6,$H$4:$H$9,\"=3\")+COUNTIFS($D$4:$D$9,$P6,$I$4:$I$9,\"=3\")","v":0},{"$f":"$Q6*FactorPts+(GDzero+$R6)*FactorGD+$S6*FactorFor+$U6*FactorWins+$W6*FactorDirC3+$X6*FactorDirC2+$Y6*FactorDirC43+$Z6*FactorDirC42+$AA6*FactorDirC42+$AB6*FactorFairPlay+$AE6*FactorPenalty+(100-$AF6)*($M$10>0)*FactorRank+(8-ROW())*FactorRow","v":{"v":50000.00000002,"d":"50,000.0000000"}},0,{"$f":"IF($L20=\"\",0,$L20)+SUMIFS($Z$18:$Z$35,$P$18:$P$35,$P6)","v":0},0,0,{"$f":"IF($M20=\"\",0,$M20)","v":0},{"$f":"SUMIFS(FairPlayPoints1,FairPlayTeams1,P6)+SUMIFS(FairPlayPoints2,FairPlayTeams2,P6)+SUMIFS(FairPlayPoints3,FairPlayTeams3,P6)","v":0},{"$f":"(Q6+T6>0)","v":false},{"$f":"$Q6*FactorPts+(GDzero+$R6)*FactorGD+$S6*FactorFor","v":{"v":50000,"d":"50,000"}},0,{"$f":"VLOOKUP(P6,Sprache_Tipps!E:F,2,0)","v":21},false]
[null,{"$f":"INDEX(Meine_Tipps!$B$13:$AJ$38,16,1+(CODE($C$1)-65)*3)","v":"Neuseeland"},"-",{"$f":"INDEX(Meine_Tipps!$B$13:$AJ$38,16,2+(CODE($C$1)-65)*3)","v":"Ägypten"},{"$f":"IF(OR(INDEX(Meine_Tipps!$B$14:$AJ$39,16,1+(CODE($C$1)-65)*3)=\"\",INDEX(Meine_Tipps!$B$14:$AJ$39,16,2+(CODE($C$1)-65)*3)=\"\"),\"\",INDEX(Meine_Tipps!$B$14:$AJ$39,16,1+(CODE($C$1)-65)*3))","v":""},"-",{"$f":"IF(OR(INDEX(Meine_Tipps!$B$14:$AJ$39,16,1+(CODE($C$1)-65)*3)=\"\",INDEX(Meine_Tipps!$B$14:$AJ$39,16,2+(CODE($C$1)-65)*3)=\"\"),\"\",INDEX(Meine_Tipps!$B$14:$AJ$39,16,2+(CODE($C$1)-65)*3))","v":""},0,0,{"$nulls":3},0,null,"4.",{"$f":"VLOOKUP($C$1&ROW($A4),Groups_Tipps!$B$7:$D$65,3,0)","v":"Neuseeland"},0,{"$f":"S7-T7","v":0},{"$f":"SUMIF($B$4:$B$9,$P7,$E$4:$E$9)+SUMIF($D$4:$D$9,$P7,$G$4:$G$9)","v":0},{"$f":"SUMIF($B$4:$B$9,$P7,$G$4:$G$9)+SUMIF($D$4:$D$9,$P7,$E$4:$E$9)","v":0},{"$f":"COUNTIFS($B$4:$B$9,$P7,$H$4:$H$9,\"=3\")+COUNTIFS($D$4:$D$9,$P7,$I$4:$I$9,\"=3\")","v":0},{"$f":"$Q7*FactorPts+(GDzero+$R7)*FactorGD+$S7*FactorFor+$U7*FactorWins+$W7*FactorDirC3+$X7*FactorDirC2+$Y7*FactorDirC43+$Z7*FactorDirC42+$AA7*FactorDirC42+$AB7*FactorFairPlay+$AE7*FactorPenalty+(100-$AF7)*($M$10>0)*FactorRank+(8-ROW())*FactorRow","v":{"v":50000.00000001,"d":"50,000.0000000"}},0,{"$f":"IF($L21=\"\",0,$L21)+SUMIFS($Z$18:$Z$35,$P$18:$P$35,$P7)","v":0},0,0,{"$f":"IF($M21=\"\",0,$M21)","v":0},{"$f":"SUMIFS(FairPlayPoints1,FairPlayTeams1,P7)+SUMIFS(FairPlayPoints2,FairPlayTeams2,P7)+SUMIFS(FairPlayPoints3,FairPlayTeams3,P7)","v":0},{"$f":"(Q7+T7>0)","v":false},{"$f":"$Q7*FactorPts+(GDzero+$R7)*FactorGD+$S7*FactorFor","v":{"v":50000,"d":"50,000"}},0,{"$f":"VLOOKUP(P7,Sprache_Tipps!E:F,2,0)","v":85},false]
[null,{"$f":"INDEX(Meine_Tipps!$B$13:$AJ$38,21,1+(CODE($C$1)-65)*3)","v":"Ägypten"},"-",{"$f":"INDEX(Meine_Tipps!$B$13:$AJ$38,21,2+(CODE($C$1)-65)*3)","v":"Iran"},{"$f":"IF(OR(INDEX(Meine_Tipps!$B$14:$AJ$39,21,1+(CODE($C$1)-65)*3)=\"\",INDEX(Meine_Tipps!$B$14:$AJ$39,21,2+(CODE($C$1)-65)*3)=\"\"),\"\",INDEX(Meine_Tipps!$B$14:$AJ$39,21,1+(CODE($C$1)-65)*3))","v":""},"-",{"$f":"IF(OR(INDEX(Meine_Tipps!$B$14:$AJ$39,21,1+(CODE($C$1)-65)*3)=\"\",INDEX(Meine_Tipps!$B$14:$AJ$39,21,2+(CODE($C$1)-65)*3)=\"\"),\"\",INDEX(Meine_Tipps!$B$14:$AJ$39,21,2+(CODE($C$1)-65)*3))","v":""},0,0,{"$nulls":3},0]
[null,{"$f":"INDEX(Meine_Tipps!$B$13:$AJ$38,26,1+(CODE($C$1)-65)*3)","v":"Neuseeland"},"-",{"$f":"INDEX(Meine_Tipps!$B$13:$AJ$38,26,2+(CODE($C$1)-65)*3)","v":"Belgien"},{"$f":"IF(OR(INDEX(Meine_Tipps!$B$14:$AJ$39,26,1+(CODE($C$1)-65)*3)=\"\",INDEX(Meine_Tipps!$B$14:$AJ$39,26,2+(CODE($C$1)-65)*3)=\"\"),\"\",INDEX(Meine_Tipps!$B$14:$AJ$39,26,1+(CODE($C$1)-65)*3))","v":""},"-",{"$f":"IF(OR(INDEX(Meine_Tipps!$B$14:$AJ$39,26,1+(CODE($C$1)-65)*3)=\"\",INDEX(Meine_Tipps!$B$14:$AJ$39,26,2+(CODE($C$1)-65)*3)=\"\"),\"\",INDEX(Meine_Tipps!$B$14:$AJ$39,26,2+(CODE($C$1)-65)*3))","v":""},0,0,{"$nulls":3},0,{"$nulls":12},"For showing direct comparisons of 2 on sheet \"Direct comparisons\""]
[{"$nulls":11},"Sum:",{"$f":"SUM($M$4:$M$9)","v":0},null,null,"Sorted list","Points","GD","For","Against","wins","Coefficient","Played","Red dot","Penalty (?)","DC(2) ?","DC(4.2) ?","DC(3.2) ?","DC(4.3.2) ?","All Dir.C. (2)","Penalty"]
[{"$nulls":14},"1.",{"$f":"INDEX(P$4:P$7,MATCH($V11,$V$4:$V$7,0))","v":"Belgien"},0,0,0,0,0,{"$f":"LARGE($V$4:$V$7,ROW(A1))","v":{"v":50000.00000004,"d":"50,000.0000000"}},{"$f":"OR($Q11>0,$T11>0)","v":false},{"$f":"IF(AND(OR(TRUNC($V$11,4)=TRUNC($V$12,4),TRUNC($V$11,4)=TRUNC($V$13,4),TRUNC($V$11,4)=TRUNC($V$14,4),TRUNC($V$12,4)=TRUNC($V$13,4),TRUNC($V$12,4)=TRUNC($V$14,4),TRUNC($V$13,4)=TRUNC($V$14,4)),$M$10>0),1,0)","v":0},{"$f":"IF(AND(VLOOKUP($B$8,$P$4:$AD$7,15,0)=VLOOKUP($D$8,$P$4:$AD$7,15,0),$E$8=$G$8,COUNTIF($Q$4:$Q$7,VLOOKUP($B$8,$P$4:$Q$7,2,0))=2,$M$10=6),1,0)","v":0},{"$f":"VLOOKUP($P11,$E$18:$M$21,8,0)<>\"\"","v":false},{"$f":"VLOOKUP($P11,$E$18:$M$21,9,0)<>\"\"","v":false},{"$f":"SUMPRODUCT(1*(LEN($Z$18:$Z$35)>0)*($P$18:$P$35=$P11))>0","v":false},{"$f":"SUMPRODUCT(1*(LEN($AE$18:$AE$35)>0)*($P$18:$P$35=$P11))>0","v":false},{"$f":"IF($Z11,VLOOKUP($P11,$E$18:$M$21,8,0),IF($AA11,VLOOKUP($P11,$E$18:$M$21,9,0),IF($AB11,SUMIFS($Z$18:$Z$35,$P$18:$P$35,$P11),IF($AC11,SUMIFS($AE$18:$AE$35,$P$18:$P$35,$P11),\"\"))))","v":""},{"$f":"IF(OR(AND($Y$11>0,OR($B$8=$P11,$D$8=$P11)),AND($Y$12>0,OR($B$9=$P11,$D$9=$P11))),SUMIF($B$8:$B$9,$P11,$J$8:$J$9)+SUMIF($D$8:$D$9,$P11,$L$8:$L$9),\"\")","v":""}]
[{"$nulls":14},"2.","Ägypten",0,0,0,0,0,{"$f":"LARGE($V$4:$V$7,ROW(A2))","v":{"v":50000.00000003,"d":"50,000.0000000"}},{"$f":"OR($Q12>0,$T12>0)","v":false},null,{"$f":"IF(AND(VLOOKUP($B$9,$P$4:$AD$7,15,0)=VLOOKUP($D$9,$P$4:$AD$7,15,0),$E$9=$G$9,COUNTIF($Q$4:$Q$7,VLOOKUP($B$9,$P$4:$Q$7,2,0))=2,$M$10=6),1,0)","v":0},{"$f":"VLOOKUP($P12,$E$18:$M$21,8,0)<>\"\"","v":false},{"$f":"VLOOKUP($P12,$E$18:$M$21,9,0)<>\"\"","v":false},{"$f":"SUMPRODUCT(1*(LEN($Z$18:$Z$35)>0)*($P$18:$P$35=$P12))>0","v":false},{"$f":"SUMPRODUCT(1*(LEN($AE$18:$AE$35)>0)*($P$18:$P$35=$P12))>0","v":false},{"$f":"IF($Z12,VLOOKUP($P12,$E$18:$M$21,8,0),IF($AA12,VLOOKUP($P12,$E$18:$M$21,9,0),IF($AB12,SUMIFS($Z$18:$Z$35,$P$18:$P$35,$P12),IF($AC12,SUMIFS($AE$18:$AE$35,$P$18:$P$35,$P12),\"\"))))","v":""},{"$f":"IF(OR(AND($Y$11>0,OR($B$8=$P12,$D$8=$P12)),AND($Y$12>0,OR($B$9=$P12,$D$9=$P12))),SUMIF($B$8:$B$9,$P12,$J$8:$J$9)+SUMIF($D$8:$D$9,$P12,$L$8:$L$9),\"\")","v":""}]
[{"$nulls":14},"3.","Iran",0,0,0,0,0,{"$f":"LARGE($V$4:$V$7,ROW(A3))","v":{"v":50000.00000002,"d":"50,000.0000000"}},false,null,null,{"$f":"VLOOKUP($P13,$E$18:$M$21,8,0)<>\"\"","v":false},{"$f":"VLOOKUP($P13,$E$18:$M$21,9,0)<>\"\"","v":false},false,false,{"$f":"IF($Z13,VLOOKUP($P13,$E$18:$M$21,8,0),IF($AA13,VLOOKUP($P13,$E$18:$M$21,9,0),IF($AB13,SUMIFS($Z$18:$Z$35,$P$18:$P$35,$P13),IF($AC13,SUMIFS($AE$18:$AE$35,$P$18:$P$35,$P13),\"\"))))","v":""},{"$f":"IF(OR(AND($Y$11>0,OR($B$8=$P13,$D$8=$P13)),AND($Y$12>0,OR($B$9=$P13,$D$9=$P13))),SUMIF($B$8:$B$9,$P13,$J$8:$J$9)+SUMIF($D$8:$D$9,$P13,$L$8:$L$9),\"\")","v":""}]
[{"$nulls":14},"4.","Neuseeland",0,0,0,0,0,{"$f":"LARGE($V$4:$V$7,ROW(A4))","v":{"v":50000.00000001,"d":"50,000.0000000"}},false,null,null,{"$f":"VLOOKUP($P14,$E$18:$M$21,8,0)<>\"\"","v":false},{"$f":"VLOOKUP($P14,$E$18:$M$21,9,0)<>\"\"","v":false},false,false,{"$f":"IF($Z14,VLOOKUP($P14,$E$18:$M$21,8,0),IF($AA14,VLOOKUP($P14,$E$18:$M$21,9,0),IF($AB14,SUMIFS($Z$18:$Z$35,$P$18:$P$35,$P14),IF($AC14,SUMIFS($AE$18:$AE$35,$P$18:$P$35,$P14),\"\"))))","v":""},{"$f":"IF(OR(AND($Y$11>0,OR($B$8=$P14,$D$8=$P14)),AND($Y$12>0,OR($B$9=$P14,$D$9=$P14))),SUMIF($B$8:$B$9,$P14,$J$8:$J$9)+SUMIF($D$8:$D$9,$P14,$L$8:$L$9),\"\")","v":""}]
[]
[{"$nulls":6},"Direct Comparison of 2",{"$nulls":15},"Direct Comparison of 3",{"$nulls":6},"Direct Comparison of 4",null,{"$f":"AND($Q$4=$Q$5,$Q$4=$Q$6,$Q$4=$Q$7)","v":true}]
[{"$nulls":7},{"$f":"LEFT($P$4,3)","v":"Bel"},{"$f":"LEFT($P$5,3)","v":"Ägy"},{"$f":"LEFT($P$6,3)","v":"Ira"},{"$f":"LEFT($P$7,3)","v":"Neu"},"DC(2)","DC(4.2)",{"$nulls":3},"Points","GD","For","Against",null,"Pts/GD/For","Rank Col. V","DC(3)","DC(3.2)","DC(3.2)","Results of direct encounters",null,null,"DC(4.3)","DC(4.3.2)"]
[{"$nulls":4},{"$f":"$P$4","v":"Belgien"},{"$nulls":3},{"$f":"SUMIFS($E$4:$E$9,$B$4:$B$9,$P$4,$D$4:$D$9,$P$5)+SUMIFS($G$4:$G$9,$B$4:$B$9,$P$5,$D$4:$D$9,$P$4)","v":0},{"$f":"SUMIFS($E$4:$E$9,$B$4:$B$9,$P$4,$D$4:$D$9,$P$6)+SUMIFS($G$4:$G$9,$B$4:$B$9,$P$6,$D$4:$D$9,$P$4)","v":0},{"$f":"SUMIFS($E$4:$E$9,$B$4:$B$9,$P$4,$D$4:$D$9,$P$7)+SUMIFS($G$4:$G$9,$B$4:$B$9,$P$7,$D$4:$D$9,$P$4)","v":0},{"$f":"IF(AND($Q$4=$Q$5,$Q$4<>$Q$6,$Q$4<>$Q$7),IF(I18>H19,3,IF(I18=H19,1,0)),IF(AND($Q$4=$Q$6,$Q$4<>$Q$5,$Q$4<>$Q$7),IF(J18>H20,3,IF(J18=H20,1,0)),IF(AND($Q$4=$Q$7,$Q$4<>$Q$5,$Q$4<>$Q$6),IF(K18>H21,3,IF(K18=H21,1,0)),\"\")))","v":""},{"$f":"IF($AF$16,IF(AND($AD$4=$AD$5,$AD$4<>$AD$6,$AD$4<>$AD$7),IF(I18>H19,3,IF(I18=H19,1,0)),IF(AND($AD$4<>$AD$5,$AD$4=$AD$6,$AD$4<>$AD$7),IF(J18>H20,3,IF(J18=H20,1,0)),IF(AND($AD$4<>$AD$5,$AD$4<>$AD$6,$AD$4=$AD$7),IF(K18>H21,3,IF(K18=H21,1,0)),\"\"))),\"\")","v":""},null,"1.",{"$f":"$P$4","v":"Belgien"},{"$f":"SUMIFS($H$4:$H$9,$B$4:$B$9,$P18,$D$4:$D$9,\"<>\"&$P$21)+SUMIFS($I$4:$I$9,$B$4:$B$9,\"<>\"&$P$21,$D$4:$D$9,$P18)","v":0},{"$f":"S18-T18","v":0},{"$f":"SUMIFS($E$4:$E$9,$B$4:$B$9,$P18,$D$4:$D$9,\"<>\"&$P$21)+SUMIFS($G$4:$G$9,$B$4:$B$9,\"<>\"&$P$21,$D$4:$D$9,$P18)","v":0},{"$f":"SUMIFS($G$4:$G$9,$B$4:$B$9,$P18,$D$4:$D$9,\"<>\"&$P$21)+SUMIFS($E$4:$E$9,$B$4:$B$9,\"<>\"&$P$21,$D$4:$D$9,$P18)","v":0},null,{"$f":"Q18*FactorPts+(GDzero+R18)*FactorGD+S18*FactorFor","v":{"v":50000,"d":"50,000"}},{"$f":"RANK(V18,V$18:V$20,1)","v":1},{"$f":"IF(AND($Q$4=$Q$5,$Q$4=$Q$6,$Q$4<>$Q$7),W18,0)","v":0},{"$f":"IF(AND(V18=V19,V18<>V20),IF(AA18>AA19,3,IF(AA18=AA19,1,0)),IF(AND(V18=V20,V18<>V19),IF(AB18>AB20,3,IF(AB18=AB20,1,0)),\"\"))","v":""},{"$f":"IF(X18>0,Y18,\"\")","v":""},{"$f":"$I$18","v":0},{"$f":"$J$18","v":0},null,{"$f":"IF(AND($AF$16,$AD$4=$AD$5,$AD$4=$AD$6,$AD$4<>$AD$7),W18,0)","v":0},{"$f":"IF(AD18>0,Y18,\"\")","v":""}]
[{"$nulls":4},{"$f":"$P$5","v":"Ägypten"},null,null,{"$f":"SUMIFS($E$4:$E$9,$B$4:$B$9,$P$5,$D$4:$D$9,$P$4)+SUMIFS($G$4:$G$9,$B$4:$B$9,$P$4,$D$4:$D$9,$P$5)","v":0},null,{"$f":"SUMIFS($E$4:$E$9,$B$4:$B$9,$P$5,$D$4:$D$9,$P$6)+SUMIFS($G$4:$G$9,$B$4:$B$9,$P$6,$D$4:$D$9,$P$5)","v":0},{"$f":"SUMIFS($E$4:$E$9,$B$4:$B$9,$P$5,$D$4:$D$9,$P$7)+SUMIFS($G$4:$G$9,$B$4:$B$9,$P$7,$D$4:$D$9,$P$5)","v":0},{"$f":"IF(AND($Q$5=$Q$4,$Q$5<>$Q$6,$Q$5<>$Q$7),IF(H19>I18,3,IF(H19=I18,1,0)),IF(AND($Q$5=$Q$6,$Q$5<>$Q$4,$Q$5<>$Q$7),IF(J19>I20,3,IF(J19=I20,1,0)),IF(AND($Q$5=$Q$7,$Q$5<>$Q$4,$Q$5<>$Q$6),IF(K19>I21,3,IF(K19=I21,1,0)),\"\")))","v":""},{"$f":"IF($AF$16,IF(AND($AD$5=$AD$4,$AD$5<>$AD$6,$AD$5<>$AD$7),IF(H19>I18,3,IF(H19=I18,1,0)),IF(AND($AD$5<>$AD$4,$AD$5=$AD$6,$AD$5<>$AD$7),IF(J19>I20,3,IF(J19=I20,1,0)),IF(AND($AD$5<>$AD$4,$AD$5<>$AD$6,$AD$5=$AD$7),IF(K19>I21,3,IF(K19=I21,1,0)),\"\"))),\"\")","v":""},null,"2.",{"$f":"$P$5","v":"Ägypten"},{"$f":"SUMIFS($H$4:$H$9,$B$4:$B$9,$P19,$D$4:$D$9,\"<>\"&$P$21)+SUMIFS($I$4:$I$9,$B$4:$B$9,\"<>\"&$P$21,$D$4:$D$9,$P19)","v":0},{"$f":"S19-T19","v":0},{"$f":"SUMIFS($E$4:$E$9,$B$4:$B$9,$P19,$D$4:$D$9,\"<>\"&$P$21)+SUMIFS($G$4:$G$9,$B$4:$B$9,\"<>\"&$P$21,$D$4:$D$9,$P19)","v":0},{"$f":"SUMIFS($G$4:$G$9,$B$4:$B$9,$P19,$D$4:$D$9,\"<>\"&$P$21)+SUMIFS($E$4:$E$9,$B$4:$B$9,\"<>\"&$P$21,$D$4:$D$9,$P19)","v":0},null,{"$f":"Q19*FactorPts+(GDzero+R19)*FactorGD+S19*FactorFor","v":{"v":50000,"d":"50,000"}},{"$f":"RANK(V19,V$18:V$20,1)","v":1},{"$f":"IF(AND($Q$4=$Q$5,$Q$4=$Q$6,$Q$4<>$Q$7),W19,0)","v":0},{"$f":"IF(AND(V19=V18,V19<>V20),IF(AA19>AA18,3,IF(AA19=AA18,1,0)),IF(AND(V19=V20,V19<>V18),IF(AC19>AC20,3,IF(AC19=AC20,1,0)),\"\"))","v":""},{"$f":"IF(X19>0,Y19,\"\")","v":""},{"$f":"$H$19","v":0},null,{"$f":"$J$19","v":0},{"$f":"IF(AND($AF$16,$AD$4=$AD$5,$AD$4=$AD$6,$AD$4<>$AD$7),W19,0)","v":0},{"$f":"IF(AD19>0,Y19,\"\")","v":""}]
[{"$nulls":4},{"$f":"$P$6","v":"Iran"},null,null,{"$f":"SUMIFS($E$4:$E$9,$B$4:$B$9,$P$6,$D$4:$D$9,$P$4)+SUMIFS($G$4:$G$9,$B$4:$B$9,$P$4,$D$4:$D$9,$P$6)","v":0},{"$f":"SUMIFS($E$4:$E$9,$B$4:$B$9,$P$6,$D$4:$D$9,$P$5)+SUMIFS($G$4:$G$9,$B$4:$B$9,$P$5,$D$4:$D$9,$P$6)","v":0},null,{"$f":"SUMIFS($E$4:$E$9,$B$4:$B$9,$P$6,$D$4:$D$9,$P$7)+SUMIFS($G$4:$G$9,$B$4:$B$9,$P$7,$D$4:$D$9,$P$6)","v":0},{"$f":"IF(AND($Q$6=$Q$4,$Q$6<>$Q$5,$Q$6<>$Q$7),IF(H20>J18,3,IF(H20=J18,1,0)),IF(AND($Q$6=$Q$5,$Q$6<>$Q$4,$Q$6<>$Q$7),IF(I20>J19,3,IF(I20=J19,1,0)),IF(AND($Q$6=$Q$7,$Q$6<>$Q$4,$Q$6<>$Q$5),IF(K20>J21,3,IF(K20=J21,1,0)),\"\")))","v":""},{"$f":"IF($AF$16,IF(AND($AD$6=$AD$4,$AD$6<>$AD$5,$AD$6<>$AD$7),IF(H20>J18,3,IF(H20=J18,1,0)),IF(AND($AD$6<>$AD$4,$AD$6=$AD$5,$AD$6<>$AD$7),IF(I20>J19,3,IF(I20=J19,1,0)),IF(AND($AD$6<>$AD$4,$AD$6<>$AD$5,$AD$6=$AD$7),IF(K20>J21,3,IF(K20=J21,1,0)),\"\"))),\"\")","v":""},null,"3.",{"$f":"$P$6","v":"Iran"},{"$f":"SUMIFS($H$4:$H$9,$B$4:$B$9,$P20,$D$4:$D$9,\"<>\"&$P$21)+SUMIFS($I$4:$I$9,$B$4:$B$9,\"<>\"&$P$21,$D$4:$D$9,$P20)","v":0},{"$f":"S20-T20","v":0},{"$f":"SUMIFS($E$4:$E$9,$B$4:$B$9,$P20,$D$4:$D$9,\"<>\"&$P$21)+SUMIFS($G$4:$G$9,$B$4:$B$9,\"<>\"&$P$21,$D$4:$D$9,$P20)","v":0},{"$f":"SUMIFS($G$4:$G$9,$B$4:$B$9,$P20,$D$4:$D$9,\"<>\"&$P$21)+SUMIFS($E$4:$E$9,$B$4:$B$9,\"<>\"&$P$21,$D$4:$D$9,$P20)","v":0},null,{"$f":"Q20*FactorPts+(GDzero+R20)*FactorGD+S20*FactorFor","v":{"v":50000,"d":"50,000"}},{"$f":"RANK(V20,V$18:V$20,1)","v":1},{"$f":"IF(AND($Q$4=$Q$5,$Q$4=$Q$6,$Q$4<>$Q$7),W20,0)","v":0},{"$f":"IF(AND(V20=V18,V20<>V19),IF(AB20>AB18,3,IF(AB20=AB18,1,0)),IF(AND(V20=V19,V20<>V18),IF(AC20>AC19,3,IF(AC20=AC19,1,0)),\"\"))","v":""},"",null,{"$f":"$H$20","v":0},{"$f":"$I$20","v":0},{"$f":"IF(AND($AF$16,$AD$4=$AD$5,$AD$4=$AD$6,$AD$4<>$AD$7),W20,0)","v":0},""]
[{"$nulls":4},{"$f":"$P$7","v":"Neuseeland"},null,null,{"$f":"SUMIFS($E$4:$E$9,$B$4:$B$9,$P$7,$D$4:$D$9,$P$4)+SUMIFS($G$4:$G$9,$B$4:$B$9,$P$4,$D$4:$D$9,$P$7)","v":0},{"$f":"SUMIFS($E$4:$E$9,$B$4:$B$9,$P$7,$D$4:$D$9,$P$5)+SUMIFS($G$4:$G$9,$B$4:$B$9,$P$5,$D$4:$D$9,$P$7)","v":0},{"$f":"SUMIFS($E$4:$E$9,$B$4:$B$9,$P$7,$D$4:$D$9,$P$6)+SUMIFS($G$4:$G$9,$B$4:$B$9,$P$6,$D$4:$D$9,$P$7)","v":0},null,{"$f":"IF(AND($Q$7=$Q$4,$Q$7<>$Q$5,$Q$7<>$Q$6),IF(H21>K18,3,IF(H21=K18,1,0)),IF(AND($Q$7=$Q$5,$Q$7<>$Q$4,$Q$7<>$Q$6),IF(I21>K19,3,IF(I21=K19,1,0)),IF(AND($Q$7=$Q$6,$Q$7<>$Q$4,$Q$7<>$Q$5),IF(J21>K20,3,IF(J21=K20,1,0)),\"\")))","v":""},{"$f":"IF($AF$16,IF(AND($AD$7=$AD$4,$AD$7<>$AD$5,$AD$7<>$AD$6),IF(H21>K18,3,IF(H21=K18,1,0)),IF(AND($AD$7<>$AD$4,$AD$7=$AD$5,$AD$7<>$AD$6),IF(I21>K19,3,IF(I21=K19,1,0)),IF(AND($AD$7<>$AD$4,$AD$7<>$AD$5,$AD$7=$AD$6),IF(J21>K20,3,IF(J21=K20,1,0)),\"\"))),\"\")","v":""},null,null,{"$f":"$P$7","v":"Neuseeland"}]
[]
[{"$nulls":14},"1.",{"$f":"$P$4","v":"Belgien"},{"$f":"SUMIFS($H$4:$H$9,$B$4:$B$9,$P23,$D$4:$D$9,\"<>\"&$P$26)+SUMIFS($I$4:$I$9,$B$4:$B$9,\"<>\"&$P$26,$D$4:$D$9,$P23)","v":0},{"$f":"S23-T23","v":0},{"$f":"SUMIFS($E$4:$E$9,$B$4:$B$9,$P23,$D$4:$D$9,\"<>\"&$P$26)+SUMIFS($G$4:$G$9,$B$4:$B$9,\"<>\"&$P$26,$D$4:$D$9,$P23)","v":0},{"$f":"SUMIFS($G$4:$G$9,$B$4:$B$9,$P23,$D$4:$D$9,\"<>\"&$P$26)+SUMIFS($E$4:$E$9,$B$4:$B$9,\"<>\"&$P$26,$D$4:$D$9,$P23)","v":0},null,{"$f":"Q23*FactorPts+(GDzero+R23)*FactorGD+S23*FactorFor","v":{"v":50000,"d":"50,000"}},{"$f":"RANK(V23,V$23:V$25,1)","v":1},{"$f":"IF(AND($Q$4=$Q$5,$Q$4=$Q$7,$Q$4<>$Q$6),W23,0)","v":0},{"$f":"IF(AND(V23=V24,V23<>V25),IF(AA23>AA24,3,IF(AA23=AA24,1,0)),IF(AND(V23=V25,V23<>V24),IF(AB23>AB25,3,IF(AB23=AB25,1,0)),\"\"))","v":""},{"$f":"IF(X23>0,Y23,\"\")","v":""},{"$f":"$I$18","v":0},{"$f":"$K$18","v":0},null,{"$f":"IF(AND($AF$16,$AD$4=$AD$5,$AD$4=$AD$7,$AD$4<>$AD$6),W23,0)","v":0},{"$f":"IF(AD23>0,Y23,\"\")","v":""}]
[{"$nulls":14},"2.",{"$f":"$P$5","v":"Ägypten"},{"$f":"SUMIFS($H$4:$H$9,$B$4:$B$9,$P24,$D$4:$D$9,\"<>\"&$P$26)+SUMIFS($I$4:$I$9,$B$4:$B$9,\"<>\"&$P$26,$D$4:$D$9,$P24)","v":0},{"$f":"S24-T24","v":0},{"$f":"SUMIFS($E$4:$E$9,$B$4:$B$9,$P24,$D$4:$D$9,\"<>\"&$P$26)+SUMIFS($G$4:$G$9,$B$4:$B$9,\"<>\"&$P$26,$D$4:$D$9,$P24)","v":0},{"$f":"SUMIFS($G$4:$G$9,$B$4:$B$9,$P24,$D$4:$D$9,\"<>\"&$P$26)+SUMIFS($E$4:$E$9,$B$4:$B$9,\"<>\"&$P$26,$D$4:$D$9,$P24)","v":0},null,{"$f":"Q24*FactorPts+(GDzero+R24)*FactorGD+S24*FactorFor","v":{"v":50000,"d":"50,000"}},{"$f":"RANK(V24,V$23:V$25,1)","v":1},{"$f":"IF(AND($Q$4=$Q$5,$Q$4=$Q$7,$Q$4<>$Q$6),W24,0)","v":0},{"$f":"IF(AND(V24=V23,V24<>V25),IF(AA24>AA23,3,IF(AA24=AA23,1,0)),IF(AND(V24=V25,V24<>V23),IF(AC24>AC25,3,IF(AC24=AC25,1,0)),\"\"))","v":""},{"$f":"IF(X24>0,Y24,\"\")","v":""},{"$f":"$H$19","v":0},null,{"$f":"$K$19","v":0},{"$f":"IF(AND($AF$16,$AD$4=$AD$5,$AD$4=$AD$7,$AD$4<>$AD$6),W24,0)","v":0},{"$f":"IF(AD24>0,Y24,\"\")","v":""}]
[{"$nulls":14},"3.",{"$f":"$P$7","v":"Neuseeland"},{"$f":"SUMIFS($H$4:$H$9,$B$4:$B$9,$P25,$D$4:$D$9,\"<>\"&$P$26)+SUMIFS($I$4:$I$9,$B$4:$B$9,\"<>\"&$P$26,$D$4:$D$9,$P25)","v":0},{"$f":"S25-T25","v":0},{"$f":"SUMIFS($E$4:$E$9,$B$4:$B$9,$P25,$D$4:$D$9,\"<>\"&$P$26)+SUMIFS($G$4:$G$9,$B$4:$B$9,\"<>\"&$P$26,$D$4:$D$9,$P25)","v":0},{"$f":"SUMIFS($G$4:$G$9,$B$4:$B$9,$P25,$D$4:$D$9,\"<>\"&$P$26)+SUMIFS($E$4:$E$9,$B$4:$B$9,\"<>\"&$P$26,$D$4:$D$9,$P25)","v":0},null,{"$f":"Q25*FactorPts+(GDzero+R25)*FactorGD+S25*FactorFor","v":{"v":50000,"d":"50,000"}},{"$f":"RANK(V25,V$23:V$25,1)","v":1},{"$f":"IF(AND($Q$4=$Q$5,$Q$4=$Q$7,$Q$4<>$Q$6),W25,0)","v":0},{"$f":"IF(AND(V25=V23,V25<>V24),IF(AB25>AB23,3,IF(AB25=AB23,1,0)),IF(AND(V25=V24,V25<>V23),IF(AC25>AC24,3,IF(AC25=AC24,1,0)),\"\"))","v":""},"",null,{"$f":"$H$21","v":0},{"$f":"$I$21","v":0},{"$f":"IF(AND($AF$16,$AD$4=$AD$5,$AD$4=$AD$7,$AD$4<>$AD$6),W25,0)","v":0},""]
[{"$nulls":15},{"$f":"$P$6","v":"Iran"}]
[]
[{"$nulls":14},"1.",{"$f":"$P$4","v":"Belgien"},{"$f":"SUMIFS($H$4:$H$9,$B$4:$B$9,$P28,$D$4:$D$9,\"<>\"&$P$31)+SUMIFS($I$4:$I$9,$B$4:$B$9,\"<>\"&$P$31,$D$4:$D$9,$P28)","v":0},{"$f":"S28-T28","v":0},{"$f":"SUMIFS($E$4:$E$9,$B$4:$B$9,$P28,$D$4:$D$9,\"<>\"&$P$31)+SUMIFS($G$4:$G$9,$B$4:$B$9,\"<>\"&$P$31,$D$4:$D$9,$P28)","v":0},{"$f":"SUMIFS($G$4:$G$9,$B$4:$B$9,$P28,$D$4:$D$9,\"<>\"&$P$31)+SUMIFS($E$4:$E$9,$B$4:$B$9,\"<>\"&$P$31,$D$4:$D$9,$P28)","v":0},null,{"$f":"Q28*FactorPts+(GDzero+R28)*FactorGD+S28*FactorFor","v":{"v":50000,"d":"50,000"}},{"$f":"RANK(V28,V$28:V$30,1)","v":1},{"$f":"IF(AND($Q$4=$Q$6,$Q$4=$Q$7,$Q$4<>$Q$5),W28,0)","v":0},{"$f":"IF(AND(V28=V29,V28<>V30),IF(AA28>AA29,3,IF(AA28=AA29,1,0)),IF(AND(V28=V30,V28<>V29),IF(AB28>AB30,3,IF(AB28=AB30,1,0)),\"\"))","v":""},{"$f":"IF(X28>0,Y28,\"\")","v":""},{"$f":"$J$18","v":0},{"$f":"$K$18","v":0},null,{"$f":"IF(AND($AF$16,$AD$4=$AD$6,$AD$4=$AD$7,$AD$4<>$AD$5),W28,0)","v":0},{"$f":"IF(AD28>0,Y28,\"\")","v":""}]
[{"$nulls":14},"2.",{"$f":"$P$6","v":"Iran"},{"$f":"SUMIFS($H$4:$H$9,$B$4:$B$9,$P29,$D$4:$D$9,\"<>\"&$P$31)+SUMIFS($I$4:$I$9,$B$4:$B$9,\"<>\"&$P$31,$D$4:$D$9,$P29)","v":0},{"$f":"S29-T29","v":0},{"$f":"SUMIFS($E$4:$E$9,$B$4:$B$9,$P29,$D$4:$D$9,\"<>\"&$P$31)+SUMIFS($G$4:$G$9,$B$4:$B$9,\"<>\"&$P$31,$D$4:$D$9,$P29)","v":0},{"$f":"SUMIFS($G$4:$G$9,$B$4:$B$9,$P29,$D$4:$D$9,\"<>\"&$P$31)+SUMIFS($E$4:$E$9,$B$4:$B$9,\"<>\"&$P$31,$D$4:$D$9,$P29)","v":0},null,{"$f":"Q29*FactorPts+(GDzero+R29)*FactorGD+S29*FactorFor","v":{"v":50000,"d":"50,000"}},{"$f":"RANK(V29,V$28:V$30,1)","v":1},{"$f":"IF(AND($Q$4=$Q$6,$Q$4=$Q$7,$Q$4<>$Q$5),W29,0)","v":0},{"$f":"IF(AND(V29=V28,V29<>V30),IF(AA29>AA28,3,IF(AA29=AA28,1,0)),IF(AND(V29=V30,V29<>V28),IF(AC29>AC30,3,IF(AC29=AC30,1,0)),\"\"))","v":""},{"$f":"IF(X29>0,Y29,\"\")","v":""},{"$f":"$H$20","v":0},null,{"$f":"$K$20","v":0},{"$f":"IF(AND($AF$16,$AD$4=$AD$6,$AD$4=$AD$7,$AD$4<>$AD$5),W29,0)","v":0},{"$f":"IF(AD29>0,Y29,\"\")","v":""}]
[{"$nulls":14},"3.",{"$f":"$P$7","v":"Neuseeland"},{"$f":"SUMIFS($H$4:$H$9,$B$4:$B$9,$P30,$D$4:$D$9,\"<>\"&$P$31)+SUMIFS($I$4:$I$9,$B$4:$B$9,\"<>\"&$P$31,$D$4:$D$9,$P30)","v":0},{"$f":"S30-T30","v":0},{"$f":"SUMIFS($E$4:$E$9,$B$4:$B$9,$P30,$D$4:$D$9,\"<>\"&$P$31)+SUMIFS($G$4:$G$9,$B$4:$B$9,\"<>\"&$P$31,$D$4:$D$9,$P30)","v":0},{"$f":"SUMIFS($G$4:$G$9,$B$4:$B$9,$P30,$D$4:$D$9,\"<>\"&$P$31)+SUMIFS($E$4:$E$9,$B$4:$B$9,\"<>\"&$P$31,$D$4:$D$9,$P30)","v":0},null,{"$f":"Q30*FactorPts+(GDzero+R30)*FactorGD+S30*FactorFor","v":{"v":50000,"d":"50,000"}},1,{"$f":"IF(AND($Q$4=$Q$6,$Q$4=$Q$7,$Q$4<>$Q$5),W30,0)","v":0},{"$f":"IF(AND(V30=V28,V30<>V29),IF(AB30>AB28,3,IF(AB30=AB28,1,0)),IF(AND(V30=V29,V30<>V28),IF(AC30>AC29,3,IF(AC30=AC29,1,0)),\"\"))","v":""},"",null,{"$f":"$H$21","v":0},{"$f":"$J$21","v":0},{"$f":"IF(AND($AF$16,$AD$4=$AD$6,$AD$4=$AD$7,$AD$4<>$AD$5),W30,0)","v":0},""]
[{"$nulls":15},{"$f":"$P$5","v":"Ägypten"}]
[]
[{"$nulls":14},"1.",{"$f":"$P$5","v":"Ägypten"},{"$f":"SUMIFS($H$4:$H$9,$B$4:$B$9,$P33,$D$4:$D$9,\"<>\"&$P$36)+SUMIFS($I$4:$I$9,$B$4:$B$9,\"<>\"&$P$36,$D$4:$D$9,$P33)","v":0},{"$f":"S33-T33","v":0},{"$f":"SUMIFS($E$4:$E$9,$B$4:$B$9,$P33,$D$4:$D$9,\"<>\"&$P$36)+SUMIFS($G$4:$G$9,$B$4:$B$9,\"<>\"&$P$36,$D$4:$D$9,$P33)","v":0},{"$f":"SUMIFS($G$4:$G$9,$B$4:$B$9,$P33,$D$4:$D$9,\"<>\"&$P$36)+SUMIFS($E$4:$E$9,$B$4:$B$9,\"<>\"&$P$36,$D$4:$D$9,$P33)","v":0},null,{"$f":"Q33*FactorPts+(GDzero+R33)*FactorGD+S33*FactorFor","v":{"v":50000,"d":"50,000"}},{"$f":"RANK(V33,V$33:V$35,1)","v":1},{"$f":"IF(AND($Q$5=$Q$6,$Q$5=$Q$7,$Q$5<>$Q$4),W33,0)","v":0},{"$f":"IF(AND(V33=V34,V33<>V35),IF(AA33>AA34,3,IF(AA33=AA34,1,0)),IF(AND(V33=V35,V33<>V34),IF(AB33>AB35,3,IF(AB33=AB35,1,0)),\"\"))","v":""},{"$f":"IF(X33>0,Y33,\"\")","v":""},{"$f":"$J$19","v":0},{"$f":"$K$19","v":0},null,{"$f":"IF(AND($AF$16,$AD$5=$AD$6,$AD$5=$AD$7,$AD$5<>$AD$4),W33,0)","v":0},{"$f":"IF(AD33>0,Y33,\"\")","v":""}]
[{"$nulls":14},"2.",{"$f":"$P$6","v":"Iran"},{"$f":"SUMIFS($H$4:$H$9,$B$4:$B$9,$P34,$D$4:$D$9,\"<>\"&$P$36)+SUMIFS($I$4:$I$9,$B$4:$B$9,\"<>\"&$P$36,$D$4:$D$9,$P34)","v":0},{"$f":"S34-T34","v":0},{"$f":"SUMIFS($E$4:$E$9,$B$4:$B$9,$P34,$D$4:$D$9,\"<>\"&$P$36)+SUMIFS($G$4:$G$9,$B$4:$B$9,\"<>\"&$P$36,$D$4:$D$9,$P34)","v":0},{"$f":"SUMIFS($G$4:$G$9,$B$4:$B$9,$P34,$D$4:$D$9,\"<>\"&$P$36)+SUMIFS($E$4:$E$9,$B$4:$B$9,\"<>\"&$P$36,$D$4:$D$9,$P34)","v":0},null,{"$f":"Q34*FactorPts+(GDzero+R34)*FactorGD+S34*FactorFor","v":{"v":50000,"d":"50,000"}},{"$f":"RANK(V34,V$33:V$35,1)","v":1},{"$f":"IF(AND($Q$5=$Q$6,$Q$5=$Q$7,$Q$5<>$Q$4),W34,0)","v":0},{"$f":"IF(AND(V34=V33,V34<>V35),IF(AA34>AA33,3,IF(AA34=AA33,1,0)),IF(AND(V34=V35,V34<>V33),IF(AC34>AC35,3,IF(AC34=AC35,1,0)),\"\"))","v":""},{"$f":"IF(X34>0,Y34,\"\")","v":""},{"$f":"$I$20","v":0},null,{"$f":"$K$20","v":0},{"$f":"IF(AND($AF$16,$AD$5=$AD$6,$AD$5=$AD$7,$AD$5<>$AD$4),W34,0)","v":0},{"$f":"IF(AD34>0,Y34,\"\")","v":""}]
[{"$nulls":14},"3.",{"$f":"$P$7","v":"Neuseeland"},{"$f":"SUMIFS($H$4:$H$9,$B$4:$B$9,$P35,$D$4:$D$9,\"<>\"&$P$36)+SUMIFS($I$4:$I$9,$B$4:$B$9,\"<>\"&$P$36,$D$4:$D$9,$P35)","v":0},{"$f":"S35-T35","v":0},{"$f":"SUMIFS($E$4:$E$9,$B$4:$B$9,$P35,$D$4:$D$9,\"<>\"&$P$36)+SUMIFS($G$4:$G$9,$B$4:$B$9,\"<>\"&$P$36,$D$4:$D$9,$P35)","v":0},{"$f":"SUMIFS($G$4:$G$9,$B$4:$B$9,$P35,$D$4:$D$9,\"<>\"&$P$36)+SUMIFS($E$4:$E$9,$B$4:$B$9,\"<>\"&$P$36,$D$4:$D$9,$P35)","v":0},null,{"$f":"Q35*FactorPts+(GDzero+R35)*FactorGD+S35*FactorFor","v":{"v":50000,"d":"50,000"}},{"$f":"RANK(V35,V$33:V$35,1)","v":1},{"$f":"IF(AND($Q$5=$Q$6,$Q$5=$Q$7,$Q$5<>$Q$4),W35,0)","v":0},{"$f":"IF(AND(V35=V33,V35<>V34),IF(AB35>AB33,3,IF(AB35=AB33,1,0)),IF(AND(V35=V34,V35<>V33),IF(AC35>AC34,3,IF(AC35=AC34,1,0)),\"\"))","v":""},"",null,{"$f":"$I$21","v":0},{"$f":"$J$21","v":0},{"$f":"IF(AND($AF$16,$AD$5=$AD$6,$AD$5=$AD$7,$AD$5<>$AD$4),W35,0)","v":0},""]
[{"$nulls":15},{"$f":"$P$4","v":"Belgien"}]

{"sheet":"GrpH_Tipps","index":22,"n_rows":36,"n_cols":33,"rows_kept":36,"hidden":true,"merged":[[2,1,2,3],[2,4,2,6],[2,7,2,8],[2,9,2,11],[8,25,8,30],[15,6,15,11],[15,22,15,25],[15,29,15,30],[16,26,16,28],[17,4,17,6],[18,4,18,6],[19,4,19,6],[20,4,20,6]]}
[null,"Group","H","Tipps"]
[]
[null,"Match",null,null,"Score",null,null,"Points",null,"Penalty",null,null,"valid",{"$nulls":3},"Points","GD","For","Against","Wins","Coefficient","Dir. Comp. (3)","Dir. Comp. (2)","Dir. Comp. (4.3)","Dir. Comp. (4.3.2)","Dir. Comp. (4.2)","Fair play","match count > 0","Pts/GD/For","Penalty","Ranking","Played"]
[null,{"$f":"INDEX(Meine_Tipps!$B$13:$AJ$38,1,1+(CODE($C$1)-65)*3)","v":"Saudiarabien"},"-",{"$f":"INDEX(Meine_Tipps!$B$13:$AJ$38,1,2+(CODE($C$1)-65)*3)","v":"Uruguay"},{"$f":"IF(OR(INDEX(Meine_Tipps!$B$14:$AJ$39,1,1+(CODE($C$1)-65)*3)=\"\",INDEX(Meine_Tipps!$B$14:$AJ$39,1,2+(CODE($C$1)-65)*3)=\"\"),\"\",INDEX(Meine_Tipps!$B$14:$AJ$39,1,1+(CODE($C$1)-65)*3))","v":""},"-",{"$f":"IF(OR(INDEX(Meine_Tipps!$B$14:$AJ$39,1,1+(CODE($C$1)-65)*3)=\"\",INDEX(Meine_Tipps!$B$14:$AJ$39,1,2+(CODE($C$1)-65)*3)=\"\"),\"\",INDEX(Meine_Tipps!$B$14:$AJ$39,1,2+(CODE($C$1)-65)*3))","v":""},{"$f":"IF($M4>0,IF($E4>$G4,3,IF($E4=$G4,1,0)),0)","v":0},{"$f":"IF($M4>0,IF($E4<$G4,3,IF($E4=$G4,1,0)),0)","v":0},{"$nulls":3},{"$f":"IF(AND($E4<>\"\",$G4<>\"\"),1,0)","v":0},null,"1.",{"$f":"VLOOKUP($C$1&ROW($A1),Groups_Tipps!$B$7:$D$65,3,0)","v":"Spanien"},{"$f":"SUMIF($B$4:$B$9,P4,$H$4:$H$9)+SUMIF($D$4:$D$9,P4,$I$4:$I$9)","v":0},{"$f":"S4-T4","v":0},{"$f":"SUMIF($B$4:$B$9,$P4,$E$4:$E$9)+SUMIF($D$4:$D$9,$P4,$G$4:$G$9)","v":0},{"$f":"SUMIF($B$4:$B$9,$P4,$G$4:$G$9)+SUMIF($D$4:$D$9,$P4,$E$4:$E$9)","v":0},{"$f":"COUNTIFS($B$4:$B$9,$P4,$H$4:$H$9,\"=3\")+COUNTIFS($D$4:$D$9,$P4,$I$4:$I$9,\"=3\")","v":0},{"$f":"$Q4*FactorPts+(GDzero+$R4)*FactorGD+$S4*FactorFor+$U4*FactorWins+$W4*FactorDirC3+$X4*FactorDirC2+$Y4*FactorDirC43+$Z4*FactorDirC42+$AA4*FactorDirC42+$AB4*FactorFairPlay+$AE4*FactorPenalty+(100-$AF4)*($M$10>0)*FactorRank+(8-ROW())*FactorRow","v":{"v":50000.00000004,"d":"50,000.0000000"}},{"$f":"SUMIFS($X$18:$X$35,$P$18:$P$35,$P4)","v":0},{"$f":"IF($L18=\"\",0,$L18)+SUMIFS($Z$18:$Z$35,$P$18:$P$35,$P4)","v":0},{"$f":"SUMIFS($AD$18:$AD$35,$P$18:$P$35,$P4)","v":0},{"$f":"SUMIFS($AE$18:$AE$35,$P$18:$P$35,$P4)","v":0},{"$f":"IF($M18=\"\",0,$M18)","v":0},{"$f":"SUMIFS(FairPlayPoints1,FairPlayTeams1,P4)+SUMIFS(FairPlayPoints2,FairPlayTeams2,P4)+SUMIFS(FairPlayPoints3,FairPlayTeams3,P4)","v":0},{"$f":"(Q4+T4>0)","v":false},{"$f":"$Q4*FactorPts+(GDzero+$R4)*FactorGD+$S4*FactorFor","v":{"v":50000,"d":"50,000"}},0,{"$f":"VLOOKUP(P4,Sprache_Tipps!E:F,2,0)","v":2},{"$f":"OR($Q4>0,$T4>0)","v":false}]
[null,{"$f":"INDEX(Meine_Tipps!$B$13:$AJ$38,6,1+(CODE($C$1)-65)*3)","v":"Spanien"},"-",{"$f":"INDEX(Meine_Tipps!$B$13:$AJ$38,6,2+(CODE($C$1)-65)*3)","v":"Kapverde"},{"$f":"IF(OR(INDEX(Meine_Tipps!$B$14:$AJ$39,6,1+(CODE($C$1)-65)*3)=\"\",INDEX(Meine_Tipps!$B$14:$AJ$39,6,2+(CODE($C$1)-65)*3)=\"\"),\"\",INDEX(Meine_Tipps!$B$14:$AJ$39,6,1+(CODE($C$1)-65)*3))","v":""},"-",{"$f":"IF(OR(INDEX(Meine_Tipps!$B$14:$AJ$39,6,1+(CODE($C$1)-65)*3)=\"\",INDEX(Meine_Tipps!$B$14:$AJ$39,6,2+(CODE($C$1)-65)*3)=\"\"),\"\",INDEX(Meine_Tipps!$B$14:$AJ$39,6,2+(CODE($C$1)-65)*3))","v":""},0,0,{"$nulls":3},0,null,"2.",{"$f":"VLOOKUP($C$1&ROW($A2),Groups_Tipps!$B$7:$D$65,3,0)","v":"Kapverde"},{"$f":"SUMIF($B$4:$B$9,P5,$H$4:$H$9)+SUMIF($D$4:$D$9,P5,$I$4:$I$9)","v":0},{"$f":"S5-T5","v":0},{"$f":"SUMIF($B$4:$B$9,$P5,$E$4:$E$9)+SUMIF($D$4:$D$9,$P5,$G$4:$G$9)","v":0},{"$f":"SUMIF($B$4:$B$9,$P5,$G$4:$G$9)+SUMIF($D$4:$D$9,$P5,$E$4:$E$9)","v":0},{"$f":"COUNTIFS($B$4:$B$9,$P5,$H$4:$H$9,\"=3\")+COUNTIFS($D$4:$D$9,$P5,$I$4:$I$9,\"=3\")","v":0},{"$f":"$Q5*FactorPts+(GDzero+$R5)*FactorGD+$S5*FactorFor+$U5*FactorWins+$W5*FactorDirC3+$X5*FactorDirC2+$Y5*FactorDirC43+$Z5*FactorDirC42+$AA5*FactorDirC42+$AB5*FactorFairPlay+$AE5*FactorPenalty+(100-$AF5)*($M$10>0)*FactorRank+(8-ROW())*FactorRow","v":{"v":50000.00000003,"d":"50,000.0000000"}},{"$f":"SUMIFS($X$18:$X$35,$P$18:$P$35,$P5)","v":0},{"$f":"IF($L19=\"\",0,$L19)+SUMIFS($Z$18:$Z$35,$P$18:$P$35,$P5)","v":0},{"$f":"SUMIFS($AD$18:$AD$35,$P$18:$P$35,$P5)","v":0},{"$f":"SUMIFS($AE$18:$AE$35,$P$18:$P$35,$P5)","v":0},{"$f":"IF($M19=\"\",0,$M19)","v":0},{"$f":"SUMIFS(FairPlayPoints1,FairPlayTeams1,P5)+SUMIFS(FairPlayPoints2,FairPlayTeams2,P5)+SUMIFS(FairPlayPoints3,FairPlayTeams3,P5)","v":0},{"$f":"(Q5+T5>0)","v":false},{"$f":"$Q5*FactorPts+(GDzero+$R5)*FactorGD+$S5*FactorFor","v":{"v":50000,"d":"50,000"}},0,{"$f":"VLOOKUP(P5,Sprache_Tipps!E:F,2,0)","v":69},{"$f":"OR($Q5>0,$T5>0)","v":false}]
[null,{"$f":"INDEX(Meine_Tipps!$B$13:$AJ$38,11,1+(CODE($C$1)-65)*3)","v":"Uruguay"},"-",{"$f":"INDEX(Meine_Tipps!$B$13:$AJ$38,11,2+(CODE($C$1)-65)*3)","v":"Kapverde"},{"$f":"IF(OR(INDEX(Meine_Tipps!$B$14:$AJ$39,11,1+(CODE($C$1)-65)*3)=\"\",INDEX(Meine_Tipps!$B$14:$AJ$39,11,2+(CODE($C$1)-65)*3)=\"\"),\"\",INDEX(Meine_Tipps!$B$14:$AJ$39,11,1+(CODE($C$1)-65)*3))","v":""},"-",{"$f":"IF(OR(INDEX(Meine_Tipps!$B$14:$AJ$39,11,1+(CODE($C$1)-65)*3)=\"\",INDEX(Meine_Tipps!$B$14:$AJ$39,11,2+(CODE($C$1)-65)*3)=\"\"),\"\",INDEX(Meine_Tipps!$B$14:$AJ$39,11,2+(CODE($C$1)-65)*3))","v":""},0,0,{"$nulls":3},0,null,"3.",{"$f":"VLOOKUP($C$1&ROW($A3),Groups_Tipps!$B$7:$D$65,3,0)","v":"Saudiarabien"},0,{"$f":"S6-T6","v":0},{"$f":"SUMIF($B$4:$B$9,$P6,$E$4:$E$9)+SUMIF($D$4:$D$9,$P6,$G$4:$G$9)","v":0},{"$f":"SUMIF($B$4:$B$9,$P6,$G$4:$G$9)+SUMIF($D$4:$D$9,$P6,$E$4:$E$9)","v":0},{"$f":"COUNTIFS($B$4:$B$9,$P6,$H$4:$H$9,\"=3\")+COUNTIFS($D$4:$D$9,$P6,$I$4:$I$9,\"=3\")","v":0},{"$f":"$Q6*FactorPts+(GDzero+$R6)*FactorGD+$S6*FactorFor+$U6*FactorWins+$W6*FactorDirC3+$X6*FactorDirC2+$Y6*FactorDirC43+$Z6*FactorDirC42+$AA6*FactorDirC42+$AB6*FactorFairPlay+$AE6*FactorPenalty+(100-$AF6)*($M$10>0)*FactorRank+(8-ROW())*FactorRow","v":{"v":50000.00000002,"d":"50,000.0000000"}},0,{"$f":"IF($L20=\"\",0,$L20)+SUMIFS($Z$18:$Z$35,$P$18:$P$35,$P6)","v":0},0,0,{"$f":"IF($M20=\"\",0,$M20)","v":0},{"$f":"SUMIFS(FairPlayPoints1,FairPlayTeams1,P6)+SUMIFS(FairPlayPoints2,FairPlayTeams2,P6)+SUMIFS(FairPlayPoints3,FairPlayTeams3,P6)","v":0},{"$f":"(Q6+T6>0)","v":false},{"$f":"$Q6*FactorPts+(GDzero+$R6)*FactorGD+$S6*FactorFor","v":{"v":50000,"d":"50,000"}},0,{"$f":"VLOOKUP(P6,Sprache_Tipps!E:F,2,0)","v":61},false]
[null,{"$f":"INDEX(Meine_Tipps!$B$13:$AJ$38,16,1+(CODE($C$1)-65)*3)","v":"Spanien"},"-",{"$f":"INDEX(Meine_Tipps!$B$13:$AJ$38,16,2+(CODE($C$1)-65)*3)","v":"Saudiarabien"},{"$f":"IF(OR(INDEX(Meine_Tipps!$B$14:$AJ$39,16,1+(CODE($C$1)-65)*3)=\"\",INDEX(Meine_Tipps!$B$14:$AJ$39,16,2+(CODE($C$1)-65)*3)=\"\"),\"\",INDEX(Meine_Tipps!$B$14:$AJ$39,16,1+(CODE($C$1)-65)*3))","v":""},"-",{"$f":"IF(OR(INDEX(Meine_Tipps!$B$14:$AJ$39,16,1+(CODE($C$1)-65)*3)=\"\",INDEX(Meine_Tipps!$B$14:$AJ$39,16,2+(CODE($C$1)-65)*3)=\"\"),\"\",INDEX(Meine_Tipps!$B$14:$AJ$39,16,2+(CODE($C$1)-65)*3))","v":""},0,0,{"$nulls":3},0,null,"4.",{"$f":"VLOOKUP($C$1&ROW($A4),Groups_Tipps!$B$7:$D$65,3,0)","v":"Uruguay"},0,{"$f":"S7-T7","v":0},{"$f":"SUMIF($B$4:$B$9,$P7,$E$4:$E$9)+SUMIF($D$4:$D$9,$P7,$G$4:$G$9)","v":0},{"$f":"SUMIF($B$4:$B$9,$P7,$G$4:$G$9)+SUMIF($D$4:$D$9,$P7,$E$4:$E$9)","v":0},{"$f":"COUNTIFS($B$4:$B$9,$P7,$H$4:$H$9,\"=3\")+COUNTIFS($D$4:$D$9,$P7,$I$4:$I$9,\"=3\")","v":0},{"$f":"$Q7*FactorPts+(GDzero+$R7)*FactorGD+$S7*FactorFor+$U7*FactorWins+$W7*FactorDirC3+$X7*FactorDirC2+$Y7*FactorDirC43+$Z7*FactorDirC42+$AA7*FactorDirC42+$AB7*FactorFairPlay+$AE7*FactorPenalty+(100-$AF7)*($M$10>0)*FactorRank+(8-ROW())*FactorRow","v":{"v":50000.00000001,"d":"50,000.0000000"}},0,{"$f":"IF($L21=\"\",0,$L21)+SUMIFS($Z$18:$Z$35,$P$18:$P$35,$P7)","v":0},0,0,{"$f":"IF($M21=\"\",0,$M21)","v":0},{"$f":"SUMIFS(FairPlayPoints1,FairPlayTeams1,P7)+SUMIFS(FairPlayPoints2,FairPlayTeams2,P7)+SUMIFS(FairPlayPoints3,FairPlayTeams3,P7)","v":0},{"$f":"(Q7+T7>0)","v":false},{"$f":"$Q7*FactorPts+(GDzero+$R7)*FactorGD+$S7*FactorFor","v":{"v":50000,"d":"50,000"}},0,{"$f":"VLOOKUP(P7,Sprache_Tipps!E:F,2,0)","v":17},false]
[null,{"$f":"INDEX(Meine_Tipps!$B$13:$AJ$38,21,1+(CODE($C$1)-65)*3)","v":"Kapverde"},"-",{"$f":"INDEX(Meine_Tipps!$B$13:$AJ$38,21,2+(CODE($C$1)-65)*3)","v":"Saudiarabien"},{"$f":"IF(OR(INDEX(Meine_Tipps!$B$14:$AJ$39,21,1+(CODE($C$1)-65)*3)=\"\",INDEX(Meine_Tipps!$B$14:$AJ$39,21,2+(CODE($C$1)-65)*3)=\"\"),\"\",INDEX(Meine_Tipps!$B$14:$AJ$39,21,1+(CODE($C$1)-65)*3))","v":""},"-",{"$f":"IF(OR(INDEX(Meine_Tipps!$B$14:$AJ$39,21,1+(CODE($C$1)-65)*3)=\"\",INDEX(Meine_Tipps!$B$14:$AJ$39,21,2+(CODE($C$1)-65)*3)=\"\"),\"\",INDEX(Meine_Tipps!$B$14:$AJ$39,21,2+(CODE($C$1)-65)*3))","v":""},0,0,{"$nulls":3},0]
[null,{"$f":"INDEX(Meine_Tipps!$B$13:$AJ$38,26,1+(CODE($C$1)-65)*3)","v":"Uruguay"},"-",{"$f":"INDEX(Meine_Tipps!$B$13:$AJ$38,26,2+(CODE($C$1)-65)*3)","v":"Spanien"},{"$f":"IF(OR(INDEX(Meine_Tipps!$B$14:$AJ$39,26,1+(CODE($C$1)-65)*3)=\"\",INDEX(Meine_Tipps!$B$14:$AJ$39,26,2+(CODE($C$1)-65)*3)=\"\"),\"\",INDEX(Meine_Tipps!$B$14:$AJ$39,26,1+(CODE($C$1)-65)*3))","v":""},"-",{"$f":"IF(OR(INDEX(Meine_Tipps!$B$14:$AJ$39,26,1+(CODE($C$1)-65)*3)=\"\",INDEX(Meine_Tipps!$B$14:$AJ$39,26,2+(CODE($C$1)-65)*3)=\"\"),\"\",INDEX(Meine_Tipps!$B$14:$AJ$39,26,2+(CODE($C$1)-65)*3))","v":""},0,0,{"$nulls":3},0,{"$nulls":12},"For showing direct comparisons of 2 on sheet \"Direct comparisons\""]
[{"$nulls":11},"Sum:",{"$f":"SUM($M$4:$M$9)","v":0},null,null,"Sorted list","Points","GD","For","Against","wins","Coefficient","Played","Red dot","Penalty (?)","DC(2) ?","DC(4.2) ?","DC(3.2) ?","DC(4.3.2) ?","All Dir.C. (2)","Penalty"]
[{"$nulls":14},"1.",{"$f":"INDEX(P$4:P$7,MATCH($V11,$V$4:$V$7,0))","v":"Spanien"},0,0,0,0,0,{"$f":"LARGE($V$4:$V$7,ROW(A1))","v":{"v":50000.00000004,"d":"50,000.0000000"}},{"$f":"OR($Q11>0,$T11>0)","v":false},{"$f":"IF(AND(OR(TRUNC($V$11,4)=TRUNC($V$12,4),TRUNC($V$11,4)=TRUNC($V$13,4),TRUNC($V$11,4)=TRUNC($V$14,4),TRUNC($V$12,4)=TRUNC($V$13,4),TRUNC($V$12,4)=TRUNC($V$14,4),TRUNC($V$13,4)=TRUNC($V$14,4)),$M$10>0),1,0)","v":0},{"$f":"IF(AND(VLOOKUP($B$8,$P$4:$AD$7,15,0)=VLOOKUP($D$8,$P$4:$AD$7,15,0),$E$8=$G$8,COUNTIF($Q$4:$Q$7,VLOOKUP($B$8,$P$4:$Q$7,2,0))=2,$M$10=6),1,0)","v":0},{"$f":"VLOOKUP($P11,$E$18:$M$21,8,0)<>\"\"","v":false},{"$f":"VLOOKUP($P11,$E$18:$M$21,9,0)<>\"\"","v":false},{"$f":"SUMPRODUCT(1*(LEN($Z$18:$Z$35)>0)*($P$18:$P$35=$P11))>0","v":false},{"$f":"SUMPRODUCT(1*(LEN($AE$18:$AE$35)>0)*($P$18:$P$35=$P11))>0","v":false},{"$f":"IF($Z11,VLOOKUP($P11,$E$18:$M$21,8,0),IF($AA11,VLOOKUP($P11,$E$18:$M$21,9,0),IF($AB11,SUMIFS($Z$18:$Z$35,$P$18:$P$35,$P11),IF($AC11,SUMIFS($AE$18:$AE$35,$P$18:$P$35,$P11),\"\"))))","v":""},{"$f":"IF(OR(AND($Y$11>0,OR($B$8=$P11,$D$8=$P11)),AND($Y$12>0,OR($B$9=$P11,$D$9=$P11))),SUMIF($B$8:$B$9,$P11,$J$8:$J$9)+SUMIF($D$8:$D$9,$P11,$L$8:$L$9),\"\")","v":""}]
[{"$nulls":14},"2.","Kapverde",0,0,0,0,0,{"$f":"LARGE($V$4:$V$7,ROW(A2))","v":{"v":50000.00000003,"d":"50,000.0000000"}},{"$f":"OR($Q12>0,$T12>0)","v":false},null,{"$f":"IF(AND(VLOOKUP($B$9,$P$4:$AD$7,15,0)=VLOOKUP($D$9,$P$4:$AD$7,15,0),$E$9=$G$9,COUNTIF($Q$4:$Q$7,VLOOKUP($B$9,$P$4:$Q$7,2,0))=2,$M$10=6),1,0)","v":0},{"$f":"VLOOKUP($P12,$E$18:$M$21,8,0)<>\"\"","v":false},{"$f":"VLOOKUP($P12,$E$18:$M$21,9,0)<>\"\"","v":false},{"$f":"SUMPRODUCT(1*(LEN($Z$18:$Z$35)>0)*($P$18:$P$35=$P12))>0","v":false},{"$f":"SUMPRODUCT(1*(LEN($AE$18:$AE$35)>0)*($P$18:$P$35=$P12))>0","v":false},{"$f":"IF($Z12,VLOOKUP($P12,$E$18:$M$21,8,0),IF($AA12,VLOOKUP($P12,$E$18:$M$21,9,0),IF($AB12,SUMIFS($Z$18:$Z$35,$P$18:$P$35,$P12),IF($AC12,SUMIFS($AE$18:$AE$35,$P$18:$P$35,$P12),\"\"))))","v":""},{"$f":"IF(OR(AND($Y$11>0,OR($B$8=$P12,$D$8=$P12)),AND($Y$12>0,OR($B$9=$P12,$D$9=$P12))),SUMIF($B$8:$B$9,$P12,$J$8:$J$9)+SUMIF($D$8:$D$9,$P12,$L$8:$L$9),\"\")","v":""}]
[{"$nulls":14},"3.","Saudiarabien",0,0,0,0,0,{"$f":"LARGE($V$4:$V$7,ROW(A3))","v":{"v":50000.00000002,"d":"50,000.0000000"}},false,null,null,{"$f":"VLOOKUP($P13,$E$18:$M$21,8,0)<>\"\"","v":false},{"$f":"VLOOKUP($P13,$E$18:$M$21,9,0)<>\"\"","v":false},false,false,{"$f":"IF($Z13,VLOOKUP($P13,$E$18:$M$21,8,0),IF($AA13,VLOOKUP($P13,$E$18:$M$21,9,0),IF($AB13,SUMIFS($Z$18:$Z$35,$P$18:$P$35,$P13),IF($AC13,SUMIFS($AE$18:$AE$35,$P$18:$P$35,$P13),\"\"))))","v":""},{"$f":"IF(OR(AND($Y$11>0,OR($B$8=$P13,$D$8=$P13)),AND($Y$12>0,OR($B$9=$P13,$D$9=$P13))),SUMIF($B$8:$B$9,$P13,$J$8:$J$9)+SUMIF($D$8:$D$9,$P13,$L$8:$L$9),\"\")","v":""}]
[{"$nulls":14},"4.","Uruguay",0,0,0,0,0,{"$f":"LARGE($V$4:$V$7,ROW(A4))","v":{"v":50000.00000001,"d":"50,000.0000000"}},false,null,null,{"$f":"VLOOKUP($P14,$E$18:$M$21,8,0)<>\"\"","v":false},{"$f":"VLOOKUP($P14,$E$18:$M$21,9,0)<>\"\"","v":false},false,false,{"$f":"IF($Z14,VLOOKUP($P14,$E$18:$M$21,8,0),IF($AA14,VLOOKUP($P14,$E$18:$M$21,9,0),IF($AB14,SUMIFS($Z$18:$Z$35,$P$18:$P$35,$P14),IF($AC14,SUMIFS($AE$18:$AE$35,$P$18:$P$35,$P14),\"\"))))","v":""},{"$f":"IF(OR(AND($Y$11>0,OR($B$8=$P14,$D$8=$P14)),AND($Y$12>0,OR($B$9=$P14,$D$9=$P14))),SUMIF($B$8:$B$9,$P14,$J$8:$J$9)+SUMIF($D$8:$D$9,$P14,$L$8:$L$9),\"\")","v":""}]
[]
[{"$nulls":6},"Direct Comparison of 2",{"$nulls":15},"Direct Comparison of 3",{"$nulls":6},"Direct Comparison of 4",null,{"$f":"AND($Q$4=$Q$5,$Q$4=$Q$6,$Q$4=$Q$7)","v":true}]
[{"$nulls":7},{"$f":"LEFT($P$4,3)","v":"Spa"},{"$f":"LEFT($P$5,3)","v":"Kap"},{"$f":"LEFT($P$6,3)","v":"Sau"},{"$f":"LEFT($P$7,3)","v":"Uru"},"DC(2)","DC(4.2)",{"$nulls":3},"Points","GD","For","Against",null,"Pts/GD/For","Rank Col. V","DC(3)","DC(3.2)","DC(3.2)","Results of direct encounters",null,null,"DC(4.3)","DC(4.3.2)"]
[{"$nulls":4},{"$f":"$P$4","v":"Spanien"},{"$nulls":3},{"$f":"SUMIFS($E$4:$E$9,$B$4:$B$9,$P$4,$D$4:$D$9,$P$5)+SUMIFS($G$4:$G$9,$B$4:$B$9,$P$5,$D$4:$D$9,$P$4)","v":0},{"$f":"SUMIFS($E$4:$E$9,$B$4:$B$9,$P$4,$D$4:$D$9,$P$6)+SUMIFS($G$4:$G$9,$B$4:$B$9,$P$6,$D$4:$D$9,$P$4)","v":0},{"$f":"SUMIFS($E$4:$E$9,$B$4:$B$9,$P$4,$D$4:$D$9,$P$7)+SUMIFS($G$4:$G$9,$B$4:$B$9,$P$7,$D$4:$D$9,$P$4)","v":0},{"$f":"IF(AND($Q$4=$Q$5,$Q$4<>$Q$6,$Q$4<>$Q$7),IF(I18>H19,3,IF(I18=H19,1,0)),IF(AND($Q$4=$Q$6,$Q$4<>$Q$5,$Q$4<>$Q$7),IF(J18>H20,3,IF(J18=H20,1,0)),IF(AND($Q$4=$Q$7,$Q$4<>$Q$5,$Q$4<>$Q$6),IF(K18>H21,3,IF(K18=H21,1,0)),\"\")))","v":""},{"$f":"IF($AF$16,IF(AND($AD$4=$AD$5,$AD$4<>$AD$6,$AD$4<>$AD$7),IF(I18>H19,3,IF(I18=H19,1,0)),IF(AND($AD$4<>$AD$5,$AD$4=$AD$6,$AD$4<>$AD$7),IF(J18>H20,3,IF(J18=H20,1,0)),IF(AND($AD$4<>$AD$5,$AD$4<>$AD$6,$AD$4=$AD$7),IF(K18>H21,3,IF(K18=H21,1,0)),\"\"))),\"\")","v":""},null,"1.",{"$f":"$P$4","v":"Spanien"},{"$f":"SUMIFS($H$4:$H$9,$B$4:$B$9,$P18,$D$4:$D$9,\"<>\"&$P$21)+SUMIFS($I$4:$I$9,$B$4:$B$9,\"<>\"&$P$21,$D$4:$D$9,$P18)","v":0},{"$f":"S18-T18","v":0},{"$f":"SUMIFS($E$4:$E$9,$B$4:$B$9,$P18,$D$4:$D$9,\"<>\"&$P$21)+SUMIFS($G$4:$G$9,$B$4:$B$9,\"<>\"&$P$21,$D$4:$D$9,$P18)","v":0},{"$f":"SUMIFS($G$4:$G$9,$B$4:$B$9,$P18,$D$4:$D$9,\"<>\"&$P$21)+SUMIFS($E$4:$E$9,$B$4:$B$9,\"<>\"&$P$21,$D$4:$D$9,$P18)","v":0},null,{"$f":"Q18*FactorPts+(GDzero+R18)*FactorGD+S18*FactorFor","v":{"v":50000,"d":"50,000"}},{"$f":"RANK(V18,V$18:V$20,1)","v":1},{"$f":"IF(AND($Q$4=$Q$5,$Q$4=$Q$6,$Q$4<>$Q$7),W18,0)","v":0},{"$f":"IF(AND(V18=V19,V18<>V20),IF(AA18>AA19,3,IF(AA18=AA19,1,0)),IF(AND(V18=V20,V18<>V19),IF(AB18>AB20,3,IF(AB18=AB20,1,0)),\"\"))","v":""},{"$f":"IF(X18>0,Y18,\"\")","v":""},{"$f":"$I$18","v":0},{"$f":"$J$18","v":0},null,{"$f":"IF(AND($AF$16,$AD$4=$AD$5,$AD$4=$AD$6,$AD$4<>$AD$7),W18,0)","v":0},{"$f":"IF(AD18>0,Y18,\"\")","v":""}]
[{"$nulls":4},{"$f":"$P$5","v":"Kapverde"},null,null,{"$f":"SUMIFS($E$4:$E$9,$B$4:$B$9,$P$5,$D$4:$D$9,$P$4)+SUMIFS($G$4:$G$9,$B$4:$B$9,$P$4,$D$4:$D$9,$P$5)","v":0},null,{"$f":"SUMIFS($E$4:$E$9,$B$4:$B$9,$P$5,$D$4:$D$9,$P$6)+SUMIFS($G$4:$G$9,$B$4:$B$9,$P$6,$D$4:$D$9,$P$5)","v":0},{"$f":"SUMIFS($E$4:$E$9,$B$4:$B$9,$P$5,$D$4:$D$9,$P$7)+SUMIFS($G$4:$G$9,$B$4:$B$9,$P$7,$D$4:$D$9,$P$5)","v":0},{"$f":"IF(AND($Q$5=$Q$4,$Q$5<>$Q$6,$Q$5<>$Q$7),IF(H19>I18,3,IF(H19=I18,1,0)),IF(AND($Q$5=$Q$6,$Q$5<>$Q$4,$Q$5<>$Q$7),IF(J19>I20,3,IF(J19=I20,1,0)),IF(AND($Q$5=$Q$7,$Q$5<>$Q$4,$Q$5<>$Q$6),IF(K19>I21,3,IF(K19=I21,1,0)),\"\")))","v":""},{"$f":"IF($AF$16,IF(AND($AD$5=$AD$4,$AD$5<>$AD$6,$AD$5<>$AD$7),IF(H19>I18,3,IF(H19=I18,1,0)),IF(AND($AD$5<>$AD$4,$AD$5=$AD$6,$AD$5<>$AD$7),IF(J19>I20,3,IF(J19=I20,1,0)),IF(AND($AD$5<>$AD$4,$AD$5<>$AD$6,$AD$5=$AD$7),IF(K19>I21,3,IF(K19=I21,1,0)),\"\"))),\"\")","v":""},null,"2.",{"$f":"$P$5","v":"Kapverde"},{"$f":"SUMIFS($H$4:$H$9,$B$4:$B$9,$P19,$D$4:$D$9,\"<>\"&$P$21)+SUMIFS($I$4:$I$9,$B$4:$B$9,\"<>\"&$P$21,$D$4:$D$9,$P19)","v":0},{"$f":"S19-T19","v":0},{"$f":"SUMIFS($E$4:$E$9,$B$4:$B$9,$P19,$D$4:$D$9,\"<>\"&$P$21)+SUMIFS($G$4:$G$9,$B$4:$B$9,\"<>\"&$P$21,$D$4:$D$9,$P19)","v":0},{"$f":"SUMIFS($G$4:$G$9,$B$4:$B$9,$P19,$D$4:$D$9,\"<>\"&$P$21)+SUMIFS($E$4:$E$9,$B$4:$B$9,\"<>\"&$P$21,$D$4:$D$9,$P19)","v":0},null,{"$f":"Q19*FactorPts+(GDzero+R19)*FactorGD+S19*FactorFor","v":{"v":50000,"d":"50,000"}},{"$f":"RANK(V19,V$18:V$20,1)","v":1},{"$f":"IF(AND($Q$4=$Q$5,$Q$4=$Q$6,$Q$4<>$Q$7),W19,0)","v":0},{"$f":"IF(AND(V19=V18,V19<>V20),IF(AA19>AA18,3,IF(AA19=AA18,1,0)),IF(AND(V19=V20,V19<>V18),IF(AC19>AC20,3,IF(AC19=AC20,1,0)),\"\"))","v":""},{"$f":"IF(X19>0,Y19,\"\")","v":""},{"$f":"$H$19","v":0},null,{"$f":"$J$19","v":0},{"$f":"IF(AND($AF$16,$AD$4=$AD$5,$AD$4=$AD$6,$AD$4<>$AD$7),W19,0)","v":0},{"$f":"IF(AD19>0,Y19,\"\")","v":""}]
[{"$nulls":4},{"$f":"$P$6","v":"Saudiarabien"},null,null,{"$f":"SUMIFS($E$4:$E$9,$B$4:$B$9,$P$6,$D$4:$D$9,$P$4)+SUMIFS($G$4:$G$9,$B$4:$B$9,$P$4,$D$4:$D$9,$P$6)","v":0},{"$f":"SUMIFS($E$4:$E$9,$B$4:$B$9,$P$6,$D$4:$D$9,$P$5)+SUMIFS($G$4:$G$9,$B$4:$B$9,$P$5,$D$4:$D$9,$P$6)","v":0},null,{"$f":"SUMIFS($E$4:$E$9,$B$4:$B$9,$P$6,$D$4:$D$9,$P$7)+SUMIFS($G$4:$G$9,$B$4:$B$9,$P$7,$D$4:$D$9,$P$6)","v":0},{"$f":"IF(AND($Q$6=$Q$4,$Q$6<>$Q$5,$Q$6<>$Q$7),IF(H20>J18,3,IF(H20=J18,1,0)),IF(AND($Q$6=$Q$5,$Q$6<>$Q$4,$Q$6<>$Q$7),IF(I20>J19,3,IF(I20=J19,1,0)),IF(AND($Q$6=$Q$7,$Q$6<>$Q$4,$Q$6<>$Q$5),IF(K20>J21,3,IF(K20=J21,1,0)),\"\")))","v":""},{"$f":"IF($AF$16,IF(AND($AD$6=$AD$4,$AD$6<>$AD$5,$AD$6<>$AD$7),IF(H20>J18,3,IF(H20=J18,1,0)),IF(AND($AD$6<>$AD$4,$AD$6=$AD$5,$AD$6<>$AD$7),IF(I20>J19,3,IF(I20=J19,1,0)),IF(AND($AD$6<>$AD$4,$AD$6<>$AD$5,$AD$6=$AD$7),IF(K20>J21,3,IF(K20=J21,1,0)),\"\"))),\"\")","v":""},null,"3.",{"$f":"$P$6","v":"Saudiarabien"},{"$f":"SUMIFS($H$4:$H$9,$B$4:$B$9,$P20,$D$4:$D$9,\"<>\"&$P$21)+SUMIFS($I$4:$I$9,$B$4:$B$9,\"<>\"&$P$21,$D$4:$D$9,$P20)","v":0},{"$f":"S20-T20","v":0},{"$f":"SUMIFS($E$4:$E$9,$B$4:$B$9,$P20,$D$4:$D$9,\"<>\"&$P$21)+SUMIFS($G$4:$G$9,$B$4:$B$9,\"<>\"&$P$21,$D$4:$D$9,$P20)","v":0},{"$f":"SUMIFS($G$4:$G$9,$B$4:$B$9,$P20,$D$4:$D$9,\"<>\"&$P$21)+SUMIFS($E$4:$E$9,$B$4:$B$9,\"<>\"&$P$21,$D$4:$D$9,$P20)","v":0},null,{"$f":"Q20*FactorPts+(GDzero+R20)*FactorGD+S20*FactorFor","v":{"v":50000,"d":"50,000"}},{"$f":"RANK(V20,V$18:V$20,1)","v":1},{"$f":"IF(AND($Q$4=$Q$5,$Q$4=$Q$6,$Q$4<>$Q$7),W20,0)","v":0},{"$f":"IF(AND(V20=V18,V20<>V19),IF(AB20>AB18,3,IF(AB20=AB18,1,0)),IF(AND(V20=V19,V20<>V18),IF(AC20>AC19,3,IF(AC20=AC19,1,0)),\"\"))","v":""},"",null,{"$f":"$H$20","v":0},{"$f":"$I$20","v":0},{"$f":"IF(AND($AF$16,$AD$4=$AD$5,$AD$4=$AD$6,$AD$4<>$AD$7),W20,0)","v":0},""]
[{"$nulls":4},{"$f":"$P$7","v":"Uruguay"},null,null,{"$f":"SUMIFS($E$4:$E$9,$B$4:$B$9,$P$7,$D$4:$D$9,$P$4)+SUMIFS($G$4:$G$9,$B$4:$B$9,$P$4,$D$4:$D$9,$P$7)","v":0},{"$f":"SUMIFS($E$4:$E$9,$B$4:$B$9,$P$7,$D$4:$D$9,$P$5)+SUMIFS($G$4:$G$9,$B$4:$B$9,$P$5,$D$4:$D$9,$P$7)","v":0},{"$f":"SUMIFS($E$4:$E$9,$B$4:$B$9,$P$7,$D$4:$D$9,$P$6)+SUMIFS($G$4:$G$9,$B$4:$B$9,$P$6,$D$4:$D$9,$P$7)","v":0},null,{"$f":"IF(AND($Q$7=$Q$4,$Q$7<>$Q$5,$Q$7<>$Q$6),IF(H21>K18,3,IF(H21=K18,1,0)),IF(AND($Q$7=$Q$5,$Q$7<>$Q$4,$Q$7<>$Q$6),IF(I21>K19,3,IF(I21=K19,1,0)),IF(AND($Q$7=$Q$6,$Q$7<>$Q$4,$Q$7<>$Q$5),IF(J21>K20,3,IF(J21=K20,1,0)),\"\")))","v":""},{"$f":"IF($AF$16,IF(AND($AD$7=$AD$4,$AD$7<>$AD$5,$AD$7<>$AD$6),IF(H21>K18,3,IF(H21=K18,1,0)),IF(AND($AD$7<>$AD$4,$AD$7=$AD$5,$AD$7<>$AD$6),IF(I21>K19,3,IF(I21=K19,1,0)),IF(AND($AD$7<>$AD$4,$AD$7<>$AD$5,$AD$7=$AD$6),IF(J21>K20,3,IF(J21=K20,1,0)),\"\"))),\"\")","v":""},null,null,{"$f":"$P$7","v":"Uruguay"}]
[]
[{"$nulls":14},"1.",{"$f":"$P$4","v":"Spanien"},{"$f":"SUMIFS($H$4:$H$9,$B$4:$B$9,$P23,$D$4:$D$9,\"<>\"&$P$26)+SUMIFS($I$4:$I$9,$B$4:$B$9,\"<>\"&$P$26,$D$4:$D$9,$P23)","v":0},{"$f":"S23-T23","v":0},{"$f":"SUMIFS($E$4:$E$9,$B$4:$B$9,$P23,$D$4:$D$9,\"<>\"&$P$26)+SUMIFS($G$4:$G$9,$B$4:$B$9,\"<>\"&$P$26,$D$4:$D$9,$P23)","v":0},{"$f":"SUMIFS($G$4:$G$9,$B$4:$B$9,$P23,$D$4:$D$9,\"<>\"&$P$26)+SUMIFS($E$4:$E$9,$B$4:$B$9,\"<>\"&$P$26,$D$4:$D$9,$P23)","v":0},null,{"$f":"Q23*FactorPts+(GDzero+R23)*FactorGD+S23*FactorFor","v":{"v":50000,"d":"50,000"}},{"$f":"RANK(V23,V$23:V$25,1)","v":1},{"$f":"IF(AND($Q$4=$Q$5,$Q$4=$Q$7,$Q$4<>$Q$6),W23,0)","v":0},{"$f":"IF(AND(V23=V24,V23<>V25),IF(AA23>AA24,3,IF(AA23=AA24,1,0)),IF(AND(V23=V25,V23<>V24),IF(AB23>AB25,3,IF(AB23=AB25,1,0)),\"\"))","v":""},{"$f":"IF(X23>0,Y23,\"\")","v":""},{"$f":"$I$18","v":0},{"$f":"$K$18","v":0},null,{"$f":"IF(AND($AF$16,$AD$4=$AD$5,$AD$4=$AD$7,$AD$4<>$AD$6),W23,0)","v":0},{"$f":"IF(AD23>0,Y23,\"\")","v":""}]
[{"$nulls":14},"2.",{"$f":"$P$5","v":"Kapverde"},{"$f":"SUMIFS($H$4:$H$9,$B$4:$B$9,$P24,$D$4:$D$9,\"<>\"&$P$26)+SUMIFS($I$4:$I$9,$B$4:$B$9,\"<>\"&$P$26,$D$4:$D$9,$P24)","v":0},{"$f":"S24-T24","v":0},{"$f":"SUMIFS($E$4:$E$9,$B$4:$B$9,$P24,$D$4:$D$9,\"<>\"&$P$26)+SUMIFS($G$4:$G$9,$B$4:$B$9,\"<>\"&$P$26,$D$4:$D$9,$P24)","v":0},{"$f":"SUMIFS($G$4:$G$9,$B$4:$B$9,$P24,$D$4:$D$9,\"<>\"&$P$26)+SUMIFS($E$4:$E$9,$B$4:$B$9,\"<>\"&$P$26,$D$4:$D$9,$P24)","v":0},null,{"$f":"Q24*FactorPts+(GDzero+R24)*FactorGD+S24*FactorFor","v":{"v":50000,"d":"50,000"}},{"$f":"RANK(V24,V$23:V$25,1)","v":1},{"$f":"IF(AND($Q$4=$Q$5,$Q$4=$Q$7,$Q$4<>$Q$6),W24,0)","v":0},{"$f":"IF(AND(V24=V23,V24<>V25),IF(AA24>AA23,3,IF(AA24=AA23,1,0)),IF(AND(V24=V25,V24<>V23),IF(AC24>AC25,3,IF(AC24=AC25,1,0)),\"\"))","v":""},{"$f":"IF(X24>0,Y24,\"\")","v":""},{"$f":"$H$19","v":0},null,{"$f":"$K$19","v":0},{"$f":"IF(AND($AF$16,$AD$4=$AD$5,$AD$4=$AD$7,$AD$4<>$AD$6),W24,0)","v":0},{"$f":"IF(AD24>0,Y24,\"\")","v":""}]
[{"$nulls":14},"3.",{"$f":"$P$7","v":"Uruguay"},{"$f":"SUMIFS($H$4:$H$9,$B$4:$B$9,$P25,$D$4:$D$9,\"<>\"&$P$26)+SUMIFS($I$4:$I$9,$B$4:$B$9,\"<>\"&$P$26,$D$4:$D$9,$P25)","v":0},{"$f":"S25-T25","v":0},{"$f":"SUMIFS($E$4:$E$9,$B$4:$B$9,$P25,$D$4:$D$9,\"<>\"&$P$26)+SUMIFS($G$4:$G$9,$B$4:$B$9,\"<>\"&$P$26,$D$4:$D$9,$P25)","v":0},{"$f":"SUMIFS($G$4:$G$9,$B$4:$B$9,$P25,$D$4:$D$9,\"<>\"&$P$26)+SUMIFS($E$4:$E$9,$B$4:$B$9,\"<>\"&$P$26,$D$4:$D$9,$P25)","v":0},null,{"$f":"Q25*FactorPts+(GDzero+R25)*FactorGD+S25*FactorFor","v":{"v":50000,"d":"50,000"}},{"$f":"RANK(V25,V$23:V$25,1)","v":1},{"$f":"IF(AND($Q$4=$Q$5,$Q$4=$Q$7,$Q$4<>$Q$6),W25,0)","v":0},{"$f":"IF(AND(V25=V23,V25<>V24),IF(AB25>AB23,3,IF(AB25=AB23,1,0)),IF(AND(V25=V24,V25<>V23),IF(AC25>AC24,3,IF(AC25=AC24,1,0)),\"\"))","v":""},"",null,{"$f":"$H$21","v":0},{"$f":"$I$21","v":0},{"$f":"IF(AND($AF$16,$AD$4=$AD$5,$AD$4=$AD$7,$AD$4<>$AD$6),W25,0)","v":0},""]
[{"$nulls":15},{"$f":"$P$6","v":"Saudiarabien"}]
[]
[{"$nulls":14},"1.",{"$f":"$P$4","v":"Spanien"},{"$f":"SUMIFS($H$4:$H$9,$B$4:$B$9,$P28,$D$4:$D$9,\"<>\"&$P$31)+SUMIFS($I$4:$I$9,$B$4:$B$9,\"<>\"&$P$31,$D$4:$D$9,$P28)","v":0},{"$f":"S28-T28","v":0},{"$f":"SUMIFS($E$4:$E$9,$B$4:$B$9,$P28,$D$4:$D$9,\"<>\"&$P$31)+SUMIFS($G$4:$G$9,$B$4:$B$9,\"<>\"&$P$31,$D$4:$D$9,$P28)","v":0},{"$f":"SUMIFS($G$4:$G$9,$B$4:$B$9,$P28,$D$4:$D$9,\"<>\"&$P$31)+SUMIFS($E$4:$E$9,$B$4:$B$9,\"<>\"&$P$31,$D$4:$D$9,$P28)","v":0},null,{"$f":"Q28*FactorPts+(GDzero+R28)*FactorGD+S28*FactorFor","v":{"v":50000,"d":"50,000"}},{"$f":"RANK(V28,V$28:V$30,1)","v":1},{"$f":"IF(AND($Q$4=$Q$6,$Q$4=$Q$7,$Q$4<>$Q$5),W28,0)","v":0},{"$f":"IF(AND(V28=V29,V28<>V30),IF(AA28>AA29,3,IF(AA28=AA29,1,0)),IF(AND(V28=V30,V28<>V29),IF(AB28>AB30,3,IF(AB28=AB30,1,0)),\"\"))","v":""},{"$f":"IF(X28>0,Y28,\"\")","v":""},{"$f":"$J$18","v":0},{"$f":"$K$18","v":0},null,{"$f":"IF(AND($AF$16,$AD$4=$AD$6,$AD$4=$AD$7,$AD$4<>$AD$5),W28,0)","v":0},{"$f":"IF(AD28>0,Y28,\"\")","v":""}]
[{"$nulls":14},"2.",{"$f":"$P$6","v":"Saudiarabien"},{"$f":"SUMIFS($H$4:$H$9,$B$4:$B$9,$P29,$D$4:$D$9,\"<>\"&$P$31)+SUMIFS($I$4:$I$9,$B$4:$B$9,\"<>\"&$P$31,$D$4:$D$9,$P29)","v":0},{"$f":"S29-T29","v":0},{"$f":"SUMIFS($E$4:$E$9,$B$4:$B$9,$P29,$D$4:$D$9,\"<>\"&$P$31)+SUMIFS($G$4:$G$9,$B$4:$B$9,\"<>\"&$P$31,$D$4:$D$9,$P29)","v":0},{"$f":"SUMIFS($G$4:$G$9,$B$4:$B$9,$P29,$D$4:$D$9,\"<>\"&$P$31)+SUMIFS($E$4:$E$9,$B$4:$B$9,\"<>\"&$P$31,$D$4:$D$9,$P29)","v":0},null,{"$f":"Q29*FactorPts+(GDzero+R29)*FactorGD+S29*FactorFor","v":{"v":50000,"d":"50,000"}},{"$f":"RANK(V29,V$28:V$30,1)","v":1},{"$f":"IF(AND($Q$4=$Q$6,$Q$4=$Q$7,$Q$4<>$Q$5),W29,0)","v":0},{"$f":"IF(AND(V29=V28,V29<>V30),IF(AA29>AA28,3,IF(AA29=AA28,1,0)),IF(AND(V29=V30,V29<>V28),IF(AC29>AC30,3,IF(AC29=AC30,1,0)),\"\"))","v":""},{"$f":"IF(X29>0,Y29,\"\")","v":""},{"$f":"$H$20","v":0},null,{"$f":"$K$20","v":0},{"$f":"IF(AND($AF$16,$AD$4=$AD$6,$AD$4=$AD$7,$AD$4<>$AD$5),W29,0)","v":0},{"$f":"IF(AD29>0,Y29,\"\")","v":""}]
[{"$nulls":14},"3.",{"$f":"$P$7","v":"Uruguay"},{"$f":"SUMIFS($H$4:$H$9,$B$4:$B$9,$P30,$D$4:$D$9,\"<>\"&$P$31)+SUMIFS($I$4:$I$9,$B$4:$B$9,\"<>\"&$P$31,$D$4:$D$9,$P30)","v":0},{"$f":"S30-T30","v":0},{"$f":"SUMIFS($E$4:$E$9,$B$4:$B$9,$P30,$D$4:$D$9,\"<>\"&$P$31)+SUMIFS($G$4:$G$9,$B$4:$B$9,\"<>\"&$P$31,$D$4:$D$9,$P30)","v":0},{"$f":"SUMIFS($G$4:$G$9,$B$4:$B$9,$P30,$D$4:$D$9,\"<>\"&$P$31)+SUMIFS($E$4:$E$9,$B$4:$B$9,\"<>\"&$P$31,$D$4:$D$9,$P30)","v":0},null,{"$f":"Q30*FactorPts+(GDzero+R30)*FactorGD+S30*FactorFor","v":{"v":50000,"d":"50,000"}},1,{"$f":"IF(AND($Q$4=$Q$6,$Q$4=$Q$7,$Q$4<>$Q$5),W30,0)","v":0},{"$f":"IF(AND(V30=V28,V30<>V29),IF(AB30>AB28,3,IF(AB30=AB28,1,0)),IF(AND(V30=V29,V30<>V28),IF(AC30>AC29,3,IF(AC30=AC29,1,0)),\"\"))","v":""},"",null,{"$f":"$H$21","v":0},{"$f":"$J$21","v":0},{"$f":"IF(AND($AF$16,$AD$4=$AD$6,$AD$4=$AD$7,$AD$4<>$AD$5),W30,0)","v":0},""]
[{"$nulls":15},{"$f":"$P$5","v":"Kapverde"}]
[]
[{"$nulls":14},"1.",{"$f":"$P$5","v":"Kapverde"},{"$f":"SUMIFS($H$4:$H$9,$B$4:$B$9,$P33,$D$4:$D$9,\"<>\"&$P$36)+SUMIFS($I$4:$I$9,$B$4:$B$9,\"<>\"&$P$36,$D$4:$D$9,$P33)","v":0},{"$f":"S33-T33","v":0},{"$f":"SUMIFS($E$4:$E$9,$B$4:$B$9,$P33,$D$4:$D$9,\"<>\"&$P$36)+SUMIFS($G$4:$G$9,$B$4:$B$9,\"<>\"&$P$36,$D$4:$D$9,$P33)","v":0},{"$f":"SUMIFS($G$4:$G$9,$B$4:$B$9,$P33,$D$4:$D$9,\"<>\"&$P$36)+SUMIFS($E$4:$E$9,$B$4:$B$9,\"<>\"&$P$36,$D$4:$D$9,$P33)","v":0},null,{"$f":"Q33*FactorPts+(GDzero+R33)*FactorGD+S33*FactorFor","v":{"v":50000,"d":"50,000"}},{"$f":"RANK(V33,V$33:V$35,1)","v":1},{"$f":"IF(AND($Q$5=$Q$6,$Q$5=$Q$7,$Q$5<>$Q$4),W33,0)","v":0},{"$f":"IF(AND(V33=V34,V33<>V35),IF(AA33>AA34,3,IF(AA33=AA34,1,0)),IF(AND(V33=V35,V33<>V34),IF(AB33>AB35,3,IF(AB33=AB35,1,0)),\"\"))","v":""},{"$f":"IF(X33>0,Y33,\"\")","v":""},{"$f":"$J$19","v":0},{"$f":"$K$19","v":0},null,{"$f":"IF(AND($AF$16,$AD$5=$AD$6,$AD$5=$AD$7,$AD$5<>$AD$4),W33,0)","v":0},{"$f":"IF(AD33>0,Y33,\"\")","v":""}]
[{"$nulls":14},"2.",{"$f":"$P$6","v":"Saudiarabien"},{"$f":"SUMIFS($H$4:$H$9,$B$4:$B$9,$P34,$D$4:$D$9,\"<>\"&$P$36)+SUMIFS($I$4:$I$9,$B$4:$B$9,\"<>\"&$P$36,$D$4:$D$9,$P34)","v":0},{"$f":"S34-T34","v":0},{"$f":"SUMIFS($E$4:$E$9,$B$4:$B$9,$P34,$D$4:$D$9,\"<>\"&$P$36)+SUMIFS($G$4:$G$9,$B$4:$B$9,\"<>\"&$P$36,$D$4:$D$9,$P34)","v":0},{"$f":"SUMIFS($G$4:$G$9,$B$4:$B$9,$P34,$D$4:$D$9,\"<>\"&$P$36)+SUMIFS($E$4:$E$9,$B$4:$B$9,\"<>\"&$P$36,$D$4:$D$9,$P34)","v":0},null,{"$f":"Q34*FactorPts+(GDzero+R34)*FactorGD+S34*FactorFor","v":{"v":50000,"d":"50,000"}},{"$f":"RANK(V34,V$33:V$35,1)","v":1},{"$f":"IF(AND($Q$5=$Q$6,$Q$5=$Q$7,$Q$5<>$Q$4),W34,0)","v":0},{"$f":"IF(AND(V34=V33,V34<>V35),IF(AA34>AA33,3,IF(AA34=AA33,1,0)),IF(AND(V34=V35,V34<>V33),IF(AC34>AC35,3,IF(AC34=AC35,1,0)),\"\"))","v":""},{"$f":"IF(X34>0,Y34,\"\")","v":""},{"$f":"$I$20","v":0},null,{"$f":"$K$20","v":0},{"$f":"IF(AND($AF$16,$AD$5=$AD$6,$AD$5=$AD$7,$AD$5<>$AD$4),W34,0)","v":0},{"$f":"IF(AD34>0,Y34,\"\")","v":""}]
[{"$nulls":14},"3.",{"$f":"$P$7","v":"Uruguay"},{"$f":"SUMIFS($H$4:$H$9,$B$4:$B$9,$P35,$D$4:$D$9,\"<>\"&$P$36)+SUMIFS($I$4:$I$9,$B$4:$B$9,\"<>\"&$P$36,$D$4:$D$9,$P35)","v":0},{"$f":"S35-T35","v":0},{"$f":"SUMIFS($E$4:$E$9,$B$4:$B$9,$P35,$D$4:$D$9,\"<>\"&$P$36)+SUMIFS($G$4:$G$9,$B$4:$B$9,\"<>\"&$P$36,$D$4:$D$9,$P35)","v":0},{"$f":"SUMIFS($G$4:$G$9,$B$4:$B$9,$P35,$D$4:$D$9,\"<>\"&$P$36)+SUMIFS($E$4:$E$9,$B$4:$B$9,\"<>\"&$P$36,$D$4:$D$9,$P35)","v":0},null,{"$f":"Q35*FactorPts+(GDzero+R35)*FactorGD+S35*FactorFor","v":{"v":50000,"d":"50,000"}},{"$f":"RANK(V35,V$33:V$35,1)","v":1},{"$f":"IF(AND($Q$5=$Q$6,$Q$5=$Q$7,$Q$5<>$Q$4),W35,0)","v":0},{"$f":"IF(AND(V35=V33,V35<>V34),IF(AB35>AB33,3,IF(AB35=AB33,1,0)),IF(AND(V35=V34,V35<>V33),IF(AC35>AC34,3,IF(AC35=AC34,1,0)),\"\"))","v":""},"",null,{"$f":"$I$21","v":0},{"$f":"$J$21","v":0},{"$f":"IF(AND($AF$16,$AD$5=$AD$6,$AD$5=$AD$7,$AD$5<>$AD$4),W35,0)","v":0},""]
[{"$nulls":15},{"$f":"$P$4","v":"Spanien"}]

{"sheet":"GrpI_Tipps","index":23,"n_rows":36,"n_cols":33,"rows_kept":36,"hidden":true,"merged":[[2,1,2,3],[2,4,2,6],[2,7,2,8],[2,9,2,11],[8,25,8,30],[15,6,15,11],[15,22,15,25],[15,29,15,30],[16,26,16,28],[17,4,17,6],[18,4,18,6],[19,4,19,6],[20,4,20,6]]}
[null,"Group","I","Tipps"]
[]
[null,"Match",null,null,"Score",null,null,"Points",null,"Penalty",null,null,"valid",{"$nulls":3},"Points","GD","For","Against","Wins","Coefficient","Dir. Comp. (3)","Dir. Comp. (2)","Dir. Comp. (4.3)","Dir. Comp. (4.3.2)","Dir. Comp. (4.2)","Fair play","match count > 0","Pts/GD/For","Penalty","Ranking","Played"]
[null,{"$f":"INDEX(Meine_Tipps!$B$13:$AJ$38,1,1+(CODE($C$1)-65)*3)","v":"Frankreich"},"-",{"$f":"INDEX(Meine_Tipps!$B$13:$AJ$38,1,2+(CODE($C$1)-65)*3)","v":"Senegal"},{"$f":"IF(OR(INDEX(Meine_Tipps!$B$14:$AJ$39,1,1+(CODE($C$1)-65)*3)=\"\",INDEX(Meine_Tipps!$B$14:$AJ$39,1,2+(CODE($C$1)-65)*3)=\"\"),\"\",INDEX(Meine_Tipps!$B$14:$AJ$39,1,1+(CODE($C$1)-65)*3))","v":""},"-",{"$f":"IF(OR(INDEX(Meine_Tipps!$B$14:$AJ$39,1,1+(CODE($C$1)-65)*3)=\"\",INDEX(Meine_Tipps!$B$14:$AJ$39,1,2+(CODE($C$1)-65)*3)=\"\"),\"\",INDEX(Meine_Tipps!$B$14:$AJ$39,1,2+(CODE($C$1)-65)*3))","v":""},{"$f":"IF($M4>0,IF($E4>$G4,3,IF($E4=$G4,1,0)),0)","v":0},{"$f":"IF($M4>0,IF($E4<$G4,3,IF($E4=$G4,1,0)),0)","v":0},{"$nulls":3},{"$f":"IF(AND($E4<>\"\",$G4<>\"\"),1,0)","v":0},null,"1.",{"$f":"VLOOKUP($C$1&ROW($A1),Groups_Tipps!$B$7:$D$65,3,0)","v":"Frankreich"},{"$f":"SUMIF($B$4:$B$9,P4,$H$4:$H$9)+SUMIF($D$4:$D$9,P4,$I$4:$I$9)","v":0},{"$f":"S4-T4","v":0},{"$f":"SUMIF($B$4:$B$9,$P4,$E$4:$E$9)+SUMIF($D$4:$D$9,$P4,$G$4:$G$9)","v":0},{"$f":"SUMIF($B$4:$B$9,$P4,$G$4:$G$9)+SUMIF($D$4:$D$9,$P4,$E$4:$E$9)","v":0},{"$f":"COUNTIFS($B$4:$B$9,$P4,$H$4:$H$9,\"=3\")+COUNTIFS($D$4:$D$9,$P4,$I$4:$I$9,\"=3\")","v":0},{"$f":"$Q4*FactorPts+(GDzero+$R4)*FactorGD+$S4*FactorFor+$U4*FactorWins+$W4*FactorDirC3+$X4*FactorDirC2+$Y4*FactorDirC43+$Z4*FactorDirC42+$AA4*FactorDirC42+$AB4*FactorFairPlay+$AE4*FactorPenalty+(100-$AF4)*($M$10>0)*FactorRank+(8-ROW())*FactorRow","v":{"v":50000.00000004,"d":"50,000.0000000"}},{"$f":"SUMIFS($X$18:$X$35,$P$18:$P$35,$P4)","v":0},{"$f":"IF($L18=\"\",0,$L18)+SUMIFS($Z$18:$Z$35,$P$18:$P$35,$P4)","v":0},{"$f":"SUMIFS($AD$18:$AD$35,$P$18:$P$35,$P4)","v":0},{"$f":"SUMIFS($AE$18:$AE$35,$P$18:$P$35,$P4)","v":0},{"$f":"IF($M18=\"\",0,$M18)","v":0},{"$f":"SUMIFS(FairPlayPoints1,FairPlayTeams1,P4)+SUMIFS(FairPlayPoints2,FairPlayTeams2,P4)+SUMIFS(FairPlayPoints3,FairPlayTeams3,P4)","v":0},{"$f":"(Q4+T4>0)","v":false},{"$f":"$Q4*FactorPts+(GDzero+$R4)*FactorGD+$S4*FactorFor","v":{"v":50000,"d":"50,000"}},0,{"$f":"VLOOKUP(P4,Sprache_Tipps!E:F,2,0)","v":1},{"$f":"OR($Q4>0,$T4>0)","v":false}]
[null,{"$f":"INDEX(Meine_Tipps!$B$13:$AJ$38,6,1+(CODE($C$1)-65)*3)","v":"Irak"},"-",{"$f":"INDEX(Meine_Tipps!$B$13:$AJ$38,6,2+(CODE($C$1)-65)*3)","v":"Norwegen"},{"$f":"IF(OR(INDEX(Meine_Tipps!$B$14:$AJ$39,6,1+(CODE($C$1)-65)*3)=\"\",INDEX(Meine_Tipps!$B$14:$AJ$39,6,2+(CODE($C$1)-65)*3)=\"\"),\"\",INDEX(Meine_Tipps!$B$14:$AJ$39,6,1+(CODE($C$1)-65)*3))","v":""},"-",{"$f":"IF(OR(INDEX(Meine_Tipps!$B$14:$AJ$39,6,1+(CODE($C$1)-65)*3)=\"\",INDEX(Meine_Tipps!$B$14:$AJ$39,6,2+(CODE($C$1)-65)*3)=\"\"),\"\",INDEX(Meine_Tipps!$B$14:$AJ$39,6,2+(CODE($C$1)-65)*3))","v":""},0,0,{"$nulls":3},0,null,"2.",{"$f":"VLOOKUP($C$1&ROW($A2),Groups_Tipps!$B$7:$D$65,3,0)","v":"Senegal"},{"$f":"SUMIF($B$4:$B$9,P5,$H$4:$H$9)+SUMIF($D$4:$D$9,P5,$I$4:$I$9)","v":0},{"$f":"S5-T5","v":0},{"$f":"SUMIF($B$4:$B$9,$P5,$E$4:$E$9)+SUMIF($D$4:$D$9,$P5,$G$4:$G$9)","v":0},{"$f":"SUMIF($B$4:$B$9,$P5,$G$4:$G$9)+SUMIF($D$4:$D$9,$P5,$E$4:$E$9)","v":0},{"$f":"COUNTIFS($B$4:$B$9,$P5,$H$4:$H$9,\"=3\")+COUNTIFS($D$4:$D$9,$P5,$I$4:$I$9,\"=3\")","v":0},{"$f":"$Q5*FactorPts+(GDzero+$R5)*FactorGD+$S5*FactorFor+$U5*FactorWins+$W5*FactorDirC3+$X5*FactorDirC2+$Y5*FactorDirC43+$Z5*FactorDirC42+$AA5*FactorDirC42+$AB5*FactorFairPlay+$AE5*FactorPenalty+(100-$AF5)*($M$10>0)*FactorRank+(8-ROW())*FactorRow","v":{"v":50000.00000003,"d":"50,000.0000000"}},{"$f":"SUMIFS($X$18:$X$35,$P$18:$P$35,$P5)","v":0},{"$f":"IF($L19=\"\",0,$L19)+SUMIFS($Z$18:$Z$35,$P$18:$P$35,$P5)","v":0},{"$f":"SUMIFS($AD$18:$AD$35,$P$18:$P$35,$P5)","v":0},{"$f":"SUMIFS($AE$18:$AE$35,$P$18:$P$35,$P5)","v":0},{"$f":"IF($M19=\"\",0,$M19)","v":0},{"$f":"SUMIFS(FairPlayPoints1,FairPlayTeams1,P5)+SUMIFS(FairPlayPoints2,FairPlayTeams2,P5)+SUMIFS(FairPlayPoints3,FairPlayTeams3,P5)","v":0},{"$f":"(Q5+T5>0)","v":false},{"$f":"$Q5*FactorPts+(GDzero+$R5)*FactorGD+$S5*FactorFor","v":{"v":50000,"d":"50,000"}},0,{"$f":"VLOOKUP(P5,Sprache_Tipps!E:F,2,0)","v":14},{"$f":"OR($Q5>0,$T5>0)","v":false}]
[null,{"$f":"INDEX(Meine_Tipps!$B$13:$AJ$38,11,1+(CODE($C$1)-65)*3)","v":"Norwegen"},"-",{"$f":"INDEX(Meine_Tipps!$B$13:$AJ$38,11,2+(CODE($C$1)-65)*3)","v":"Senegal"},{"$f":"IF(OR(INDEX(Meine_Tipps!$B$14:$AJ$39,11,1+(CODE($C$1)-65)*3)=\"\",INDEX(Meine_Tipps!$B$14:$AJ$39,11,2+(CODE($C$1)-65)*3)=\"\"),\"\",INDEX(Meine_Tipps!$B$14:$AJ$39,11,1+(CODE($C$1)-65)*3))","v":""},"-",{"$f":"IF(OR(INDEX(Meine_Tipps!$B$14:$AJ$39,11,1+(CODE($C$1)-65)*3)=\"\",INDEX(Meine_Tipps!$B$14:$AJ$39,11,2+(CODE($C$1)-65)*3)=\"\"),\"\",INDEX(Meine_Tipps!$B$14:$AJ$39,11,2+(CODE($C$1)-65)*3))","v":""},0,0,{"$nulls":3},0,null,"3.",{"$f":"VLOOKUP($C$1&ROW($A3),Groups_Tipps!$B$7:$D$65,3,0)","v":"Irak"},0,{"$f":"S6-T6","v":0},{"$f":"SUMIF($B$4:$B$9,$P6,$E$4:$E$9)+SUMIF($D$4:$D$9,$P6,$G$4:$G$9)","v":0},{"$f":"SUMIF($B$4:$B$9,$P6,$G$4:$G$9)+SUMIF($D$4:$D$9,$P6,$E$4:$E$9)","v":0},{"$f":"COUNTIFS($B$4:$B$9,$P6,$H$4:$H$9,\"=3\")+COUNTIFS($D$4:$D$9,$P6,$I$4:$I$9,\"=3\")","v":0},{"$f":"$Q6*FactorPts+(GDzero+$R6)*FactorGD+$S6*FactorFor+$U6*FactorWins+$W6*FactorDirC3+$X6*FactorDirC2+$Y6*FactorDirC43+$Z6*FactorDirC42+$AA6*FactorDirC42+$AB6*FactorFairPlay+$AE6*FactorPenalty+(100-$AF6)*($M$10>0)*FactorRank+(8-ROW())*FactorRow","v":{"v":50000.00000002,"d":"50,000.0000000"}},0,{"$f":"IF($L20=\"\",0,$L20)+SUMIFS($Z$18:$Z$35,$P$18:$P$35,$P6)","v":0},0,0,{"$f":"IF($M20=\"\",0,$M20)","v":0},{"$f":"SUMIFS(FairPlayPoints1,FairPlayTeams1,P6)+SUMIFS(FairPlayPoints2,FairPlayTeams2,P6)+SUMIFS(FairPlayPoints3,FairPlayTeams3,P6)","v":0},{"$f":"(Q6+T6>0)","v":false},{"$f":"$Q6*FactorPts+(GDzero+$R6)*FactorGD+$S6*FactorFor","v":{"v":50000,"d":"50,000"}},0,{"$f":"VLOOKUP(P6,Sprache_Tipps!E:F,2,0)","v":57},false]
[null,{"$f":"INDEX(Meine_Tipps!$B$13:$AJ$38,16,1+(CODE($C$1)-65)*3)","v":"Frankreich"},"-",{"$f":"INDEX(Meine_Tipps!$B$13:$AJ$38,16,2+(CODE($C$1)-65)*3)","v":"Irak"},{"$f":"IF(OR(INDEX(Meine_Tipps!$B$14:$AJ$39,16,1+(CODE($C$1)-65)*3)=\"\",INDEX(Meine_Tipps!$B$14:$AJ$39,16,2+(CODE($C$1)-65)*3)=\"\"),\"\",INDEX(Meine_Tipps!$B$14:$AJ$39,16,1+(CODE($C$1)-65)*3))","v":""},"-",{"$f":"IF(OR(INDEX(Meine_Tipps!$B$14:$AJ$39,16,1+(CODE($C$1)-65)*3)=\"\",INDEX(Meine_Tipps!$B$14:$AJ$39,16,2+(CODE($C$1)-65)*3)=\"\"),\"\",INDEX(Meine_Tipps!$B$14:$AJ$39,16,2+(CODE($C$1)-65)*3))","v":""},0,0,{"$nulls":3},0,null,"4.",{"$f":"VLOOKUP($C$1&ROW($A4),Groups_Tipps!$B$7:$D$65,3,0)","v":"Norwegen"},0,{"$f":"S7-T7","v":0},{"$f":"SUMIF($B$4:$B$9,$P7,$E$4:$E$9)+SUMIF($D$4:$D$9,$P7,$G$4:$G$9)","v":0},{"$f":"SUMIF($B$4:$B$9,$P7,$G$4:$G$9)+SUMIF($D$4:$D$9,$P7,$E$4:$E$9)","v":0},{"$f":"COUNTIFS($B$4:$B$9,$P7,$H$4:$H$9,\"=3\")+COUNTIFS($D$4:$D$9,$P7,$I$4:$I$9,\"=3\")","v":0},{"$f":"$Q7*FactorPts+(GDzero+$R7)*FactorGD+$S7*FactorFor+$U7*FactorWins+$W7*FactorDirC3+$X7*FactorDirC2+$Y7*FactorDirC43+$Z7*FactorDirC42+$AA7*FactorDirC42+$AB7*FactorFairPlay+$AE7*FactorPenalty+(100-$AF7)*($M$10>0)*FactorRank+(8-ROW())*FactorRow","v":{"v":50000.00000001,"d":"50,000.0000000"}},0,{"$f":"IF($L21=\"\",0,$L21)+SUMIFS($Z$18:$Z$35,$P$18:$P$35,$P7)","v":0},0,0,{"$f":"IF($M21=\"\",0,$M21)","v":0},{"$f":"SUMIFS(FairPlayPoints1,FairPlayTeams1,P7)+SUMIFS(FairPlayPoints2,FairPlayTeams2,P7)+SUMIFS(FairPlayPoints3,FairPlayTeams3,P7)","v":0},{"$f":"(Q7+T7>0)","v":false},{"$f":"$Q7*FactorPts+(GDzero+$R7)*FactorGD+$S7*FactorFor","v":{"v":50000,"d":"50,000"}},0,{"$f":"VLOOKUP(P7,Sprache_Tipps!E:F,2,0)","v":31},false]
[null,{"$f":"INDEX(Meine_Tipps!$B$13:$AJ$38,21,1+(CODE($C$1)-65)*3)","v":"Norwegen"},"-",{"$f":"INDEX(Meine_Tipps!$B$13:$AJ$38,21,2+(CODE($C$1)-65)*3)","v":"Frankreich"},{"$f":"IF(OR(INDEX(Meine_Tipps!$B$14:$AJ$39,21,1+(CODE($C$1)-65)*3)=\"\",INDEX(Meine_Tipps!$B$14:$AJ$39,21,2+(CODE($C$1)-65)*3)=\"\"),\"\",INDEX(Meine_Tipps!$B$14:$AJ$39,21,1+(CODE($C$1)-65)*3))","v":""},"-",{"$f":"IF(OR(INDEX(Meine_Tipps!$B$14:$AJ$39,21,1+(CODE($C$1)-65)*3)=\"\",INDEX(Meine_Tipps!$B$14:$AJ$39,21,2+(CODE($C$1)-65)*3)=\"\"),\"\",INDEX(Meine_Tipps!$B$14:$AJ$39,21,2+(CODE($C$1)-65)*3))","v":""},0,0,{"$nulls":3},0]
[null,{"$f":"INDEX(Meine_Tipps!$B$13:$AJ$38,26,1+(CODE($C$1)-65)*3)","v":"Senegal"},"-",{"$f":"INDEX(Meine_Tipps!$B$13:$AJ$38,26,2+(CODE($C$1)-65)*3)","v":"Irak"},{"$f":"IF(OR(INDEX(Meine_Tipps!$B$14:$AJ$39,26,1+(CODE($C$1)-65)*3)=\"\",INDEX(Meine_Tipps!$B$14:$AJ$39,26,2+(CODE($C$1)-65)*3)=\"\"),\"\",INDEX(Meine_Tipps!$B$14:$AJ$39,26,1+(CODE($C$1)-65)*3))","v":""},"-",{"$f":"IF(OR(INDEX(Meine_Tipps!$B$14:$AJ$39,26,1+(CODE($C$1)-65)*3)=\"\",INDEX(Meine_Tipps!$B$14:$AJ$39,26,2+(CODE($C$1)-65)*3)=\"\"),\"\",INDEX(Meine_Tipps!$B$14:$AJ$39,26,2+(CODE($C$1)-65)*3))","v":""},0,0,{"$nulls":3},0,{"$nulls":12},"For showing direct comparisons of 2 on sheet \"Direct comparisons\""]
[{"$nulls":11},"Sum:",{"$f":"SUM($M$4:$M$9)","v":0},null,null,"Sorted list","Points","GD","For","Against","wins","Coefficient","Played","Red dot","Penalty (?)","DC(2) ?","DC(4.2) ?","DC(3.2) ?","DC(4.3.2) ?","All Dir.C. (2)","Penalty"]
[{"$nulls":14},"1.",{"$f":"INDEX(P$4:P$7,MATCH($V11,$V$4:$V$7,0))","v":"Frankreich"},0,0,0,0,0,{"$f":"LARGE($V$4:$V$7,ROW(A1))","v":{"v":50000.00000004,"d":"50,000.0000000"}},{"$f":"OR($Q11>0,$T11>0)","v":false},{"$f":"IF(AND(OR(TRUNC($V$11,4)=TRUNC($V$12,4),TRUNC($V$11,4)=TRUNC($V$13,4),TRUNC($V$11,4)=TRUNC($V$14,4),TRUNC($V$12,4)=TRUNC($V$13,4),TRUNC($V$12,4)=TRUNC($V$14,4),TRUNC($V$13,4)=TRUNC($V$14,4)),$M$10>0),1,0)","v":0},{"$f":"IF(AND(VLOOKUP($B$8,$P$4:$AD$7,15,0)=VLOOKUP($D$8,$P$4:$AD$7,15,0),$E$8=$G$8,COUNTIF($Q$4:$Q$7,VLOOKUP($B$8,$P$4:$Q$7,2,0))=2,$M$10=6),1,0)","v":0},{"$f":"VLOOKUP($P11,$E$18:$M$21,8,0)<>\"\"","v":false},{"$f":"VLOOKUP($P11,$E$18:$M$21,9,0)<>\"\"","v":false},{"$f":"SUMPRODUCT(1*(LEN($Z$18:$Z$35)>0)*($P$18:$P$35=$P11))>0","v":false},{"$f":"SUMPRODUCT(1*(LEN($AE$18:$AE$35)>0)*($P$18:$P$35=$P11))>0","v":false},{"$f":"IF($Z11,VLOOKUP($P11,$E$18:$M$21,8,0),IF($AA11,VLOOKUP($P11,$E$18:$M$21,9,0),IF($AB11,SUMIFS($Z$18:$Z$35,$P$18:$P$35,$P11),IF($AC11,SUMIFS($AE$18:$AE$35,$P$18:$P$35,$P11),\"\"))))","v":""},{"$f":"IF(OR(AND($Y$11>0,OR($B$8=$P11,$D$8=$P11)),AND($Y$12>0,OR($B$9=$P11,$D$9=$P11))),SUMIF($B$8:$B$9,$P11,$J$8:$J$9)+SUMIF($D$8:$D$9,$P11,$L$8:$L$9),\"\")","v":""}]
[{"$nulls":14},"2.","Senegal",0,0,0,0,0,{"$f":"LARGE($V$4:$V$7,ROW(A2))","v":{"v":50000.00000003,"d":"50,000.0000000"}},{"$f":"OR($Q12>0,$T12>0)","v":false},null,{"$f":"IF(AND(VLOOKUP($B$9,$P$4:$AD$7,15,0)=VLOOKUP($D$9,$P$4:$AD$7,15,0),$E$9=$G$9,COUNTIF($Q$4:$Q$7,VLOOKUP($B$9,$P$4:$Q$7,2,0))=2,$M$10=6),1,0)","v":0},{"$f":"VLOOKUP($P12,$E$18:$M$21,8,0)<>\"\"","v":false},{"$f":"VLOOKUP($P12,$E$18:$M$21,9,0)<>\"\"","v":false},{"$f":"SUMPRODUCT(1*(LEN($Z$18:$Z$35)>0)*($P$18:$P$35=$P12))>0","v":false},{"$f":"SUMPRODUCT(1*(LEN($AE$18:$AE$35)>0)*($P$18:$P$35=$P12))>0","v":false},{"$f":"IF($Z12,VLOOKUP($P12,$E$18:$M$21,8,0),IF($AA12,VLOOKUP($P12,$E$18:$M$21,9,0),IF($AB12,SUMIFS($Z$18:$Z$35,$P$18:$P$35,$P12),IF($AC12,SUMIFS($AE$18:$AE$35,$P$18:$P$35,$P12),\"\"))))","v":""},{"$f":"IF(OR(AND($Y$11>0,OR($B$8=$P12,$D$8=$P12)),AND($Y$12>0,OR($B$9=$P12,$D$9=$P12))),SUMIF($B$8:$B$9,$P12,$J$8:$J$9)+SUMIF($D$8:$D$9,$P12,$L$8:$L$9),\"\")","v":""}]
[{"$nulls":14},"3.","Irak",0,0,0,0,0,{"$f":"LARGE($V$4:$V$7,ROW(A3))","v":{"v":50000.00000002,"d":"50,000.0000000"}},false,null,null,{"$f":"VLOOKUP($P13,$E$18:$M$21,8,0)<>\"\"","v":false},{"$f":"VLOOKUP($P13,$E$18:$M$21,9,0)<>\"\"","v":false},false,false,{"$f":"IF($Z13,VLOOKUP($P13,$E$18:$M$21,8,0),IF($AA13,VLOOKUP($P13,$E$18:$M$21,9,0),IF($AB13,SUMIFS($Z$18:$Z$35,$P$18:$P$35,$P13),IF($AC13,SUMIFS($AE$18:$AE$35,$P$18:$P$35,$P13),\"\"))))","v":""},{"$f":"IF(OR(AND($Y$11>0,OR($B$8=$P13,$D$8=$P13)),AND($Y$12>0,OR($B$9=$P13,$D$9=$P13))),SUMIF($B$8:$B$9,$P13,$J$8:$J$9)+SUMIF($D$8:$D$9,$P13,$L$8:$L$9),\"\")","v":""}]
[{"$nulls":14},"4.","Norwegen",0,0,0,0,0,{"$f":"LARGE($V$4:$V$7,ROW(A4))","v":{"v":50000.00000001,"d":"50,000.0000000"}},false,null,null,{"$f":"VLOOKUP($P14,$E$18:$M$21,8,0)<>\"\"","v":false},{"$f":"VLOOKUP($P14,$E$18:$M$21,9,0)<>\"\"","v":false},false,false,{"$f":"IF($Z14,VLOOKUP($P14,$E$18:$M$21,8,0),IF($AA14,VLOOKUP($P14,$E$18:$M$21,9,0),IF($AB14,SUMIFS($Z$18:$Z$35,$P$18:$P$35,$P14),IF($AC14,SUMIFS($AE$18:$AE$35,$P$18:$P$35,$P14),\"\"))))","v":""},{"$f":"IF(OR(AND($Y$11>0,OR($B$8=$P14,$D$8=$P14)),AND($Y$12>0,OR($B$9=$P14,$D$9=$P14))),SUMIF($B$8:$B$9,$P14,$J$8:$J$9)+SUMIF($D$8:$D$9,$P14,$L$8:$L$9),\"\")","v":""}]
[]
[{"$nulls":6},"Direct Comparison of 2",{"$nulls":15},"Direct Comparison of 3",{"$nulls":6},"Direct Comparison of 4",null,{"$f":"AND($Q$4=$Q$5,$Q$4=$Q$6,$Q$4=$Q$7)","v":true}]
[{"$nulls":7},{"$f":"LEFT($P$4,3)","v":"Fra"},{"$f":"LEFT($P$5,3)","v":"Sen"},{"$f":"LEFT($P$6,3)","v":"Ira"},{"$f":"LEFT($P$7,3)","v":"Nor"},"DC(2)","DC(4.2)",{"$nulls":3},"Points","GD","For","Against",null,"Pts/GD/For","Rank Col. V","DC(3)","DC(3.2)","DC(3.2)","Results of direct encounters",null,null,"DC(4.3)","DC(4.3.2)"]
[{"$nulls":4},{"$f":"$P$4","v":"Frankreich"},{"$nulls":3},{"$f":"SUMIFS($E$4:$E$9,$B$4:$B$9,$P$4,$D$4:$D$9,$P$5)+SUMIFS($G$4:$G$9,$B$4:$B$9,$P$5,$D$4:$D$9,$P$4)","v":0},{"$f":"SUMIFS($E$4:$E$9,$B$4:$B$9,$P$4,$D$4:$D$9,$P$6)+SUMIFS($G$4:$G$9,$B$4:$B$9,$P$6,$D$4:$D$9,$P$4)","v":0},{"$f":"SUMIFS($E$4:$E$9,$B$4:$B$9,$P$4,$D$4:$D$9,$P$7)+SUMIFS($G$4:$G$9,$B$4:$B$9,$P$7,$D$4:$D$9,$P$4)","v":0},{"$f":"IF(AND($Q$4=$Q$5,$Q$4<>$Q$6,$Q$4<>$Q$7),IF(I18>H19,3,IF(I18=H19,1,0)),IF(AND($Q$4=$Q$6,$Q$4<>$Q$5,$Q$4<>$Q$7),IF(J18>H20,3,IF(J18=H20,1,0)),IF(AND($Q$4=$Q$7,$Q$4<>$Q$5,$Q$4<>$Q$6),IF(K18>H21,3,IF(K18=H21,1,0)),\"\")))","v":""},{"$f":"IF($AF$16,IF(AND($AD$4=$AD$5,$AD$4<>$AD$6,$AD$4<>$AD$7),IF(I18>H19,3,IF(I18=H19,1,0)),IF(AND($AD$4<>$AD$5,$AD$4=$AD$6,$AD$4<>$AD$7),IF(J18>H20,3,IF(J18=H20,1,0)),IF(AND($AD$4<>$AD$5,$AD$4<>$AD$6,$AD$4=$AD$7),IF(K18>H21,3,IF(K18=H21,1,0)),\"\"))),\"\")","v":""},null,"1.",{"$f":"$P$4","v":"Frankreich"},{"$f":"SUMIFS($H$4:$H$9,$B$4:$B$9,$P18,$D$4:$D$9,\"<>\"&$P$21)+SUMIFS($I$4:$I$9,$B$4:$B$9,\"<>\"&$P$21,$D$4:$D$9,$P18)","v":0},{"$f":"S18-T18","v":0},{"$f":"SUMIFS($E$4:$E$9,$B$4:$B$9,$P18,$D$4:$D$9,\"<>\"&$P$21)+SUMIFS($G$4:$G$9,$B$4:$B$9,\"<>\"&$P$21,$D$4:$D$9,$P18)","v":0},{"$f":"SUMIFS($G$4:$G$9,$B$4:$B$9,$P18,$D$4:$D$9,\"<>\"&$P$21)+SUMIFS($E$4:$E$9,$B$4:$B$9,\"<>\"&$P$21,$D$4:$D$9,$P18)","v":0},null,{"$f":"Q18*FactorPts+(GDzero+R18)*FactorGD+S18*FactorFor","v":{"v":50000,"d":"50,000"}},{"$f":"RANK(V18,V$18:V$20,1)","v":1},{"$f":"IF(AND($Q$4=$Q$5,$Q$4=$Q$6,$Q$4<>$Q$7),W18,0)","v":0},{"$f":"IF(AND(V18=V19,V18<>V20),IF(AA18>AA19,3,IF(AA18=AA19,1,0)),IF(AND(V18=V20,V18<>V19),IF(AB18>AB20,3,IF(AB18=AB20,1,0)),\"\"))","v":""},{"$f":"IF(X18>0,Y18,\"\")","v":""},{"$f":"$I$18","v":0},{"$f":"$J$18","v":0},null,{"$f":"IF(AND($AF$16,$AD$4=$AD$5,$AD$4=$AD$6,$AD$4<>$AD$7),W18,0)","v":0},{"$f":"IF(AD18>0,Y18,\"\")","v":""}]
[{"$nulls":4},{"$f":"$P$5","v":"Senegal"},null,null,{"$f":"SUMIFS($E$4:$E$9,$B$4:$B$9,$P$5,$D$4:$D$9,$P$4)+SUMIFS($G$4:$G$9,$B$4:$B$9,$P$4,$D$4:$D$9,$P$5)","v":0},null,{"$f":"SUMIFS($E$4:$E$9,$B$4:$B$9,$P$5,$D$4:$D$9,$P$6)+SUMIFS($G$4:$G$9,$B$4:$B$9,$P$6,$D$4:$D$9,$P$5)","v":0},{"$f":"SUMIFS($E$4:$E$9,$B$4:$B$9,$P$5,$D$4:$D$9,$P$7)+SUMIFS($G$4:$G$9,$B$4:$B$9,$P$7,$D$4:$D$9,$P$5)","v":0},{"$f":"IF(AND($Q$5=$Q$4,$Q$5<>$Q$6,$Q$5<>$Q$7),IF(H19>I18,3,IF(H19=I18,1,0)),IF(AND($Q$5=$Q$6,$Q$5<>$Q$4,$Q$5<>$Q$7),IF(J19>I20,3,IF(J19=I20,1,0)),IF(AND($Q$5=$Q$7,$Q$5<>$Q$4,$Q$5<>$Q$6),IF(K19>I21,3,IF(K19=I21,1,0)),\"\")))","v":""},{"$f":"IF($AF$16,IF(AND($AD$5=$AD$4,$AD$5<>$AD$6,$AD$5<>$AD$7),IF(H19>I18,3,IF(H19=I18,1,0)),IF(AND($AD$5<>$AD$4,$AD$5=$AD$6,$AD$5<>$AD$7),IF(J19>I20,3,IF(J19=I20,1,0)),IF(AND($AD$5<>$AD$4,$AD$5<>$AD$6,$AD$5=$AD$7),IF(K19>I21,3,IF(K19=I21,1,0)),\"\"))),\"\")","v":""},null,"2.",{"$f":"$P$5","v":"Senegal"},{"$f":"SUMIFS($H$4:$H$9,$B$4:$B$9,$P19,$D$4:$D$9,\"<>\"&$P$21)+SUMIFS($I$4:$I$9,$B$4:$B$9,\"<>\"&$P$21,$D$4:$D$9,$P19)","v":0},{"$f":"S19-T19","v":0},{"$f":"SUMIFS($E$4:$E$9,$B$4:$B$9,$P19,$D$4:$D$9,\"<>\"&$P$21)+SUMIFS($G$4:$G$9,$B$4:$B$9,\"<>\"&$P$21,$D$4:$D$9,$P19)","v":0},{"$f":"SUMIFS($G$4:$G$9,$B$4:$B$9,$P19,$D$4:$D$9,\"<>\"&$P$21)+SUMIFS($E$4:$E$9,$B$4:$B$9,\"<>\"&$P$21,$D$4:$D$9,$P19)","v":0},null,{"$f":"Q19*FactorPts+(GDzero+R19)*FactorGD+S19*FactorFor","v":{"v":50000,"d":"50,000"}},{"$f":"RANK(V19,V$18:V$20,1)","v":1},{"$f":"IF(AND($Q$4=$Q$5,$Q$4=$Q$6,$Q$4<>$Q$7),W19,0)","v":0},{"$f":"IF(AND(V19=V18,V19<>V20),IF(AA19>AA18,3,IF(AA19=AA18,1,0)),IF(AND(V19=V20,V19<>V18),IF(AC19>AC20,3,IF(AC19=AC20,1,0)),\"\"))","v":""},{"$f":"IF(X19>0,Y19,\"\")","v":""},{"$f":"$H$19","v":0},null,{"$f":"$J$19","v":0},{"$f":"IF(AND($AF$16,$AD$4=$AD$5,$AD$4=$AD$6,$AD$4<>$AD$7),W19,0)","v":0},{"$f":"IF(AD19>0,Y19,\"\")","v":""}]
[{"$nulls":4},{"$f":"$P$6","v":"Irak"},null,null,{"$f":"SUMIFS($E$4:$E$9,$B$4:$B$9,$P$6,$D$4:$D$9,$P$4)+SUMIFS($G$4:$G$9,$B$4:$B$9,$P$4,$D$4:$D$9,$P$6)","v":0},{"$f":"SUMIFS($E$4:$E$9,$B$4:$B$9,$P$6,$D$4:$D$9,$P$5)+SUMIFS($G$4:$G$9,$B$4:$B$9,$P$5,$D$4:$D$9,$P$6)","v":0},null,{"$f":"SUMIFS($E$4:$E$9,$B$4:$B$9,$P$6,$D$4:$D$9,$P$7)+SUMIFS($G$4:$G$9,$B$4:$B$9,$P$7,$D$4:$D$9,$P$6)","v":0},{"$f":"IF(AND($Q$6=$Q$4,$Q$6<>$Q$5,$Q$6<>$Q$7),IF(H20>J18,3,IF(H20=J18,1,0)),IF(AND($Q$6=$Q$5,$Q$6<>$Q$4,$Q$6<>$Q$7),IF(I20>J19,3,IF(I20=J19,1,0)),IF(AND($Q$6=$Q$7,$Q$6<>$Q$4,$Q$6<>$Q$5),IF(K20>J21,3,IF(K20=J21,1,0)),\"\")))","v":""},{"$f":"IF($AF$16,IF(AND($AD$6=$AD$4,$AD$6<>$AD$5,$AD$6<>$AD$7),IF(H20>J18,3,IF(H20=J18,1,0)),IF(AND($AD$6<>$AD$4,$AD$6=$AD$5,$AD$6<>$AD$7),IF(I20>J19,3,IF(I20=J19,1,0)),IF(AND($AD$6<>$AD$4,$AD$6<>$AD$5,$AD$6=$AD$7),IF(K20>J21,3,IF(K20=J21,1,0)),\"\"))),\"\")","v":""},null,"3.",{"$f":"$P$6","v":"Irak"},{"$f":"SUMIFS($H$4:$H$9,$B$4:$B$9,$P20,$D$4:$D$9,\"<>\"&$P$21)+SUMIFS($I$4:$I$9,$B$4:$B$9,\"<>\"&$P$21,$D$4:$D$9,$P20)","v":0},{"$f":"S20-T20","v":0},{"$f":"SUMIFS($E$4:$E$9,$B$4:$B$9,$P20,$D$4:$D$9,\"<>\"&$P$21)+SUMIFS($G$4:$G$9,$B$4:$B$9,\"<>\"&$P$21,$D$4:$D$9,$P20)","v":0},{"$f":"SUMIFS($G$4:$G$9,$B$4:$B$9,$P20,$D$4:$D$9,\"<>\"&$P$21)+SUMIFS($E$4:$E$9,$B$4:$B$9,\"<>\"&$P$21,$D$4:$D$9,$P20)","v":0},null,{"$f":"Q20*FactorPts+(GDzero+R20)*FactorGD+S20*FactorFor","v":{"v":50000,"d":"50,000"}},{"$f":"RANK(V20,V$18:V$20,1)","v":1},{"$f":"IF(AND($Q$4=$Q$5,$Q$4=$Q$6,$Q$4<>$Q$7),W20,0)","v":0},{"$f":"IF(AND(V20=V18,V20<>V19),IF(AB20>AB18,3,IF(AB20=AB18,1,0)),IF(AND(V20=V19,V20<>V18),IF(AC20>AC19,3,IF(AC20=AC19,1,0)),\"\"))","v":""},"",null,{"$f":"$H$20","v":0},{"$f":"$I$20","v":0},{"$f":"IF(AND($AF$16,$AD$4=$AD$5,$AD$4=$AD$6,$AD$4<>$AD$7),W20,0)","v":0},""]
[{"$nulls":4},{"$f":"$P$7","v":"Norwegen"},null,null,{"$f":"SUMIFS($E$4:$E$9,$B$4:$B$9,$P$7,$D$4:$D$9,$P$4)+SUMIFS($G$4:$G$9,$B$4:$B$9,$P$4,$D$4:$D$9,$P$7)","v":0},{"$f":"SUMIFS($E$4:$E$9,$B$4:$B$9,$P$7,$D$4:$D$9,$P$5)+SUMIFS($G$4:$G$9,$B$4:$B$9,$P$5,$D$4:$D$9,$P$7)","v":0},{"$f":"SUMIFS($E$4:$E$9,$B$4:$B$9,$P$7,$D$4:$D$9,$P$6)+SUMIFS($G$4:$G$9,$B$4:$B$9,$P$6,$D$4:$D$9,$P$7)","v":0},null,{"$f":"IF(AND($Q$7=$Q$4,$Q$7<>$Q$5,$Q$7<>$Q$6),IF(H21>K18,3,IF(H21=K18,1,0)),IF(AND($Q$7=$Q$5,$Q$7<>$Q$4,$Q$7<>$Q$6),IF(I21>K19,3,IF(I21=K19,1,0)),IF(AND($Q$7=$Q$6,$Q$7<>$Q$4,$Q$7<>$Q$5),IF(J21>K20,3,IF(J21=K20,1,0)),\"\")))","v":""},{"$f":"IF($AF$16,IF(AND($AD$7=$AD$4,$AD$7<>$AD$5,$AD$7<>$AD$6),IF(H21>K18,3,IF(H21=K18,1,0)),IF(AND($AD$7<>$AD$4,$AD$7=$AD$5,$AD$7<>$AD$6),IF(I21>K19,3,IF(I21=K19,1,0)),IF(AND($AD$7<>$AD$4,$AD$7<>$AD$5,$AD$7=$AD$6),IF(J21>K20,3,IF(J21=K20,1,0)),\"\"))),\"\")","v":""},null,null,{"$f":"$P$7","v":"Norwegen"}]
[]
[{"$nulls":14},"1.",{"$f":"$P$4","v":"Frankreich"},{"$f":"SUMIFS($H$4:$H$9,$B$4:$B$9,$P23,$D$4:$D$9,\"<>\"&$P$26)+SUMIFS($I$4:$I$9,$B$4:$B$9,\"<>\"&$P$26,$D$4:$D$9,$P23)","v":0},{"$f":"S23-T23","v":0},{"$f":"SUMIFS($E$4:$E$9,$B$4:$B$9,$P23,$D$4:$D$9,\"<>\"&$P$26)+SUMIFS($G$4:$G$9,$B$4:$B$9,\"<>\"&$P$26,$D$4:$D$9,$P23)","v":0},{"$f":"SUMIFS($G$4:$G$9,$B$4:$B$9,$P23,$D$4:$D$9,\"<>\"&$P$26)+SUMIFS($E$4:$E$9,$B$4:$B$9,\"<>\"&$P$26,$D$4:$D$9,$P23)","v":0},null,{"$f":"Q23*FactorPts+(GDzero+R23)*FactorGD+S23*FactorFor","v":{"v":50000,"d":"50,000"}},{"$f":"RANK(V23,V$23:V$25,1)","v":1},{"$f":"IF(AND($Q$4=$Q$5,$Q$4=$Q$7,$Q$4<>$Q$6),W23,0)","v":0},{"$f":"IF(AND(V23=V24,V23<>V25),IF(AA23>AA24,3,IF(AA23=AA24,1,0)),IF(AND(V23=V25,V23<>V24),IF(AB23>AB25,3,IF(AB23=AB25,1,0)),\"\"))","v":""},{"$f":"IF(X23>0,Y23,\"\")","v":""},{"$f":"$I$18","v":0},{"$f":"$K$18","v":0},null,{"$f":"IF(AND($AF$16,$AD$4=$AD$5,$AD$4=$AD$7,$AD$4<>$AD$6),W23,0)","v":0},{"$f":"IF(AD23>0,Y23,\"\")","v":""}]
[{"$nulls":14},"2.",{"$f":"$P$5","v":"Senegal"},{"$f":"SUMIFS($H$4:$H$9,$B$4:$B$9,$P24,$D$4:$D$9,\"<>\"&$P$26)+SUMIFS($I$4:$I$9,$B$4:$B$9,\"<>\"&$P$26,$D$4:$D$9,$P24)","v":0},{"$f":"S24-T24","v":0},{"$f":"SUMIFS($E$4:$E$9,$B$4:$B$9,$P24,$D$4:$D$9,\"<>\"&$P$26)+SUMIFS($G$4:$G$9,$B$4:$B$9,\"<>\"&$P$26,$D$4:$D$9,$P24)","v":0},{"$f":"SUMIFS($G$4:$G$9,$B$4:$B$9,$P24,$D$4:$D$9,\"<>\"&$P$26)+SUMIFS($E$4:$E$9,$B$4:$B$9,\"<>\"&$P$26,$D$4:$D$9,$P24)","v":0},null,{"$f":"Q24*FactorPts+(GDzero+R24)*FactorGD+S24*FactorFor","v":{"v":50000,"d":"50,000"}},{"$f":"RANK(V24,V$23:V$25,1)","v":1},{"$f":"IF(AND($Q$4=$Q$5,$Q$4=$Q$7,$Q$4<>$Q$6),W24,0)","v":0},{"$f":"IF(AND(V24=V23,V24<>V25),IF(AA24>AA23,3,IF(AA24=AA23,1,0)),IF(AND(V24=V25,V24<>V23),IF(AC24>AC25,3,IF(AC24=AC25,1,0)),\"\"))","v":""},{"$f":"IF(X24>0,Y24,\"\")","v":""},{"$f":"$H$19","v":0},null,{"$f":"$K$19","v":0},{"$f":"IF(AND($AF$16,$AD$4=$AD$5,$AD$4=$AD$7,$AD$4<>$AD$6),W24,0)","v":0},{"$f":"IF(AD24>0,Y24,\"\")","v":""}]
[{"$nulls":14},"3.",{"$f":"$P$7","v":"Norwegen"},{"$f":"SUMIFS($H$4:$H$9,$B$4:$B$9,$P25,$D$4:$D$9,\"<>\"&$P$26)+SUMIFS($I$4:$I$9,$B$4:$B$9,\"<>\"&$P$26,$D$4:$D$9,$P25)","v":0},{"$f":"S25-T25","v":0},{"$f":"SUMIFS($E$4:$E$9,$B$4:$B$9,$P25,$D$4:$D$9,\"<>\"&$P$26)+SUMIFS($G$4:$G$9,$B$4:$B$9,\"<>\"&$P$26,$D$4:$D$9,$P25)","v":0},{"$f":"SUMIFS($G$4:$G$9,$B$4:$B$9,$P25,$D$4:$D$9,\"<>\"&$P$26)+SUMIFS($E$4:$E$9,$B$4:$B$9,\"<>\"&$P$26,$D$4:$D$9,$P25)","v":0},null,{"$f":"Q25*FactorPts+(GDzero+R25)*FactorGD+S25*FactorFor","v":{"v":50000,"d":"50,000"}},{"$f":"RANK(V25,V$23:V$25,1)","v":1},{"$f":"IF(AND($Q$4=$Q$5,$Q$4=$Q$7,$Q$4<>$Q$6),W25,0)","v":0},{"$f":"IF(AND(V25=V23,V25<>V24),IF(AB25>AB23,3,IF(AB25=AB23,1,0)),IF(AND(V25=V24,V25<>V23),IF(AC25>AC24,3,IF(AC25=AC24,1,0)),\"\"))","v":""},"",null,{"$f":"$H$21","v":0},{"$f":"$I$21","v":0},{"$f":"IF(AND($AF$16,$AD$4=$AD$5,$AD$4=$AD$7,$AD$4<>$AD$6),W25,0)","v":0},""]
[{"$nulls":15},{"$f":"$P$6","v":"Irak"}]
[]
[{"$nulls":14},"1.",{"$f":"$P$4","v":"Frankreich"},{"$f":"SUMIFS($H$4:$H$9,$B$4:$B$9,$P28,$D$4:$D$9,\"<>\"&$P$31)+SUMIFS($I$4:$I$9,$B$4:$B$9,\"<>\"&$P$31,$D$4:$D$9,$P28)","v":0},{"$f":"S28-T28","v":0},{"$f":"SUMIFS($E$4:$E$9,$B$4:$B$9,$P28,$D$4:$D$9,\"<>\"&$P$31)+SUMIFS($G$4:$G$9,$B$4:$B$9,\"<>\"&$P$31,$D$4:$D$9,$P28)","v":0},{"$f":"SUMIFS($G$4:$G$9,$B$4:$B$9,$P28,$D$4:$D$9,\"<>\"&$P$31)+SUMIFS($E$4:$E$9,$B$4:$B$9,\"<>\"&$P$31,$D$4:$D$9,$P28)","v":0},null,{"$f":"Q28*FactorPts+(GDzero+R28)*FactorGD+S28*FactorFor","v":{"v":50000,"d":"50,000"}},{"$f":"RANK(V28,V$28:V$30,1)","v":1},{"$f":"IF(AND($Q$4=$Q$6,$Q$4=$Q$7,$Q$4<>$Q$5),W28,0)","v":0},{"$f":"IF(AND(V28=V29,V28<>V30),IF(AA28>AA29,3,IF(AA28=AA29,1,0)),IF(AND(V28=V30,V28<>V29),IF(AB28>AB30,3,IF(AB28=AB30,1,0)),\"\"))","v":""},{"$f":"IF(X28>0,Y28,\"\")","v":""},{"$f":"$J$18","v":0},{"$f":"$K$18","v":0},null,{"$f":"IF(AND($AF$16,$AD$4=$AD$6,$AD$4=$AD$7,$AD$4<>$AD$5),W28,0)","v":0},{"$f":"IF(AD28>0,Y28,\"\")","v":""}]
[{"$nulls":14},"2.",{"$f":"$P$6","v":"Irak"},{"$f":"SUMIFS($H$4:$H$9,$B$4:$B$9,$P29,$D$4:$D$9,\"<>\"&$P$31)+SUMIFS($I$4:$I$9,$B$4:$B$9,\"<>\"&$P$31,$D$4:$D$9,$P29)","v":0},{"$f":"S29-T29","v":0},{"$f":"SUMIFS($E$4:$E$9,$B$4:$B$9,$P29,$D$4:$D$9,\"<>\"&$P$31)+SUMIFS($G$4:$G$9,$B$4:$B$9,\"<>\"&$P$31,$D$4:$D$9,$P29)","v":0},{"$f":"SUMIFS($G$4:$G$9,$B$4:$B$9,$P29,$D$4:$D$9,\"<>\"&$P$31)+SUMIFS($E$4:$E$9,$B$4:$B$9,\"<>\"&$P$31,$D$4:$D$9,$P29)","v":0},null,{"$f":"Q29*FactorPts+(GDzero+R29)*FactorGD+S29*FactorFor","v":{"v":50000,"d":"50,000"}},{"$f":"RANK(V29,V$28:V$30,1)","v":1},{"$f":"IF(AND($Q$4=$Q$6,$Q$4=$Q$7,$Q$4<>$Q$5),W29,0)","v":0},{"$f":"IF(AND(V29=V28,V29<>V30),IF(AA29>AA28,3,IF(AA29=AA28,1,0)),IF(AND(V29=V30,V29<>V28),IF(AC29>AC30,3,IF(AC29=AC30,1,0)),\"\"))","v":""},{"$f":"IF(X29>0,Y29,\"\")","v":""},{"$f":"$H$20","v":0},null,{"$f":"$K$20","v":0},{"$f":"IF(AND($AF$16,$AD$4=$AD$6,$AD$4=$AD$7,$AD$4<>$AD$5),W29,0)","v":0},{"$f":"IF(AD29>0,Y29,\"\")","v":""}]
[{"$nulls":14},"3.",{"$f":"$P$7","v":"Norwegen"},{"$f":"SUMIFS($H$4:$H$9,$B$4:$B$9,$P30,$D$4:$D$9,\"<>\"&$P$31)+SUMIFS($I$4:$I$9,$B$4:$B$9,\"<>\"&$P$31,$D$4:$D$9,$P30)","v":0},{"$f":"S30-T30","v":0},{"$f":"SUMIFS($E$4:$E$9,$B$4:$B$9,$P30,$D$4:$D$9,\"<>\"&$P$31)+SUMIFS($G$4:$G$9,$B$4:$B$9,\"<>\"&$P$31,$D$4:$D$9,$P30)","v":0},{"$f":"SUMIFS($G$4:$G$9,$B$4:$B$9,$P30,$D$4:$D$9,\"<>\"&$P$31)+SUMIFS($E$4:$E$9,$B$4:$B$9,\"<>\"&$P$31,$D$4:$D$9,$P30)","v":0},null,{"$f":"Q30*FactorPts+(GDzero+R30)*FactorGD+S30*FactorFor","v":{"v":50000,"d":"50,000"}},1,{"$f":"IF(AND($Q$4=$Q$6,$Q$4=$Q$7,$Q$4<>$Q$5),W30,0)","v":0},{"$f":"IF(AND(V30=V28,V30<>V29),IF(AB30>AB28,3,IF(AB30=AB28,1,0)),IF(AND(V30=V29,V30<>V28),IF(AC30>AC29,3,IF(AC30=AC29,1,0)),\"\"))","v":""},"",null,{"$f":"$H$21","v":0},{"$f":"$J$21","v":0},{"$f":"IF(AND($AF$16,$AD$4=$AD$6,$AD$4=$AD$7,$AD$4<>$AD$5),W30,0)","v":0},""]
[{"$nulls":15},{"$f":"$P$5","v":"Senegal"}]
[]
[{"$nulls":14},"1.",{"$f":"$P$5","v":"Senegal"},{"$f":"SUMIFS($H$4:$H$9,$B$4:$B$9,$P33,$D$4:$D$9,\"<>\"&$P$36)+SUMIFS($I$4:$I$9,$B$4:$B$9,\"<>\"&$P$36,$D$4:$D$9,$P33)","v":0},{"$f":"S33-T33","v":0},{"$f":"SUMIFS($E$4:$E$9,$B$4:$B$9,$P33,$D$4:$D$9,\"<>\"&$P$36)+SUMIFS($G$4:$G$9,$B$4:$B$9,\"<>\"&$P$36,$D$4:$D$9,$P33)","v":0},{"$f":"SUMIFS($G$4:$G$9,$B$4:$B$9,$P33,$D$4:$D$9,\"<>\"&$P$36)+SUMIFS($E$4:$E$9,$B$4:$B$9,\"<>\"&$P$36,$D$4:$D$9,$P33)","v":0},null,{"$f":"Q33*FactorPts+(GDzero+R33)*FactorGD+S33*FactorFor","v":{"v":50000,"d":"50,000"}},{"$f":"RANK(V33,V$33:V$35,1)","v":1},{"$f":"IF(AND($Q$5=$Q$6,$Q$5=$Q$7,$Q$5<>$Q$4),W33,0)","v":0},{"$f":"IF(AND(V33=V34,V33<>V35),IF(AA33>AA34,3,IF(AA33=AA34,1,0)),IF(AND(V33=V35,V33<>V34),IF(AB33>AB35,3,IF(AB33=AB35,1,0)),\"\"))","v":""},{"$f":"IF(X33>0,Y33,\"\")","v":""},{"$f":"$J$19","v":0},{"$f":"$K$19","v":0},null,{"$f":"IF(AND($AF$16,$AD$5=$AD$6,$AD$5=$AD$7,$AD$5<>$AD$4),W33,0)","v":0},{"$f":"IF(AD33>0,Y33,\"\")","v":""}]
[{"$nulls":14},"2.",{"$f":"$P$6","v":"Irak"},{"$f":"SUMIFS($H$4:$H$9,$B$4:$B$9,$P34,$D$4:$D$9,\"<>\"&$P$36)+SUMIFS($I$4:$I$9,$B$4:$B$9,\"<>\"&$P$36,$D$4:$D$9,$P34)","v":0},{"$f":"S34-T34","v":0},{"$f":"SUMIFS($E$4:$E$9,$B$4:$B$9,$P34,$D$4:$D$9,\"<>\"&$P$36)+SUMIFS($G$4:$G$9,$B$4:$B$9,\"<>\"&$P$36,$D$4:$D$9,$P34)","v":0},{"$f":"SUMIFS($G$4:$G$9,$B$4:$B$9,$P34,$D$4:$D$9,\"<>\"&$P$36)+SUMIFS($E$4:$E$9,$B$4:$B$9,\"<>\"&$P$36,$D$4:$D$9,$P34)","v":0},null,{"$f":"Q34*FactorPts+(GDzero+R34)*FactorGD+S34*FactorFor","v":{"v":50000,"d":"50,000"}},{"$f":"RANK(V34,V$33:V$35,1)","v":1},{"$f":"IF(AND($Q$5=$Q$6,$Q$5=$Q$7,$Q$5<>$Q$4),W34,0)","v":0},{"$f":"IF(AND(V34=V33,V34<>V35),IF(AA34>AA33,3,IF(AA34=AA33,1,0)),IF(AND(V34=V35,V34<>V33),IF(AC34>AC35,3,IF(AC34=AC35,1,0)),\"\"))","v":""},{"$f":"IF(X34>0,Y34,\"\")","v":""},{"$f":"$I$20","v":0},null,{"$f":"$K$20","v":0},{"$f":"IF(AND($AF$16,$AD$5=$AD$6,$AD$5=$AD$7,$AD$5<>$AD$4),W34,0)","v":0},{"$f":"IF(AD34>0,Y34,\"\")","v":""}]
[{"$nulls":14},"3.",{"$f":"$P$7","v":"Norwegen"},{"$f":"SUMIFS($H$4:$H$9,$B$4:$B$9,$P35,$D$4:$D$9,\"<>\"&$P$36)+SUMIFS($I$4:$I$9,$B$4:$B$9,\"<>\"&$P$36,$D$4:$D$9,$P35)","v":0},{"$f":"S35-T35","v":0},{"$f":"SUMIFS($E$4:$E$9,$B$4:$B$9,$P35,$D$4:$D$9,\"<>\"&$P$36)+SUMIFS($G$4:$G$9,$B$4:$B$9,\"<>\"&$P$36,$D$4:$D$9,$P35)","v":0},{"$f":"SUMIFS($G$4:$G$9,$B$4:$B$9,$P35,$D$4:$D$9,\"<>\"&$P$36)+SUMIFS($E$4:$E$9,$B$4:$B$9,\"<>\"&$P$36,$D$4:$D$9,$P35)","v":0},null,{"$f":"Q35*FactorPts+(GDzero+R35)*FactorGD+S35*FactorFor","v":{"v":50000,"d":"50,000"}},{"$f":"RANK(V35,V$33:V$35,1)","v":1},{"$f":"IF(AND($Q$5=$Q$6,$Q$5=$Q$7,$Q$5<>$Q$4),W35,0)","v":0},{"$f":"IF(AND(V35=V33,V35<>V34),IF(AB35>AB33,3,IF(AB35=AB33,1,0)),IF(AND(V35=V34,V35<>V33),IF(AC35>AC34,3,IF(AC35=AC34,1,0)),\"\"))","v":""},"",null,{"$f":"$I$21","v":0},{"$f":"$J$21","v":0},{"$f":"IF(AND($AF$16,$AD$5=$AD$6,$AD$5=$AD$7,$AD$5<>$AD$4),W35,0)","v":0},""]
[{"$nulls":15},{"$f":"$P$4","v":"Frankreich"}]

{"sheet":"GrpJ_Tipps","index":24,"n_rows":36,"n_cols":33,"rows_kept":36,"hidden":true,"merged":[[2,1,2,3],[2,4,2,6],[2,7,2,8],[2,9,2,11],[8,25,8,30],[15,6,15,11],[15,22,15,25],[15,29,15,30],[16,26,16,28],[17,4,17,6],[18,4,18,6],[19,4,19,6],[20,4,20,6]]}
[null,"Group","J","Tipps"]
[]
[null,"Match",null,null,"Score",null,null,"Points",null,"Penalty",null,null,"valid",{"$nulls":3},"Points","GD","For","Against","Wins","Coefficient","Dir. Comp. (3)","Dir. Comp. (2)","Dir. Comp. (4.3)","Dir. Comp. (4.3.2)","Dir. Comp. (4.2)","Fair play","match count > 0","Pts/GD/For","Penalty","Ranking","Played"]
[null,{"$f":"INDEX(Meine_Tipps!$B$13:$AJ$38,1,1+(CODE($C$1)-65)*3)","v":"Argentinien"},"-",{"$f":"INDEX(Meine_Tipps!$B$13:$AJ$38,1,2+(CODE($C$1)-65)*3)","v":"Algerien"},{"$f":"IF(OR(INDEX(Meine_Tipps!$B$14:$AJ$39,1,1+(CODE($C$1)-65)*3)=\"\",INDEX(Meine_Tipps!$B$14:$AJ$39,1,2+(CODE($C$1)-65)*3)=\"\"),\"\",INDEX(Meine_Tipps!$B$14:$AJ$39,1,1+(CODE($C$1)-65)*3))","v":""},"-",{"$f":"IF(OR(INDEX(Meine_Tipps!$B$14:$AJ$39,1,1+(CODE($C$1)-65)*3)=\"\",INDEX(Meine_Tipps!$B$14:$AJ$39,1,2+(CODE($C$1)-65)*3)=\"\"),\"\",INDEX(Meine_Tipps!$B$14:$AJ$39,1,2+(CODE($C$1)-65)*3))","v":""},{"$f":"IF($M4>0,IF($E4>$G4,3,IF($E4=$G4,1,0)),0)","v":0},{"$f":"IF($M4>0,IF($E4<$G4,3,IF($E4=$G4,1,0)),0)","v":0},{"$nulls":3},{"$f":"IF(AND($E4<>\"\",$G4<>\"\"),1,0)","v":0},null,"1.",{"$f":"VLOOKUP($C$1&ROW($A1),Groups_Tipps!$B$7:$D$65,3,0)","v":"Argentinien"},{"$f":"SUMIF($B$4:$B$9,P4,$H$4:$H$9)+SUMIF($D$4:$D$9,P4,$I$4:$I$9)","v":0},{"$f":"S4-T4","v":0},{"$f":"SUMIF($B$4:$B$9,$P4,$E$4:$E$9)+SUMIF($D$4:$D$9,$P4,$G$4:$G$9)","v":0},{"$f":"SUMIF($B$4:$B$9,$P4,$G$4:$G$9)+SUMIF($D$4:$D$9,$P4,$E$4:$E$9)","v":0},{"$f":"COUNTIFS($B$4:$B$9,$P4,$H$4:$H$9,\"=3\")+COUNTIFS($D$4:$D$9,$P4,$I$4:$I$9,\"=3\")","v":0},{"$f":"$Q4*FactorPts+(GDzero+$R4)*FactorGD+$S4*FactorFor+$U4*FactorWins+$W4*FactorDirC3+$X4*FactorDirC2+$Y4*FactorDirC43+$Z4*FactorDirC42+$AA4*FactorDirC42+$AB4*FactorFairPlay+$AE4*FactorPenalty+(100-$AF4)*($M$10>0)*FactorRank+(8-ROW())*FactorRow","v":{"v":50000.00000004,"d":"50,000.0000000"}},{"$f":"SUMIFS($X$18:$X$35,$P$18:$P$35,$P4)","v":0},{"$f":"IF($L18=\"\",0,$L18)+SUMIFS($Z$18:$Z$35,$P$18:$P$35,$P4)","v":0},{"$f":"SUMIFS($AD$18:$AD$35,$P$18:$P$35,$P4)","v":0},{"$f":"SUMIFS($AE$18:$AE$35,$P$18:$P$35,$P4)","v":0},{"$f":"IF($M18=\"\",0,$M18)","v":0},{"$f":"SUMIFS(FairPlayPoints1,FairPlayTeams1,P4)+SUMIFS(FairPlayPoints2,FairPlayTeams2,P4)+SUMIFS(FairPlayPoints3,FairPlayTeams3,P4)","v":0},{"$f":"(Q4+T4>0)","v":false},{"$f":"$Q4*FactorPts+(GDzero+$R4)*FactorGD+$S4*FactorFor","v":{"v":50000,"d":"50,000"}},0,{"$f":"VLOOKUP(P4,Sprache_Tipps!E:F,2,0)","v":3},{"$f":"OR($Q4>0,$T4>0)","v":false}]
[null,{"$f":"INDEX(Meine_Tipps!$B$13:$AJ$38,6,1+(CODE($C$1)-65)*3)","v":"Österreich"},"-",{"$f":"INDEX(Meine_Tipps!$B$13:$AJ$38,6,2+(CODE($C$1)-65)*3)","v":"Jordanien"},{"$f":"IF(OR(INDEX(Meine_Tipps!$B$14:$AJ$39,6,1+(CODE($C$1)-65)*3)=\"\",INDEX(Meine_Tipps!$B$14:$AJ$39,6,2+(CODE($C$1)-65)*3)=\"\"),\"\",INDEX(Meine_Tipps!$B$14:$AJ$39,6,1+(CODE($C$1)-65)*3))","v":""},"-",{"$f":"IF(OR(INDEX(Meine_Tipps!$B$14:$AJ$39,6,1+(CODE($C$1)-65)*3)=\"\",INDEX(Meine_Tipps!$B$14:$AJ$39,6,2+(CODE($C$1)-65)*3)=\"\"),\"\",INDEX(Meine_Tipps!$B$14:$AJ$39,6,2+(CODE($C$1)-65)*3))","v":""},0,0,{"$nulls":3},0,null,"2.",{"$f":"VLOOKUP($C$1&ROW($A2),Groups_Tipps!$B$7:$D$65,3,0)","v":"Algerien"},{"$f":"SUMIF($B$4:$B$9,P5,$H$4:$H$9)+SUMIF($D$4:$D$9,P5,$I$4:$I$9)","v":0},{"$f":"S5-T5","v":0},{"$f":"SUMIF($B$4:$B$9,$P5,$E$4:$E$9)+SUMIF($D$4:$D$9,$P5,$G$4:$G$9)","v":0},{"$f":"SUMIF($B$4:$B$9,$P5,$G$4:$G$9)+SUMIF($D$4:$D$9,$P5,$E$4:$E$9)","v":0},{"$f":"COUNTIFS($B$4:$B$9,$P5,$H$4:$H$9,\"=3\")+COUNTIFS($D$4:$D$9,$P5,$I$4:$I$9,\"=3\")","v":0},{"$f":"$Q5*FactorPts+(GDzero+$R5)*FactorGD+$S5*FactorFor+$U5*FactorWins+$W5*FactorDirC3+$X5*FactorDirC2+$Y5*FactorDirC43+$Z5*FactorDirC42+$AA5*FactorDirC42+$AB5*FactorFairPlay+$AE5*FactorPenalty+(100-$AF5)*($M$10>0)*FactorRank+(8-ROW())*FactorRow","v":{"v":50000.00000003,"d":"50,000.0000000"}},{"$f":"SUMIFS($X$18:$X$35,$P$18:$P$35,$P5)","v":0},{"$f":"IF($L19=\"\",0,$L19)+SUMIFS($Z$18:$Z$35,$P$18:$P$35,$P5)","v":0},{"$f":"SUMIFS($AD$18:$AD$35,$P$18:$P$35,$P5)","v":0},{"$f":"SUMIFS($AE$18:$AE$35,$P$18:$P$35,$P5)","v":0},{"$f":"IF($M19=\"\",0,$M19)","v":0},{"$f":"SUMIFS(FairPlayPoints1,FairPlayTeams1,P5)+SUMIFS(FairPlayPoints2,FairPlayTeams2,P5)+SUMIFS(FairPlayPoints3,FairPlayTeams3,P5)","v":0},{"$f":"(Q5+T5>0)","v":false},{"$f":"$Q5*FactorPts+(GDzero+$R5)*FactorGD+$S5*FactorFor","v":{"v":50000,"d":"50,000"}},0,{"$f":"VLOOKUP(P5,Sprache_Tipps!E:F,2,0)","v":28},{"$f":"OR($Q5>0,$T5>0)","v":false}]
[null,{"$f":"INDEX(Meine_Tipps!$B$13:$AJ$38,11,1+(CODE($C$1)-65)*3)","v":"Argentinien"},"-",{"$f":"INDEX(Meine_Tipps!$B$13:$AJ$38,11,2+(CODE($C$1)-65)*3)","v":"Österreich"},{"$f":"IF(OR(INDEX(Meine_Tipps!$B$14:$AJ$39,11,1+(CODE($C$1)-65)*3)=\"\",INDEX(Meine_Tipps!$B$14:$AJ$39,11,2+(CODE($C$1)-65)*3)=\"\"),\"\",INDEX(Meine_Tipps!$B$14:$AJ$39,11,1+(CODE($C$1)-65)*3))","v":""},"-",{"$f":"IF(OR(INDEX(Meine_Tipps!$B$14:$AJ$39,11,1+(CODE($C$1)-65)*3)=\"\",INDEX(Meine_Tipps!$B$14:$AJ$39,11,2+(CODE($C$1)-65)*3)=\"\"),\"\",INDEX(Meine_Tipps!$B$14:$AJ$39,11,2+(CODE($C$1)-65)*3))","v":""},0,0,{"$nulls":3},0,null,"3.",{"$f":"VLOOKUP($C$1&ROW($A3),Groups_Tipps!$B$7:$D$65,3,0)","v":"Österreich"},0,{"$f":"S6-T6","v":0},{"$f":"SUMIF($B$4:$B$9,$P6,$E$4:$E$9)+SUMIF($D$4:$D$9,$P6,$G$4:$G$9)","v":0},{"$f":"SUMIF($B$4:$B$9,$P6,$G$4:$G$9)+SUMIF($D$4:$D$9,$P6,$E$4:$E$9)","v":0},{"$f":"COUNTIFS($B$4:$B$9,$P6,$H$4:$H$9,\"=3\")+COUNTIFS($D$4:$D$9,$P6,$I$4:$I$9,\"=3\")","v":0},{"$f":"$Q6*FactorPts+(GDzero+$R6)*FactorGD+$S6*FactorFor+$U6*FactorWins+$W6*FactorDirC3+$X6*FactorDirC2+$Y6*FactorDirC43+$Z6*FactorDirC42+$AA6*FactorDirC42+$AB6*FactorFairPlay+$AE6*FactorPenalty+(100-$AF6)*($M$10>0)*FactorRank+(8-ROW())*FactorRow","v":{"v":50000.00000002,"d":"50,000.0000000"}},0,{"$f":"IF($L20=\"\",0,$L20)+SUMIFS($Z$18:$Z$35,$P$18:$P$35,$P6)","v":0},0,0,{"$f":"IF($M20=\"\",0,$M20)","v":0},{"$f":"SUMIFS(FairPlayPoints1,FairPlayTeams1,P6)+SUMIFS(FairPlayPoints2,FairPlayTeams2,P6)+SUMIFS(FairPlayPoints3,FairPlayTeams3,P6)","v":0},{"$f":"(Q6+T6>0)","v":false},{"$f":"$Q6*FactorPts+(GDzero+$R6)*FactorGD+$S6*FactorFor","v":{"v":50000,"d":"50,000"}},0,{"$f":"VLOOKUP(P6,Sprache_Tipps!E:F,2,0)","v":24},false]
[null,{"$f":"INDEX(Meine_Tipps!$B$13:$AJ$38,16,1+(CODE($C$1)-65)*3)","v":"Jordanien"},"-",{"$f":"INDEX(Meine_Tipps!$B$13:$AJ$38,16,2+(CODE($C$1)-65)*3)","v":"Algerien"},{"$f":"IF(OR(INDEX(Meine_Tipps!$B$14:$AJ$39,16,1+(CODE($C$1)-65)*3)=\"\",INDEX(Meine_Tipps!$B$14:$AJ$39,16,2+(CODE($C$1)-65)*3)=\"\"),\"\",INDEX(Meine_Tipps!$B$14:$AJ$39,16,1+(CODE($C$1)-65)*3))","v":""},"-",{"$f":"IF(OR(INDEX(Meine_Tipps!$B$14:$AJ$39,16,1+(CODE($C$1)-65)*3)=\"\",INDEX(Meine_Tipps!$B$14:$AJ$39,16,2+(CODE($C$1)-65)*3)=\"\"),\"\",INDEX(Meine_Tipps!$B$14:$AJ$39,16,2+(CODE($C$1)-65)*3))","v":""},0,0,{"$nulls":3},0,null,"4.",{"$f":"VLOOKUP($C$1&ROW($A4),Groups_Tipps!$B$7:$D$65,3,0)","v":"Jordanien"},0,{"$f":"S7-T7","v":0},{"$f":"SUMIF($B$4:$B$9,$P7,$E$4:$E$9)+SUMIF($D$4:$D$9,$P7,$G$4:$G$9)","v":0},{"$f":"SUMIF($B$4:$B$9,$P7,$G$4:$G$9)+SUMIF($D$4:$D$9,$P7,$E$4:$E$9)","v":0},{"$f":"COUNTIFS($B$4:$B$9,$P7,$H$4:$H$9,\"=3\")+COUNTIFS($D$4:$D$9,$P7,$I$4:$I$9,\"=3\")","v":0},{"$f":"$Q7*FactorPts+(GDzero+$R7)*FactorGD+$S7*FactorFor+$U7*FactorWins+$W7*FactorDirC3+$X7*FactorDirC2+$Y7*FactorDirC43+$Z7*FactorDirC42+$AA7*FactorDirC42+$AB7*FactorFairPlay+$AE7*FactorPenalty+(100-$AF7)*($M$10>0)*FactorRank+(8-ROW())*FactorRow","v":{"v":50000.00000001,"d":"50,000.0000000"}},0,{"$f":"IF($L21=\"\",0,$L21)+SUMIFS($Z$18:$Z$35,$P$18:$P$35,$P7)","v":0},0,0,{"$f":"IF($M21=\"\",0,$M21)","v":0},{"$f":"SUMIFS(FairPlayPoints1,FairPlayTeams1,P7)+SUMIFS(FairPlayPoints2,FairPlayTeams2,P7)+SUMIFS(FairPlayPoints3,FairPlayTeams3,P7)","v":0},{"$f":"(Q7+T7>0)","v":false},{"$f":"$Q7*FactorPts+(GDzero+$R7)*FactorGD+$S7*FactorFor","v":{"v":50000,"d":"50,000"}},0,{"$f":"VLOOKUP(P7,Sprache_Tipps!E:F,2,0)","v":63},false]
[null,{"$f":"INDEX(Meine_Tipps!$B$13:$AJ$38,21,1+(CODE($C$1)-65)*3)","v":"Algerien"},"-",{"$f":"INDEX(Meine_Tipps!$B$13:$AJ$38,21,2+(CODE($C$1)-65)*3)","v":"Österreich"},{"$f":"IF(OR(INDEX(Meine_Tipps!$B$14:$AJ$39,21,1+(CODE($C$1)-65)*3)=\"\",INDEX(Meine_Tipps!$B$14:$AJ$39,21,2+(CODE($C$1)-65)*3)=\"\"),\"\",INDEX(Meine_Tipps!$B$14:$AJ$39,21,1+(CODE($C$1)-65)*3))","v":""},"-",{"$f":"IF(OR(INDEX(Meine_Tipps!$B$14:$AJ$39,21,1+(CODE($C$1)-65)*3)=\"\",INDEX(Meine_Tipps!$B$14:$AJ$39,21,2+(CODE($C$1)-65)*3)=\"\"),\"\",INDEX(Meine_Tipps!$B$14:$AJ$39,21,2+(CODE($C$1)-65)*3))","v":""},0,0,{"$nulls":3},0]
[null,{"$f":"INDEX(Meine_Tipps!$B$13:$AJ$38,26,1+(CODE($C$1)-65)*3)","v":"Jordanien"},"-",{"$f":"INDEX(Meine_Tipps!$B$13:$AJ$38,26,2+(CODE($C$1)-65)*3)","v":"Argentinien"},{"$f":"IF(OR(INDEX(Meine_Tipps!$B$14:$AJ$39,26,1+(CODE($C$1)-65)*3)=\"\",INDEX(Meine_Tipps!$B$14:$AJ$39,26,2+(CODE($C$1)-65)*3)=\"\"),\"\",INDEX(Meine_Tipps!$B$14:$AJ$39,26,1+(CODE($C$1)-65)*3))","v":""},"-",{"$f":"IF(OR(INDEX(Meine_Tipps!$B$14:$AJ$39,26,1+(CODE($C$1)-65)*3)=\"\",INDEX(Meine_Tipps!$B$14:$AJ$39,26,2+(CODE($C$1)-65)*3)=\"\"),\"\",INDEX(Meine_Tipps!$B$14:$AJ$39,26,2+(CODE($C$1)-65)*3))","v":""},0,0,{"$nulls":3},0,{"$nulls":12},"For showing direct comparisons of 2 on sheet \"Direct comparisons\""]
[{"$nulls":11},"Sum:",{"$f":"SUM($M$4:$M$9)","v":0},null,null,"Sorted list","Points","GD","For","Against","wins","Coefficient","Played","Red dot","Penalty (?)","DC(2) ?","DC(4.2) ?","DC(3.2) ?","DC(4.3.2) ?","All Dir.C. (2)","Penalty"]
[{"$nulls":14},"1.",{"$f":"INDEX(P$4:P$7,MATCH($V11,$V$4:$V$7,0))","v":"Argentinien"},0,0,0,0,0,{"$f":"LARGE($V$4:$V$7,ROW(A1))","v":{"v":50000.00000004,"d":"50,000.0000000"}},{"$f":"OR($Q11>0,$T11>0)","v":false},{"$f":"IF(AND(OR(TRUNC($V$11,4)=TRUNC($V$12,4),TRUNC($V$11,4)=TRUNC($V$13,4),TRUNC($V$11,4)=TRUNC($V$14,4),TRUNC($V$12,4)=TRUNC($V$13,4),TRUNC($V$12,4)=TRUNC($V$14,4),TRUNC($V$13,4)=TRUNC($V$14,4)),$M$10>0),1,0)","v":0},{"$f":"IF(AND(VLOOKUP($B$8,$P$4:$AD$7,15,0)=VLOOKUP($D$8,$P$4:$AD$7,15,0),$E$8=$G$8,COUNTIF($Q$4:$Q$7,VLOOKUP($B$8,$P$4:$Q$7,2,0))=2,$M$10=6),1,0)","v":0},{"$f":"VLOOKUP($P11,$E$18:$M$21,8,0)<>\"\"","v":false},{"$f":"VLOOKUP($P11,$E$18:$M$21,9,0)<>\"\"","v":false},{"$f":"SUMPRODUCT(1*(LEN($Z$18:$Z$35)>0)*($P$18:$P$35=$P11))>0","v":false},{"$f":"SUMPRODUCT(1*(LEN($AE$18:$AE$35)>0)*($P$18:$P$35=$P11))>0","v":false},{"$f":"IF($Z11,VLOOKUP($P11,$E$18:$M$21,8,0),IF($AA11,VLOOKUP($P11,$E$18:$M$21,9,0),IF($AB11,SUMIFS($Z$18:$Z$35,$P$18:$P$35,$P11),IF($AC11,SUMIFS($AE$18:$AE$35,$P$18:$P$35,$P11),\"\"))))","v":""},{"$f":"IF(OR(AND($Y$11>0,OR($B$8=$P11,$D$8=$P11)),AND($Y$12>0,OR($B$9=$P11,$D$9=$P11))),SUMIF($B$8:$B$9,$P11,$J$8:$J$9)+SUMIF($D$8:$D$9,$P11,$L$8:$L$9),\"\")","v":""}]
[{"$nulls":14},"2.","Algerien",0,0,0,0,0,{"$f":"LARGE($V$4:$V$7,ROW(A2))","v":{"v":50000.00000003,"d":"50,000.0000000"}},{"$f":"OR($Q12>0,$T12>0)","v":false},null,{"$f":"IF(AND(VLOOKUP($B$9,$P$4:$AD$7,15,0)=VLOOKUP($D$9,$P$4:$AD$7,15,0),$E$9=$G$9,COUNTIF($Q$4:$Q$7,VLOOKUP($B$9,$P$4:$Q$7,2,0))=2,$M$10=6),1,0)","v":0},{"$f":"VLOOKUP($P12,$E$18:$M$21,8,0)<>\"\"","v":false},{"$f":"VLOOKUP($P12,$E$18:$M$21,9,0)<>\"\"","v":false},{"$f":"SUMPRODUCT(1*(LEN($Z$18:$Z$35)>0)*($P$18:$P$35=$P12))>0","v":false},{"$f":"SUMPRODUCT(1*(LEN($AE$18:$AE$35)>0)*($P$18:$P$35=$P12))>0","v":false},{"$f":"IF($Z12,VLOOKUP($P12,$E$18:$M$21,8,0),IF($AA12,VLOOKUP($P12,$E$18:$M$21,9,0),IF($AB12,SUMIFS($Z$18:$Z$35,$P$18:$P$35,$P12),IF($AC12,SUMIFS($AE$18:$AE$35,$P$18:$P$35,$P12),\"\"))))","v":""},{"$f":"IF(OR(AND($Y$11>0,OR($B$8=$P12,$D$8=$P12)),AND($Y$12>0,OR($B$9=$P12,$D$9=$P12))),SUMIF($B$8:$B$9,$P12,$J$8:$J$9)+SUMIF($D$8:$D$9,$P12,$L$8:$L$9),\"\")","v":""}]
[{"$nulls":14},"3.","Österreich",0,0,0,0,0,{"$f":"LARGE($V$4:$V$7,ROW(A3))","v":{"v":50000.00000002,"d":"50,000.0000000"}},false,null,null,{"$f":"VLOOKUP($P13,$E$18:$M$21,8,0)<>\"\"","v":false},{"$f":"VLOOKUP($P13,$E$18:$M$21,9,0)<>\"\"","v":false},false,false,{"$f":"IF($Z13,VLOOKUP($P13,$E$18:$M$21,8,0),IF($AA13,VLOOKUP($P13,$E$18:$M$21,9,0),IF($AB13,SUMIFS($Z$18:$Z$35,$P$18:$P$35,$P13),IF($AC13,SUMIFS($AE$18:$AE$35,$P$18:$P$35,$P13),\"\"))))","v":""},{"$f":"IF(OR(AND($Y$11>0,OR($B$8=$P13,$D$8=$P13)),AND($Y$12>0,OR($B$9=$P13,$D$9=$P13))),SUMIF($B$8:$B$9,$P13,$J$8:$J$9)+SUMIF($D$8:$D$9,$P13,$L$8:$L$9),\"\")","v":""}]
[{"$nulls":14},"4.","Jordanien",0,0,0,0,0,{"$f":"LARGE($V$4:$V$7,ROW(A4))","v":{"v":50000.00000001,"d":"50,000.0000000"}},false,null,null,{"$f":"VLOOKUP($P14,$E$18:$M$21,8,0)<>\"\"","v":false},{"$f":"VLOOKUP($P14,$E$18:$M$21,9,0)<>\"\"","v":false},false,false,{"$f":"IF($Z14,VLOOKUP($P14,$E$18:$M$21,8,0),IF($AA14,VLOOKUP($P14,$E$18:$M$21,9,0),IF($AB14,SUMIFS($Z$18:$Z$35,$P$18:$P$35,$P14),IF($AC14,SUMIFS($AE$18:$AE$35,$P$18:$P$35,$P14),\"\"))))","v":""},{"$f":"IF(OR(AND($Y$11>0,OR($B$8=$P14,$D$8=$P14)),AND($Y$12>0,OR($B$9=$P14,$D$9=$P14))),SUMIF($B$8:$B$9,$P14,$J$8:$J$9)+SUMIF($D$8:$D$9,$P14,$L$8:$L$9),\"\")","v":""}]
[]
[{"$nulls":6},"Direct Comparison of 2",{"$nulls":15},"Direct Comparison of 3",{"$nulls":6},"Direct Comparison of 4",null,{"$f":"AND($Q$4=$Q$5,$Q$4=$Q$6,$Q$4=$Q$7)","v":true}]
[{"$nulls":7},{"$f":"LEFT($P$4,3)","v":"Arg"},{"$f":"LEFT($P$5,3)","v":"Alg"},{"$f":"LEFT($P$6,3)","v":"Öst"},{"$f":"LEFT($P$7,3)","v":"Jor"},"DC(2)","DC(4.2)",{"$nulls":3},"Points","GD","For","Against",null,"Pts/GD/For","Rank Col. V","DC(3)","DC(3.2)","DC(3.2)","Results of direct encounters",null,null,"DC(4.3)","DC(4.3.2)"]
[{"$nulls":4},{"$f":"$P$4","v":"Argentinien"},{"$nulls":3},{"$f":"SUMIFS($E$4:$E$9,$B$4:$B$9,$P$4,$D$4:$D$9,$P$5)+SUMIFS($G$4:$G$9,$B$4:$B$9,$P$5,$D$4:$D$9,$P$4)","v":0},{"$f":"SUMIFS($E$4:$E$9,$B$4:$B$9,$P$4,$D$4:$D$9,$P$6)+SUMIFS($G$4:$G$9,$B$4:$B$9,$P$6,$D$4:$D$9,$P$4)","v":0},{"$f":"SUMIFS($E$4:$E$9,$B$4:$B$9,$P$4,$D$4:$D$9,$P$7)+SUMIFS($G$4:$G$9,$B$4:$B$9,$P$7,$D$4:$D$9,$P$4)","v":0},{"$f":"IF(AND($Q$4=$Q$5,$Q$4<>$Q$6,$Q$4<>$Q$7),IF(I18>H19,3,IF(I18=H19,1,0)),IF(AND($Q$4=$Q$6,$Q$4<>$Q$5,$Q$4<>$Q$7),IF(J18>H20,3,IF(J18=H20,1,0)),IF(AND($Q$4=$Q$7,$Q$4<>$Q$5,$Q$4<>$Q$6),IF(K18>H21,3,IF(K18=H21,1,0)),\"\")))","v":""},{"$f":"IF($AF$16,IF(AND($AD$4=$AD$5,$AD$4<>$AD$6,$AD$4<>$AD$7),IF(I18>H19,3,IF(I18=H19,1,0)),IF(AND($AD$4<>$AD$5,$AD$4=$AD$6,$AD$4<>$AD$7),IF(J18>H20,3,IF(J18=H20,1,0)),IF(AND($AD$4<>$AD$5,$AD$4<>$AD$6,$AD$4=$AD$7),IF(K18>H21,3,IF(K18=H21,1,0)),\"\"))),\"\")","v":""},null,"1.",{"$f":"$P$4","v":"Argentinien"},{"$f":"SUMIFS($H$4:$H$9,$B$4:$B$9,$P18,$D$4:$D$9,\"<>\"&$P$21)+SUMIFS($I$4:$I$9,$B$4:$B$9,\"<>\"&$P$21,$D$4:$D$9,$P18)","v":0},{"$f":"S18-T18","v":0},{"$f":"SUMIFS($E$4:$E$9,$B$4:$B$9,$P18,$D$4:$D$9,\"<>\"&$P$21)+SUMIFS($G$4:$G$9,$B$4:$B$9,\"<>\"&$P$21,$D$4:$D$9,$P18)","v":0},{"$f":"SUMIFS($G$4:$G$9,$B$4:$B$9,$P18,$D$4:$D$9,\"<>\"&$P$21)+SUMIFS($E$4:$E$9,$B$4:$B$9,\"<>\"&$P$21,$D$4:$D$9,$P18)","v":0},null,{"$f":"Q18*FactorPts+(GDzero+R18)*FactorGD+S18*FactorFor","v":{"v":50000,"d":"50,000"}},{"$f":"RANK(V18,V$18:V$20,1)","v":1},{"$f":"IF(AND($Q$4=$Q$5,$Q$4=$Q$6,$Q$4<>$Q$7),W18,0)","v":0},{"$f":"IF(AND(V18=V19,V18<>V20),IF(AA18>AA19,3,IF(AA18=AA19,1,0)),IF(AND(V18=V20,V18<>V19),IF(AB18>AB20,3,IF(AB18=AB20,1,0)),\"\"))","v":""},{"$f":"IF(X18>0,Y18,\"\")","v":""},{"$f":"$I$18","v":0},{"$f":"$J$18","v":0},null,{"$f":"IF(AND($AF$16,$AD$4=$AD$5,$AD$4=$AD$6,$AD$4<>$AD$7),W18,0)","v":0},{"$f":"IF(AD18>0,Y18,\"\")","v":""}]
[{"$nulls":4},{"$f":"$P$5","v":"Algerien"},null,null,{"$f":"SUMIFS($E$4:$E$9,$B$4:$B$9,$P$5,$D$4:$D$9,$P$4)+SUMIFS($G$4:$G$9,$B$4:$B$9,$P$4,$D$4:$D$9,$P$5)","v":0},null,{"$f":"SUMIFS($E$4:$E$9,$B$4:$B$9,$P$5,$D$4:$D$9,$P$6)+SUMIFS($G$4:$G$9,$B$4:$B$9,$P$6,$D$4:$D$9,$P$5)","v":0},{"$f":"SUMIFS($E$4:$E$9,$B$4:$B$9,$P$5,$D$4:$D$9,$P$7)+SUMIFS($G$4:$G$9,$B$4:$B$9,$P$7,$D$4:$D$9,$P$5)","v":0},{"$f":"IF(AND($Q$5=$Q$4,$Q$5<>$Q$6,$Q$5<>$Q$7),IF(H19>I18,3,IF(H19=I18,1,0)),IF(AND($Q$5=$Q$6,$Q$5<>$Q$4,$Q$5<>$Q$7),IF(J19>I20,3,IF(J19=I20,1,0)),IF(AND($Q$5=$Q$7,$Q$5<>$Q$4,$Q$5<>$Q$6),IF(K19>I21,3,IF(K19=I21,1,0)),\"\")))","v":""},{"$f":"IF($AF$16,IF(AND($AD$5=$AD$4,$AD$5<>$AD$6,$AD$5<>$AD$7),IF(H19>I18,3,IF(H19=I18,1,0)),IF(AND($AD$5<>$AD$4,$AD$5=$AD$6,$AD$5<>$AD$7),IF(J19>I20,3,IF(J19=I20,1,0)),IF(AND($AD$5<>$AD$4,$AD$5<>$AD$6,$AD$5=$AD$7),IF(K19>I21,3,IF(K19=I21,1,0)),\"\"))),\"\")","v":""},null,"2.",{"$f":"$P$5","v":"Algerien"},{"$f":"SUMIFS($H$4:$H$9,$B$4:$B$9,$P19,$D$4:$D$9,\"<>\"&$P$21)+SUMIFS($I$4:$I$9,$B$4:$B$9,\"<>\"&$P$21,$D$4:$D$9,$P19)","v":0},{"$f":"S19-T19","v":0},{"$f":"SUMIFS($E$4:$E$9,$B$4:$B$9,$P19,$D$4:$D$9,\"<>\"&$P$21)+SUMIFS($G$4:$G$9,$B$4:$B$9,\"<>\"&$P$21,$D$4:$D$9,$P19)","v":0},{"$f":"SUMIFS($G$4:$G$9,$B$4:$B$9,$P19,$D$4:$D$9,\"<>\"&$P$21)+SUMIFS($E$4:$E$9,$B$4:$B$9,\"<>\"&$P$21,$D$4:$D$9,$P19)","v":0},null,{"$f":"Q19*FactorPts+(GDzero+R19)*FactorGD+S19*FactorFor","v":{"v":50000,"d":"50,000"}},{"$f":"RANK(V19,V$18:V$20,1)","v":1},{"$f":"IF(AND($Q$4=$Q$5,$Q$4=$Q$6,$Q$4<>$Q$7),W19,0)","v":0},{"$f":"IF(AND(V19=V18,V19<>V20),IF(AA19>AA18,3,IF(AA19=AA18,1,0)),IF(AND(V19=V20,V19<>V18),IF(AC19>AC20,3,IF(AC19=AC20,1,0)),\"\"))","v":""},{"$f":"IF(X19>0,Y19,\"\")","v":""},{"$f":"$H$19","v":0},null,{"$f":"$J$19","v":0},{"$f":"IF(AND($AF$16,$AD$4=$AD$5,$AD$4=$AD$6,$AD$4<>$AD$7),W19,0)","v":0},{"$f":"IF(AD19>0,Y19,\"\")","v":""}]
[{"$nulls":4},{"$f":"$P$6","v":"Österreich"},null,null,{"$f":"SUMIFS($E$4:$E$9,$B$4:$B$9,$P$6,$D$4:$D$9,$P$4)+SUMIFS($G$4:$G$9,$B$4:$B$9,$P$4,$D$4:$D$9,$P$6)","v":0},{"$f":"SUMIFS($E$4:$E$9,$B$4:$B$9,$P$6,$D$4:$D$9,$P$5)+SUMIFS($G$4:$G$9,$B$4:$B$9,$P$5,$D$4:$D$9,$P$6)","v":0},null,{"$f":"SUMIFS($E$4:$E$9,$B$4:$B$9,$P$6,$D$4:$D$9,$P$7)+SUMIFS($G$4:$G$9,$B$4:$B$9,$P$7,$D$4:$D$9,$P$6)","v":0},{"$f":"IF(AND($Q$6=$Q$4,$Q$6<>$Q$5,$Q$6<>$Q$7),IF(H20>J18,3,IF(H20=J18,1,0)),IF(AND($Q$6=$Q$5,$Q$6<>$Q$4,$Q$6<>$Q$7),IF(I20>J19,3,IF(I20=J19,1,0)),IF(AND($Q$6=$Q$7,$Q$6<>$Q$4,$Q$6<>$Q$5),IF(K20>J21,3,IF(K20=J21,1,0)),\"\")))","v":""},{"$f":"IF($AF$16,IF(AND($AD$6=$AD$4,$AD$6<>$AD$5,$AD$6<>$AD$7),IF(H20>J18,3,IF(H20=J18,1,0)),IF(AND($AD$6<>$AD$4,$AD$6=$AD$5,$AD$6<>$AD$7),IF(I20>J19,3,IF(I20=J19,1,0)),IF(AND($AD$6<>$AD$4,$AD$6<>$AD$5,$AD$6=$AD$7),IF(K20>J21,3,IF(K20=J21,1,0)),\"\"))),\"\")","v":""},null,"3.",{"$f":"$P$6","v":"Österreich"},{"$f":"SUMIFS($H$4:$H$9,$B$4:$B$9,$P20,$D$4:$D$9,\"<>\"&$P$21)+SUMIFS($I$4:$I$9,$B$4:$B$9,\"<>\"&$P$21,$D$4:$D$9,$P20)","v":0},{"$f":"S20-T20","v":0},{"$f":"SUMIFS($E$4:$E$9,$B$4:$B$9,$P20,$D$4:$D$9,\"<>\"&$P$21)+SUMIFS($G$4:$G$9,$B$4:$B$9,\"<>\"&$P$21,$D$4:$D$9,$P20)","v":0},{"$f":"SUMIFS($G$4:$G$9,$B$4:$B$9,$P20,$D$4:$D$9,\"<>\"&$P$21)+SUMIFS($E$4:$E$9,$B$4:$B$9,\"<>\"&$P$21,$D$4:$D$9,$P20)","v":0},null,{"$f":"Q20*FactorPts+(GDzero+R20)*FactorGD+S20*FactorFor","v":{"v":50000,"d":"50,000"}},{"$f":"RANK(V20,V$18:V$20,1)","v":1},{"$f":"IF(AND($Q$4=$Q$5,$Q$4=$Q$6,$Q$4<>$Q$7),W20,0)","v":0},{"$f":"IF(AND(V20=V18,V20<>V19),IF(AB20>AB18,3,IF(AB20=AB18,1,0)),IF(AND(V20=V19,V20<>V18),IF(AC20>AC19,3,IF(AC20=AC19,1,0)),\"\"))","v":""},"",null,{"$f":"$H$20","v":0},{"$f":"$I$20","v":0},{"$f":"IF(AND($AF$16,$AD$4=$AD$5,$AD$4=$AD$6,$AD$4<>$AD$7),W20,0)","v":0},""]
[{"$nulls":4},{"$f":"$P$7","v":"Jordanien"},null,null,{"$f":"SUMIFS($E$4:$E$9,$B$4:$B$9,$P$7,$D$4:$D$9,$P$4)+SUMIFS($G$4:$G$9,$B$4:$B$9,$P$4,$D$4:$D$9,$P$7)","v":0},{"$f":"SUMIFS($E$4:$E$9,$B$4:$B$9,$P$7,$D$4:$D$9,$P$5)+SUMIFS($G$4:$G$9,$B$4:$B$9,$P$5,$D$4:$D$9,$P$7)","v":0},{"$f":"SUMIFS($E$4:$E$9,$B$4:$B$9,$P$7,$D$4:$D$9,$P$6)+SUMIFS($G$4:$G$9,$B$4:$B$9,$P$6,$D$4:$D$9,$P$7)","v":0},null,{"$f":"IF(AND($Q$7=$Q$4,$Q$7<>$Q$5,$Q$7<>$Q$6),IF(H21>K18,3,IF(H21=K18,1,0)),IF(AND($Q$7=$Q$5,$Q$7<>$Q$4,$Q$7<>$Q$6),IF(I21>K19,3,IF(I21=K19,1,0)),IF(AND($Q$7=$Q$6,$Q$7<>$Q$4,$Q$7<>$Q$5),IF(J21>K20,3,IF(J21=K20,1,0)),\"\")))","v":""},{"$f":"IF($AF$16,IF(AND($AD$7=$AD$4,$AD$7<>$AD$5,$AD$7<>$AD$6),IF(H21>K18,3,IF(H21=K18,1,0)),IF(AND($AD$7<>$AD$4,$AD$7=$AD$5,$AD$7<>$AD$6),IF(I21>K19,3,IF(I21=K19,1,0)),IF(AND($AD$7<>$AD$4,$AD$7<>$AD$5,$AD$7=$AD$6),IF(J21>K20,3,IF(J21=K20,1,0)),\"\"))),\"\")","v":""},null,null,{"$f":"$P$7","v":"Jordanien"}]
[]
[{"$nulls":14},"1.",{"$f":"$P$4","v":"Argentinien"},{"$f":"SUMIFS($H$4:$H$9,$B$4:$B$9,$P23,$D$4:$D$9,\"<>\"&$P$26)+SUMIFS($I$4:$I$9,$B$4:$B$9,\"<>\"&$P$26,$D$4:$D$9,$P23)","v":0},{"$f":"S23-T23","v":0},{"$f":"SUMIFS($E$4:$E$9,$B$4:$B$9,$P23,$D$4:$D$9,\"<>\"&$P$26)+SUMIFS($G$4:$G$9,$B$4:$B$9,\"<>\"&$P$26,$D$4:$D$9,$P23)","v":0},{"$f":"SUMIFS($G$4:$G$9,$B$4:$B$9,$P23,$D$4:$D$9,\"<>\"&$P$26)+SUMIFS($E$4:$E$9,$B$4:$B$9,\"<>\"&$P$26,$D$4:$D$9,$P23)","v":0},null,{"$f":"Q23*FactorPts+(GDzero+R23)*FactorGD+S23*FactorFor","v":{"v":50000,"d":"50,000"}},{"$f":"RANK(V23,V$23:V$25,1)","v":1},{"$f":"IF(AND($Q$4=$Q$5,$Q$4=$Q$7,$Q$4<>$Q$6),W23,0)","v":0},{"$f":"IF(AND(V23=V24,V23<>V25),IF(AA23>AA24,3,IF(AA23=AA24,1,0)),IF(AND(V23=V25,V23<>V24),IF(AB23>AB25,3,IF(AB23=AB25,1,0)),\"\"))","v":""},{"$f":"IF(X23>0,Y23,\"\")","v":""},{"$f":"$I$18","v":0},{"$f":"$K$18","v":0},null,{"$f":"IF(AND($AF$16,$AD$4=$AD$5,$AD$4=$AD$7,$AD$4<>$AD$6),W23,0)","v":0},{"$f":"IF(AD23>0,Y23,\"\")","v":""}]
[{"$nulls":14},"2.",{"$f":"$P$5","v":"Algerien"},{"$f":"SUMIFS($H$4:$H$9,$B$4:$B$9,$P24,$D$4:$D$9,\"<>\"&$P$26)+SUMIFS($I$4:$I$9,$B$4:$B$9,\"<>\"&$P$26,$D$4:$D$9,$P24)","v":0},{"$f":"S24-T24","v":0},{"$f":"SUMIFS($E$4:$E$9,$B$4:$B$9,$P24,$D$4:$D$9,\"<>\"&$P$26)+SUMIFS($G$4:$G$9,$B$4:$B$9,\"<>\"&$P$26,$D$4:$D$9,$P24)","v":0},{"$f":"SUMIFS($G$4:$G$9,$B$4:$B$9,$P24,$D$4:$D$9,\"<>\"&$P$26)+SUMIFS($E$4:$E$9,$B$4:$B$9,\"<>\"&$P$26,$D$4:$D$9,$P24)","v":0},null,{"$f":"Q24*FactorPts+(GDzero+R24)*FactorGD+S24*FactorFor","v":{"v":50000,"d":"50,000"}},{"$f":"RANK(V24,V$23:V$25,1)","v":1},{"$f":"IF(AND($Q$4=$Q$5,$Q$4=$Q$7,$Q$4<>$Q$6),W24,0)","v":0},{"$f":"IF(AND(V24=V23,V24<>V25),IF(AA24>AA23,3,IF(AA24=AA23,1,0)),IF(AND(V24=V25,V24<>V23),IF(AC24>AC25,3,IF(AC24=AC25,1,0)),\"\"))","v":""},{"$f":"IF(X24>0,Y24,\"\")","v":""},{"$f":"$H$19","v":0},null,{"$f":"$K$19","v":0},{"$f":"IF(AND($AF$16,$AD$4=$AD$5,$AD$4=$AD$7,$AD$4<>$AD$6),W24,0)","v":0},{"$f":"IF(AD24>0,Y24,\"\")","v":""}]
[{"$nulls":14},"3.",{"$f":"$P$7","v":"Jordanien"},{"$f":"SUMIFS($H$4:$H$9,$B$4:$B$9,$P25,$D$4:$D$9,\"<>\"&$P$26)+SUMIFS($I$4:$I$9,$B$4:$B$9,\"<>\"&$P$26,$D$4:$D$9,$P25)","v":0},{"$f":"S25-T25","v":0},{"$f":"SUMIFS($E$4:$E$9,$B$4:$B$9,$P25,$D$4:$D$9,\"<>\"&$P$26)+SUMIFS($G$4:$G$9,$B$4:$B$9,\"<>\"&$P$26,$D$4:$D$9,$P25)","v":0},{"$f":"SUMIFS($G$4:$G$9,$B$4:$B$9,$P25,$D$4:$D$9,\"<>\"&$P$26)+SUMIFS($E$4:$E$9,$B$4:$B$9,\"<>\"&$P$26,$D$4:$D$9,$P25)","v":0},null,{"$f":"Q25*FactorPts+(GDzero+R25)*FactorGD+S25*FactorFor","v":{"v":50000,"d":"50,000"}},{"$f":"RANK(V25,V$23:V$25,1)","v":1},{"$f":"IF(AND($Q$4=$Q$5,$Q$4=$Q$7,$Q$4<>$Q$6),W25,0)","v":0},{"$f":"IF(AND(V25=V23,V25<>V24),IF(AB25>AB23,3,IF(AB25=AB23,1,0)),IF(AND(V25=V24,V25<>V23),IF(AC25>AC24,3,IF(AC25=AC24,1,0)),\"\"))","v":""},"",null,{"$f":"$H$21","v":0},{"$f":"$I$21","v":0},{"$f":"IF(AND($AF$16,$AD$4=$AD$5,$AD$4=$AD$7,$AD$4<>$AD$6),W25,0)","v":0},""]
[{"$nulls":15},{"$f":"$P$6","v":"Österreich"}]
[]
[{"$nulls":14},"1.",{"$f":"$P$4","v":"Argentinien"},{"$f":"SUMIFS($H$4:$H$9,$B$4:$B$9,$P28,$D$4:$D$9,\"<>\"&$P$31)+SUMIFS($I$4:$I$9,$B$4:$B$9,\"<>\"&$P$31,$D$4:$D$9,$P28)","v":0},{"$f":"S28-T28","v":0},{"$f":"SUMIFS($E$4:$E$9,$B$4:$B$9,$P28,$D$4:$D$9,\"<>\"&$P$31)+SUMIFS($G$4:$G$9,$B$4:$B$9,\"<>\"&$P$31,$D$4:$D$9,$P28)","v":0},{"$f":"SUMIFS($G$4:$G$9,$B$4:$B$9,$P28,$D$4:$D$9,\"<>\"&$P$31)+SUMIFS($E$4:$E$9,$B$4:$B$9,\"<>\"&$P$31,$D$4:$D$9,$P28)","v":0},null,{"$f":"Q28*FactorPts+(GDzero+R28)*FactorGD+S28*FactorFor","v":{"v":50000,"d":"50,000"}},{"$f":"RANK(V28,V$28:V$30,1)","v":1},{"$f":"IF(AND($Q$4=$Q$6,$Q$4=$Q$7,$Q$4<>$Q$5),W28,0)","v":0},{"$f":"IF(AND(V28=V29,V28<>V30),IF(AA28>AA29,3,IF(AA28=AA29,1,0)),IF(AND(V28=V30,V28<>V29),IF(AB28>AB30,3,IF(AB28=AB30,1,0)),\"\"))","v":""},{"$f":"IF(X28>0,Y28,\"\")","v":""},{"$f":"$J$18","v":0},{"$f":"$K$18","v":0},null,{"$f":"IF(AND($AF$16,$AD$4=$AD$6,$AD$4=$AD$7,$AD$4<>$AD$5),W28,0)","v":0},{"$f":"IF(AD28>0,Y28,\"\")","v":""}]
[{"$nulls":14},"2.",{"$f":"$P$6","v":"Österreich"},{"$f":"SUMIFS($H$4:$H$9,$B$4:$B$9,$P29,$D$4:$D$9,\"<>\"&$P$31)+SUMIFS($I$4:$I$9,$B$4:$B$9,\"<>\"&$P$31,$D$4:$D$9,$P29)","v":0},{"$f":"S29-T29","v":0},{"$f":"SUMIFS($E$4:$E$9,$B$4:$B$9,$P29,$D$4:$D$9,\"<>\"&$P$31)+SUMIFS($G$4:$G$9,$B$4:$B$9,\"<>\"&$P$31,$D$4:$D$9,$P29)","v":0},{"$f":"SUMIFS($G$4:$G$9,$B$4:$B$9,$P29,$D$4:$D$9,\"<>\"&$P$31)+SUMIFS($E$4:$E$9,$B$4:$B$9,\"<>\"&$P$31,$D$4:$D$9,$P29)","v":0},null,{"$f":"Q29*FactorPts+(GDzero+R29)*FactorGD+S29*FactorFor","v":{"v":50000,"d":"50,000"}},{"$f":"RANK(V29,V$28:V$30,1)","v":1},{"$f":"IF(AND($Q$4=$Q$6,$Q$4=$Q$7,$Q$4<>$Q$5),W29,0)","v":0},{"$f":"IF(AND(V29=V28,V29<>V30),IF(AA29>AA28,3,IF(AA29=AA28,1,0)),IF(AND(V29=V30,V29<>V28),IF(AC29>AC30,3,IF(AC29=AC30,1,0)),\"\"))","v":""},{"$f":"IF(X29>0,Y29,\"\")","v":""},{"$f":"$H$20","v":0},null,{"$f":"$K$20","v":0},{"$f":"IF(AND($AF$16,$AD$4=$AD$6,$AD$4=$AD$7,$AD$4<>$AD$5),W29,0)","v":0},{"$f":"IF(AD29>0,Y29,\"\")","v":""}]
[{"$nulls":14},"3.",{"$f":"$P$7","v":"Jordanien"},{"$f":"SUMIFS($H$4:$H$9,$B$4:$B$9,$P30,$D$4:$D$9,\"<>\"&$P$31)+SUMIFS($I$4:$I$9,$B$4:$B$9,\"<>\"&$P$31,$D$4:$D$9,$P30)","v":0},{"$f":"S30-T30","v":0},{"$f":"SUMIFS($E$4:$E$9,$B$4:$B$9,$P30,$D$4:$D$9,\"<>\"&$P$31)+SUMIFS($G$4:$G$9,$B$4:$B$9,\"<>\"&$P$31,$D$4:$D$9,$P30)","v":0},{"$f":"SUMIFS($G$4:$G$9,$B$4:$B$9,$P30,$D$4:$D$9,\"<>\"&$P$31)+SUMIFS($E$4:$E$9,$B$4:$B$9,\"<>\"&$P$31,$D$4:$D$9,$P30)","v":0},null,{"$f":"Q30*FactorPts+(GDzero+R30)*FactorGD+S30*FactorFor","v":{"v":50000,"d":"50,000"}},1,{"$f":"IF(AND($Q$4=$Q$6,$Q$4=$Q$7,$Q$4<>$Q$5),W30,0)","v":0},{"$f":"IF(AND(V30=V28,V30<>V29),IF(AB30>AB28,3,IF(AB30=AB28,1,0)),IF(AND(V30=V29,V30<>V28),IF(AC30>AC29,3,IF(AC30=AC29,1,0)),\"\"))","v":""},"",null,{"$f":"$H$21","v":0},{"$f":"$J$21","v":0},{"$f":"IF(AND($AF$16,$AD$4=$AD$6,$AD$4=$AD$7,$AD$4<>$AD$5),W30,0)","v":0},""]
[{"$nulls":15},{"$f":"$P$5","v":"Algerien"}]
[]
[{"$nulls":14},"1.",{"$f":"$P$5","v":"Algerien"},{"$f":"SUMIFS($H$4:$H$9,$B$4:$B$9,$P33,$D$4:$D$9,\"<>\"&$P$36)+SUMIFS($I$4:$I$9,$B$4:$B$9,\"<>\"&$P$36,$D$4:$D$9,$P33)","v":0},{"$f":"S33-T33","v":0},{"$f":"SUMIFS($E$4:$E$9,$B$4:$B$9,$P33,$D$4:$D$9,\"<>\"&$P$36)+SUMIFS($G$4:$G$9,$B$4:$B$9,\"<>\"&$P$36,$D$4:$D$9,$P33)","v":0},{"$f":"SUMIFS($G$4:$G$9,$B$4:$B$9,$P33,$D$4:$D$9,\"<>\"&$P$36)+SUMIFS($E$4:$E$9,$B$4:$B$9,\"<>\"&$P$36,$D$4:$D$9,$P33)","v":0},null,{"$f":"Q33*FactorPts+(GDzero+R33)*FactorGD+S33*FactorFor","v":{"v":50000,"d":"50,000"}},{"$f":"RANK(V33,V$33:V$35,1)","v":1},{"$f":"IF(AND($Q$5=$Q$6,$Q$5=$Q$7,$Q$5<>$Q$4),W33,0)","v":0},{"$f":"IF(AND(V33=V34,V33<>V35),IF(AA33>AA34,3,IF(AA33=AA34,1,0)),IF(AND(V33=V35,V33<>V34),IF(AB33>AB35,3,IF(AB33=AB35,1,0)),\"\"))","v":""},{"$f":"IF(X33>0,Y33,\"\")","v":""},{"$f":"$J$19","v":0},{"$f":"$K$19","v":0},null,{"$f":"IF(AND($AF$16,$AD$5=$AD$6,$AD$5=$AD$7,$AD$5<>$AD$4),W33,0)","v":0},{"$f":"IF(AD33>0,Y33,\"\")","v":""}]
[{"$nulls":14},"2.",{"$f":"$P$6","v":"Österreich"},{"$f":"SUMIFS($H$4:$H$9,$B$4:$B$9,$P34,$D$4:$D$9,\"<>\"&$P$36)+SUMIFS($I$4:$I$9,$B$4:$B$9,\"<>\"&$P$36,$D$4:$D$9,$P34)","v":0},{"$f":"S34-T34","v":0},{"$f":"SUMIFS($E$4:$E$9,$B$4:$B$9,$P34,$D$4:$D$9,\"<>\"&$P$36)+SUMIFS($G$4:$G$9,$B$4:$B$9,\"<>\"&$P$36,$D$4:$D$9,$P34)","v":0},{"$f":"SUMIFS($G$4:$G$9,$B$4:$B$9,$P34,$D$4:$D$9,\"<>\"&$P$36)+SUMIFS($E$4:$E$9,$B$4:$B$9,\"<>\"&$P$36,$D$4:$D$9,$P34)","v":0},null,{"$f":"Q34*FactorPts+(GDzero+R34)*FactorGD+S34*FactorFor","v":{"v":50000,"d":"50,000"}},{"$f":"RANK(V34,V$33:V$35,1)","v":1},{"$f":"IF(AND($Q$5=$Q$6,$Q$5=$Q$7,$Q$5<>$Q$4),W34,0)","v":0},{"$f":"IF(AND(V34=V33,V34<>V35),IF(AA34>AA33,3,IF(AA34=AA33,1,0)),IF(AND(V34=V35,V34<>V33),IF(AC34>AC35,3,IF(AC34=AC35,1,0)),\"\"))","v":""},{"$f":"IF(X34>0,Y34,\"\")","v":""},{"$f":"$I$20","v":0},null,{"$f":"$K$20","v":0},{"$f":"IF(AND($AF$16,$AD$5=$AD$6,$AD$5=$AD$7,$AD$5<>$AD$4),W34,0)","v":0},{"$f":"IF(AD34>0,Y34,\"\")","v":""}]
[{"$nulls":14},"3.",{"$f":"$P$7","v":"Jordanien"},{"$f":"SUMIFS($H$4:$H$9,$B$4:$B$9,$P35,$D$4:$D$9,\"<>\"&$P$36)+SUMIFS($I$4:$I$9,$B$4:$B$9,\"<>\"&$P$36,$D$4:$D$9,$P35)","v":0},{"$f":"S35-T35","v":0},{"$f":"SUMIFS($E$4:$E$9,$B$4:$B$9,$P35,$D$4:$D$9,\"<>\"&$P$36)+SUMIFS($G$4:$G$9,$B$4:$B$9,\"<>\"&$P$36,$D$4:$D$9,$P35)","v":0},{"$f":"SUMIFS($G$4:$G$9,$B$4:$B$9,$P35,$D$4:$D$9,\"<>\"&$P$36)+SUMIFS($E$4:$E$9,$B$4:$B$9,\"<>\"&$P$36,$D$4:$D$9,$P35)","v":0},null,{"$f":"Q35*FactorPts+(GDzero+R35)*FactorGD+S35*FactorFor","v":{"v":50000,"d":"50,000"}},{"$f":"RANK(V35,V$33:V$35,1)","v":1},{"$f":"IF(AND($Q$5=$Q$6,$Q$5=$Q$7,$Q$5<>$Q$4),W35,0)","v":0},{"$f":"IF(AND(V35=V33,V35<>V34),IF(AB35>AB33,3,IF(AB35=AB33,1,0)),IF(AND(V35=V34,V35<>V33),IF(AC35>AC34,3,IF(AC35=AC34,1,0)),\"\"))","v":""},"",null,{"$f":"$I$21","v":0},{"$f":"$J$21","v":0},{"$f":"IF(AND($AF$16,$AD$5=$AD$6,$AD$5=$AD$7,$AD$5<>$AD$4),W35,0)","v":0},""]
[{"$nulls":15},{"$f":"$P$4","v":"Argentinien"}]

{"sheet":"GrpK_Tipps","index":25,"n_rows":36,"n_cols":33,"rows_kept":36,"hidden":true,"merged":[[2,1,2,3],[2,4,2,6],[2,7,2,8],[2,9,2,11],[8,25,8,30],[15,6,15,11],[15,22,15,25],[15,29,15,30],[16,26,16,28],[17,4,17,6],[18,4,18,6],[19,4,19,6],[20,4,20,6]]}
[null,"Group","K","Tipps"]
[]
[null,"Match",null,null,"Score",null,null,"Points",null,"Penalty",null,null,"valid",{"$nulls":3},"Points","GD","For","Against","Wins","Coefficient","Dir. Comp. (3)","Dir. Comp. (2)","Dir. Comp. (4.3)","Dir. Comp. (4.3.2)","Dir. Comp. (4.2)","Fair play","match count > 0","Pts/GD/For","Penalty","Ranking","Played"]
[null,{"$f":"INDEX(Meine_Tipps!$B$13:$AJ$38,1,1+(CODE($C$1)-65)*3)","v":"Portugal"},"-",{"$f":"INDEX(Meine_Tipps!$B$13:$AJ$38,1,2+(CODE($C$1)-65)*3)","v":"DR Kongo"},{"$f":"IF(OR(INDEX(Meine_Tipps!$B$14:$AJ$39,1,1+(CODE($C$1)-65)*3)=\"\",INDEX(Meine_Tipps!$B$14:$AJ$39,1,2+(CODE($C$1)-65)*3)=\"\"),\"\",INDEX(Meine_Tipps!$B$14:$AJ$39,1,1+(CODE($C$1)-65)*3))","v":""},"-",{"$f":"IF(OR(INDEX(Meine_Tipps!$B$14:$AJ$39,1,1+(CODE($C$1)-65)*3)=\"\",INDEX(Meine_Tipps!$B$14:$AJ$39,1,2+(CODE($C$1)-65)*3)=\"\"),\"\",INDEX(Meine_Tipps!$B$14:$AJ$39,1,2+(CODE($C$1)-65)*3))","v":""},{"$f":"IF($M4>0,IF($E4>$G4,3,IF($E4=$G4,1,0)),0)","v":0},{"$f":"IF($M4>0,IF($E4<$G4,3,IF($E4=$G4,1,0)),0)","v":0},{"$nulls":3},{"$f":"IF(AND($E4<>\"\",$G4<>\"\"),1,0)","v":0},null,"1.",{"$f":"VLOOKUP($C$1&ROW($A1),Groups_Tipps!$B$7:$D$65,3,0)","v":"Portugal"},{"$f":"SUMIF($B$4:$B$9,P4,$H$4:$H$9)+SUMIF($D$4:$D$9,P4,$I$4:$I$9)","v":0},{"$f":"S4-T4","v":0},{"$f":"SUMIF($B$4:$B$9,$P4,$E$4:$E$9)+SUMIF($D$4:$D$9,$P4,$G$4:$G$9)","v":0},{"$f":"SUMIF($B$4:$B$9,$P4,$G$4:$G$9)+SUMIF($D$4:$D$9,$P4,$E$4:$E$9)","v":0},{"$f":"COUNTIFS($B$4:$B$9,$P4,$H$4:$H$9,\"=3\")+COUNTIFS($D$4:$D$9,$P4,$I$4:$I$9,\"=3\")","v":0},{"$f":"$Q4*FactorPts+(GDzero+$R4)*FactorGD+$S4*FactorFor+$U4*FactorWins+$W4*FactorDirC3+$X4*FactorDirC2+$Y4*FactorDirC43+$Z4*FactorDirC42+$AA4*FactorDirC42+$AB4*FactorFairPlay+$AE4*FactorPenalty+(100-$AF4)*($M$10>0)*FactorRank+(8-ROW())*FactorRow","v":{"v":50000.00000004,"d":"50,000.0000000"}},{"$f":"SUMIFS($X$18:$X$35,$P$18:$P$35,$P4)","v":0},{"$f":"IF($L18=\"\",0,$L18)+SUMIFS($Z$18:$Z$35,$P$18:$P$35,$P4)","v":0},{"$f":"SUMIFS($AD$18:$AD$35,$P$18:$P$35,$P4)","v":0},{"$f":"SUMIFS($AE$18:$AE$35,$P$18:$P$35,$P4)","v":0},{"$f":"IF($M18=\"\",0,$M18)","v":0},{"$f":"SUMIFS(FairPlayPoints1,FairPlayTeams1,P4)+SUMIFS(FairPlayPoints2,FairPlayTeams2,P4)+SUMIFS(FairPlayPoints3,FairPlayTeams3,P4)","v":0},{"$f":"(Q4+T4>0)","v":false},{"$f":"$Q4*FactorPts+(GDzero+$R4)*FactorGD+$S4*FactorFor","v":{"v":50000,"d":"50,000"}},0,{"$f":"VLOOKUP(P4,Sprache_Tipps!E:F,2,0)","v":5},{"$f":"OR($Q4>0,$T4>0)","v":false}]
[null,{"$f":"INDEX(Meine_Tipps!$B$13:$AJ$38,6,1+(CODE($C$1)-65)*3)","v":"Usbekistan"},"-",{"$f":"INDEX(Meine_Tipps!$B$13:$AJ$38,6,2+(CODE($C$1)-65)*3)","v":"Kolumbien"},{"$f":"IF(OR(INDEX(Meine_Tipps!$B$14:$AJ$39,6,1+(CODE($C$1)-65)*3)=\"\",INDEX(Meine_Tipps!$B$14:$AJ$39,6,2+(CODE($C$1)-65)*3)=\"\"),\"\",INDEX(Meine_Tipps!$B$14:$AJ$39,6,1+(CODE($C$1)-65)*3))","v":""},"-",{"$f":"IF(OR(INDEX(Meine_Tipps!$B$14:$AJ$39,6,1+(CODE($C$1)-65)*3)=\"\",INDEX(Meine_Tipps!$B$14:$AJ$39,6,2+(CODE($C$1)-65)*3)=\"\"),\"\",INDEX(Meine_Tipps!$B$14:$AJ$39,6,2+(CODE($C$1)-65)*3))","v":""},0,0,{"$nulls":3},0,null,"2.",{"$f":"VLOOKUP($C$1&ROW($A2),Groups_Tipps!$B$7:$D$65,3,0)","v":"DR Kongo"},{"$f":"SUMIF($B$4:$B$9,P5,$H$4:$H$9)+SUMIF($D$4:$D$9,P5,$I$4:$I$9)","v":0},{"$f":"S5-T5","v":0},{"$f":"SUMIF($B$4:$B$9,$P5,$E$4:$E$9)+SUMIF($D$4:$D$9,$P5,$G$4:$G$9)","v":0},{"$f":"SUMIF($B$4:$B$9,$P5,$G$4:$G$9)+SUMIF($D$4:$D$9,$P5,$E$4:$E$9)","v":0},{"$f":"COUNTIFS($B$4:$B$9,$P5,$H$4:$H$9,\"=3\")+COUNTIFS($D$4:$D$9,$P5,$I$4:$I$9,\"=3\")","v":0},{"$f":"$Q5*FactorPts+(GDzero+$R5)*FactorGD+$S5*FactorFor+$U5*FactorWins+$W5*FactorDirC3+$X5*FactorDirC2+$Y5*FactorDirC43+$Z5*FactorDirC42+$AA5*FactorDirC42+$AB5*FactorFairPlay+$AE5*FactorPenalty+(100-$AF5)*($M$10>0)*FactorRank+(8-ROW())*FactorRow","v":{"v":50000.00000003,"d":"50,000.0000000"}},{"$f":"SUMIFS($X$18:$X$35,$P$18:$P$35,$P5)","v":0},{"$f":"IF($L19=\"\",0,$L19)+SUMIFS($Z$18:$Z$35,$P$18:$P$35,$P5)","v":0},{"$f":"SUMIFS($AD$18:$AD$35,$P$18:$P$35,$P5)","v":0},{"$f":"SUMIFS($AE$18:$AE$35,$P$18:$P$35,$P5)","v":0},{"$f":"IF($M19=\"\",0,$M19)","v":0},{"$f":"SUMIFS(FairPlayPoints1,FairPlayTeams1,P5)+SUMIFS(FairPlayPoints2,FairPlayTeams2,P5)+SUMIFS(FairPlayPoints3,FairPlayTeams3,P5)","v":0},{"$f":"(Q5+T5>0)","v":false},{"$f":"$Q5*FactorPts+(GDzero+$R5)*FactorGD+$S5*FactorFor","v":{"v":50000,"d":"50,000"}},0,{"$f":"VLOOKUP(P5,Sprache_Tipps!E:F,2,0)","v":46},{"$f":"OR($Q5>0,$T5>0)","v":false}]
[null,{"$f":"INDEX(Meine_Tipps!$B$13:$AJ$38,11,1+(CODE($C$1)-65)*3)","v":"Portugal"},"-",{"$f":"INDEX(Meine_Tipps!$B$13:$AJ$38,11,2+(CODE($C$1)-65)*3)","v":"Usbekistan"},{"$f":"IF(OR(INDEX(Meine_Tipps!$B$14:$AJ$39,11,1+(CODE($C$1)-65)*3)=\"\",INDEX(Meine_Tipps!$B$14:$AJ$39,11,2+(CODE($C$1)-65)*3)=\"\"),\"\",INDEX(Meine_Tipps!$B$14:$AJ$39,11,1+(CODE($C$1)-65)*3))","v":""},"-",{"$f":"IF(OR(INDEX(Meine_Tipps!$B$14:$AJ$39,11,1+(CODE($C$1)-65)*3)=\"\",INDEX(Meine_Tipps!$B$14:$AJ$39,11,2+(CODE($C$1)-65)*3)=\"\"),\"\",INDEX(Meine_Tipps!$B$14:$AJ$39,11,2+(CODE($C$1)-65)*3))","v":""},0,0,{"$nulls":3},0,null,"3.",{"$f":"VLOOKUP($C$1&ROW($A3),Groups_Tipps!$B$7:$D$65,3,0)","v":"Usbekistan"},0,{"$f":"S6-T6","v":0},{"$f":"SUMIF($B$4:$B$9,$P6,$E$4:$E$9)+SUMIF($D$4:$D$9,$P6,$G$4:$G$9)","v":0},{"$f":"SUMIF($B$4:$B$9,$P6,$G$4:$G$9)+SUMIF($D$4:$D$9,$P6,$E$4:$E$9)","v":0},{"$f":"COUNTIFS($B$4:$B$9,$P6,$H$4:$H$9,\"=3\")+COUNTIFS($D$4:$D$9,$P6,$I$4:$I$9,\"=3\")","v":0},{"$f":"$Q6*FactorPts+(GDzero+$R6)*FactorGD+$S6*FactorFor+$U6*FactorWins+$W6*FactorDirC3+$X6*FactorDirC2+$Y6*FactorDirC43+$Z6*FactorDirC42+$AA6*FactorDirC42+$AB6*FactorFairPlay+$AE6*FactorPenalty+(100-$AF6)*($M$10>0)*FactorRank+(8-ROW())*FactorRow","v":{"v":50000.00000002,"d":"50,000.0000000"}},0,{"$f":"IF($L20=\"\",0,$L20)+SUMIFS($Z$18:$Z$35,$P$18:$P$35,$P6)","v":0},0,0,{"$f":"IF($M20=\"\",0,$M20)","v":0},{"$f":"SUMIFS(FairPlayPoints1,FairPlayTeams1,P6)+SUMIFS(FairPlayPoints2,FairPlayTeams2,P6)+SUMIFS(FairPlayPoints3,FairPlayTeams3,P6)","v":0},{"$f":"(Q6+T6>0)","v":false},{"$f":"$Q6*FactorPts+(GDzero+$R6)*FactorGD+$S6*FactorFor","v":{"v":50000,"d":"50,000"}},0,{"$f":"VLOOKUP(P6,Sprache_Tipps!E:F,2,0)","v":50},false]
[null,{"$f":"INDEX(Meine_Tipps!$B$13:$AJ$38,16,1+(CODE($C$1)-65)*3)","v":"Kolumbien"},"-",{"$f":"INDEX(Meine_Tipps!$B$13:$AJ$38,16,2+(CODE($C$1)-65)*3)","v":"DR Kongo"},{"$f":"IF(OR(INDEX(Meine_Tipps!$B$14:$AJ$39,16,1+(CODE($C$1)-65)*3)=\"\",INDEX(Meine_Tipps!$B$14:$AJ$39,16,2+(CODE($C$1)-65)*3)=\"\"),\"\",INDEX(Meine_Tipps!$B$14:$AJ$39,16,1+(CODE($C$1)-65)*3))","v":""},"-",{"$f":"IF(OR(INDEX(Meine_Tipps!$B$14:$AJ$39,16,1+(CODE($C$1)-65)*3)=\"\",INDEX(Meine_Tipps!$B$14:$AJ$39,16,2+(CODE($C$1)-65)*3)=\"\"),\"\",INDEX(Meine_Tipps!$B$14:$AJ$39,16,2+(CODE($C$1)-65)*3))","v":""},0,0,{"$nulls":3},0,null,"4.",{"$f":"VLOOKUP($C$1&ROW($A4),Groups_Tipps!$B$7:$D$65,3,0)","v":"Kolumbien"},0,{"$f":"S7-T7","v":0},{"$f":"SUMIF($B$4:$B$9,$P7,$E$4:$E$9)+SUMIF($D$4:$D$9,$P7,$G$4:$G$9)","v":0},{"$f":"SUMIF($B$4:$B$9,$P7,$G$4:$G$9)+SUMIF($D$4:$D$9,$P7,$E$4:$E$9)","v":0},{"$f":"COUNTIFS($B$4:$B$9,$P7,$H$4:$H$9,\"=3\")+COUNTIFS($D$4:$D$9,$P7,$I$4:$I$9,\"=3\")","v":0},{"$f":"$Q7*FactorPts+(GDzero+$R7)*FactorGD+$S7*FactorFor+$U7*FactorWins+$W7*FactorDirC3+$X7*FactorDirC2+$Y7*FactorDirC43+$Z7*FactorDirC42+$AA7*FactorDirC42+$AB7*FactorFairPlay+$AE7*FactorPenalty+(100-$AF7)*($M$10>0)*FactorRank+(8-ROW())*FactorRow","v":{"v":50000.00000001,"d":"50,000.0000000"}},0,{"$f":"IF($L21=\"\",0,$L21)+SUMIFS($Z$18:$Z$35,$P$18:$P$35,$P7)","v":0},0,0,{"$f":"IF($M21=\"\",0,$M21)","v":0},{"$f":"SUMIFS(FairPlayPoints1,FairPlayTeams1,P7)+SUMIFS(FairPlayPoints2,FairPlayTeams2,P7)+SUMIFS(FairPlayPoints3,FairPlayTeams3,P7)","v":0},{"$f":"(Q7+T7>0)","v":false},{"$f":"$Q7*FactorPts+(GDzero+$R7)*FactorGD+$S7*FactorFor","v":{"v":50000,"d":"50,000"}},0,{"$f":"VLOOKUP(P7,Sprache_Tipps!E:F,2,0)","v":13},false]
[null,{"$f":"INDEX(Meine_Tipps!$B$13:$AJ$38,21,1+(CODE($C$1)-65)*3)","v":"Kolumbien"},"-",{"$f":"INDEX(Meine_Tipps!$B$13:$AJ$38,21,2+(CODE($C$1)-65)*3)","v":"Portugal"},{"$f":"IF(OR(INDEX(Meine_Tipps!$B$14:$AJ$39,21,1+(CODE($C$1)-65)*3)=\"\",INDEX(Meine_Tipps!$B$14:$AJ$39,21,2+(CODE($C$1)-65)*3)=\"\"),\"\",INDEX(Meine_Tipps!$B$14:$AJ$39,21,1+(CODE($C$1)-65)*3))","v":""},"-",{"$f":"IF(OR(INDEX(Meine_Tipps!$B$14:$AJ$39,21,1+(CODE($C$1)-65)*3)=\"\",INDEX(Meine_Tipps!$B$14:$AJ$39,21,2+(CODE($C$1)-65)*3)=\"\"),\"\",INDEX(Meine_Tipps!$B$14:$AJ$39,21,2+(CODE($C$1)-65)*3))","v":""},0,0,{"$nulls":3},0]
[null,{"$f":"INDEX(Meine_Tipps!$B$13:$AJ$38,26,1+(CODE($C$1)-65)*3)","v":"DR Kongo"},"-",{"$f":"INDEX(Meine_Tipps!$B$13:$AJ$38,26,2+(CODE($C$1)-65)*3)","v":"Usbekistan"},{"$f":"IF(OR(INDEX(Meine_Tipps!$B$14:$AJ$39,26,1+(CODE($C$1)-65)*3)=\"\",INDEX(Meine_Tipps!$B$14:$AJ$39,26,2+(CODE($C$1)-65)*3)=\"\"),\"\",INDEX(Meine_Tipps!$B$14:$AJ$39,26,1+(CODE($C$1)-65)*3))","v":""},"-",{"$f":"IF(OR(INDEX(Meine_Tipps!$B$14:$AJ$39,26,1+(CODE($C$1)-65)*3)=\"\",INDEX(Meine_Tipps!$B$14:$AJ$39,26,2+(CODE($C$1)-65)*3)=\"\"),\"\",INDEX(Meine_Tipps!$B$14:$AJ$39,26,2+(CODE($C$1)-65)*3))","v":""},0,0,{"$nulls":3},0,{"$nulls":12},"For showing direct comparisons of 2 on sheet \"Direct comparisons\""]
[{"$nulls":11},"Sum:",{"$f":"SUM($M$4:$M$9)","v":0},null,null,"Sorted list","Points","GD","For","Against","wins","Coefficient","Played","Red dot","Penalty (?)","DC(2) ?","DC(4.2) ?","DC(3.2) ?","DC(4.3.2) ?","All Dir.C. (2)","Penalty"]
[{"$nulls":14},"1.",{"$f":"INDEX(P$4:P$7,MATCH($V11,$V$4:$V$7,0))","v":"Portugal"},0,0,0,0,0,{"$f":"LARGE($V$4:$V$7,ROW(A1))","v":{"v":50000.00000004,"d":"50,000.0000000"}},{"$f":"OR($Q11>0,$T11>0)","v":false},{"$f":"IF(AND(OR(TRUNC($V$11,4)=TRUNC($V$12,4),TRUNC($V$11,4)=TRUNC($V$13,4),TRUNC($V$11,4)=TRUNC($V$14,4),TRUNC($V$12,4)=TRUNC($V$13,4),TRUNC($V$12,4)=TRUNC($V$14,4),TRUNC($V$13,4)=TRUNC($V$14,4)),$M$10>0),1,0)","v":0},{"$f":"IF(AND(VLOOKUP($B$8,$P$4:$AD$7,15,0)=VLOOKUP($D$8,$P$4:$AD$7,15,0),$E$8=$G$8,COUNTIF($Q$4:$Q$7,VLOOKUP($B$8,$P$4:$Q$7,2,0))=2,$M$10=6),1,0)","v":0},{"$f":"VLOOKUP($P11,$E$18:$M$21,8,0)<>\"\"","v":false},{"$f":"VLOOKUP($P11,$E$18:$M$21,9,0)<>\"\"","v":false},{"$f":"SUMPRODUCT(1*(LEN($Z$18:$Z$35)>0)*($P$18:$P$35=$P11))>0","v":false},{"$f":"SUMPRODUCT(1*(LEN($AE$18:$AE$35)>0)*($P$18:$P$35=$P11))>0","v":false},{"$f":"IF($Z11,VLOOKUP($P11,$E$18:$M$21,8,0),IF($AA11,VLOOKUP($P11,$E$18:$M$21,9,0),IF($AB11,SUMIFS($Z$18:$Z$35,$P$18:$P$35,$P11),IF($AC11,SUMIFS($AE$18:$AE$35,$P$18:$P$35,$P11),\"\"))))","v":""},{"$f":"IF(OR(AND($Y$11>0,OR($B$8=$P11,$D$8=$P11)),AND($Y$12>0,OR($B$9=$P11,$D$9=$P11))),SUMIF($B$8:$B$9,$P11,$J$8:$J$9)+SUMIF($D$8:$D$9,$P11,$L$8:$L$9),\"\")","v":""}]
[{"$nulls":14},"2.","DR Kongo",0,0,0,0,0,{"$f":"LARGE($V$4:$V$7,ROW(A2))","v":{"v":50000.00000003,"d":"50,000.0000000"}},{"$f":"OR($Q12>0,$T12>0)","v":false},null,{"$f":"IF(AND(VLOOKUP($B$9,$P$4:$AD$7,15,0)=VLOOKUP($D$9,$P$4:$AD$7,15,0),$E$9=$G$9,COUNTIF($Q$4:$Q$7,VLOOKUP($B$9,$P$4:$Q$7,2,0))=2,$M$10=6),1,0)","v":0},{"$f":"VLOOKUP($P12,$E$18:$M$21,8,0)<>\"\"","v":false},{"$f":"VLOOKUP($P12,$E$18:$M$21,9,0)<>\"\"","v":false},{"$f":"SUMPRODUCT(1*(LEN($Z$18:$Z$35)>0)*($P$18:$P$35=$P12))>0","v":false},{"$f":"SUMPRODUCT(1*(LEN($AE$18:$AE$35)>0)*($P$18:$P$35=$P12))>0","v":false},{"$f":"IF($Z12,VLOOKUP($P12,$E$18:$M$21,8,0),IF($AA12,VLOOKUP($P12,$E$18:$M$21,9,0),IF($AB12,SUMIFS($Z$18:$Z$35,$P$18:$P$35,$P12),IF($AC12,SUMIFS($AE$18:$AE$35,$P$18:$P$35,$P12),\"\"))))","v":""},{"$f":"IF(OR(AND($Y$11>0,OR($B$8=$P12,$D$8=$P12)),AND($Y$12>0,OR($B$9=$P12,$D$9=$P12))),SUMIF($B$8:$B$9,$P12,$J$8:$J$9)+SUMIF($D$8:$D$9,$P12,$L$8:$L$9),\"\")","v":""}]
[{"$nulls":14},"3.","Usbekistan",0,0,0,0,0,{"$f":"LARGE($V$4:$V$7,ROW(A3))","v":{"v":50000.00000002,"d":"50,000.0000000"}},false,null,null,{"$f":"VLOOKUP($P13,$E$18:$M$21,8,0)<>\"\"","v":false},{"$f":"VLOOKUP($P13,$E$18:$M$21,9,0)<>\"\"","v":false},false,false,{"$f":"IF($Z13,VLOOKUP($P13,$E$18:$M$21,8,0),IF($AA13,VLOOKUP($P13,$E$18:$M$21,9,0),IF($AB13,SUMIFS($Z$18:$Z$35,$P$18:$P$35,$P13),IF($AC13,SUMIFS($AE$18:$AE$35,$P$18:$P$35,$P13),\"\"))))","v":""},{"$f":"IF(OR(AND($Y$11>0,OR($B$8=$P13,$D$8=$P13)),AND($Y$12>0,OR($B$9=$P13,$D$9=$P13))),SUMIF($B$8:$B$9,$P13,$J$8:$J$9)+SUMIF($D$8:$D$9,$P13,$L$8:$L$9),\"\")","v":""}]
[{"$nulls":14},"4.","Kolumbien",0,0,0,0,0,{"$f":"LARGE($V$4:$V$7,ROW(A4))","v":{"v":50000.00000001,"d":"50,000.0000000"}},false,null,null,{"$f":"VLOOKUP($P14,$E$18:$M$21,8,0)<>\"\"","v":false},{"$f":"VLOOKUP($P14,$E$18:$M$21,9,0)<>\"\"","v":false},false,false,{"$f":"IF($Z14,VLOOKUP($P14,$E$18:$M$21,8,0),IF($AA14,VLOOKUP($P14,$E$18:$M$21,9,0),IF($AB14,SUMIFS($Z$18:$Z$35,$P$18:$P$35,$P14),IF($AC14,SUMIFS($AE$18:$AE$35,$P$18:$P$35,$P14),\"\"))))","v":""},{"$f":"IF(OR(AND($Y$11>0,OR($B$8=$P14,$D$8=$P14)),AND($Y$12>0,OR($B$9=$P14,$D$9=$P14))),SUMIF($B$8:$B$9,$P14,$J$8:$J$9)+SUMIF($D$8:$D$9,$P14,$L$8:$L$9),\"\")","v":""}]
[]
[{"$nulls":6},"Direct Comparison of 2",{"$nulls":15},"Direct Comparison of 3",{"$nulls":6},"Direct Comparison of 4",null,{"$f":"AND($Q$4=$Q$5,$Q$4=$Q$6,$Q$4=$Q$7)","v":true}]
[{"$nulls":7},{"$f":"LEFT($P$4,3)","v":"Por"},{"$f":"LEFT($P$5,3)","v":"DR "},{"$f":"LEFT($P$6,3)","v":"Usb"},{"$f":"LEFT($P$7,3)","v":"Kol"},"DC(2)","DC(4.2)",{"$nulls":3},"Points","GD","For","Against",null,"Pts/GD/For","Rank Col. V","DC(3)","DC(3.2)","DC(3.2)","Results of direct encounters",null,null,"DC(4.3)","DC(4.3.2)"]
[{"$nulls":4},{"$f":"$P$4","v":"Portugal"},{"$nulls":3},{"$f":"SUMIFS($E$4:$E$9,$B$4:$B$9,$P$4,$D$4:$D$9,$P$5)+SUMIFS($G$4:$G$9,$B$4:$B$9,$P$5,$D$4:$D$9,$P$4)","v":0},{"$f":"SUMIFS($E$4:$E$9,$B$4:$B$9,$P$4,$D$4:$D$9,$P$6)+SUMIFS($G$4:$G$9,$B$4:$B$9,$P$6,$D$4:$D$9,$P$4)","v":0},{"$f":"SUMIFS($E$4:$E$9,$B$4:$B$9,$P$4,$D$4:$D$9,$P$7)+SUMIFS($G$4:$G$9,$B$4:$B$9,$P$7,$D$4:$D$9,$P$4)","v":0},{"$f":"IF(AND($Q$4=$Q$5,$Q$4<>$Q$6,$Q$4<>$Q$7),IF(I18>H19,3,IF(I18=H19,1,0)),IF(AND($Q$4=$Q$6,$Q$4<>$Q$5,$Q$4<>$Q$7),IF(J18>H20,3,IF(J18=H20,1,0)),IF(AND($Q$4=$Q$7,$Q$4<>$Q$5,$Q$4<>$Q$6),IF(K18>H21,3,IF(K18=H21,1,0)),\"\")))","v":""},{"$f":"IF($AF$16,IF(AND($AD$4=$AD$5,$AD$4<>$AD$6,$AD$4<>$AD$7),IF(I18>H19,3,IF(I18=H19,1,0)),IF(AND($AD$4<>$AD$5,$AD$4=$AD$6,$AD$4<>$AD$7),IF(J18>H20,3,IF(J18=H20,1,0)),IF(AND($AD$4<>$AD$5,$AD$4<>$AD$6,$AD$4=$AD$7),IF(K18>H21,3,IF(K18=H21,1,0)),\"\"))),\"\")","v":""},null,"1.",{"$f":"$P$4","v":"Portugal"},{"$f":"SUMIFS($H$4:$H$9,$B$4:$B$9,$P18,$D$4:$D$9,\"<>\"&$P$21)+SUMIFS($I$4:$I$9,$B$4:$B$9,\"<>\"&$P$21,$D$4:$D$9,$P18)","v":0},{"$f":"S18-T18","v":0},{"$f":"SUMIFS($E$4:$E$9,$B$4:$B$9,$P18,$D$4:$D$9,\"<>\"&$P$21)+SUMIFS($G$4:$G$9,$B$4:$B$9,\"<>\"&$P$21,$D$4:$D$9,$P18)","v":0},{"$f":"SUMIFS($G$4:$G$9,$B$4:$B$9,$P18,$D$4:$D$9,\"<>\"&$P$21)+SUMIFS($E$4:$E$9,$B$4:$B$9,\"<>\"&$P$21,$D$4:$D$9,$P18)","v":0},null,{"$f":"Q18*FactorPts+(GDzero+R18)*FactorGD+S18*FactorFor","v":{"v":50000,"d":"50,000"}},{"$f":"RANK(V18,V$18:V$20,1)","v":1},{"$f":"IF(AND($Q$4=$Q$5,$Q$4=$Q$6,$Q$4<>$Q$7),W18,0)","v":0},{"$f":"IF(AND(V18=V19,V18<>V20),IF(AA18>AA19,3,IF(AA18=AA19,1,0)),IF(AND(V18=V20,V18<>V19),IF(AB18>AB20,3,IF(AB18=AB20,1,0)),\"\"))","v":""},{"$f":"IF(X18>0,Y18,\"\")","v":""},{"$f":"$I$18","v":0},{"$f":"$J$18","v":0},null,{"$f":"IF(AND($AF$16,$AD$4=$AD$5,$AD$4=$AD$6,$AD$4<>$AD$7),W18,0)","v":0},{"$f":"IF(AD18>0,Y18,\"\")","v":""}]
[{"$nulls":4},{"$f":"$P$5","v":"DR Kongo"},null,null,{"$f":"SUMIFS($E$4:$E$9,$B$4:$B$9,$P$5,$D$4:$D$9,$P$4)+SUMIFS($G$4:$G$9,$B$4:$B$9,$P$4,$D$4:$D$9,$P$5)","v":0},null,{"$f":"SUMIFS($E$4:$E$9,$B$4:$B$9,$P$5,$D$4:$D$9,$P$6)+SUMIFS($G$4:$G$9,$B$4:$B$9,$P$6,$D$4:$D$9,$P$5)","v":0},{"$f":"SUMIFS($E$4:$E$9,$B$4:$B$9,$P$5,$D$4:$D$9,$P$7)+SUMIFS($G$4:$G$9,$B$4:$B$9,$P$7,$D$4:$D$9,$P$5)","v":0},{"$f":"IF(AND($Q$5=$Q$4,$Q$5<>$Q$6,$Q$5<>$Q$7),IF(H19>I18,3,IF(H19=I18,1,0)),IF(AND($Q$5=$Q$6,$Q$5<>$Q$4,$Q$5<>$Q$7),IF(J19>I20,3,IF(J19=I20,1,0)),IF(AND($Q$5=$Q$7,$Q$5<>$Q$4,$Q$5<>$Q$6),IF(K19>I21,3,IF(K19=I21,1,0)),\"\")))","v":""},{"$f":"IF($AF$16,IF(AND($AD$5=$AD$4,$AD$5<>$AD$6,$AD$5<>$AD$7),IF(H19>I18,3,IF(H19=I18,1,0)),IF(AND($AD$5<>$AD$4,$AD$5=$AD$6,$AD$5<>$AD$7),IF(J19>I20,3,IF(J19=I20,1,0)),IF(AND($AD$5<>$AD$4,$AD$5<>$AD$6,$AD$5=$AD$7),IF(K19>I21,3,IF(K19=I21,1,0)),\"\"))),\"\")","v":""},null,"2.",{"$f":"$P$5","v":"DR Kongo"},{"$f":"SUMIFS($H$4:$H$9,$B$4:$B$9,$P19,$D$4:$D$9,\"<>\"&$P$21)+SUMIFS($I$4:$I$9,$B$4:$B$9,\"<>\"&$P$21,$D$4:$D$9,$P19)","v":0},{"$f":"S19-T19","v":0},{"$f":"SUMIFS($E$4:$E$9,$B$4:$B$9,$P19,$D$4:$D$9,\"<>\"&$P$21)+SUMIFS($G$4:$G$9,$B$4:$B$9,\"<>\"&$P$21,$D$4:$D$9,$P19)","v":0},{"$f":"SUMIFS($G$4:$G$9,$B$4:$B$9,$P19,$D$4:$D$9,\"<>\"&$P$21)+SUMIFS($E$4:$E$9,$B$4:$B$9,\"<>\"&$P$21,$D$4:$D$9,$P19)","v":0},null,{"$f":"Q19*FactorPts+(GDzero+R19)*FactorGD+S19*FactorFor","v":{"v":50000,"d":"50,000"}},{"$f":"RANK(V19,V$18:V$20,1)","v":1},{"$f":"IF(AND($Q$4=$Q$5,$Q$4=$Q$6,$Q$4<>$Q$7),W19,0)","v":0},{"$f":"IF(AND(V19=V18,V19<>V20),IF(AA19>AA18,3,IF(AA19=AA18,1,0)),IF(AND(V19=V20,V19<>V18),IF(AC19>AC20,3,IF(AC19=AC20,1,0)),\"\"))","v":""},{"$f":"IF(X19>0,Y19,\"\")","v":""},{"$f":"$H$19","v":0},null,{"$f":"$J$19","v":0},{"$f":"IF(AND($AF$16,$AD$4=$AD$5,$AD$4=$AD$6,$AD$4<>$AD$7),W19,0)","v":0},{"$f":"IF(AD19>0,Y19,\"\")","v":""}]
[{"$nulls":4},{"$f":"$P$6","v":"Usbekistan"},null,null,{"$f":"SUMIFS($E$4:$E$9,$B$4:$B$9,$P$6,$D$4:$D$9,$P$4)+SUMIFS($G$4:$G$9,$B$4:$B$9,$P$4,$D$4:$D$9,$P$6)","v":0},{"$f":"SUMIFS($E$4:$E$9,$B$4:$B$9,$P$6,$D$4:$D$9,$P$5)+SUMIFS($G$4:$G$9,$B$4:$B$9,$P$5,$D$4:$D$9,$P$6)","v":0},null,{"$f":"SUMIFS($E$4:$E$9,$B$4:$B$9,$P$6,$D$4:$D$9,$P$7)+SUMIFS($G$4:$G$9,$B$4:$B$9,$P$7,$D$4:$D$9,$P$6)","v":0},{"$f":"IF(AND($Q$6=$Q$4,$Q$6<>$Q$5,$Q$6<>$Q$7),IF(H20>J18,3,IF(H20=J18,1,0)),IF(AND($Q$6=$Q$5,$Q$6<>$Q$4,$Q$6<>$Q$7),IF(I20>J19,3,IF(I20=J19,1,0)),IF(AND($Q$6=$Q$7,$Q$6<>$Q$4,$Q$6<>$Q$5),IF(K20>J21,3,IF(K20=J21,1,0)),\"\")))","v":""},{"$f":"IF($AF$16,IF(AND($AD$6=$AD$4,$AD$6<>$AD$5,$AD$6<>$AD$7),IF(H20>J18,3,IF(H20=J18,1,0)),IF(AND($AD$6<>$AD$4,$AD$6=$AD$5,$AD$6<>$AD$7),IF(I20>J19,3,IF(I20=J19,1,0)),IF(AND($AD$6<>$AD$4,$AD$6<>$AD$5,$AD$6=$AD$7),IF(K20>J21,3,IF(K20=J21,1,0)),\"\"))),\"\")","v":""},null,"3.",{"$f":"$P$6","v":"Usbekistan"},{"$f":"SUMIFS($H$4:$H$9,$B$4:$B$9,$P20,$D$4:$D$9,\"<>\"&$P$21)+SUMIFS($I$4:$I$9,$B$4:$B$9,\"<>\"&$P$21,$D$4:$D$9,$P20)","v":0},{"$f":"S20-T20","v":0},{"$f":"SUMIFS($E$4:$E$9,$B$4:$B$9,$P20,$D$4:$D$9,\"<>\"&$P$21)+SUMIFS($G$4:$G$9,$B$4:$B$9,\"<>\"&$P$21,$D$4:$D$9,$P20)","v":0},{"$f":"SUMIFS($G$4:$G$9,$B$4:$B$9,$P20,$D$4:$D$9,\"<>\"&$P$21)+SUMIFS($E$4:$E$9,$B$4:$B$9,\"<>\"&$P$21,$D$4:$D$9,$P20)","v":0},null,{"$f":"Q20*FactorPts+(GDzero+R20)*FactorGD+S20*FactorFor","v":{"v":50000,"d":"50,000"}},{"$f":"RANK(V20,V$18:V$20,1)","v":1},{"$f":"IF(AND($Q$4=$Q$5,$Q$4=$Q$6,$Q$4<>$Q$7),W20,0)","v":0},{"$f":"IF(AND(V20=V18,V20<>V19),IF(AB20>AB18,3,IF(AB20=AB18,1,0)),IF(AND(V20=V19,V20<>V18),IF(AC20>AC19,3,IF(AC20=AC19,1,0)),\"\"))","v":""},"",null,{"$f":"$H$20","v":0},{"$f":"$I$20","v":0},{"$f":"IF(AND($AF$16,$AD$4=$AD$5,$AD$4=$AD$6,$AD$4<>$AD$7),W20,0)","v":0},""]
[{"$nulls":4},{"$f":"$P$7","v":"Kolumbien"},null,null,{"$f":"SUMIFS($E$4:$E$9,$B$4:$B$9,$P$7,$D$4:$D$9,$P$4)+SUMIFS($G$4:$G$9,$B$4:$B$9,$P$4,$D$4:$D$9,$P$7)","v":0},{"$f":"SUMIFS($E$4:$E$9,$B$4:$B$9,$P$7,$D$4:$D$9,$P$5)+SUMIFS($G$4:$G$9,$B$4:$B$9,$P$5,$D$4:$D$9,$P$7)","v":0},{"$f":"SUMIFS($E$4:$E$9,$B$4:$B$9,$P$7,$D$4:$D$9,$P$6)+SUMIFS($G$4:$G$9,$B$4:$B$9,$P$6,$D$4:$D$9,$P$7)","v":0},null,{"$f":"IF(AND($Q$7=$Q$4,$Q$7<>$Q$5,$Q$7<>$Q$6),IF(H21>K18,3,IF(H21=K18,1,0)),IF(AND($Q$7=$Q$5,$Q$7<>$Q$4,$Q$7<>$Q$6),IF(I21>K19,3,IF(I21=K19,1,0)),IF(AND($Q$7=$Q$6,$Q$7<>$Q$4,$Q$7<>$Q$5),IF(J21>K20,3,IF(J21=K20,1,0)),\"\")))","v":""},{"$f":"IF($AF$16,IF(AND($AD$7=$AD$4,$AD$7<>$AD$5,$AD$7<>$AD$6),IF(H21>K18,3,IF(H21=K18,1,0)),IF(AND($AD$7<>$AD$4,$AD$7=$AD$5,$AD$7<>$AD$6),IF(I21>K19,3,IF(I21=K19,1,0)),IF(AND($AD$7<>$AD$4,$AD$7<>$AD$5,$AD$7=$AD$6),IF(J21>K20,3,IF(J21=K20,1,0)),\"\"))),\"\")","v":""},null,null,{"$f":"$P$7","v":"Kolumbien"}]
[]
[{"$nulls":14},"1.",{"$f":"$P$4","v":"Portugal"},{"$f":"SUMIFS($H$4:$H$9,$B$4:$B$9,$P23,$D$4:$D$9,\"<>\"&$P$26)+SUMIFS($I$4:$I$9,$B$4:$B$9,\"<>\"&$P$26,$D$4:$D$9,$P23)","v":0},{"$f":"S23-T23","v":0},{"$f":"SUMIFS($E$4:$E$9,$B$4:$B$9,$P23,$D$4:$D$9,\"<>\"&$P$26)+SUMIFS($G$4:$G$9,$B$4:$B$9,\"<>\"&$P$26,$D$4:$D$9,$P23)","v":0},{"$f":"SUMIFS($G$4:$G$9,$B$4:$B$9,$P23,$D$4:$D$9,\"<>\"&$P$26)+SUMIFS($E$4:$E$9,$B$4:$B$9,\"<>\"&$P$26,$D$4:$D$9,$P23)","v":0},null,{"$f":"Q23*FactorPts+(GDzero+R23)*FactorGD+S23*FactorFor","v":{"v":50000,"d":"50,000"}},{"$f":"RANK(V23,V$23:V$25,1)","v":1},{"$f":"IF(AND($Q$4=$Q$5,$Q$4=$Q$7,$Q$4<>$Q$6),W23,0)","v":0},{"$f":"IF(AND(V23=V24,V23<>V25),IF(AA23>AA24,3,IF(AA23=AA24,1,0)),IF(AND(V23=V25,V23<>V24),IF(AB23>AB25,3,IF(AB23=AB25,1,0)),\"\"))","v":""},{"$f":"IF(X23>0,Y23,\"\")","v":""},{"$f":"$I$18","v":0},{"$f":"$K$18","v":0},null,{"$f":"IF(AND($AF$16,$AD$4=$AD$5,$AD$4=$AD$7,$AD$4<>$AD$6),W23,0)","v":0},{"$f":"IF(AD23>0,Y23,\"\")","v":""}]
[{"$nulls":14},"2.",{"$f":"$P$5","v":"DR Kongo"},{"$f":"SUMIFS($H$4:$H$9,$B$4:$B$9,$P24,$D$4:$D$9,\"<>\"&$P$26)+SUMIFS($I$4:$I$9,$B$4:$B$9,\"<>\"&$P$26,$D$4:$D$9,$P24)","v":0},{"$f":"S24-T24","v":0},{"$f":"SUMIFS($E$4:$E$9,$B$4:$B$9,$P24,$D$4:$D$9,\"<>\"&$P$26)+SUMIFS($G$4:$G$9,$B$4:$B$9,\"<>\"&$P$26,$D$4:$D$9,$P24)","v":0},{"$f":"SUMIFS($G$4:$G$9,$B$4:$B$9,$P24,$D$4:$D$9,\"<>\"&$P$26)+SUMIFS($E$4:$E$9,$B$4:$B$9,\"<>\"&$P$26,$D$4:$D$9,$P24)","v":0},null,{"$f":"Q24*FactorPts+(GDzero+R24)*FactorGD+S24*FactorFor","v":{"v":50000,"d":"50,000"}},{"$f":"RANK(V24,V$23:V$25,1)","v":1},{"$f":"IF(AND($Q$4=$Q$5,$Q$4=$Q$7,$Q$4<>$Q$6),W24,0)","v":0},{"$f":"IF(AND(V24=V23,V24<>V25),IF(AA24>AA23,3,IF(AA24=AA23,1,0)),IF(AND(V24=V25,V24<>V23),IF(AC24>AC25,3,IF(AC24=AC25,1,0)),\"\"))","v":""},{"$f":"IF(X24>0,Y24,\"\")","v":""},{"$f":"$H$19","v":0},null,{"$f":"$K$19","v":0},{"$f":"IF(AND($AF$16,$AD$4=$AD$5,$AD$4=$AD$7,$AD$4<>$AD$6),W24,0)","v":0},{"$f":"IF(AD24>0,Y24,\"\")","v":""}]
[{"$nulls":14},"3.",{"$f":"$P$7","v":"Kolumbien"},{"$f":"SUMIFS($H$4:$H$9,$B$4:$B$9,$P25,$D$4:$D$9,\"<>\"&$P$26)+SUMIFS($I$4:$I$9,$B$4:$B$9,\"<>\"&$P$26,$D$4:$D$9,$P25)","v":0},{"$f":"S25-T25","v":0},{"$f":"SUMIFS($E$4:$E$9,$B$4:$B$9,$P25,$D$4:$D$9,\"<>\"&$P$26)+SUMIFS($G$4:$G$9,$B$4:$B$9,\"<>\"&$P$26,$D$4:$D$9,$P25)","v":0},{"$f":"SUMIFS($G$4:$G$9,$B$4:$B$9,$P25,$D$4:$D$9,\"<>\"&$P$26)+SUMIFS($E$4:$E$9,$B$4:$B$9,\"<>\"&$P$26,$D$4:$D$9,$P25)","v":0},null,{"$f":"Q25*FactorPts+(GDzero+R25)*FactorGD+S25*FactorFor","v":{"v":50000,"d":"50,000"}},{"$f":"RANK(V25,V$23:V$25,1)","v":1},{"$f":"IF(AND($Q$4=$Q$5,$Q$4=$Q$7,$Q$4<>$Q$6),W25,0)","v":0},{"$f":"IF(AND(V25=V23,V25<>V24),IF(AB25>AB23,3,IF(AB25=AB23,1,0)),IF(AND(V25=V24,V25<>V23),IF(AC25>AC24,3,IF(AC25=AC24,1,0)),\"\"))","v":""},"",null,{"$f":"$H$21","v":0},{"$f":"$I$21","v":0},{"$f":"IF(AND($AF$16,$AD$4=$AD$5,$AD$4=$AD$7,$AD$4<>$AD$6),W25,0)","v":0},""]
[{"$nulls":15},{"$f":"$P$6","v":"Usbekistan"}]
[]
[{"$nulls":14},"1.",{"$f":"$P$4","v":"Portugal"},{"$f":"SUMIFS($H$4:$H$9,$B$4:$B$9,$P28,$D$4:$D$9,\"<>\"&$P$31)+SUMIFS($I$4:$I$9,$B$4:$B$9,\"<>\"&$P$31,$D$4:$D$9,$P28)","v":0},{"$f":"S28-T28","v":0},{"$f":"SUMIFS($E$4:$E$9,$B$4:$B$9,$P28,$D$4:$D$9,\"<>\"&$P$31)+SUMIFS($G$4:$G$9,$B$4:$B$9,\"<>\"&$P$31,$D$4:$D$9,$P28)","v":0},{"$f":"SUMIFS($G$4:$G$9,$B$4:$B$9,$P28,$D$4:$D$9,\"<>\"&$P$31)+SUMIFS($E$4:$E$9,$B$4:$B$9,\"<>\"&$P$31,$D$4:$D$9,$P28)","v":0},null,{"$f":"Q28*FactorPts+(GDzero+R28)*FactorGD+S28*FactorFor","v":{"v":50000,"d":"50,000"}},{"$f":"RANK(V28,V$28:V$30,1)","v":1},{"$f":"IF(AND($Q$4=$Q$6,$Q$4=$Q$7,$Q$4<>$Q$5),W28,0)","v":0},{"$f":"IF(AND(V28=V29,V28<>V30),IF(AA28>AA29,3,IF(AA28=AA29,1,0)),IF(AND(V28=V30,V28<>V29),IF(AB28>AB30,3,IF(AB28=AB30,1,0)),\"\"))","v":""},{"$f":"IF(X28>0,Y28,\"\")","v":""},{"$f":"$J$18","v":0},{"$f":"$K$18","v":0},null,{"$f":"IF(AND($AF$16,$AD$4=$AD$6,$AD$4=$AD$7,$AD$4<>$AD$5),W28,0)","v":0},{"$f":"IF(AD28>0,Y28,\"\")","v":""}]
[{"$nulls":14},"2.",{"$f":"$P$6","v":"Usbekistan"},{"$f":"SUMIFS($H$4:$H$9,$B$4:$B$9,$P29,$D$4:$D$9,\"<>\"&$P$31)+SUMIFS($I$4:$I$9,$B$4:$B$9,\"<>\"&$P$31,$D$4:$D$9,$P29)","v":0},{"$f":"S29-T29","v":0},{"$f":"SUMIFS($E$4:$E$9,$B$4:$B$9,$P29,$D$4:$D$9,\"<>\"&$P$31)+SUMIFS($G$4:$G$9,$B$4:$B$9,\"<>\"&$P$31,$D$4:$D$9,$P29)","v":0},{"$f":"SUMIFS($G$4:$G$9,$B$4:$B$9,$P29,$D$4:$D$9,\"<>\"&$P$31)+SUMIFS($E$4:$E$9,$B$4:$B$9,\"<>\"&$P$31,$D$4:$D$9,$P29)","v":0},null,{"$f":"Q29*FactorPts+(GDzero+R29)*FactorGD+S29*FactorFor","v":{"v":50000,"d":"50,000"}},{"$f":"RANK(V29,V$28:V$30,1)","v":1},{"$f":"IF(AND($Q$4=$Q$6,$Q$4=$Q$7,$Q$4<>$Q$5),W29,0)","v":0},{"$f":"IF(AND(V29=V28,V29<>V30),IF(AA29>AA28,3,IF(AA29=AA28,1,0)),IF(AND(V29=V30,V29<>V28),IF(AC29>AC30,3,IF(AC29=AC30,1,0)),\"\"))","v":""},{"$f":"IF(X29>0,Y29,\"\")","v":""},{"$f":"$H$20","v":0},null,{"$f":"$K$20","v":0},{"$f":"IF(AND($AF$16,$AD$4=$AD$6,$AD$4=$AD$7,$AD$4<>$AD$5),W29,0)","v":0},{"$f":"IF(AD29>0,Y29,\"\")","v":""}]
[{"$nulls":14},"3.",{"$f":"$P$7","v":"Kolumbien"},{"$f":"SUMIFS($H$4:$H$9,$B$4:$B$9,$P30,$D$4:$D$9,\"<>\"&$P$31)+SUMIFS($I$4:$I$9,$B$4:$B$9,\"<>\"&$P$31,$D$4:$D$9,$P30)","v":0},{"$f":"S30-T30","v":0},{"$f":"SUMIFS($E$4:$E$9,$B$4:$B$9,$P30,$D$4:$D$9,\"<>\"&$P$31)+SUMIFS($G$4:$G$9,$B$4:$B$9,\"<>\"&$P$31,$D$4:$D$9,$P30)","v":0},{"$f":"SUMIFS($G$4:$G$9,$B$4:$B$9,$P30,$D$4:$D$9,\"<>\"&$P$31)+SUMIFS($E$4:$E$9,$B$4:$B$9,\"<>\"&$P$31,$D$4:$D$9,$P30)","v":0},null,{"$f":"Q30*FactorPts+(GDzero+R30)*FactorGD+S30*FactorFor","v":{"v":50000,"d":"50,000"}},1,{"$f":"IF(AND($Q$4=$Q$6,$Q$4=$Q$7,$Q$4<>$Q$5),W30,0)","v":0},{"$f":"IF(AND(V30=V28,V30<>V29),IF(AB30>AB28,3,IF(AB30=AB28,1,0)),IF(AND(V30=V29,V30<>V28),IF(AC30>AC29,3,IF(AC30=AC29,1,0)),\"\"))","v":""},"",null,{"$f":"$H$21","v":0},{"$f":"$J$21","v":0},{"$f":"IF(AND($AF$16,$AD$4=$AD$6,$AD$4=$AD$7,$AD$4<>$AD$5),W30,0)","v":0},""]
[{"$nulls":15},{"$f":"$P$5","v":"DR Kongo"}]
[]
[{"$nulls":14},"1.",{"$f":"$P$5","v":"DR Kongo"},{"$f":"SUMIFS($H$4:$H$9,$B$4:$B$9,$P33,$D$4:$D$9,\"<>\"&$P$36)+SUMIFS($I$4:$I$9,$B$4:$B$9,\"<>\"&$P$36,$D$4:$D$9,$P33)","v":0},{"$f":"S33-T33","v":0},{"$f":"SUMIFS($E$4:$E$9,$B$4:$B$9,$P33,$D$4:$D$9,\"<>\"&$P$36)+SUMIFS($G$4:$G$9,$B$4:$B$9,\"<>\"&$P$36,$D$4:$D$9,$P33)","v":0},{"$f":"SUMIFS($G$4:$G$9,$B$4:$B$9,$P33,$D$4:$D$9,\"<>\"&$P$36)+SUMIFS($E$4:$E$9,$B$4:$B$9,\"<>\"&$P$36,$D$4:$D$9,$P33)","v":0},null,{"$f":"Q33*FactorPts+(GDzero+R33)*FactorGD+S33*FactorFor","v":{"v":50000,"d":"50,000"}},{"$f":"RANK(V33,V$33:V$35,1)","v":1},{"$f":"IF(AND($Q$5=$Q$6,$Q$5=$Q$7,$Q$5<>$Q$4),W33,0)","v":0},{"$f":"IF(AND(V33=V34,V33<>V35),IF(AA33>AA34,3,IF(AA33=AA34,1,0)),IF(AND(V33=V35,V33<>V34),IF(AB33>AB35,3,IF(AB33=AB35,1,0)),\"\"))","v":""},{"$f":"IF(X33>0,Y33,\"\")","v":""},{"$f":"$J$19","v":0},{"$f":"$K$19","v":0},null,{"$f":"IF(AND($AF$16,$AD$5=$AD$6,$AD$5=$AD$7,$AD$5<>$AD$4),W33,0)","v":0},{"$f":"IF(AD33>0,Y33,\"\")","v":""}]
[{"$nulls":14},"2.",{"$f":"$P$6","v":"Usbekistan"},{"$f":"SUMIFS($H$4:$H$9,$B$4:$B$9,$P34,$D$4:$D$9,\"<>\"&$P$36)+SUMIFS($I$4:$I$9,$B$4:$B$9,\"<>\"&$P$36,$D$4:$D$9,$P34)","v":0},{"$f":"S34-T34","v":0},{"$f":"SUMIFS($E$4:$E$9,$B$4:$B$9,$P34,$D$4:$D$9,\"<>\"&$P$36)+SUMIFS($G$4:$G$9,$B$4:$B$9,\"<>\"&$P$36,$D$4:$D$9,$P34)","v":0},{"$f":"SUMIFS($G$4:$G$9,$B$4:$B$9,$P34,$D$4:$D$9,\"<>\"&$P$36)+SUMIFS($E$4:$E$9,$B$4:$B$9,\"<>\"&$P$36,$D$4:$D$9,$P34)","v":0},null,{"$f":"Q34*FactorPts+(GDzero+R34)*FactorGD+S34*FactorFor","v":{"v":50000,"d":"50,000"}},{"$f":"RANK(V34,V$33:V$35,1)","v":1},{"$f":"IF(AND($Q$5=$Q$6,$Q$5=$Q$7,$Q$5<>$Q$4),W34,0)","v":0},{"$f":"IF(AND(V34=V33,V34<>V35),IF(AA34>AA33,3,IF(AA34=AA33,1,0)),IF(AND(V34=V35,V34<>V33),IF(AC34>AC35,3,IF(AC34=AC35,1,0)),\"\"))","v":""},{"$f":"IF(X34>0,Y34,\"\")","v":""},{"$f":"$I$20","v":0},null,{"$f":"$K$20","v":0},{"$f":"IF(AND($AF$16,$AD$5=$AD$6,$AD$5=$AD$7,$AD$5<>$AD$4),W34,0)","v":0},{"$f":"IF(AD34>0,Y34,\"\")","v":""}]
[{"$nulls":14},"3.",{"$f":"$P$7","v":"Kolumbien"},{"$f":"SUMIFS($H$4:$H$9,$B$4:$B$9,$P35,$D$4:$D$9,\"<>\"&$P$36)+SUMIFS($I$4:$I$9,$B$4:$B$9,\"<>\"&$P$36,$D$4:$D$9,$P35)","v":0},{"$f":"S35-T35","v":0},{"$f":"SUMIFS($E$4:$E$9,$B$4:$B$9,$P35,$D$4:$D$9,\"<>\"&$P$36)+SUMIFS($G$4:$G$9,$B$4:$B$9,\"<>\"&$P$36,$D$4:$D$9,$P35)","v":0},{"$f":"SUMIFS($G$4:$G$9,$B$4:$B$9,$P35,$D$4:$D$9,\"<>\"&$P$36)+SUMIFS($E$4:$E$9,$B$4:$B$9,\"<>\"&$P$36,$D$4:$D$9,$P35)","v":0},null,{"$f":"Q35*FactorPts+(GDzero+R35)*FactorGD+S35*FactorFor","v":{"v":50000,"d":"50,000"}},{"$f":"RANK(V35,V$33:V$35,1)","v":1},{"$f":"IF(AND($Q$5=$Q$6,$Q$5=$Q$7,$Q$5<>$Q$4),W35,0)","v":0},{"$f":"IF(AND(V35=V33,V35<>V34),IF(AB35>AB33,3,IF(AB35=AB33,1,0)),IF(AND(V35=V34,V35<>V33),IF(AC35>AC34,3,IF(AC35=AC34,1,0)),\"\"))","v":""},"",null,{"$f":"$I$21","v":0},{"$f":"$J$21","v":0},{"$f":"IF(AND($AF$16,$AD$5=$AD$6,$AD$5=$AD$7,$AD$5<>$AD$4),W35,0)","v":0},""]
[{"$nulls":15},{"$f":"$P$4","v":"Portugal"}]

{"sheet":"GrpL_Tipps","index":26,"n_rows":36,"n_cols":33,"rows_kept":36,"hidden":true,"merged":[[2,1,2,3],[2,4,2,6],[2,7,2,8],[2,9,2,11],[8,25,8,30],[15,6,15,11],[15,22,15,25],[15,29,15,30],[16,26,16,28],[17,4,17,6],[18,4,18,6],[19,4,19,6],[20,4,20,6]]}
[null,"Group","L","Tipps"]
[]
[null,"Match",null,null,"Score",null,null,"Points",null,"Penalty",null,null,"valid",{"$nulls":3},"Points","GD","For","Against","Wins","Coefficient","Dir. Comp. (3)","Dir. Comp. (2)","Dir. Comp. (4.3)","Dir. Comp. (4.3.2)","Dir. Comp. (4.2)","Fair play","match count > 0","Pts/GD/For","Penalty","Ranking","Played"]
[null,{"$f":"INDEX(Meine_Tipps!$B$13:$AJ$38,1,1+(CODE($C$1)-65)*3)","v":"Ghana"},"-",{"$f":"INDEX(Meine_Tipps!$B$13:$AJ$38,1,2+(CODE($C$1)-65)*3)","v":"Panama"},{"$f":"IF(OR(INDEX(Meine_Tipps!$B$14:$AJ$39,1,1+(CODE($C$1)-65)*3)=\"\",INDEX(Meine_Tipps!$B$14:$AJ$39,1,2+(CODE($C$1)-65)*3)=\"\"),\"\",INDEX(Meine_Tipps!$B$14:$AJ$39,1,1+(CODE($C$1)-65)*3))","v":""},"-",{"$f":"IF(OR(INDEX(Meine_Tipps!$B$14:$AJ$39,1,1+(CODE($C$1)-65)*3)=\"\",INDEX(Meine_Tipps!$B$14:$AJ$39,1,2+(CODE($C$1)-65)*3)=\"\"),\"\",INDEX(Meine_Tipps!$B$14:$AJ$39,1,2+(CODE($C$1)-65)*3))","v":""},{"$f":"IF($M4>0,IF($E4>$G4,3,IF($E4=$G4,1,0)),0)","v":0},{"$f":"IF($M4>0,IF($E4<$G4,3,IF($E4=$G4,1,0)),0)","v":0},{"$nulls":3},{"$f":"IF(AND($E4<>\"\",$G4<>\"\"),1,0)","v":0},null,"1.",{"$f":"VLOOKUP($C$1&ROW($A1),Groups_Tipps!$B$7:$D$65,3,0)","v":"England"},{"$f":"SUMIF($B$4:$B$9,P4,$H$4:$H$9)+SUMIF($D$4:$D$9,P4,$I$4:$I$9)","v":0},{"$f":"S4-T4","v":0},{"$f":"SUMIF($B$4:$B$9,$P4,$E$4:$E$9)+SUMIF($D$4:$D$9,$P4,$G$4:$G$9)","v":0},{"$f":"SUMIF($B$4:$B$9,$P4,$G$4:$G$9)+SUMIF($D$4:$D$9,$P4,$E$4:$E$9)","v":0},{"$f":"COUNTIFS($B$4:$B$9,$P4,$H$4:$H$9,\"=3\")+COUNTIFS($D$4:$D$9,$P4,$I$4:$I$9,\"=3\")","v":0},{"$f":"$Q4*FactorPts+(GDzero+$R4)*FactorGD+$S4*FactorFor+$U4*FactorWins+$W4*FactorDirC3+$X4*FactorDirC2+$Y4*FactorDirC43+$Z4*FactorDirC42+$AA4*FactorDirC42+$AB4*FactorFairPlay+$AE4*FactorPenalty+(100-$AF4)*($M$10>0)*FactorRank+(8-ROW())*FactorRow","v":{"v":50000.00000004,"d":"50,000.0000000"}},{"$f":"SUMIFS($X$18:$X$35,$P$18:$P$35,$P4)","v":0},{"$f":"IF($L18=\"\",0,$L18)+SUMIFS($Z$18:$Z$35,$P$18:$P$35,$P4)","v":0},{"$f":"SUMIFS($AD$18:$AD$35,$P$18:$P$35,$P4)","v":0},{"$f":"SUMIFS($AE$18:$AE$35,$P$18:$P$35,$P4)","v":0},{"$f":"IF($M18=\"\",0,$M18)","v":0},{"$f":"SUMIFS(FairPlayPoints1,FairPlayTeams1,P4)+SUMIFS(FairPlayPoints2,FairPlayTeams2,P4)+SUMIFS(FairPlayPoints3,FairPlayTeams3,P4)","v":0},{"$f":"(Q4+T4>0)","v":false},{"$f":"$Q4*FactorPts+(GDzero+$R4)*FactorGD+$S4*FactorFor","v":{"v":50000,"d":"50,000"}},0,{"$f":"VLOOKUP(P4,Sprache_Tipps!E:F,2,0)","v":4},{"$f":"OR($Q4>0,$T4>0)","v":false}]
[null,{"$f":"INDEX(Meine_Tipps!$B$13:$AJ$38,6,1+(CODE($C$1)-65)*3)","v":"England"},"-",{"$f":"INDEX(Meine_Tipps!$B$13:$AJ$38,6,2+(CODE($C$1)-65)*3)","v":"Kroatien"},{"$f":"IF(OR(INDEX(Meine_Tipps!$B$14:$AJ$39,6,1+(CODE($C$1)-65)*3)=\"\",INDEX(Meine_Tipps!$B$14:$AJ$39,6,2+(CODE($C$1)-65)*3)=\"\"),\"\",INDEX(Meine_Tipps!$B$14:$AJ$39,6,1+(CODE($C$1)-65)*3))","v":""},"-",{"$f":"IF(OR(INDEX(Meine_Tipps!$B$14:$AJ$39,6,1+(CODE($C$1)-65)*3)=\"\",INDEX(Meine_Tipps!$B$14:$AJ$39,6,2+(CODE($C$1)-65)*3)=\"\"),\"\",INDEX(Meine_Tipps!$B$14:$AJ$39,6,2+(CODE($C$1)-65)*3))","v":""},0,0,{"$nulls":3},0,null,"2.",{"$f":"VLOOKUP($C$1&ROW($A2),Groups_Tipps!$B$7:$D$65,3,0)","v":"Kroatien"},{"$f":"SUMIF($B$4:$B$9,P5,$H$4:$H$9)+SUMIF($D$4:$D$9,P5,$I$4:$I$9)","v":0},{"$f":"S5-T5","v":0},{"$f":"SUMIF($B$4:$B$9,$P5,$E$4:$E$9)+SUMIF($D$4:$D$9,$P5,$G$4:$G$9)","v":0},{"$f":"SUMIF($B$4:$B$9,$P5,$G$4:$G$9)+SUMIF($D$4:$D$9,$P5,$E$4:$E$9)","v":0},{"$f":"COUNTIFS($B$4:$B$9,$P5,$H$4:$H$9,\"=3\")+COUNTIFS($D$4:$D$9,$P5,$I$4:$I$9,\"=3\")","v":0},{"$f":"$Q5*FactorPts+(GDzero+$R5)*FactorGD+$S5*FactorFor+$U5*FactorWins+$W5*FactorDirC3+$X5*FactorDirC2+$Y5*FactorDirC43+$Z5*FactorDirC42+$AA5*FactorDirC42+$AB5*FactorFairPlay+$AE5*FactorPenalty+(100-$AF5)*($M$10>0)*FactorRank+(8-ROW())*FactorRow","v":{"v":50000.00000003,"d":"50,000.0000000"}},{"$f":"SUMIFS($X$18:$X$35,$P$18:$P$35,$P5)","v":0},{"$f":"IF($L19=\"\",0,$L19)+SUMIFS($Z$18:$Z$35,$P$18:$P$35,$P5)","v":0},{"$f":"SUMIFS($AD$18:$AD$35,$P$18:$P$35,$P5)","v":0},{"$f":"SUMIFS($AE$18:$AE$35,$P$18:$P$35,$P5)","v":0},{"$f":"IF($M19=\"\",0,$M19)","v":0},{"$f":"SUMIFS(FairPlayPoints1,FairPlayTeams1,P5)+SUMIFS(FairPlayPoints2,FairPlayTeams2,P5)+SUMIFS(FairPlayPoints3,FairPlayTeams3,P5)","v":0},{"$f":"(Q5+T5>0)","v":false},{"$f":"$Q5*FactorPts+(GDzero+$R5)*FactorGD+$S5*FactorFor","v":{"v":50000,"d":"50,000"}},0,{"$f":"VLOOKUP(P5,Sprache_Tipps!E:F,2,0)","v":11},{"$f":"OR($Q5>0,$T5>0)","v":false}]
[null,{"$f":"INDEX(Meine_Tipps!$B$13:$AJ$38,11,1+(CODE($C$1)-65)*3)","v":"England"},"-",{"$f":"INDEX(Meine_Tipps!$B$13:$AJ$38,11,2+(CODE($C$1)-65)*3)","v":"Ghana"},{"$f":"IF(OR(INDEX(Meine_Tipps!$B$14:$AJ$39,11,1+(CODE($C$1)-65)*3)=\"\",INDEX(Meine_Tipps!$B$14:$AJ$39,11,2+(CODE($C$1)-65)*3)=\"\"),\"\",INDEX(Meine_Tipps!$B$14:$AJ$39,11,1+(CODE($C$1)-65)*3))","v":""},"-",{"$f":"IF(OR(INDEX(Meine_Tipps!$B$14:$AJ$39,11,1+(CODE($C$1)-65)*3)=\"\",INDEX(Meine_Tipps!$B$14:$AJ$39,11,2+(CODE($C$1)-65)*3)=\"\"),\"\",INDEX(Meine_Tipps!$B$14:$AJ$39,11,2+(CODE($C$1)-65)*3))","v":""},0,0,{"$nulls":3},0,null,"3.",{"$f":"VLOOKUP($C$1&ROW($A3),Groups_Tipps!$B$7:$D$65,3,0)","v":"Ghana"},0,{"$f":"S6-T6","v":0},{"$f":"SUMIF($B$4:$B$9,$P6,$E$4:$E$9)+SUMIF($D$4:$D$9,$P6,$G$4:$G$9)","v":0},{"$f":"SUMIF($B$4:$B$9,$P6,$G$4:$G$9)+SUMIF($D$4:$D$9,$P6,$E$4:$E$9)","v":0},{"$f":"COUNTIFS($B$4:$B$9,$P6,$H$4:$H$9,\"=3\")+COUNTIFS($D$4:$D$9,$P6,$I$4:$I$9,\"=3\")","v":0},{"$f":"$Q6*FactorPts+(GDzero+$R6)*FactorGD+$S6*FactorFor+$U6*FactorWins+$W6*FactorDirC3+$X6*FactorDirC2+$Y6*FactorDirC43+$Z6*FactorDirC42+$AA6*FactorDirC42+$AB6*FactorFairPlay+$AE6*FactorPenalty+(100-$AF6)*($M$10>0)*FactorRank+(8-ROW())*FactorRow","v":{"v":50000.00000002,"d":"50,000.0000000"}},0,{"$f":"IF($L20=\"\",0,$L20)+SUMIFS($Z$18:$Z$35,$P$18:$P$35,$P6)","v":0},0,0,{"$f":"IF($M20=\"\",0,$M20)","v":0},{"$f":"SUMIFS(FairPlayPoints1,FairPlayTeams1,P6)+SUMIFS(FairPlayPoints2,FairPlayTeams2,P6)+SUMIFS(FairPlayPoints3,FairPlayTeams3,P6)","v":0},{"$f":"(Q6+T6>0)","v":false},{"$f":"$Q6*FactorPts+(GDzero+$R6)*FactorGD+$S6*FactorFor","v":{"v":50000,"d":"50,000"}},0,{"$f":"VLOOKUP(P6,Sprache_Tipps!E:F,2,0)","v":74},false]
[null,{"$f":"INDEX(Meine_Tipps!$B$13:$AJ$38,16,1+(CODE($C$1)-65)*3)","v":"Panama"},"-",{"$f":"INDEX(Meine_Tipps!$B$13:$AJ$38,16,2+(CODE($C$1)-65)*3)","v":"Kroatien"},{"$f":"IF(OR(INDEX(Meine_Tipps!$B$14:$AJ$39,16,1+(CODE($C$1)-65)*3)=\"\",INDEX(Meine_Tipps!$B$14:$AJ$39,16,2+(CODE($C$1)-65)*3)=\"\"),\"\",INDEX(Meine_Tipps!$B$14:$AJ$39,16,1+(CODE($C$1)-65)*3))","v":""},"-",{"$f":"IF(OR(INDEX(Meine_Tipps!$B$14:$AJ$39,16,1+(CODE($C$1)-65)*3)=\"\",INDEX(Meine_Tipps!$B$14:$AJ$39,16,2+(CODE($C$1)-65)*3)=\"\"),\"\",INDEX(Meine_Tipps!$B$14:$AJ$39,16,2+(CODE($C$1)-65)*3))","v":""},0,0,{"$nulls":3},0,null,"4.",{"$f":"VLOOKUP($C$1&ROW($A4),Groups_Tipps!$B$7:$D$65,3,0)","v":"Panama"},0,{"$f":"S7-T7","v":0},{"$f":"SUMIF($B$4:$B$9,$P7,$E$4:$E$9)+SUMIF($D$4:$D$9,$P7,$G$4:$G$9)","v":0},{"$f":"SUMIF($B$4:$B$9,$P7,$G$4:$G$9)+SUMIF($D$4:$D$9,$P7,$E$4:$E$9)","v":0},{"$f":"COUNTIFS($B$4:$B$9,$P7,$H$4:$H$9,\"=3\")+COUNTIFS($D$4:$D$9,$P7,$I$4:$I$9,\"=3\")","v":0},{"$f":"$Q7*FactorPts+(GDzero+$R7)*FactorGD+$S7*FactorFor+$U7*FactorWins+$W7*FactorDirC3+$X7*FactorDirC2+$Y7*FactorDirC43+$Z7*FactorDirC42+$AA7*FactorDirC42+$AB7*FactorFairPlay+$AE7*FactorPenalty+(100-$AF7)*($M$10>0)*FactorRank+(8-ROW())*FactorRow","v":{"v":50000.00000001,"d":"50,000.0000000"}},0,{"$f":"IF($L21=\"\",0,$L21)+SUMIFS($Z$18:$Z$35,$P$18:$P$35,$P7)","v":0},0,0,{"$f":"IF($M21=\"\",0,$M21)","v":0},{"$f":"SUMIFS(FairPlayPoints1,FairPlayTeams1,P7)+SUMIFS(FairPlayPoints2,FairPlayTeams2,P7)+SUMIFS(FairPlayPoints3,FairPlayTeams3,P7)","v":0},{"$f":"(Q7+T7>0)","v":false},{"$f":"$Q7*FactorPts+(GDzero+$R7)*FactorGD+$S7*FactorFor","v":{"v":50000,"d":"50,000"}},0,{"$f":"VLOOKUP(P7,Sprache_Tipps!E:F,2,0)","v":33},false]
[null,{"$f":"INDEX(Meine_Tipps!$B$13:$AJ$38,21,1+(CODE($C$1)-65)*3)","v":"Panama"},"-",{"$f":"INDEX(Meine_Tipps!$B$13:$AJ$38,21,2+(CODE($C$1)-65)*3)","v":"England"},{"$f":"IF(OR(INDEX(Meine_Tipps!$B$14:$AJ$39,21,1+(CODE($C$1)-65)*3)=\"\",INDEX(Meine_Tipps!$B$14:$AJ$39,21,2+(CODE($C$1)-65)*3)=\"\"),\"\",INDEX(Meine_Tipps!$B$14:$AJ$39,21,1+(CODE($C$1)-65)*3))","v":""},"-",{"$f":"IF(OR(INDEX(Meine_Tipps!$B$14:$AJ$39,21,1+(CODE($C$1)-65)*3)=\"\",INDEX(Meine_Tipps!$B$14:$AJ$39,21,2+(CODE($C$1)-65)*3)=\"\"),\"\",INDEX(Meine_Tipps!$B$14:$AJ$39,21,2+(CODE($C$1)-65)*3))","v":""},0,0,{"$nulls":3},0]
[null,{"$f":"INDEX(Meine_Tipps!$B$13:$AJ$38,26,1+(CODE($C$1)-65)*3)","v":"Kroatien"},"-",{"$f":"INDEX(Meine_Tipps!$B$13:$AJ$38,26,2+(CODE($C$1)-65)*3)","v":"Ghana"},{"$f":"IF(OR(INDEX(Meine_Tipps!$B$14:$AJ$39,26,1+(CODE($C$1)-65)*3)=\"\",INDEX(Meine_Tipps!$B$14:$AJ$39,26,2+(CODE($C$1)-65)*3)=\"\"),\"\",INDEX(Meine_Tipps!$B$14:$AJ$39,26,1+(CODE($C$1)-65)*3))","v":""},"-",{"$f":"IF(OR(INDEX(Meine_Tipps!$B$14:$AJ$39,26,1+(CODE($C$1)-65)*3)=\"\",INDEX(Meine_Tipps!$B$14:$AJ$39,26,2+(CODE($C$1)-65)*3)=\"\"),\"\",INDEX(Meine_Tipps!$B$14:$AJ$39,26,2+(CODE($C$1)-65)*3))","v":""},0,0,{"$nulls":3},0,{"$nulls":12},"For showing direct comparisons of 2 on sheet \"Direct comparisons\""]
[{"$nulls":11},"Sum:",{"$f":"SUM($M$4:$M$9)","v":0},null,null,"Sorted list","Points","GD","For","Against","wins","Coefficient","Played","Red dot","Penalty (?)","DC(2) ?","DC(4.2) ?","DC(3.2) ?","DC(4.3.2) ?","All Dir.C. (2)","Penalty"]
[{"$nulls":14},"1.",{"$f":"INDEX(P$4:P$7,MATCH($V11,$V$4:$V$7,0))","v":"England"},0,0,0,0,0,{"$f":"LARGE($V$4:$V$7,ROW(A1))","v":{"v":50000.00000004,"d":"50,000.0000000"}},{"$f":"OR($Q11>0,$T11>0)","v":false},{"$f":"IF(AND(OR(TRUNC($V$11,4)=TRUNC($V$12,4),TRUNC($V$11,4)=TRUNC($V$13,4),TRUNC($V$11,4)=TRUNC($V$14,4),TRUNC($V$12,4)=TRUNC($V$13,4),TRUNC($V$12,4)=TRUNC($V$14,4),TRUNC($V$13,4)=TRUNC($V$14,4)),$M$10>0),1,0)","v":0},{"$f":"IF(AND(VLOOKUP($B$8,$P$4:$AD$7,15,0)=VLOOKUP($D$8,$P$4:$AD$7,15,0),$E$8=$G$8,COUNTIF($Q$4:$Q$7,VLOOKUP($B$8,$P$4:$Q$7,2,0))=2,$M$10=6),1,0)","v":0},{"$f":"VLOOKUP($P11,$E$18:$M$21,8,0)<>\"\"","v":false},{"$f":"VLOOKUP($P11,$E$18:$M$21,9,0)<>\"\"","v":false},{"$f":"SUMPRODUCT(1*(LEN($Z$18:$Z$35)>0)*($P$18:$P$35=$P11))>0","v":false},{"$f":"SUMPRODUCT(1*(LEN($AE$18:$AE$35)>0)*($P$18:$P$35=$P11))>0","v":false},{"$f":"IF($Z11,VLOOKUP($P11,$E$18:$M$21,8,0),IF($AA11,VLOOKUP($P11,$E$18:$M$21,9,0),IF($AB11,SUMIFS($Z$18:$Z$35,$P$18:$P$35,$P11),IF($AC11,SUMIFS($AE$18:$AE$35,$P$18:$P$35,$P11),\"\"))))","v":""},{"$f":"IF(OR(AND($Y$11>0,OR($B$8=$P11,$D$8=$P11)),AND($Y$12>0,OR($B$9=$P11,$D$9=$P11))),SUMIF($B$8:$B$9,$P11,$J$8:$J$9)+SUMIF($D$8:$D$9,$P11,$L$8:$L$9),\"\")","v":""}]
[{"$nulls":14},"2.","Kroatien",0,0,0,0,0,{"$f":"LARGE($V$4:$V$7,ROW(A2))","v":{"v":50000.00000003,"d":"50,000.0000000"}},{"$f":"OR($Q12>0,$T12>0)","v":false},null,{"$f":"IF(AND(VLOOKUP($B$9,$P$4:$AD$7,15,0)=VLOOKUP($D$9,$P$4:$AD$7,15,0),$E$9=$G$9,COUNTIF($Q$4:$Q$7,VLOOKUP($B$9,$P$4:$Q$7,2,0))=2,$M$10=6),1,0)","v":0},{"$f":"VLOOKUP($P12,$E$18:$M$21,8,0)<>\"\"","v":false},{"$f":"VLOOKUP($P12,$E$18:$M$21,9,0)<>\"\"","v":false},{"$f":"SUMPRODUCT(1*(LEN($Z$18:$Z$35)>0)*($P$18:$P$35=$P12))>0","v":false},{"$f":"SUMPRODUCT(1*(LEN($AE$18:$AE$35)>0)*($P$18:$P$35=$P12))>0","v":false},{"$f":"IF($Z12,VLOOKUP($P12,$E$18:$M$21,8,0),IF($AA12,VLOOKUP($P12,$E$18:$M$21,9,0),IF($AB12,SUMIFS($Z$18:$Z$35,$P$18:$P$35,$P12),IF($AC12,SUMIFS($AE$18:$AE$35,$P$18:$P$35,$P12),\"\"))))","v":""},{"$f":"IF(OR(AND($Y$11>0,OR($B$8=$P12,$D$8=$P12)),AND($Y$12>0,OR($B$9=$P12,$D$9=$P12))),SUMIF($B$8:$B$9,$P12,$J$8:$J$9)+SUMIF($D$8:$D$9,$P12,$L$8:$L$9),\"\")","v":""}]
[{"$nulls":14},"3.","Ghana",0,0,0,0,0,{"$f":"LARGE($V$4:$V$7,ROW(A3))","v":{"v":50000.00000002,"d":"50,000.0000000"}},false,null,null,{"$f":"VLOOKUP($P13,$E$18:$M$21,8,0)<>\"\"","v":false},{"$f":"VLOOKUP($P13,$E$18:$M$21,9,0)<>\"\"","v":false},false,false,{"$f":"IF($Z13,VLOOKUP($P13,$E$18:$M$21,8,0),IF($AA13,VLOOKUP($P13,$E$18:$M$21,9,0),IF($AB13,SUMIFS($Z$18:$Z$35,$P$18:$P$35,$P13),IF($AC13,SUMIFS($AE$18:$AE$35,$P$18:$P$35,$P13),\"\"))))","v":""},{"$f":"IF(OR(AND($Y$11>0,OR($B$8=$P13,$D$8=$P13)),AND($Y$12>0,OR($B$9=$P13,$D$9=$P13))),SUMIF($B$8:$B$9,$P13,$J$8:$J$9)+SUMIF($D$8:$D$9,$P13,$L$8:$L$9),\"\")","v":""}]
[{"$nulls":14},"4.","Panama",0,0,0,0,0,{"$f":"LARGE($V$4:$V$7,ROW(A4))","v":{"v":50000.00000001,"d":"50,000.0000000"}},false,null,null,{"$f":"VLOOKUP($P14,$E$18:$M$21,8,0)<>\"\"","v":false},{"$f":"VLOOKUP($P14,$E$18:$M$21,9,0)<>\"\"","v":false},false,false,{"$f":"IF($Z14,VLOOKUP($P14,$E$18:$M$21,8,0),IF($AA14,VLOOKUP($P14,$E$18:$M$21,9,0),IF($AB14,SUMIFS($Z$18:$Z$35,$P$18:$P$35,$P14),IF($AC14,SUMIFS($AE$18:$AE$35,$P$18:$P$35,$P14),\"\"))))","v":""},{"$f":"IF(OR(AND($Y$11>0,OR($B$8=$P14,$D$8=$P14)),AND($Y$12>0,OR($B$9=$P14,$D$9=$P14))),SUMIF($B$8:$B$9,$P14,$J$8:$J$9)+SUMIF($D$8:$D$9,$P14,$L$8:$L$9),\"\")","v":""}]
[]
[{"$nulls":6},"Direct Comparison of 2",{"$nulls":15},"Direct Comparison of 3",{"$nulls":6},"Direct Comparison of 4",null,{"$f":"AND($Q$4=$Q$5,$Q$4=$Q$6,$Q$4=$Q$7)","v":true}]
[{"$nulls":7},{"$f":"LEFT($P$4,3)","v":"Eng"},{"$f":"LEFT($P$5,3)","v":"Kro"},{"$f":"LEFT($P$6,3)","v":"Gha"},{"$f":"LEFT($P$7,3)","v":"Pan"},"DC(2)","DC(4.2)",{"$nulls":3},"Points","GD","For","Against",null,"Pts/GD/For","Rank Col. V","DC(3)","DC(3.2)","DC(3.2)","Results of direct encounters",null,null,"DC(4.3)","DC(4.3.2)"]
[{"$nulls":4},{"$f":"$P$4","v":"England"},{"$nulls":3},{"$f":"SUMIFS($E$4:$E$9,$B$4:$B$9,$P$4,$D$4:$D$9,$P$5)+SUMIFS($G$4:$G$9,$B$4:$B$9,$P$5,$D$4:$D$9,$P$4)","v":0},{"$f":"SUMIFS($E$4:$E$9,$B$4:$B$9,$P$4,$D$4:$D$9,$P$6)+SUMIFS($G$4:$G$9,$B$4:$B$9,$P$6,$D$4:$D$9,$P$4)","v":0},{"$f":"SUMIFS($E$4:$E$9,$B$4:$B$9,$P$4,$D$4:$D$9,$P$7)+SUMIFS($G$4:$G$9,$B$4:$B$9,$P$7,$D$4:$D$9,$P$4)","v":0},{"$f":"IF(AND($Q$4=$Q$5,$Q$4<>$Q$6,$Q$4<>$Q$7),IF(I18>H19,3,IF(I18=H19,1,0)),IF(AND($Q$4=$Q$6,$Q$4<>$Q$5,$Q$4<>$Q$7),IF(J18>H20,3,IF(J18=H20,1,0)),IF(AND($Q$4=$Q$7,$Q$4<>$Q$5,$Q$4<>$Q$6),IF(K18>H21,3,IF(K18=H21,1,0)),\"\")))","v":""},{"$f":"IF($AF$16,IF(AND($AD$4=$AD$5,$AD$4<>$AD$6,$AD$4<>$AD$7),IF(I18>H19,3,IF(I18=H19,1,0)),IF(AND($AD$4<>$AD$5,$AD$4=$AD$6,$AD$4<>$AD$7),IF(J18>H20,3,IF(J18=H20,1,0)),IF(AND($AD$4<>$AD$5,$AD$4<>$AD$6,$AD$4=$AD$7),IF(K18>H21,3,IF(K18=H21,1,0)),\"\"))),\"\")","v":""},null,"1.",{"$f":"$P$4","v":"England"},{"$f":"SUMIFS($H$4:$H$9,$B$4:$B$9,$P18,$D$4:$D$9,\"<>\"&$P$21)+SUMIFS($I$4:$I$9,$B$4:$B$9,\"<>\"&$P$21,$D$4:$D$9,$P18)","v":0},{"$f":"S18-T18","v":0},{"$f":"SUMIFS($E$4:$E$9,$B$4:$B$9,$P18,$D$4:$D$9,\"<>\"&$P$21)+SUMIFS($G$4:$G$9,$B$4:$B$9,\"<>\"&$P$21,$D$4:$D$9,$P18)","v":0},{"$f":"SUMIFS($G$4:$G$9,$B$4:$B$9,$P18,$D$4:$D$9,\"<>\"&$P$21)+SUMIFS($E$4:$E$9,$B$4:$B$9,\"<>\"&$P$21,$D$4:$D$9,$P18)","v":0},null,{"$f":"Q18*FactorPts+(GDzero+R18)*FactorGD+S18*FactorFor","v":{"v":50000,"d":"50,000"}},{"$f":"RANK(V18,V$18:V$20,1)","v":1},{"$f":"IF(AND($Q$4=$Q$5,$Q$4=$Q$6,$Q$4<>$Q$7),W18,0)","v":0},{"$f":"IF(AND(V18=V19,V18<>V20),IF(AA18>AA19,3,IF(AA18=AA19,1,0)),IF(AND(V18=V20,V18<>V19),IF(AB18>AB20,3,IF(AB18=AB20,1,0)),\"\"))","v":""},{"$f":"IF(X18>0,Y18,\"\")","v":""},{"$f":"$I$18","v":0},{"$f":"$J$18","v":0},null,{"$f":"IF(AND($AF$16,$AD$4=$AD$5,$AD$4=$AD$6,$AD$4<>$AD$7),W18,0)","v":0},{"$f":"IF(AD18>0,Y18,\"\")","v":""}]
[{"$nulls":4},{"$f":"$P$5","v":"Kroatien"},null,null,{"$f":"SUMIFS($E$4:$E$9,$B$4:$B$9,$P$5,$D$4:$D$9,$P$4)+SUMIFS($G$4:$G$9,$B$4:$B$9,$P$4,$D$4:$D$9,$P$5)","v":0},null,{"$f":"SUMIFS($E$4:$E$9,$B$4:$B$9,$P$5,$D$4:$D$9,$P$6)+SUMIFS($G$4:$G$9,$B$4:$B$9,$P$6,$D$4:$D$9,$P$5)","v":0},{"$f":"SUMIFS($E$4:$E$9,$B$4:$B$9,$P$5,$D$4:$D$9,$P$7)+SUMIFS($G$4:$G$9,$B$4:$B$9,$P$7,$D$4:$D$9,$P$5)","v":0},{"$f":"IF(AND($Q$5=$Q$4,$Q$5<>$Q$6,$Q$5<>$Q$7),IF(H19>I18,3,IF(H19=I18,1,0)),IF(AND($Q$5=$Q$6,$Q$5<>$Q$4,$Q$5<>$Q$7),IF(J19>I20,3,IF(J19=I20,1,0)),IF(AND($Q$5=$Q$7,$Q$5<>$Q$4,$Q$5<>$Q$6),IF(K19>I21,3,IF(K19=I21,1,0)),\"\")))","v":""},{"$f":"IF($AF$16,IF(AND($AD$5=$AD$4,$AD$5<>$AD$6,$AD$5<>$AD$7),IF(H19>I18,3,IF(H19=I18,1,0)),IF(AND($AD$5<>$AD$4,$AD$5=$AD$6,$AD$5<>$AD$7),IF(J19>I20,3,IF(J19=I20,1,0)),IF(AND($AD$5<>$AD$4,$AD$5<>$AD$6,$AD$5=$AD$7),IF(K19>I21,3,IF(K19=I21,1,0)),\"\"))),\"\")","v":""},null,"2.",{"$f":"$P$5","v":"Kroatien"},{"$f":"SUMIFS($H$4:$H$9,$B$4:$B$9,$P19,$D$4:$D$9,\"<>\"&$P$21)+SUMIFS($I$4:$I$9,$B$4:$B$9,\"<>\"&$P$21,$D$4:$D$9,$P19)","v":0},{"$f":"S19-T19","v":0},{"$f":"SUMIFS($E$4:$E$9,$B$4:$B$9,$P19,$D$4:$D$9,\"<>\"&$P$21)+SUMIFS($G$4:$G$9,$B$4:$B$9,\"<>\"&$P$21,$D$4:$D$9,$P19)","v":0},{"$f":"SUMIFS($G$4:$G$9,$B$4:$B$9,$P19,$D$4:$D$9,\"<>\"&$P$21)+SUMIFS($E$4:$E$9,$B$4:$B$9,\"<>\"&$P$21,$D$4:$D$9,$P19)","v":0},null,{"$f":"Q19*FactorPts+(GDzero+R19)*FactorGD+S19*FactorFor","v":{"v":50000,"d":"50,000"}},{"$f":"RANK(V19,V$18:V$20,1)","v":1},{"$f":"IF(AND($Q$4=$Q$5,$Q$4=$Q$6,$Q$4<>$Q$7),W19,0)","v":0},{"$f":"IF(AND(V19=V18,V19<>V20),IF(AA19>AA18,3,IF(AA19=AA18,1,0)),IF(AND(V19=V20,V19<>V18),IF(AC19>AC20,3,IF(AC19=AC20,1,0)),\"\"))","v":""},{"$f":"IF(X19>0,Y19,\"\")","v":""},{"$f":"$H$19","v":0},null,{"$f":"$J$19","v":0},{"$f":"IF(AND($AF$16,$AD$4=$AD$5,$AD$4=$AD$6,$AD$4<>$AD$7),W19,0)","v":0},{"$f":"IF(AD19>0,Y19,\"\")","v":""}]
[{"$nulls":4},{"$f":"$P$6","v":"Ghana"},null,null,{"$f":"SUMIFS($E$4:$E$9,$B$4:$B$9,$P$6,$D$4:$D$9,$P$4)+SUMIFS($G$4:$G$9,$B$4:$B$9,$P$4,$D$4:$D$9,$P$6)","v":0},{"$f":"SUMIFS($E$4:$E$9,$B$4:$B$9,$P$6,$D$4:$D$9,$P$5)+SUMIFS($G$4:$G$9,$B$4:$B$9,$P$5,$D$4:$D$9,$P$6)","v":0},null,{"$f":"SUMIFS($E$4:$E$9,$B$4:$B$9,$P$6,$D$4:$D$9,$P$7)+SUMIFS($G$4:$G$9,$B$4:$B$9,$P$7,$D$4:$D$9,$P$6)","v":0},{"$f":"IF(AND($Q$6=$Q$4,$Q$6<>$Q$5,$Q$6<>$Q$7),IF(H20>J18,3,IF(H20=J18,1,0)),IF(AND($Q$6=$Q$5,$Q$6<>$Q$4,$Q$6<>$Q$7),IF(I20>J19,3,IF(I20=J19,1,0)),IF(AND($Q$6=$Q$7,$Q$6<>$Q$4,$Q$6<>$Q$5),IF(K20>J21,3,IF(K20=J21,1,0)),\"\")))","v":""},{"$f":"IF($AF$16,IF(AND($AD$6=$AD$4,$AD$6<>$AD$5,$AD$6<>$AD$7),IF(H20>J18,3,IF(H20=J18,1,0)),IF(AND($AD$6<>$AD$4,$AD$6=$AD$5,$AD$6<>$AD$7),IF(I20>J19,3,IF(I20=J19,1,0)),IF(AND($AD$6<>$AD$4,$AD$6<>$AD$5,$AD$6=$AD$7),IF(K20>J21,3,IF(K20=J21,1,0)),\"\"))),\"\")","v":""},null,"3.",{"$f":"$P$6","v":"Ghana"},{"$f":"SUMIFS($H$4:$H$9,$B$4:$B$9,$P20,$D$4:$D$9,\"<>\"&$P$21)+SUMIFS($I$4:$I$9,$B$4:$B$9,\"<>\"&$P$21,$D$4:$D$9,$P20)","v":0},{"$f":"S20-T20","v":0},{"$f":"SUMIFS($E$4:$E$9,$B$4:$B$9,$P20,$D$4:$D$9,\"<>\"&$P$21)+SUMIFS($G$4:$G$9,$B$4:$B$9,\"<>\"&$P$21,$D$4:$D$9,$P20)","v":0},{"$f":"SUMIFS($G$4:$G$9,$B$4:$B$9,$P20,$D$4:$D$9,\"<>\"&$P$21)+SUMIFS($E$4:$E$9,$B$4:$B$9,\"<>\"&$P$21,$D$4:$D$9,$P20)","v":0},null,{"$f":"Q20*FactorPts+(GDzero+R20)*FactorGD+S20*FactorFor","v":{"v":50000,"d":"50,000"}},{"$f":"RANK(V20,V$18:V$20,1)","v":1},{"$f":"IF(AND($Q$4=$Q$5,$Q$4=$Q$6,$Q$4<>$Q$7),W20,0)","v":0},{"$f":"IF(AND(V20=V18,V20<>V19),IF(AB20>AB18,3,IF(AB20=AB18,1,0)),IF(AND(V20=V19,V20<>V18),IF(AC20>AC19,3,IF(AC20=AC19,1,0)),\"\"))","v":""},"",null,{"$f":"$H$20","v":0},{"$f":"$I$20","v":0},{"$f":"IF(AND($AF$16,$AD$4=$AD$5,$AD$4=$AD$6,$AD$4<>$AD$7),W20,0)","v":0},""]
[{"$nulls":4},{"$f":"$P$7","v":"Panama"},null,null,{"$f":"SUMIFS($E$4:$E$9,$B$4:$B$9,$P$7,$D$4:$D$9,$P$4)+SUMIFS($G$4:$G$9,$B$4:$B$9,$P$4,$D$4:$D$9,$P$7)","v":0},{"$f":"SUMIFS($E$4:$E$9,$B$4:$B$9,$P$7,$D$4:$D$9,$P$5)+SUMIFS($G$4:$G$9,$B$4:$B$9,$P$5,$D$4:$D$9,$P$7)","v":0},{"$f":"SUMIFS($E$4:$E$9,$B$4:$B$9,$P$7,$D$4:$D$9,$P$6)+SUMIFS($G$4:$G$9,$B$4:$B$9,$P$6,$D$4:$D$9,$P$7)","v":0},null,{"$f":"IF(AND($Q$7=$Q$4,$Q$7<>$Q$5,$Q$7<>$Q$6),IF(H21>K18,3,IF(H21=K18,1,0)),IF(AND($Q$7=$Q$5,$Q$7<>$Q$4,$Q$7<>$Q$6),IF(I21>K19,3,IF(I21=K19,1,0)),IF(AND($Q$7=$Q$6,$Q$7<>$Q$4,$Q$7<>$Q$5),IF(J21>K20,3,IF(J21=K20,1,0)),\"\")))","v":""},{"$f":"IF($AF$16,IF(AND($AD$7=$AD$4,$AD$7<>$AD$5,$AD$7<>$AD$6),IF(H21>K18,3,IF(H21=K18,1,0)),IF(AND($AD$7<>$AD$4,$AD$7=$AD$5,$AD$7<>$AD$6),IF(I21>K19,3,IF(I21=K19,1,0)),IF(AND($AD$7<>$AD$4,$AD$7<>$AD$5,$AD$7=$AD$6),IF(J21>K20,3,IF(J21=K20,1,0)),\"\"))),\"\")","v":""},null,null,{"$f":"$P$7","v":"Panama"}]
[]
[{"$nulls":14},"1.",{"$f":"$P$4","v":"England"},{"$f":"SUMIFS($H$4:$H$9,$B$4:$B$9,$P23,$D$4:$D$9,\"<>\"&$P$26)+SUMIFS($I$4:$I$9,$B$4:$B$9,\"<>\"&$P$26,$D$4:$D$9,$P23)","v":0},{"$f":"S23-T23","v":0},{"$f":"SUMIFS($E$4:$E$9,$B$4:$B$9,$P23,$D$4:$D$9,\"<>\"&$P$26)+SUMIFS($G$4:$G$9,$B$4:$B$9,\"<>\"&$P$26,$D$4:$D$9,$P23)","v":0},{"$f":"SUMIFS($G$4:$G$9,$B$4:$B$9,$P23,$D$4:$D$9,\"<>\"&$P$26)+SUMIFS($E$4:$E$9,$B$4:$B$9,\"<>\"&$P$26,$D$4:$D$9,$P23)","v":0},null,{"$f":"Q23*FactorPts+(GDzero+R23)*FactorGD+S23*FactorFor","v":{"v":50000,"d":"50,000"}},{"$f":"RANK(V23,V$23:V$25,1)","v":1},{"$f":"IF(AND($Q$4=$Q$5,$Q$4=$Q$7,$Q$4<>$Q$6),W23,0)","v":0},{"$f":"IF(AND(V23=V24,V23<>V25),IF(AA23>AA24,3,IF(AA23=AA24,1,0)),IF(AND(V23=V25,V23<>V24),IF(AB23>AB25,3,IF(AB23=AB25,1,0)),\"\"))","v":""},{"$f":"IF(X23>0,Y23,\"\")","v":""},{"$f":"$I$18","v":0},{"$f":"$K$18","v":0},null,{"$f":"IF(AND($AF$16,$AD$4=$AD$5,$AD$4=$AD$7,$AD$4<>$AD$6),W23,0)","v":0},{"$f":"IF(AD23>0,Y23,\"\")","v":""}]
[{"$nulls":14},"2.",{"$f":"$P$5","v":"Kroatien"},{"$f":"SUMIFS($H$4:$H$9,$B$4:$B$9,$P24,$D$4:$D$9,\"<>\"&$P$26)+SUMIFS($I$4:$I$9,$B$4:$B$9,\"<>\"&$P$26,$D$4:$D$9,$P24)","v":0},{"$f":"S24-T24","v":0},{"$f":"SUMIFS($E$4:$E$9,$B$4:$B$9,$P24,$D$4:$D$9,\"<>\"&$P$26)+SUMIFS($G$4:$G$9,$B$4:$B$9,\"<>\"&$P$26,$D$4:$D$9,$P24)","v":0},{"$f":"SUMIFS($G$4:$G$9,$B$4:$B$9,$P24,$D$4:$D$9,\"<>\"&$P$26)+SUMIFS($E$4:$E$9,$B$4:$B$9,\"<>\"&$P$26,$D$4:$D$9,$P24)","v":0},null,{"$f":"Q24*FactorPts+(GDzero+R24)*FactorGD+S24*FactorFor","v":{"v":50000,"d":"50,000"}},{"$f":"RANK(V24,V$23:V$25,1)","v":1},{"$f":"IF(AND($Q$4=$Q$5,$Q$4=$Q$7,$Q$4<>$Q$6),W24,0)","v":0},{"$f":"IF(AND(V24=V23,V24<>V25),IF(AA24>AA23,3,IF(AA24=AA23,1,0)),IF(AND(V24=V25,V24<>V23),IF(AC24>AC25,3,IF(AC24=AC25,1,0)),\"\"))","v":""},{"$f":"IF(X24>0,Y24,\"\")","v":""},{"$f":"$H$19","v":0},null,{"$f":"$K$19","v":0},{"$f":"IF(AND($AF$16,$AD$4=$AD$5,$AD$4=$AD$7,$AD$4<>$AD$6),W24,0)","v":0},{"$f":"IF(AD24>0,Y24,\"\")","v":""}]
[{"$nulls":14},"3.",{"$f":"$P$7","v":"Panama"},{"$f":"SUMIFS($H$4:$H$9,$B$4:$B$9,$P25,$D$4:$D$9,\"<>\"&$P$26)+SUMIFS($I$4:$I$9,$B$4:$B$9,\"<>\"&$P$26,$D$4:$D$9,$P25)","v":0},{"$f":"S25-T25","v":0},{"$f":"SUMIFS($E$4:$E$9,$B$4:$B$9,$P25,$D$4:$D$9,\"<>\"&$P$26)+SUMIFS($G$4:$G$9,$B$4:$B$9,\"<>\"&$P$26,$D$4:$D$9,$P25)","v":0},{"$f":"SUMIFS($G$4:$G$9,$B$4:$B$9,$P25,$D$4:$D$9,\"<>\"&$P$26)+SUMIFS($E$4:$E$9,$B$4:$B$9,\"<>\"&$P$26,$D$4:$D$9,$P25)","v":0},null,{"$f":"Q25*FactorPts+(GDzero+R25)*FactorGD+S25*FactorFor","v":{"v":50000,"d":"50,000"}},{"$f":"RANK(V25,V$23:V$25,1)","v":1},{"$f":"IF(AND($Q$4=$Q$5,$Q$4=$Q$7,$Q$4<>$Q$6),W25,0)","v":0},{"$f":"IF(AND(V25=V23,V25<>V24),IF(AB25>AB23,3,IF(AB25=AB23,1,0)),IF(AND(V25=V24,V25<>V23),IF(AC25>AC24,3,IF(AC25=AC24,1,0)),\"\"))","v":""},"",null,{"$f":"$H$21","v":0},{"$f":"$I$21","v":0},{"$f":"IF(AND($AF$16,$AD$4=$AD$5,$AD$4=$AD$7,$AD$4<>$AD$6),W25,0)","v":0},""]
[{"$nulls":15},{"$f":"$P$6","v":"Ghana"}]
[]
[{"$nulls":14},"1.",{"$f":"$P$4","v":"England"},{"$f":"SUMIFS($H$4:$H$9,$B$4:$B$9,$P28,$D$4:$D$9,\"<>\"&$P$31)+SUMIFS($I$4:$I$9,$B$4:$B$9,\"<>\"&$P$31,$D$4:$D$9,$P28)","v":0},{"$f":"S28-T28","v":0},{"$f":"SUMIFS($E$4:$E$9,$B$4:$B$9,$P28,$D$4:$D$9,\"<>\"&$P$31)+SUMIFS($G$4:$G$9,$B$4:$B$9,\"<>\"&$P$31,$D$4:$D$9,$P28)","v":0},{"$f":"SUMIFS($G$4:$G$9,$B$4:$B$9,$P28,$D$4:$D$9,\"<>\"&$P$31)+SUMIFS($E$4:$E$9,$B$4:$B$9,\"<>\"&$P$31,$D$4:$D$9,$P28)","v":0},null,{"$f":"Q28*FactorPts+(GDzero+R28)*FactorGD+S28*FactorFor","v":{"v":50000,"d":"50,000"}},{"$f":"RANK(V28,V$28:V$30,1)","v":1},{"$f":"IF(AND($Q$4=$Q$6,$Q$4=$Q$7,$Q$4<>$Q$5),W28,0)","v":0},{"$f":"IF(AND(V28=V29,V28<>V30),IF(AA28>AA29,3,IF(AA28=AA29,1,0)),IF(AND(V28=V30,V28<>V29),IF(AB28>AB30,3,IF(AB28=AB30,1,0)),\"\"))","v":""},{"$f":"IF(X28>0,Y28,\"\")","v":""},{"$f":"$J$18","v":0},{"$f":"$K$18","v":0},null,{"$f":"IF(AND($AF$16,$AD$4=$AD$6,$AD$4=$AD$7,$AD$4<>$AD$5),W28,0)","v":0},{"$f":"IF(AD28>0,Y28,\"\")","v":""}]
[{"$nulls":14},"2.",{"$f":"$P$6","v":"Ghana"},{"$f":"SUMIFS($H$4:$H$9,$B$4:$B$9,$P29,$D$4:$D$9,\"<>\"&$P$31)+SUMIFS($I$4:$I$9,$B$4:$B$9,\"<>\"&$P$31,$D$4:$D$9,$P29)","v":0},{"$f":"S29-T29","v":0},{"$f":"SUMIFS($E$4:$E$9,$B$4:$B$9,$P29,$D$4:$D$9,\"<>\"&$P$31)+SUMIFS($G$4:$G$9,$B$4:$B$9,\"<>\"&$P$31,$D$4:$D$9,$P29)","v":0},{"$f":"SUMIFS($G$4:$G$9,$B$4:$B$9,$P29,$D$4:$D$9,\"<>\"&$P$31)+SUMIFS($E$4:$E$9,$B$4:$B$9,\"<>\"&$P$31,$D$4:$D$9,$P29)","v":0},null,{"$f":"Q29*FactorPts+(GDzero+R29)*FactorGD+S29*FactorFor","v":{"v":50000,"d":"50,000"}},{"$f":"RANK(V29,V$28:V$30,1)","v":1},{"$f":"IF(AND($Q$4=$Q$6,$Q$4=$Q$7,$Q$4<>$Q$5),W29,0)","v":0},{"$f":"IF(AND(V29=V28,V29<>V30),IF(AA29>AA28,3,IF(AA29=AA28,1,0)),IF(AND(V29=V30,V29<>V28),IF(AC29>AC30,3,IF(AC29=AC30,1,0)),\"\"))","v":""},{"$f":"IF(X29>0,Y29,\"\")","v":""},{"$f":"$H$20","v":0},null,{"$f":"$K$20","v":0},{"$f":"IF(AND($AF$16,$AD$4=$AD$6,$AD$4=$AD$7,$AD$4<>$AD$5),W29,0)","v":0},{"$f":"IF(AD29>0,Y29,\"\")","v":""}]
[{"$nulls":14},"3.",{"$f":"$P$7","v":"Panama"},{"$f":"SUMIFS($H$4:$H$9,$B$4:$B$9,$P30,$D$4:$D$9,\"<>\"&$P$31)+SUMIFS($I$4:$I$9,$B$4:$B$9,\"<>\"&$P$31,$D$4:$D$9,$P30)","v":0},{"$f":"S30-T30","v":0},{"$f":"SUMIFS($E$4:$E$9,$B$4:$B$9,$P30,$D$4:$D$9,\"<>\"&$P$31)+SUMIFS($G$4:$G$9,$B$4:$B$9,\"<>\"&$P$31,$D$4:$D$9,$P30)","v":0},{"$f":"SUMIFS($G$4:$G$9,$B$4:$B$9,$P30,$D$4:$D$9,\"<>\"&$P$31)+SUMIFS($E$4:$E$9,$B$4:$B$9,\"<>\"&$P$31,$D$4:$D$9,$P30)","v":0},null,{"$f":"Q30*FactorPts+(GDzero+R30)*FactorGD+S30*FactorFor","v":{"v":50000,"d":"50,000"}},1,{"$f":"IF(AND($Q$4=$Q$6,$Q$4=$Q$7,$Q$4<>$Q$5),W30,0)","v":0},{"$f":"IF(AND(V30=V28,V30<>V29),IF(AB30>AB28,3,IF(AB30=AB28,1,0)),IF(AND(V30=V29,V30<>V28),IF(AC30>AC29,3,IF(AC30=AC29,1,0)),\"\"))","v":""},"",null,{"$f":"$H$21","v":0},{"$f":"$J$21","v":0},{"$f":"IF(AND($AF$16,$AD$4=$AD$6,$AD$4=$AD$7,$AD$4<>$AD$5),W30,0)","v":0},""]
[{"$nulls":15},{"$f":"$P$5","v":"Kroatien"}]
[]
[{"$nulls":14},"1.",{"$f":"$P$5","v":"Kroatien"},{"$f":"SUMIFS($H$4:$H$9,$B$4:$B$9,$P33,$D$4:$D$9,\"<>\"&$P$36)+SUMIFS($I$4:$I$9,$B$4:$B$9,\"<>\"&$P$36,$D$4:$D$9,$P33)","v":0},{"$f":"S33-T33","v":0},{"$f":"SUMIFS($E$4:$E$9,$B$4:$B$9,$P33,$D$4:$D$9,\"<>\"&$P$36)+SUMIFS($G$4:$G$9,$B$4:$B$9,\"<>\"&$P$36,$D$4:$D$9,$P33)","v":0},{"$f":"SUMIFS($G$4:$G$9,$B$4:$B$9,$P33,$D$4:$D$9,\"<>\"&$P$36)+SUMIFS($E$4:$E$9,$B$4:$B$9,\"<>\"&$P$36,$D$4:$D$9,$P33)","v":0},null,{"$f":"Q33*FactorPts+(GDzero+R33)*FactorGD+S33*FactorFor","v":{"v":50000,"d":"50,000"}},{"$f":"RANK(V33,V$33:V$35,1)","v":1},{"$f":"IF(AND($Q$5=$Q$6,$Q$5=$Q$7,$Q$5<>$Q$4),W33,0)","v":0},{"$f":"IF(AND(V33=V34,V33<>V35),IF(AA33>AA34,3,IF(AA33=AA34,1,0)),IF(AND(V33=V35,V33<>V34),IF(AB33>AB35,3,IF(AB33=AB35,1,0)),\"\"))","v":""},{"$f":"IF(X33>0,Y33,\"\")","v":""},{"$f":"$J$19","v":0},{"$f":"$K$19","v":0},null,{"$f":"IF(AND($AF$16,$AD$5=$AD$6,$AD$5=$AD$7,$AD$5<>$AD$4),W33,0)","v":0},{"$f":"IF(AD33>0,Y33,\"\")","v":""}]
[{"$nulls":14},"2.",{"$f":"$P$6","v":"Ghana"},{"$f":"SUMIFS($H$4:$H$9,$B$4:$B$9,$P34,$D$4:$D$9,\"<>\"&$P$36)+SUMIFS($I$4:$I$9,$B$4:$B$9,\"<>\"&$P$36,$D$4:$D$9,$P34)","v":0},{"$f":"S34-T34","v":0},{"$f":"SUMIFS($E$4:$E$9,$B$4:$B$9,$P34,$D$4:$D$9,\"<>\"&$P$36)+SUMIFS($G$4:$G$9,$B$4:$B$9,\"<>\"&$P$36,$D$4:$D$9,$P34)","v":0},{"$f":"SUMIFS($G$4:$G$9,$B$4:$B$9,$P34,$D$4:$D$9,\"<>\"&$P$36)+SUMIFS($E$4:$E$9,$B$4:$B$9,\"<>\"&$P$36,$D$4:$D$9,$P34)","v":0},null,{"$f":"Q34*FactorPts+(GDzero+R34)*FactorGD+S34*FactorFor","v":{"v":50000,"d":"50,000"}},{"$f":"RANK(V34,V$33:V$35,1)","v":1},{"$f":"IF(AND($Q$5=$Q$6,$Q$5=$Q$7,$Q$5<>$Q$4),W34,0)","v":0},{"$f":"IF(AND(V34=V33,V34<>V35),IF(AA34>AA33,3,IF(AA34=AA33,1,0)),IF(AND(V34=V35,V34<>V33),IF(AC34>AC35,3,IF(AC34=AC35,1,0)),\"\"))","v":""},{"$f":"IF(X34>0,Y34,\"\")","v":""},{"$f":"$I$20","v":0},null,{"$f":"$K$20","v":0},{"$f":"IF(AND($AF$16,$AD$5=$AD$6,$AD$5=$AD$7,$AD$5<>$AD$4),W34,0)","v":0},{"$f":"IF(AD34>0,Y34,\"\")","v":""}]
[{"$nulls":14},"3.",{"$f":"$P$7","v":"Panama"},{"$f":"SUMIFS($H$4:$H$9,$B$4:$B$9,$P35,$D$4:$D$9,\"<>\"&$P$36)+SUMIFS($I$4:$I$9,$B$4:$B$9,\"<>\"&$P$36,$D$4:$D$9,$P35)","v":0},{"$f":"S35-T35","v":0},{"$f":"SUMIFS($E$4:$E$9,$B$4:$B$9,$P35,$D$4:$D$9,\"<>\"&$P$36)+SUMIFS($G$4:$G$9,$B$4:$B$9,\"<>\"&$P$36,$D$4:$D$9,$P35)","v":0},{"$f":"SUMIFS($G$4:$G$9,$B$4:$B$9,$P35,$D$4:$D$9,\"<>\"&$P$36)+SUMIFS($E$4:$E$9,$B$4:$B$9,\"<>\"&$P$36,$D$4:$D$9,$P35)","v":0},null,{"$f":"Q35*FactorPts+(GDzero+R35)*FactorGD+S35*FactorFor","v":{"v":50000,"d":"50,000"}},{"$f":"RANK(V35,V$33:V$35,1)","v":1},{"$f":"IF(AND($Q$5=$Q$6,$Q$5=$Q$7,$Q$5<>$Q$4),W35,0)","v":0},{"$f":"IF(AND(V35=V33,V35<>V34),IF(AB35>AB33,3,IF(AB35=AB33,1,0)),IF(AND(V35=V34,V35<>V33),IF(AC35>AC34,3,IF(AC35=AC34,1,0)),\"\"))","v":""},"",null,{"$f":"$I$21","v":0},{"$f":"$J$21","v":0},{"$f":"IF(AND($AF$16,$AD$5=$AD$6,$AD$5=$AD$7,$AD$5<>$AD$4),W35,0)","v":0},""]
[{"$nulls":15},{"$f":"$P$4","v":"England"}]